{"text_format":"1","workbook":"xlsx","n_sheets":25,"sheets":["Intro","Sheet2","Inhoudsopgave","Harmonischen","Sheet1 (2)","netberekening maximaal","Tabellen (2)","Netberekening","generator","Tabellen","regressie","NummersKolom","WORD","Word_Help","merge_source_dest","Doubles","Create_index","BestandenLijst","filter_sort","IECtransf","criteria_sheet","unprotect","Sheet1","Combineer","Transformer"],"not_rendered":{"charts":6,"images":29,"macros":1,"external_links":0,"defined_names":172,"comments":6,"pivot_tables":0},"unopened":[],"bounds":{"document_bytes":16777216,"sheet_cells":100000,"rows_first":2000,"rows_last":500,"rows_between":2000,"halvings":0,"cell_chars":16384,"cell_head_chars":4096},"cells_cut":0,"cells_raw":0,"read":"whole","date_system":"1900"}

{"sheet":"Intro","index":0,"n_rows":24,"n_cols":6,"rows_kept":24,"cut":false,"hidden":false,"merged":[]}
[null,null,null,null,null,2.2000000000000002]
[]
[null,"Klik in een regel in de lijst hieronder en dan op \"Ga naar gekozen sheet\" om die functie te gebruiken."]
[null,"Click in a row in the list below and then the button \"Go to selected sheet\" to use that function."]
[null,null,null,null,"in Excel 2007 worden de knoppen toegevoegd aan de tab Add-Ins"]
[]
["Nummer"]
[null,null,"Functie",null,"Omschrijving","Description"]
[null,null,"merge_source_dest",null,"Samenvoegen van twee excel bestanden","Info from a source file is merged into a destination file."]
[null,null,"doubles",null,"Zoek de dubbele op in een spreadsheet","It will find doubles in a selection in Excel for you"]
[null,null,"Bestandenlijst",null,"Maak een lijst van bestanden in een te selecteren map op schijf.","Creates a list of files of your directory, including its subdirectories."]
[null,null,"filter_sort",null,"Een verzameling van knopjes om te sorteren, te filteren op een tekst, te sorteren op kleur en om unieke waarden te vinden.","A collection of buttons to sort, sort on color, find a text, find unique values."]
[null,null,"unprotect",null,"Hiermee kun je de beveiliging van een sheet halen","To remove the password protection of a sheet."]
[null,null,"regressie",null,"Maak van x en y punten een vergelijking","To find the formula for given x and y points."]
[null,null,"generator",null,"bereken kortsluitstroom generator in pu"]
[null,null,"Harmonischen",null,"Grafieken om effect harmonischen inzichtelijk te maken","Graphs for showing the effect of harmonic currents."]
[null,null,"Combineer",null,"Merge een selectie naar 1 cel","Merge a selection to one cell"]
[null,null,"NummersKolom",null,"Hiermee wordt in de eerste kolom van een spreadsheet op elke regel een nummer gezet oplopend met 10 zodat je de volgorde van je data altijd weer terug kunt halen en om elke rij een uniek nummer te geven.","The first column will de filled with an ascending list of numbers with a step of 10 to keep in mind the current sorting and to give each row a unique number."]
[null,null,"netberekening maximaal"]
[null,null,"InhoudsOpgave",null,"Voeg individuele files toe aan een excel workbook inclusief een hyperlink. Dit wordt nu gebruikt bij de coentunnel"]
[null,null,"Transformer",null,"Waarden voor de inush van een transformetor","Inrush values for transformer"]
[]
[null,null,"IECtransf"]
[null,null,"create_index"]

{"sheet":"Sheet2","index":1,"n_rows":0,"n_cols":0,"rows_kept":0,"cut":false,"hidden":true,"merged":[]}

{"sheet":"Inhoudsopgave","index":2,"n_rows":19,"n_cols":9,"rows_kept":19,"cut":false,"hidden":true,"merged":[]}
[null,null,null,null,null,"Inhoudsopgave"]
[]
[]
[]
[]
[]
[]
[null,null,null,null,null,"Hier kun je de documenten in je project beheren"]
[null,null,null,null,null,"rrr"]
[null,null,null,null,null,"maak het workbook shared via menu \"tools/share workbook\""]
[null,null,null,null,null,"het bestand wordt bewaard."]
[null,null,null,null,null,"Je excel workbook moet onderstaande titles hebben in de eerste regel. Kopieer deze."]
[]
[]
[null,null,null,null,null,"Titel","Hyperlink","auteur","Waar gaat het over."]
[]
[]
[null,null,null,null,null,"klik op het knopje wat je maakt met \"create menu button\""]
[null,null,null,null,null,"selecteer een bestand en voeg een omschrijving toe."]

{"sheet":"Harmonischen","index":3,"n_rows":552,"n_cols":46,"rows_kept":552,"cut":false,"hidden":true,"merged":[[5,1,5,2],[3,11,3,16],[1,2,1,12],[47,33,47,35]]}
[]
[null,null,"DE GELE VELDEN KUNNEN WORDEN INGEVULD, DE REST REKENT VANZELF DOOR"]
[]
[null,null,null,"L1",null,"L2",null,"L3",null,"PEN",null,"HOGERE HARMONISCHEN BIJDRAGE IN %"]
[]
[null,"stroom/fase",null,1000,"A",1000,"A",1000,"A",null,null,"bijdrage 3e",15,"bijdrage 5e",20,"bijdrage 7e",0,"bijdrage 9e",10]
[]
[]
[]
[]
[]
[]
[]
[]
[]
[]
[]
[]
[]
[]
[]
[]
[]
[]
[]
[]
[]
[]
[]
[]
[]
[]
[]
[]
[]
[]
[]
[]
[]
[]
[]
[]
[]
[]
[]
[]
[]
[null,null,null,null,null,null,null,null,null,null,null,null,null,null,null,null,null,null,null,null,null,null,null,null,null,null,null,null,null,null,null,null,null,"© Arthur Verhalle / VERHALLE GROEP"]
[]
[]
[null,"Harm.","% t.o.v. 1"]
[]
[null,1,100]
[null,2]
[null,3,20]
[null,4]
[null,5]
[null,6]
[null,7]
[null,8]
[null,9]
[null,10]
[null,11]
[null,12]
[null,13]
[null,14]
[null,15]
[null,16]
[null,17]
[null,18]
[null,19]
[null,20]
[null,21]
[null,22]
[null,23]
[null,24]
[null,25]
[]
[]
[]
[]
[]
[]
[]
[]
[]
[]
[]
[]
[]
[]
[]
[]
[]
[]
[]
[]
[]
[]
[]
[]
[]
[]
[]
[]
[]
[null,null,null,null,null,null,null,null,null,null,null,null,null,null,null,null,null,null,"L1",null,"L2",null,"L3",null,"PEN",null,null,"L1_3e","L1_5e","L1_7e","L1_9e","L1_totaal",null,"L2_3e","L2_5e","L2_7e","L2_9e","L2_totaal",null,"L3_3e","L3_5e","L3_7e","L3_9e","L3_totaal",null,"PEN_tot"]
[]
[null,null,0,{"$f":"+$D$6*SIN(RADIANS(C109))","v":0},null,{"$f":"+$F$6*SIN(RADIANS(C109-120))","v":-866.02540378443871},null,{"$f":"+$H$6*SIN(RADIANS(C109-240))","v":866.02540378443837},null,{"$f":"+D109+F109+H109","v":0},null,null,null,null,null,null,null,0,{"$f":"+$D$6*(SIN(RADIANS(R109)))","v":0},null,{"$f":"+$F$6*SIN(RADIANS(R109-120))","v":-866.02540378443871},null,{"$f":"+$H$6*SIN(RADIANS(R109-240))","v":866.02540378443837},null,{"$f":"+S109+U109+W109","v":0},null,null,{"$f":"+$D$6*($M$6/100)*(SIN(RADIANS(3*R109)))","v":0},{"$f":"+$D$6*($O$6/100)*(SIN(RADIANS(5*R109)))","v":0},{"$f":"+$D$6*($Q$6/100)*(SIN(RADIANS(7*R109)))","v":0},{"$f":"+$D$6*($S$6/100)*(SIN(RADIANS(9*R109)))","v":0},{"$f":"+S109+AB109+AC109+AD109+AE109","v":0},null,{"$f":"+$F$6*($M$6/100)*(SIN(RADIANS(3*($R109-120))))","v":3.67544536472586E-14},{"$f":"+$F$6*($O$6/100)*(SIN(RADIANS(5*($R109-120))))","v":173.20508075688775},{"$f":"+$F$6*($Q$6/100)*(SIN(RADIANS(7*($R109-120))))","v":0},{"$f":"+$F$6*($S$6/100)*(SIN(RADIANS(9*($R109-120))))","v":7.3508907294517201E-14},{"$f":"+AH109+AI109+AJ109+AK109+U109","v":-692.82032302755078},null,{"$f":"+$H$6*($M$6/100)*(SIN(RADIANS(3*($R109-240))))","v":7.3508907294517201E-14},{"$f":"+$H$6*($O$6/100)*(SIN(RADIANS(5*($R109-240))))","v":-173.2050807568877},{"$f":"+$H$6*($Q$6/100)*(SIN(RADIANS(7*($R109-240))))","v":0},{"$f":"+$H$6*($S$6/100)*(SIN(RADIANS(9*($R109-240))))","v":1.470178145890344E-13},{"$f":"+AN109+AO109+AP109+AQ109+W109","v":692.8203230275509},null,{"$f":"+AF109+AL109+AR109","v":0}]
[null,null,10,{"$f":"+$D$6*SIN(RADIANS(C110))","v":173.64817766693034},null,{"$f":"+$F$6*SIN(RADIANS(C110-120))","v":-939.69262078590839},null,{"$f":"+$H$6*SIN(RADIANS(C110-240))","v":766.04444311897794},null,{"$f":"+D110+F110+H110","v":0},null,null,null,null,null,null,null,10,{"$f":"+$D$6*(SIN(RADIANS(R110)))","v":173.64817766693034},null,{"$f":"+$F$6*SIN(RADIANS(R110-120))","v":-939.69262078590839},null,{"$f":"+$H$6*SIN(RADIANS(R110-240))","v":766.04444311897794},null,{"$f":"+S110+U110+W110","v":0},null,null,{"$f":"+$D$6*($M$6/100)*(SIN(RADIANS(3*R110)))","v":74.999999999999986},{"$f":"+$D$6*($O$6/100)*(SIN(RADIANS(5*R110)))","v":153.20888862379562},{"$f":"+$D$6*($Q$6/100)*(SIN(RADIANS(7*R110)))","v":0},{"$f":"+$D$6*($S$6/100)*(SIN(RADIANS(9*R110)))","v":100},{"$f":"+S110+AB110+AC110+AD110+AE110","v":501.85706629072592},null,75.000000000000071,34.729635533385952,0,100,{"$f":"+AH110+AI110+AJ110+AK110+U110","v":-729.96298525252234},null,74.999999999999986,-187.93852415718177,0,100,{"$f":"+AN110+AO110+AP110+AQ110+W110","v":753.10591896179619},null,{"$f":"+AF110+AL110+AR110","v":524.99999999999977}]
[null,null,20,{"$f":"+$D$6*SIN(RADIANS(C111))","v":342.0201433256687},null,-984.80775301220797,null,642.78760968653921,null,0,null,null,null,null,null,null,null,20,342.0201433256687,null,-984.80775301220797,null,642.78760968653921,null,0,null,null,129.9038105676658,196.9615506024416,0,1.22514845490862E-14,668.8855044957761,null,129.9038105676658,-128.5575219373078,0,-6.1257422745431001E-14,-983.46146438185008,null,129.90381056766589,-68.404028665133538,0,2.2050503784010189E-13,704.28739158907183,null,389.71143170299786]
[null,null,30,499.99999999999994,null,-1000,null,500.00000000000011,null,0,null,null,null,null,null,null,null,30,499.99999999999994,null,-1000,null,500.00000000000011,null,0,null,null,150,99.999999999999986,0,-100,650,null,150,-200,0,-100,-1150,null,150,100.00000000000003,0,-100,650.00000000000011,null,150.00000000000011]
[null,null,40,642.78760968653921,null,-984.80775301220797,null,342.02014332566864,null,0,null,null,null,null,null,null,null,40,642.78760968653921,null,-984.80775301220797,null,342.02014332566864,null,0,null,null,129.9038105676658,-68.404028665133737,0,-2.45029690981724E-14,704.28739158907126,null,129.90381056766574,-128.55752193730783,0,4.90059381963448E-14,-983.46146438184996,null,129.9038105676658,196.96155060244158,0,1.22514845490862E-13,668.8855044957761,null,389.7114317029974]
[null,null,45,707.10678118654744,null,-965.92582628906837,null,258.81904510252082,null,0,null,null,null,null,null,null,null,45,707.10678118654744,null,-965.92582628906837,null,258.81904510252082,null,0,null,null,106.06601717798213,-141.42135623730948,0,70.710678118654741,742.46212024587487,null,106.06601717798212,-51.763809020504048,0,70.710678118654727,-840.91294001293556,null,106.06601717798219,193.18516525781365,0,70.710678118654897,628.78090565697153,null,530.33008588991083]
[null,null,50,766.04444311897805,null,-939.69262078590828,null,173.64817766693048,null,2.5579538487363607E-13,null,null,null,null,null,null,null,50,766.04444311897805,null,-939.69262078590828,null,173.64817766693048,null,2.5579538487363607E-13,null,null,74.999999999999986,-187.93852415718169,0,100,753.10591896179631,null,75.000000000000014,34.72963553338608,0,100,-729.96298525252223,null,74.999999999999872,153.20888862379542,0,100,501.85706629072581,null,524.99999999999989]
[null,null,60,866.02540378443859,null,-866.02540378443859,null,-1.22514845490862E-13,null,-1.22514845490862E-13,null,null,null,null,null,null,null,60,866.02540378443859,null,-866.02540378443859,null,-1.22514845490862E-13,null,-1.22514845490862E-13,null,null,1.83772268236293E-14,-173.20508075688772,0,3.67544536472586E-14,692.8203230275509,null,-1.83772268236293E-14,173.20508075688772,0,-3.67544536472586E-14,-692.8203230275509,null,-5.51316804708879E-14,-1.22514845490862E-13,0,-1.102633609417758E-13,-4.104247323943877E-13,null,-4.104247323943877E-13]
[null,null,70,939.69262078590828,null,-766.04444311897805,null,-173.64817766693028,null,0,null,null,null,null,null,null,null,70,939.69262078590828,null,-766.04444311897805,null,-173.64817766693028,null,0,null,null,-75.000000000000014,-34.72963553338608,0,-100,729.96298525252223,null,-74.999999999999986,187.93852415718169,0,-100,-753.10591896179631,null,-74.999999999999972,-153.20888862379556,0,-100,-501.85706629072581,null,-524.99999999999989]
[null,null,80,984.80775301220797,null,-642.78760968653921,null,-342.02014332566887,null,0,null,null,null,null,null,null,null,80,984.80775301220797,null,-642.78760968653921,null,-342.02014332566887,null,0,null,null,-129.90381056766574,128.55752193730783,0,-4.90059381963448E-14,983.46146438185008,null,-129.9038105676658,68.404028665133737,0,2.45029690981724E-14,-704.28739158907126,null,-129.90381056766589,-196.9615506024416,0,9.8011876392689601E-14,-668.88550449577622,null,-389.7114317029974]
[null,null,90,1000,null,-499.99999999999994,null,-499.99999999999994,null,0,null,null,null,null,null,null,null,90,1000,null,-499.99999999999994,null,-499.99999999999994,null,0,null,null,-150,200,0,100,1150,null,-150,-99.999999999999986,0,100,-650,null,-150,-99.999999999999815,0,100,-649.99999999999977,null,-149.99999999999977]
[null,null,100,984.80775301220797,null,-342.0201433256687,null,-642.78760968653944,null,0,null,null,null,null,null,null,null,100,984.80775301220797,null,-342.0201433256687,null,-642.78760968653944,null,0,null,null,-129.9038105676658,128.5575219373078,0,6.1257422745431001E-14,983.46146438185008,null,-129.9038105676658,-196.9615506024416,0,-1.22514845490862E-14,-668.8855044957761,null,-129.90381056766583,68.404028665133765,0,-8.5760391843603401E-14,-704.2873915890716,null,-389.71143170299763]
[null,null,110,939.69262078590839,null,-173.64817766693034,null,-766.04444311897805,null,0,null,null,null,null,null,null,null,110,939.69262078590839,null,-173.64817766693034,null,-766.04444311897805,null,0,null,null,-75.000000000000071,-34.729635533385952,0,-100,729.96298525252234,null,-74.999999999999986,-153.20888862379562,0,-100,-501.85706629072592,null,-75,187.93852415718172,0,-100,-753.10591896179631,null,-524.99999999999989]
[null,null,120,866.02540378443871,null,0,null,-866.02540378443871,null,0,null,null,null,null,null,null,null,120,866.02540378443871,null,0,null,-866.02540378443871,null,0,null,null,-3.67544536472586E-14,-173.20508075688775,0,-7.3508907294517201E-14,692.8203230275509,null,0,0,0,0,0,null,3.67544536472586E-14,173.20508075688775,0,7.3508907294517201E-14,-692.82032302755078,null,0]
[null,null,130,766.04444311897805,null,173.64817766693034,null,-939.69262078590839,null,0,null,null,null,null,null,null,null,130,766.04444311897805,null,173.64817766693034,null,-939.69262078590839,null,0,null,null,75,-187.93852415718172,0,100,753.10591896179631,null,74.999999999999986,153.20888862379562,0,100,501.85706629072592,null,75.000000000000071,34.729635533385952,0,100,-729.96298525252234,null,524.99999999999989]
[null,null,135,707.10678118654755,null,258.81904510252076,null,-965.92582628906837,null,0,null,null,null,null,null,null,null,135,707.10678118654755,null,258.81904510252076,null,-965.92582628906837,null,0,null,null,106.0660171779821,-141.42135623730945,0,70.710678118654869,742.46212024587498,null,106.06601717798212,193.18516525781365,0,70.710678118654755,628.7809056569713,null,106.06601717798215,-51.763809020504162,0,70.710678118654769,-840.91294001293568,null,530.33008588991061]
[null,null,140,642.78760968653944,null,342.0201433256687,null,-984.80775301220797,null,0,null,null,null,null,null,null,null,140,642.78760968653944,null,342.0201433256687,null,-984.80775301220797,null,0,null,null,129.90381056766583,-68.404028665133765,0,8.5760391843603401E-14,704.2873915890716,null,129.9038105676658,196.9615506024416,0,1.22514845490862E-14,668.8855044957761,null,129.9038105676658,-128.5575219373078,0,-6.1257422745431001E-14,-983.46146438185008,null,389.71143170299763]
[null,null,150,499.99999999999994,null,499.99999999999994,null,-1000,null,0,null,null,null,null,null,null,null,150,499.99999999999994,null,499.99999999999994,null,-1000,null,0,null,null,150,99.999999999999815,0,-100,649.99999999999977,null,150,99.999999999999986,0,-100,650,null,150,-200,0,-100,-1150,null,149.99999999999977]
[null,null,160,342.02014332566887,null,642.78760968653921,null,-984.80775301220797,null,0,null,null,null,null,null,null,null,160,342.02014332566887,null,642.78760968653921,null,-984.80775301220797,null,0,null,null,129.90381056766589,196.9615506024416,0,-9.8011876392689601E-14,668.88550449577622,null,129.9038105676658,-68.404028665133737,0,-2.45029690981724E-14,704.28739158907126,null,129.90381056766574,-128.55752193730783,0,4.90059381963448E-14,-983.46146438184996,null,389.71143170299752]
[null,null,170,173.64817766693028,null,766.04444311897805,null,-939.69262078590828,null,0,null,null,null,null,null,null,null,170,173.64817766693028,null,766.04444311897805,null,-939.69262078590828,null,0,null,null,74.999999999999972,153.20888862379556,0,100,501.85706629072581,null,74.999999999999986,-187.93852415718169,0,100,753.10591896179631,null,75.000000000000014,34.72963553338608,0,100,-729.96298525252223,null,525]
[null,null,180,1.22514845490862E-13,null,866.02540378443859,null,-866.02540378443859,null,0,null,null,null,null,null,null,null,180,1.22514845490862E-13,null,866.02540378443859,null,-866.02540378443859,null,0,null,null,5.51316804708879E-14,1.22514845490862E-13,0,1.102633609417758E-13,4.104247323943877E-13,null,1.83772268236293E-14,-173.20508075688772,0,3.67544536472586E-14,692.8203230275509,null,-1.83772268236293E-14,173.20508075688772,0,-3.67544536472586E-14,-692.8203230275509,null,0]
[null,null,190,-173.64817766693048,null,939.69262078590828,null,-766.04444311897805,null,0,null,null,null,null,null,null,null,190,-173.64817766693048,null,939.69262078590828,null,-766.04444311897805,null,0,null,null,-74.999999999999872,-153.20888862379542,0,-100,-501.85706629072575,null,-75.000000000000014,-34.72963553338608,0,-100,729.96298525252223,null,-74.999999999999986,187.93852415718169,0,-100,-753.10591896179631,null,-524.99999999999977]
[null,null,200,-342.02014332566864,null,984.80775301220797,null,-642.78760968653921,null,0,null,null,null,null,null,null,null,200,-342.02014332566864,null,984.80775301220797,null,-642.78760968653921,null,0,null,null,-129.9038105676658,-196.96155060244158,0,-1.22514845490862E-13,-668.8855044957761,null,-129.90381056766574,128.55752193730783,0,-4.90059381963448E-14,983.46146438184996,null,-129.9038105676658,68.404028665133737,0,2.45029690981724E-14,-704.28739158907126,null,-389.7114317029974]
[null,null,210,-500.00000000000011,null,1000,null,-499.99999999999994,null,0,null,null,null,null,null,null,null,210,-500.00000000000011,null,1000,null,-499.99999999999994,null,0,null,null,-150,-100.00000000000003,0,100,-650.00000000000011,null,-150,200,0,100,1150,null,-150,-99.999999999999986,0,100,-650,null,-150.00000000000011]
[null,null,220,-642.78760968653921,null,984.80775301220797,null,-342.0201433256687,null,0,null,null,null,null,null,null,null,220,-642.78760968653921,null,984.80775301220797,null,-342.0201433256687,null,0,null,null,-129.90381056766589,68.404028665133538,0,-2.2050503784010189E-13,-704.28739158907183,null,-129.9038105676658,128.5575219373078,0,6.1257422745431001E-14,983.46146438185008,null,-129.9038105676658,-196.9615506024416,0,-1.22514845490862E-14,-668.8855044957761,null,-389.71143170299786]
[null,null,225,-707.10678118654744,null,965.92582628906837,null,-258.81904510252076,null,0,null,null,null,null,null,null,null,225,-707.10678118654744,null,965.92582628906837,null,-258.81904510252076,null,0,null,null,-106.06601717798209,141.42135623730951,0,-70.710678118654712,-742.46212024587476,null,-106.06601717798215,51.763809020504162,0,-70.710678118654769,840.91294001293568,null,-106.06601717798212,-193.18516525781365,0,-70.710678118654755,-628.7809056569713,null,-530.33008588991038]
[null,null,230,-766.04444311897794,null,939.69262078590839,null,-173.64817766693034,null,0,null,null,null,null,null,null,null,230,-766.04444311897794,null,939.69262078590839,null,-173.64817766693034,null,0,null,null,-74.999999999999986,187.93852415718177,0,-100,-753.10591896179619,null,-75.000000000000071,-34.729635533385952,0,-100,729.96298525252234,null,-74.999999999999986,-153.20888862379562,0,-100,-501.85706629072592,null,-524.99999999999977]
[null,null,240,-866.02540378443837,null,866.02540378443871,null,0,null,3.4106051316484809E-13,null,null,null,null,null,null,null,240,-866.02540378443837,null,866.02540378443871,null,0,null,3.4106051316484809E-13,null,null,-7.3508907294517201E-14,173.2050807568877,0,-1.470178145890344E-13,-692.8203230275509,null,-3.67544536472586E-14,-173.20508075688775,0,-7.3508907294517201E-14,692.82032302755078,null,0,0,0,0,0,null,-1.1368683772161603E-13]
[null,null,250,-939.69262078590839,null,766.04444311897805,null,173.64817766693034,null,0,null,null,null,null,null,null,null,250,-939.69262078590839,null,766.04444311897805,null,173.64817766693034,null,0,null,null,74.999999999999858,34.729635533386201,0,100,-729.96298525252234,null,75,-187.93852415718172,0,100,753.10591896179631,null,74.999999999999986,153.20888862379562,0,100,501.85706629072592,null,524.99999999999989]
[null,null,260,-984.80775301220797,null,642.78760968653944,null,342.0201433256687,null,0,null,null,null,null,null,null,null,260,-984.80775301220797,null,642.78760968653944,null,342.0201433256687,null,0,null,null,129.9038105676658,-128.5575219373076,0,-1.9600206874192949E-13,-983.46146438184996,null,129.90381056766583,-68.404028665133765,0,8.5760391843603401E-14,704.2873915890716,null,129.9038105676658,196.9615506024416,0,1.22514845490862E-14,668.8855044957761,null,389.71143170299774]
[null,null,270,-1000,null,499.99999999999994,null,499.99999999999994,null,0,null,null,null,null,null,null,null,270,-1000,null,499.99999999999994,null,499.99999999999994,null,0,null,null,150,-200,0,-100,-1150,null,150,99.999999999999815,0,-100,649.99999999999977,null,150,99.999999999999986,0,-100,650,null,149.99999999999977]
[null,null,280,-984.80775301220808,null,342.02014332566887,null,642.78760968653921,null,0,null,null,null,null,null,null,null,280,-984.80775301220808,null,342.02014332566887,null,642.78760968653921,null,0,null,null,129.90381056766574,-128.55752193730788,0,-1.715207836872068E-13,-983.46146438185042,null,129.90381056766589,196.9615506024416,0,-9.8011876392689601E-14,668.88550449577622,null,129.9038105676658,-68.404028665133737,0,-2.45029690981724E-14,704.28739158907126,null,389.71143170299706]
[null,null,290,-939.69262078590828,null,173.64817766693028,null,766.04444311897805,null,0,null,null,null,null,null,null,null,290,-939.69262078590828,null,173.64817766693028,null,766.04444311897805,null,0,null,null,75,34.729635533385839,0,100,-729.96298525252246,null,74.999999999999972,153.20888862379556,0,100,501.85706629072581,null,74.999999999999986,-187.93852415718169,0,100,753.10591896179631,null,524.99999999999966]
[null,null,300,-866.02540378443859,null,1.22514845490862E-13,null,866.02540378443859,null,0,null,null,null,null,null,null,null,300,-866.02540378443859,null,1.22514845490862E-13,null,866.02540378443859,null,0,null,null,9.1886134118146501E-14,173.20508075688753,0,-1.7149909964375709E-13,-692.82032302755124,null,5.51316804708879E-14,1.22514845490862E-13,0,1.102633609417758E-13,4.104247323943877E-13,null,1.83772268236293E-14,-173.20508075688772,0,3.67544536472586E-14,692.8203230275509,null,0]
[null,null,310,-766.04444311897817,null,-173.64817766693048,null,939.69262078590828,null,0,null,null,null,null,null,null,null,310,-766.04444311897817,null,-173.64817766693048,null,939.69262078590828,null,0,null,null,-74.999999999999844,187.93852415718166,0,-100,-753.10591896179642,null,-74.999999999999872,-153.20888862379542,0,-100,-501.85706629072581,null,-75.000000000000014,-34.72963553338608,0,-100,729.96298525252223,null,-525]
[null,null,315,-707.10678118654766,null,-258.81904510252082,null,965.92582628906837,null,0,null,null,null,null,null,null,null,315,-707.10678118654766,null,-258.81904510252082,null,965.92582628906837,null,0,null,null,-106.06601717798215,141.42135623730979,0,-70.710678118654698,-742.46212024587476,null,-106.06601717798219,-193.18516525781365,0,-70.710678118654897,-628.78090565697153,null,-106.06601717798212,51.763809020504048,0,-70.710678118654727,840.91294001293556,null,-530.33008588991072]
[null,null,320,-642.78760968653955,null,-342.02014332566864,null,984.80775301220797,null,0,null,null,null,null,null,null,null,320,-642.78760968653955,null,-342.02014332566864,null,984.80775301220797,null,0,null,null,-129.90381056766566,68.404028665133879,0,-1.960237527853792E-13,-704.2873915890716,null,-129.9038105676658,-196.96155060244158,0,-1.22514845490862E-13,-668.8855044957761,null,-129.90381056766574,128.55752193730783,0,-4.90059381963448E-14,983.46146438184996,null,-389.71143170299774]
[null,null,330,-500.00000000000045,null,-500.00000000000011,null,1000,null,0,null,null,null,null,null,null,null,330,-500.00000000000045,null,-500.00000000000011,null,1000,null,0,null,null,-150,-99.999999999999702,0,100,-650.00000000000011,null,-150,-100.00000000000003,0,100,-650.00000000000011,null,-150,200,0,100,1150,null,-150.00000000000023]
[null,null,340,-342.02014332566858,null,-642.78760968653921,null,984.80775301220797,null,0,null,null,null,null,null,null,null,340,-342.02014332566858,null,-642.78760968653921,null,984.80775301220797,null,0,null,null,-129.90381056766574,-196.96155060244166,0,-1.4699613054558469E-13,-668.8855044957761,null,-129.90381056766589,68.404028665133538,0,-2.2050503784010189E-13,-704.28739158907183,null,-129.9038105676658,128.5575219373078,0,6.1257422745431001E-14,983.46146438185008,null,-389.71143170299786]
[null,null,350,-173.64817766693039,null,-766.04444311897794,null,939.69262078590839,null,0,null,null,null,null,null,null,null,350,-173.64817766693039,null,-766.04444311897794,null,939.69262078590839,null,0,null,null,-75.000000000000014,-153.20888862379562,0,-100,-501.85706629072604,null,-74.999999999999986,187.93852415718177,0,-100,-753.10591896179619,null,-75.000000000000071,-34.729635533385952,0,-100,729.96298525252234,null,-524.99999999999989]
[null,null,360,-2.45029690981724E-13,null,-866.02540378443837,null,866.02540378443871,null,0,null,null,null,null,null,null,null,360,-2.45029690981724E-13,null,-866.02540378443837,null,866.02540378443871,null,0,null,null,-1.102633609417758E-13,-2.45029690981724E-13,0,-2.205267218835516E-13,-8.2084946478877541E-13,null,-7.3508907294517201E-14,173.2050807568877,0,-1.470178145890344E-13,-692.8203230275509,null,-3.67544536472586E-14,-173.20508075688775,0,-7.3508907294517201E-14,692.82032302755078,null,-9.0949470177292824E-13]
[]
[]
[]
[]
[]
[]
[null,null,null,null,null,null,null,null,null,null,null,null,null,null,null,null,"Verschillende golfvormen bestaande uit harmonischen"]
[]
[]
[null,null,null,null,null,null,null,null,null,null,null,null,null,null,null,null,"alles","even","oneven"]
[]
[null,null,null,null,null,null,null,null,null,null,null,null,null,null,null,null,100,null,100]
[null,null,null,null,null,null,null,null,null,null,null,null,null,null,null,null,50,50]
[null,null,null,null,null,null,null,null,null,null,null,null,null,null,null,null,33.333333333333336,null,33.333333333333336]
[null,null,null,null,null,null,null,null,null,null,null,null,null,null,null,null,25,25]
[null,null,null,null,null,null,null,null,null,null,null,null,null,null,null,null,20,null,20]
[null,null,null,null,null,null,null,null,null,null,null,null,null,null,null,null,16.666666666666668,16.666666666666668]
[null,null,null,null,null,null,null,null,null,null,null,null,null,null,null,null,14.285714285714286,null,14.285714285714286]
[null,null,null,null,null,null,null,null,null,null,null,null,null,null,null,null,12.5,12.5]
[null,null,null,null,null,null,null,null,null,null,null,null,null,null,null,null,11.111111111111111,null,11.111111111111111]
[null,null,null,null,null,null,null,null,null,null,null,null,null,null,null,null,10,10]
[null,null,null,null,null,null,null,null,null,null,null,null,null,null,null,null,9.0909090909090917,null,9.0909090909090917]
[null,null,null,null,null,null,null,null,null,null,null,null,null,null,null,null,8.3333333333333339,8.3333333333333339]
[null,null,null,null,null,null,null,null,null,null,null,null,null,null,null,null,7.6923076923076925,null,7.6923076923076925]
[null,null,null,null,null,null,null,null,null,null,null,null,null,null,null,null,7.1428571428571432,7.1428571428571432]
[null,null,null,null,null,null,null,null,null,null,null,null,null,null,null,null,6.666666666666667,null,6.666666666666667]
[null,null,null,null,null,null,null,null,null,null,null,null,null,null,null,null,6.25,6.25]
[null,null,null,null,null,null,null,null,null,null,null,null,null,null,null,null,5.882352941176471,null,5.882352941176471]
[null,null,null,null,null,null,null,null,null,null,null,null,null,null,null,null,5.5555555555555554,5.5555555555555554]
[null,null,null,null,null,null,null,null,null,null,null,null,null,null,null,null,5.2631578947368425,null,5.2631578947368425]
[null,null,null,null,null,null,null,null,null,null,null,null,null,null,null,null,5,5]
[null,null,null,null,null,null,null,null,null,null,null,null,null,null,null,null,4.7619047619047619,null,4.7619047619047619]
[null,null,null,null,null,null,null,null,null,null,null,null,null,null,null,null,4.5454545454545459,4.5454545454545459]
[null,null,null,null,null,null,null,null,null,null,null,null,null,null,null,null,4.3478260869565215,null,4.3478260869565215]
[null,null,null,null,null,null,null,null,null,null,null,null,null,null,null,null,4.166666666666667,4.166666666666667]
[null,null,null,null,null,null,null,null,null,null,null,null,null,null,null,null,4,null,4]
[]
[]
[]
[]
[]
[null,null,null,1,2,3,4,5,6,7,8,9,10,11,12,13,14,15,16,17,18,19,20,21,22,23,24,25,null,"totaal"]
[null,null,0,{"$f":"Harmonischen!$C$53/100*SIN(C192*PI()/180)","v":0},{"$f":"Harmonischen!$C$54/100*SIN(C192*$E$191*PI()/180)","v":0},{"$f":"Harmonischen!$C$55/100*SIN(C192*$F$191*PI()/180)","v":0},{"$f":"Harmonischen!$C$56/100*SIN(C192*$G$191*PI()/180)","v":0},{"$f":"Harmonischen!$C$57/100*SIN(C192*$H$191*PI()/180)","v":0},{"$f":"Harmonischen!$C$58/100*SIN(C192*$I$191*PI()/180)","v":0},{"$f":"Harmonischen!$C$59/100*SIN(C192*$J$191*PI()/180)","v":0},{"$f":"Harmonischen!$C$60/100*SIN(C192*$K$191*PI()/180)","v":0},{"$f":"Harmonischen!$C$61/100*SIN(C192*$L$191*PI()/180)","v":0},{"$f":"Harmonischen!$C$62/100*SIN(C192*$M$191*PI()/180)","v":0},{"$f":"Harmonischen!$C$63/100*SIN($C192*$N$191*PI()/180)","v":0},{"$f":"Harmonischen!$C$64/100*SIN($C192*$O$191*PI()/180)","v":0},{"$f":"Harmonischen!$C$65/100*SIN($C192*$P$191*PI()/180)","v":0},{"$f":"Harmonischen!$C$66/100*SIN($C192*$Q$191*PI()/180)","v":0},{"$f":"Harmonischen!$C$67/100*SIN($C192*$R$191*PI()/180)","v":0},{"$f":"Harmonischen!$C$68/100*SIN($C192*$S$191*PI()/180)","v":0},{"$f":"Harmonischen!$C$69/100*SIN($C192*$T$191*PI()/180)","v":0},{"$f":"Harmonischen!$C$70/100*SIN($C192*$U$191*PI()/180)","v":0},{"$f":"Harmonischen!$C$71/100*SIN($C192*$V$191*PI()/180)","v":0},{"$f":"Harmonischen!$C$72/100*SIN($C192*$W$191*PI()/180)","v":0},{"$f":"Harmonischen!$C$73/100*SIN($C192*$X$191*PI()/180)","v":0},{"$f":"Harmonischen!$C$74/100*SIN($C192*$Y$191*PI()/180)","v":0},{"$f":"Harmonischen!$C$75/100*SIN($C192*$Z$191*PI()/180)","v":0},{"$f":"Harmonischen!$C$76/100*SIN($C192*$AA$191*PI()/180)","v":0},{"$f":"Harmonischen!$C$77/100*SIN($C192*$AB$191*PI()/180)","v":0},null,{"$f":"SUM(D192:AB192)","v":0}]
[null,null,1,{"$f":"Harmonischen!$C$53/100*SIN(C193*PI()/180)","v":1.7452406437283512E-2},{"$f":"Harmonischen!$C$54/100*SIN(C193*$E$191*PI()/180)","v":0},{"$f":"Harmonischen!$C$55/100*SIN(C193*$F$191*PI()/180)","v":1.0467191248588767E-2},{"$f":"Harmonischen!$C$56/100*SIN(C193*$G$191*PI()/180)","v":0},{"$f":"Harmonischen!$C$57/100*SIN(C193*$H$191*PI()/180)","v":0},{"$f":"Harmonischen!$C$58/100*SIN(C193*$I$191*PI()/180)","v":0},{"$f":"Harmonischen!$C$59/100*SIN(C193*$J$191*PI()/180)","v":0},{"$f":"Harmonischen!$C$60/100*SIN(C193*$K$191*PI()/180)","v":0},{"$f":"Harmonischen!$C$61/100*SIN(C193*$L$191*PI()/180)","v":0},{"$f":"Harmonischen!$C$62/100*SIN(C193*$M$191*PI()/180)","v":0},{"$f":"Harmonischen!$C$63/100*SIN($C193*$N$191*PI()/180)","v":0},{"$f":"Harmonischen!$C$64/100*SIN($C193*$O$191*PI()/180)","v":0},{"$f":"Harmonischen!$C$65/100*SIN($C193*$P$191*PI()/180)","v":0},{"$f":"Harmonischen!$C$66/100*SIN($C193*$Q$191*PI()/180)","v":0},{"$f":"Harmonischen!$C$67/100*SIN($C193*$R$191*PI()/180)","v":0},{"$f":"Harmonischen!$C$68/100*SIN($C193*$S$191*PI()/180)","v":0},{"$f":"Harmonischen!$C$69/100*SIN($C193*$T$191*PI()/180)","v":0},{"$f":"Harmonischen!$C$70/100*SIN($C193*$U$191*PI()/180)","v":0},{"$f":"Harmonischen!$C$71/100*SIN($C193*$V$191*PI()/180)","v":0},{"$f":"Harmonischen!$C$72/100*SIN($C193*$W$191*PI()/180)","v":0},{"$f":"Harmonischen!$C$73/100*SIN($C193*$X$191*PI()/180)","v":0},{"$f":"Harmonischen!$C$74/100*SIN($C193*$Y$191*PI()/180)","v":0},{"$f":"Harmonischen!$C$75/100*SIN($C193*$Z$191*PI()/180)","v":0},{"$f":"Harmonischen!$C$76/100*SIN($C193*$AA$191*PI()/180)","v":0},{"$f":"Harmonischen!$C$77/100*SIN($C193*$AB$191*PI()/180)","v":0},null,2.791959768587228E-2]
[null,null,2,{"$f":"Harmonischen!$C$53/100*SIN(C194*PI()/180)","v":3.4899496702500969E-2},{"$f":"Harmonischen!$C$54/100*SIN(C194*$E$191*PI()/180)","v":0},{"$f":"Harmonischen!$C$55/100*SIN(C194*$F$191*PI()/180)","v":2.0905692653530691E-2},{"$f":"Harmonischen!$C$56/100*SIN(C194*$G$191*PI()/180)","v":0},{"$f":"Harmonischen!$C$57/100*SIN(C194*$H$191*PI()/180)","v":0},{"$f":"Harmonischen!$C$58/100*SIN(C194*$I$191*PI()/180)","v":0},{"$f":"Harmonischen!$C$59/100*SIN(C194*$J$191*PI()/180)","v":0},{"$f":"Harmonischen!$C$60/100*SIN(C194*$K$191*PI()/180)","v":0},{"$f":"Harmonischen!$C$61/100*SIN(C194*$L$191*PI()/180)","v":0},{"$f":"Harmonischen!$C$62/100*SIN(C194*$M$191*PI()/180)","v":0},{"$f":"Harmonischen!$C$63/100*SIN($C194*$N$191*PI()/180)","v":0},{"$f":"Harmonischen!$C$64/100*SIN($C194*$O$191*PI()/180)","v":0},{"$f":"Harmonischen!$C$65/100*SIN($C194*$P$191*PI()/180)","v":0},{"$f":"Harmonischen!$C$66/100*SIN($C194*$Q$191*PI()/180)","v":0},{"$f":"Harmonischen!$C$67/100*SIN($C194*$R$191*PI()/180)","v":0},{"$f":"Harmonischen!$C$68/100*SIN($C194*$S$191*PI()/180)","v":0},{"$f":"Harmonischen!$C$69/100*SIN($C194*$T$191*PI()/180)","v":0},{"$f":"Harmonischen!$C$70/100*SIN($C194*$U$191*PI()/180)","v":0},{"$f":"Harmonischen!$C$71/100*SIN($C194*$V$191*PI()/180)","v":0},{"$f":"Harmonischen!$C$72/100*SIN($C194*$W$191*PI()/180)","v":0},{"$f":"Harmonischen!$C$73/100*SIN($C194*$X$191*PI()/180)","v":0},{"$f":"Harmonischen!$C$74/100*SIN($C194*$Y$191*PI()/180)","v":0},{"$f":"Harmonischen!$C$75/100*SIN($C194*$Z$191*PI()/180)","v":0},{"$f":"Harmonischen!$C$76/100*SIN($C194*$AA$191*PI()/180)","v":0},{"$f":"Harmonischen!$C$77/100*SIN($C194*$AB$191*PI()/180)","v":0},null,5.5805189356031661E-2]
[null,null,3,{"$f":"Harmonischen!$C$53/100*SIN(C195*PI()/180)","v":5.2335956242943828E-2},{"$f":"Harmonischen!$C$54/100*SIN(C195*$E$191*PI()/180)","v":0},{"$f":"Harmonischen!$C$55/100*SIN(C195*$F$191*PI()/180)","v":3.1286893008046178E-2},{"$f":"Harmonischen!$C$56/100*SIN(C195*$G$191*PI()/180)","v":0},{"$f":"Harmonischen!$C$57/100*SIN(C195*$H$191*PI()/180)","v":0},{"$f":"Harmonischen!$C$58/100*SIN(C195*$I$191*PI()/180)","v":0},{"$f":"Harmonischen!$C$59/100*SIN(C195*$J$191*PI()/180)","v":0},{"$f":"Harmonischen!$C$60/100*SIN(C195*$K$191*PI()/180)","v":0},{"$f":"Harmonischen!$C$61/100*SIN(C195*$L$191*PI()/180)","v":0},{"$f":"Harmonischen!$C$62/100*SIN(C195*$M$191*PI()/180)","v":0},{"$f":"Harmonischen!$C$63/100*SIN($C195*$N$191*PI()/180)","v":0},{"$f":"Harmonischen!$C$64/100*SIN($C195*$O$191*PI()/180)","v":0},{"$f":"Harmonischen!$C$65/100*SIN($C195*$P$191*PI()/180)","v":0},{"$f":"Harmonischen!$C$66/100*SIN($C195*$Q$191*PI()/180)","v":0},{"$f":"Harmonischen!$C$67/100*SIN($C195*$R$191*PI()/180)","v":0},{"$f":"Harmonischen!$C$68/100*SIN($C195*$S$191*PI()/180)","v":0},{"$f":"Harmonischen!$C$69/100*SIN($C195*$T$191*PI()/180)","v":0},{"$f":"Harmonischen!$C$70/100*SIN($C195*$U$191*PI()/180)","v":0},{"$f":"Harmonischen!$C$71/100*SIN($C195*$V$191*PI()/180)","v":0},{"$f":"Harmonischen!$C$72/100*SIN($C195*$W$191*PI()/180)","v":0},{"$f":"Harmonischen!$C$73/100*SIN($C195*$X$191*PI()/180)","v":0},{"$f":"Harmonischen!$C$74/100*SIN($C195*$Y$191*PI()/180)","v":0},{"$f":"Harmonischen!$C$75/100*SIN($C195*$Z$191*PI()/180)","v":0},{"$f":"Harmonischen!$C$76/100*SIN($C195*$AA$191*PI()/180)","v":0},{"$f":"Harmonischen!$C$77/100*SIN($C195*$AB$191*PI()/180)","v":0},null,8.3622849250990006E-2]
[null,null,4,{"$f":"Harmonischen!$C$53/100*SIN(C196*PI()/180)","v":6.9756473744125302E-2},{"$f":"Harmonischen!$C$54/100*SIN(C196*$E$191*PI()/180)","v":0},{"$f":"Harmonischen!$C$55/100*SIN(C196*$F$191*PI()/180)","v":4.1582338163551863E-2},{"$f":"Harmonischen!$C$56/100*SIN(C196*$G$191*PI()/180)","v":0},{"$f":"Harmonischen!$C$57/100*SIN(C196*$H$191*PI()/180)","v":0},{"$f":"Harmonischen!$C$58/100*SIN(C196*$I$191*PI()/180)","v":0},{"$f":"Harmonischen!$C$59/100*SIN(C196*$J$191*PI()/180)","v":0},{"$f":"Harmonischen!$C$60/100*SIN(C196*$K$191*PI()/180)","v":0},{"$f":"Harmonischen!$C$61/100*SIN(C196*$L$191*PI()/180)","v":0},{"$f":"Harmonischen!$C$62/100*SIN(C196*$M$191*PI()/180)","v":0},{"$f":"Harmonischen!$C$63/100*SIN($C196*$N$191*PI()/180)","v":0},{"$f":"Harmonischen!$C$64/100*SIN($C196*$O$191*PI()/180)","v":0},{"$f":"Harmonischen!$C$65/100*SIN($C196*$P$191*PI()/180)","v":0},{"$f":"Harmonischen!$C$66/100*SIN($C196*$Q$191*PI()/180)","v":0},{"$f":"Harmonischen!$C$67/100*SIN($C196*$R$191*PI()/180)","v":0},{"$f":"Harmonischen!$C$68/100*SIN($C196*$S$191*PI()/180)","v":0},{"$f":"Harmonischen!$C$69/100*SIN($C196*$T$191*PI()/180)","v":0},{"$f":"Harmonischen!$C$70/100*SIN($C196*$U$191*PI()/180)","v":0},{"$f":"Harmonischen!$C$71/100*SIN($C196*$V$191*PI()/180)","v":0},{"$f":"Harmonischen!$C$72/100*SIN($C196*$W$191*PI()/180)","v":0},{"$f":"Harmonischen!$C$73/100*SIN($C196*$X$191*PI()/180)","v":0},{"$f":"Harmonischen!$C$74/100*SIN($C196*$Y$191*PI()/180)","v":0},{"$f":"Harmonischen!$C$75/100*SIN($C196*$Z$191*PI()/180)","v":0},{"$f":"Harmonischen!$C$76/100*SIN($C196*$AA$191*PI()/180)","v":0},{"$f":"Harmonischen!$C$77/100*SIN($C196*$AB$191*PI()/180)","v":0},null,0.11133881190767717]
[null,null,5,{"$f":"Harmonischen!$C$53/100*SIN(C197*PI()/180)","v":8.7155742747658166E-2},{"$f":"Harmonischen!$C$54/100*SIN(C197*$E$191*PI()/180)","v":0},{"$f":"Harmonischen!$C$55/100*SIN(C197*$F$191*PI()/180)","v":5.1763809020504148E-2},{"$f":"Harmonischen!$C$56/100*SIN(C197*$G$191*PI()/180)","v":0},{"$f":"Harmonischen!$C$57/100*SIN(C197*$H$191*PI()/180)","v":0},{"$f":"Harmonischen!$C$58/100*SIN(C197*$I$191*PI()/180)","v":0},{"$f":"Harmonischen!$C$59/100*SIN(C197*$J$191*PI()/180)","v":0},{"$f":"Harmonischen!$C$60/100*SIN(C197*$K$191*PI()/180)","v":0},{"$f":"Harmonischen!$C$61/100*SIN(C197*$L$191*PI()/180)","v":0},{"$f":"Harmonischen!$C$62/100*SIN(C197*$M$191*PI()/180)","v":0},{"$f":"Harmonischen!$C$63/100*SIN($C197*$N$191*PI()/180)","v":0},{"$f":"Harmonischen!$C$64/100*SIN($C197*$O$191*PI()/180)","v":0},{"$f":"Harmonischen!$C$65/100*SIN($C197*$P$191*PI()/180)","v":0},{"$f":"Harmonischen!$C$66/100*SIN($C197*$Q$191*PI()/180)","v":0},{"$f":"Harmonischen!$C$67/100*SIN($C197*$R$191*PI()/180)","v":0},{"$f":"Harmonischen!$C$68/100*SIN($C197*$S$191*PI()/180)","v":0},{"$f":"Harmonischen!$C$69/100*SIN($C197*$T$191*PI()/180)","v":0},{"$f":"Harmonischen!$C$70/100*SIN($C197*$U$191*PI()/180)","v":0},{"$f":"Harmonischen!$C$71/100*SIN($C197*$V$191*PI()/180)","v":0},{"$f":"Harmonischen!$C$72/100*SIN($C197*$W$191*PI()/180)","v":0},{"$f":"Harmonischen!$C$73/100*SIN($C197*$X$191*PI()/180)","v":0},{"$f":"Harmonischen!$C$74/100*SIN($C197*$Y$191*PI()/180)","v":0},{"$f":"Harmonischen!$C$75/100*SIN($C197*$Z$191*PI()/180)","v":0},{"$f":"Harmonischen!$C$76/100*SIN($C197*$AA$191*PI()/180)","v":0},{"$f":"Harmonischen!$C$77/100*SIN($C197*$AB$191*PI()/180)","v":0},null,0.13891955176816231]
[null,null,6,{"$f":"Harmonischen!$C$53/100*SIN(C198*PI()/180)","v":0.10452846326765346},{"$f":"Harmonischen!$C$54/100*SIN(C198*$E$191*PI()/180)","v":0},{"$f":"Harmonischen!$C$55/100*SIN(C198*$F$191*PI()/180)","v":6.1803398874989479E-2},{"$f":"Harmonischen!$C$56/100*SIN(C198*$G$191*PI()/180)","v":0},{"$f":"Harmonischen!$C$57/100*SIN(C198*$H$191*PI()/180)","v":0},{"$f":"Harmonischen!$C$58/100*SIN(C198*$I$191*PI()/180)","v":0},{"$f":"Harmonischen!$C$59/100*SIN(C198*$J$191*PI()/180)","v":0},{"$f":"Harmonischen!$C$60/100*SIN(C198*$K$191*PI()/180)","v":0},{"$f":"Harmonischen!$C$61/100*SIN(C198*$L$191*PI()/180)","v":0},{"$f":"Harmonischen!$C$62/100*SIN(C198*$M$191*PI()/180)","v":0},{"$f":"Harmonischen!$C$63/100*SIN($C198*$N$191*PI()/180)","v":0},{"$f":"Harmonischen!$C$64/100*SIN($C198*$O$191*PI()/180)","v":0},{"$f":"Harmonischen!$C$65/100*SIN($C198*$P$191*PI()/180)","v":0},{"$f":"Harmonischen!$C$66/100*SIN($C198*$Q$191*PI()/180)","v":0},{"$f":"Harmonischen!$C$67/100*SIN($C198*$R$191*PI()/180)","v":0},{"$f":"Harmonischen!$C$68/100*SIN($C198*$S$191*PI()/180)","v":0},{"$f":"Harmonischen!$C$69/100*SIN($C198*$T$191*PI()/180)","v":0},{"$f":"Harmonischen!$C$70/100*SIN($C198*$U$191*PI()/180)","v":0},{"$f":"Harmonischen!$C$71/100*SIN($C198*$V$191*PI()/180)","v":0},{"$f":"Harmonischen!$C$72/100*SIN($C198*$W$191*PI()/180)","v":0},{"$f":"Harmonischen!$C$73/100*SIN($C198*$X$191*PI()/180)","v":0},{"$f":"Harmonischen!$C$74/100*SIN($C198*$Y$191*PI()/180)","v":0},{"$f":"Harmonischen!$C$75/100*SIN($C198*$Z$191*PI()/180)","v":0},{"$f":"Harmonischen!$C$76/100*SIN($C198*$AA$191*PI()/180)","v":0},{"$f":"Harmonischen!$C$77/100*SIN($C198*$AB$191*PI()/180)","v":0},null,0.16633186214264295]
[null,null,7,{"$f":"Harmonischen!$C$53/100*SIN(C199*PI()/180)","v":0.12186934340514748},{"$f":"Harmonischen!$C$54/100*SIN(C199*$E$191*PI()/180)","v":0},{"$f":"Harmonischen!$C$55/100*SIN(C199*$F$191*PI()/180)","v":7.1673589909060059E-2},{"$f":"Harmonischen!$C$56/100*SIN(C199*$G$191*PI()/180)","v":0},{"$f":"Harmonischen!$C$57/100*SIN(C199*$H$191*PI()/180)","v":0},{"$f":"Harmonischen!$C$58/100*SIN(C199*$I$191*PI()/180)","v":0},{"$f":"Harmonischen!$C$59/100*SIN(C199*$J$191*PI()/180)","v":0},{"$f":"Harmonischen!$C$60/100*SIN(C199*$K$191*PI()/180)","v":0},{"$f":"Harmonischen!$C$61/100*SIN(C199*$L$191*PI()/180)","v":0},{"$f":"Harmonischen!$C$62/100*SIN(C199*$M$191*PI()/180)","v":0},{"$f":"Harmonischen!$C$63/100*SIN($C199*$N$191*PI()/180)","v":0},{"$f":"Harmonischen!$C$64/100*SIN($C199*$O$191*PI()/180)","v":0},{"$f":"Harmonischen!$C$65/100*SIN($C199*$P$191*PI()/180)","v":0},{"$f":"Harmonischen!$C$66/100*SIN($C199*$Q$191*PI()/180)","v":0},{"$f":"Harmonischen!$C$67/100*SIN($C199*$R$191*PI()/180)","v":0},{"$f":"Harmonischen!$C$68/100*SIN($C199*$S$191*PI()/180)","v":0},{"$f":"Harmonischen!$C$69/100*SIN($C199*$T$191*PI()/180)","v":0},{"$f":"Harmonischen!$C$70/100*SIN($C199*$U$191*PI()/180)","v":0},{"$f":"Harmonischen!$C$71/100*SIN($C199*$V$191*PI()/180)","v":0},{"$f":"Harmonischen!$C$72/100*SIN($C199*$W$191*PI()/180)","v":0},{"$f":"Harmonischen!$C$73/100*SIN($C199*$X$191*PI()/180)","v":0},{"$f":"Harmonischen!$C$74/100*SIN($C199*$Y$191*PI()/180)","v":0},{"$f":"Harmonischen!$C$75/100*SIN($C199*$Z$191*PI()/180)","v":0},{"$f":"Harmonischen!$C$76/100*SIN($C199*$AA$191*PI()/180)","v":0},{"$f":"Harmonischen!$C$77/100*SIN($C199*$AB$191*PI()/180)","v":0},null,0.19354293331420752]
[null,null,8,{"$f":"Harmonischen!$C$53/100*SIN(C200*PI()/180)","v":0.13917310096006544},{"$f":"Harmonischen!$C$54/100*SIN(C200*$E$191*PI()/180)","v":0},{"$f":"Harmonischen!$C$55/100*SIN(C200*$F$191*PI()/180)","v":8.1347328615160031E-2},{"$f":"Harmonischen!$C$56/100*SIN(C200*$G$191*PI()/180)","v":0},{"$f":"Harmonischen!$C$57/100*SIN(C200*$H$191*PI()/180)","v":0},{"$f":"Harmonischen!$C$58/100*SIN(C200*$I$191*PI()/180)","v":0},{"$f":"Harmonischen!$C$59/100*SIN(C200*$J$191*PI()/180)","v":0},{"$f":"Harmonischen!$C$60/100*SIN(C200*$K$191*PI()/180)","v":0},{"$f":"Harmonischen!$C$61/100*SIN(C200*$L$191*PI()/180)","v":0},{"$f":"Harmonischen!$C$62/100*SIN(C200*$M$191*PI()/180)","v":0},{"$f":"Harmonischen!$C$63/100*SIN($C200*$N$191*PI()/180)","v":0},{"$f":"Harmonischen!$C$64/100*SIN($C200*$O$191*PI()/180)","v":0},{"$f":"Harmonischen!$C$65/100*SIN($C200*$P$191*PI()/180)","v":0},{"$f":"Harmonischen!$C$66/100*SIN($C200*$Q$191*PI()/180)","v":0},{"$f":"Harmonischen!$C$67/100*SIN($C200*$R$191*PI()/180)","v":0},{"$f":"Harmonischen!$C$68/100*SIN($C200*$S$191*PI()/180)","v":0},{"$f":"Harmonischen!$C$69/100*SIN($C200*$T$191*PI()/180)","v":0},{"$f":"Harmonischen!$C$70/100*SIN($C200*$U$191*PI()/180)","v":0},{"$f":"Harmonischen!$C$71/100*SIN($C200*$V$191*PI()/180)","v":0},{"$f":"Harmonischen!$C$72/100*SIN($C200*$W$191*PI()/180)","v":0},{"$f":"Harmonischen!$C$73/100*SIN($C200*$X$191*PI()/180)","v":0},{"$f":"Harmonischen!$C$74/100*SIN($C200*$Y$191*PI()/180)","v":0},{"$f":"Harmonischen!$C$75/100*SIN($C200*$Z$191*PI()/180)","v":0},{"$f":"Harmonischen!$C$76/100*SIN($C200*$AA$191*PI()/180)","v":0},{"$f":"Harmonischen!$C$77/100*SIN($C200*$AB$191*PI()/180)","v":0},null,0.22052042957522547]
[null,null,9,{"$f":"Harmonischen!$C$53/100*SIN(C201*PI()/180)","v":0.15643446504023087},{"$f":"Harmonischen!$C$54/100*SIN(C201*$E$191*PI()/180)","v":0},{"$f":"Harmonischen!$C$55/100*SIN(C201*$F$191*PI()/180)","v":9.0798099947909355E-2},{"$f":"Harmonischen!$C$56/100*SIN(C201*$G$191*PI()/180)","v":0},{"$f":"Harmonischen!$C$57/100*SIN(C201*$H$191*PI()/180)","v":0},{"$f":"Harmonischen!$C$58/100*SIN(C201*$I$191*PI()/180)","v":0},{"$f":"Harmonischen!$C$59/100*SIN(C201*$J$191*PI()/180)","v":0},{"$f":"Harmonischen!$C$60/100*SIN(C201*$K$191*PI()/180)","v":0},{"$f":"Harmonischen!$C$61/100*SIN(C201*$L$191*PI()/180)","v":0},{"$f":"Harmonischen!$C$62/100*SIN(C201*$M$191*PI()/180)","v":0},{"$f":"Harmonischen!$C$63/100*SIN($C201*$N$191*PI()/180)","v":0},{"$f":"Harmonischen!$C$64/100*SIN($C201*$O$191*PI()/180)","v":0},{"$f":"Harmonischen!$C$65/100*SIN($C201*$P$191*PI()/180)","v":0},{"$f":"Harmonischen!$C$66/100*SIN($C201*$Q$191*PI()/180)","v":0},{"$f":"Harmonischen!$C$67/100*SIN($C201*$R$191*PI()/180)","v":0},{"$f":"Harmonischen!$C$68/100*SIN($C201*$S$191*PI()/180)","v":0},{"$f":"Harmonischen!$C$69/100*SIN($C201*$T$191*PI()/180)","v":0},{"$f":"Harmonischen!$C$70/100*SIN($C201*$U$191*PI()/180)","v":0},{"$f":"Harmonischen!$C$71/100*SIN($C201*$V$191*PI()/180)","v":0},{"$f":"Harmonischen!$C$72/100*SIN($C201*$W$191*PI()/180)","v":0},{"$f":"Harmonischen!$C$73/100*SIN($C201*$X$191*PI()/180)","v":0},{"$f":"Harmonischen!$C$74/100*SIN($C201*$Y$191*PI()/180)","v":0},{"$f":"Harmonischen!$C$75/100*SIN($C201*$Z$191*PI()/180)","v":0},{"$f":"Harmonischen!$C$76/100*SIN($C201*$AA$191*PI()/180)","v":0},{"$f":"Harmonischen!$C$77/100*SIN($C201*$AB$191*PI()/180)","v":0},null,0.24723256498814022]
[null,null,10,{"$f":"Harmonischen!$C$53/100*SIN(C202*PI()/180)","v":0.17364817766693033},{"$f":"Harmonischen!$C$54/100*SIN(C202*$E$191*PI()/180)","v":0},{"$f":"Harmonischen!$C$55/100*SIN(C202*$F$191*PI()/180)","v":9.9999999999999992E-2},{"$f":"Harmonischen!$C$56/100*SIN(C202*$G$191*PI()/180)","v":0},{"$f":"Harmonischen!$C$57/100*SIN(C202*$H$191*PI()/180)","v":0},{"$f":"Harmonischen!$C$58/100*SIN(C202*$I$191*PI()/180)","v":0},{"$f":"Harmonischen!$C$59/100*SIN(C202*$J$191*PI()/180)","v":0},{"$f":"Harmonischen!$C$60/100*SIN(C202*$K$191*PI()/180)","v":0},{"$f":"Harmonischen!$C$61/100*SIN(C202*$L$191*PI()/180)","v":0},{"$f":"Harmonischen!$C$62/100*SIN(C202*$M$191*PI()/180)","v":0},{"$f":"Harmonischen!$C$63/100*SIN($C202*$N$191*PI()/180)","v":0},{"$f":"Harmonischen!$C$64/100*SIN($C202*$O$191*PI()/180)","v":0},{"$f":"Harmonischen!$C$65/100*SIN($C202*$P$191*PI()/180)","v":0},{"$f":"Harmonischen!$C$66/100*SIN($C202*$Q$191*PI()/180)","v":0},{"$f":"Harmonischen!$C$67/100*SIN($C202*$R$191*PI()/180)","v":0},{"$f":"Harmonischen!$C$68/100*SIN($C202*$S$191*PI()/180)","v":0},{"$f":"Harmonischen!$C$69/100*SIN($C202*$T$191*PI()/180)","v":0},{"$f":"Harmonischen!$C$70/100*SIN($C202*$U$191*PI()/180)","v":0},{"$f":"Harmonischen!$C$71/100*SIN($C202*$V$191*PI()/180)","v":0},{"$f":"Harmonischen!$C$72/100*SIN($C202*$W$191*PI()/180)","v":0},{"$f":"Harmonischen!$C$73/100*SIN($C202*$X$191*PI()/180)","v":0},{"$f":"Harmonischen!$C$74/100*SIN($C202*$Y$191*PI()/180)","v":0},{"$f":"Harmonischen!$C$75/100*SIN($C202*$Z$191*PI()/180)","v":0},{"$f":"Harmonischen!$C$76/100*SIN($C202*$AA$191*PI()/180)","v":0},{"$f":"Harmonischen!$C$77/100*SIN($C202*$AB$191*PI()/180)","v":0},null,0.27364817766693034]
[null,null,11,{"$f":"Harmonischen!$C$53/100*SIN(C203*PI()/180)","v":0.1908089953765448},{"$f":"Harmonischen!$C$54/100*SIN(C203*$E$191*PI()/180)","v":0},{"$f":"Harmonischen!$C$55/100*SIN(C203*$F$191*PI()/180)","v":0.10892780700300542},{"$f":"Harmonischen!$C$56/100*SIN(C203*$G$191*PI()/180)","v":0},{"$f":"Harmonischen!$C$57/100*SIN(C203*$H$191*PI()/180)","v":0},{"$f":"Harmonischen!$C$58/100*SIN(C203*$I$191*PI()/180)","v":0},{"$f":"Harmonischen!$C$59/100*SIN(C203*$J$191*PI()/180)","v":0},{"$f":"Harmonischen!$C$60/100*SIN(C203*$K$191*PI()/180)","v":0},{"$f":"Harmonischen!$C$61/100*SIN(C203*$L$191*PI()/180)","v":0},{"$f":"Harmonischen!$C$62/100*SIN(C203*$M$191*PI()/180)","v":0},{"$f":"Harmonischen!$C$63/100*SIN($C203*$N$191*PI()/180)","v":0},{"$f":"Harmonischen!$C$64/100*SIN($C203*$O$191*PI()/180)","v":0},{"$f":"Harmonischen!$C$65/100*SIN($C203*$P$191*PI()/180)","v":0},{"$f":"Harmonischen!$C$66/100*SIN($C203*$Q$191*PI()/180)","v":0},{"$f":"Harmonischen!$C$67/100*SIN($C203*$R$191*PI()/180)","v":0},{"$f":"Harmonischen!$C$68/100*SIN($C203*$S$191*PI()/180)","v":0},{"$f":"Harmonischen!$C$69/100*SIN($C203*$T$191*PI()/180)","v":0},{"$f":"Harmonischen!$C$70/100*SIN($C203*$U$191*PI()/180)","v":0},{"$f":"Harmonischen!$C$71/100*SIN($C203*$V$191*PI()/180)","v":0},{"$f":"Harmonischen!$C$72/100*SIN($C203*$W$191*PI()/180)","v":0},{"$f":"Harmonischen!$C$73/100*SIN($C203*$X$191*PI()/180)","v":0},{"$f":"Harmonischen!$C$74/100*SIN($C203*$Y$191*PI()/180)","v":0},{"$f":"Harmonischen!$C$75/100*SIN($C203*$Z$191*PI()/180)","v":0},{"$f":"Harmonischen!$C$76/100*SIN($C203*$AA$191*PI()/180)","v":0},{"$f":"Harmonischen!$C$77/100*SIN($C203*$AB$191*PI()/180)","v":0},null,0.29973680237955025]
[null,null,12,{"$f":"Harmonischen!$C$53/100*SIN(C204*PI()/180)","v":0.20791169081775931},{"$f":"Harmonischen!$C$54/100*SIN(C204*$E$191*PI()/180)","v":0},{"$f":"Harmonischen!$C$55/100*SIN(C204*$F$191*PI()/180)","v":0.11755705045849463},{"$f":"Harmonischen!$C$56/100*SIN(C204*$G$191*PI()/180)","v":0},{"$f":"Harmonischen!$C$57/100*SIN(C204*$H$191*PI()/180)","v":0},{"$f":"Harmonischen!$C$58/100*SIN(C204*$I$191*PI()/180)","v":0},{"$f":"Harmonischen!$C$59/100*SIN(C204*$J$191*PI()/180)","v":0},{"$f":"Harmonischen!$C$60/100*SIN(C204*$K$191*PI()/180)","v":0},{"$f":"Harmonischen!$C$61/100*SIN(C204*$L$191*PI()/180)","v":0},{"$f":"Harmonischen!$C$62/100*SIN(C204*$M$191*PI()/180)","v":0},{"$f":"Harmonischen!$C$63/100*SIN($C204*$N$191*PI()/180)","v":0},{"$f":"Harmonischen!$C$64/100*SIN($C204*$O$191*PI()/180)","v":0},{"$f":"Harmonischen!$C$65/100*SIN($C204*$P$191*PI()/180)","v":0},{"$f":"Harmonischen!$C$66/100*SIN($C204*$Q$191*PI()/180)","v":0},{"$f":"Harmonischen!$C$67/100*SIN($C204*$R$191*PI()/180)","v":0},{"$f":"Harmonischen!$C$68/100*SIN($C204*$S$191*PI()/180)","v":0},{"$f":"Harmonischen!$C$69/100*SIN($C204*$T$191*PI()/180)","v":0},{"$f":"Harmonischen!$C$70/100*SIN($C204*$U$191*PI()/180)","v":0},{"$f":"Harmonischen!$C$71/100*SIN($C204*$V$191*PI()/180)","v":0},{"$f":"Harmonischen!$C$72/100*SIN($C204*$W$191*PI()/180)","v":0},{"$f":"Harmonischen!$C$73/100*SIN($C204*$X$191*PI()/180)","v":0},{"$f":"Harmonischen!$C$74/100*SIN($C204*$Y$191*PI()/180)","v":0},{"$f":"Harmonischen!$C$75/100*SIN($C204*$Z$191*PI()/180)","v":0},{"$f":"Harmonischen!$C$76/100*SIN($C204*$AA$191*PI()/180)","v":0},{"$f":"Harmonischen!$C$77/100*SIN($C204*$AB$191*PI()/180)","v":0},null,0.32546874127625391]
[null,null,13,{"$f":"Harmonischen!$C$53/100*SIN(C205*PI()/180)","v":0.224951054343865},{"$f":"Harmonischen!$C$54/100*SIN(C205*$E$191*PI()/180)","v":0},{"$f":"Harmonischen!$C$55/100*SIN(C205*$F$191*PI()/180)","v":0.12586407820996748},{"$f":"Harmonischen!$C$56/100*SIN(C205*$G$191*PI()/180)","v":0},{"$f":"Harmonischen!$C$57/100*SIN(C205*$H$191*PI()/180)","v":0},{"$f":"Harmonischen!$C$58/100*SIN(C205*$I$191*PI()/180)","v":0},{"$f":"Harmonischen!$C$59/100*SIN(C205*$J$191*PI()/180)","v":0},{"$f":"Harmonischen!$C$60/100*SIN(C205*$K$191*PI()/180)","v":0},{"$f":"Harmonischen!$C$61/100*SIN(C205*$L$191*PI()/180)","v":0},{"$f":"Harmonischen!$C$62/100*SIN(C205*$M$191*PI()/180)","v":0},{"$f":"Harmonischen!$C$63/100*SIN($C205*$N$191*PI()/180)","v":0},{"$f":"Harmonischen!$C$64/100*SIN($C205*$O$191*PI()/180)","v":0},{"$f":"Harmonischen!$C$65/100*SIN($C205*$P$191*PI()/180)","v":0},{"$f":"Harmonischen!$C$66/100*SIN($C205*$Q$191*PI()/180)","v":0},{"$f":"Harmonischen!$C$67/100*SIN($C205*$R$191*PI()/180)","v":0},{"$f":"Harmonischen!$C$68/100*SIN($C205*$S$191*PI()/180)","v":0},{"$f":"Harmonischen!$C$69/100*SIN($C205*$T$191*PI()/180)","v":0},{"$f":"Harmonischen!$C$70/100*SIN($C205*$U$191*PI()/180)","v":0},{"$f":"Harmonischen!$C$71/100*SIN($C205*$V$191*PI()/180)","v":0},{"$f":"Harmonischen!$C$72/100*SIN($C205*$W$191*PI()/180)","v":0},{"$f":"Harmonischen!$C$73/100*SIN($C205*$X$191*PI()/180)","v":0},{"$f":"Harmonischen!$C$74/100*SIN($C205*$Y$191*PI()/180)","v":0},{"$f":"Harmonischen!$C$75/100*SIN($C205*$Z$191*PI()/180)","v":0},{"$f":"Harmonischen!$C$76/100*SIN($C205*$AA$191*PI()/180)","v":0},{"$f":"Harmonischen!$C$77/100*SIN($C205*$AB$191*PI()/180)","v":0},null,0.35081513255383245]
[null,null,14,{"$f":"Harmonischen!$C$53/100*SIN(C206*PI()/180)","v":0.24192189559966773},{"$f":"Harmonischen!$C$54/100*SIN(C206*$E$191*PI()/180)","v":0},{"$f":"Harmonischen!$C$55/100*SIN(C206*$F$191*PI()/180)","v":0.13382612127177165},{"$f":"Harmonischen!$C$56/100*SIN(C206*$G$191*PI()/180)","v":0},{"$f":"Harmonischen!$C$57/100*SIN(C206*$H$191*PI()/180)","v":0},{"$f":"Harmonischen!$C$58/100*SIN(C206*$I$191*PI()/180)","v":0},{"$f":"Harmonischen!$C$59/100*SIN(C206*$J$191*PI()/180)","v":0},{"$f":"Harmonischen!$C$60/100*SIN(C206*$K$191*PI()/180)","v":0},{"$f":"Harmonischen!$C$61/100*SIN(C206*$L$191*PI()/180)","v":0},{"$f":"Harmonischen!$C$62/100*SIN(C206*$M$191*PI()/180)","v":0},{"$f":"Harmonischen!$C$63/100*SIN($C206*$N$191*PI()/180)","v":0},{"$f":"Harmonischen!$C$64/100*SIN($C206*$O$191*PI()/180)","v":0},{"$f":"Harmonischen!$C$65/100*SIN($C206*$P$191*PI()/180)","v":0},{"$f":"Harmonischen!$C$66/100*SIN($C206*$Q$191*PI()/180)","v":0},{"$f":"Harmonischen!$C$67/100*SIN($C206*$R$191*PI()/180)","v":0},{"$f":"Harmonischen!$C$68/100*SIN($C206*$S$191*PI()/180)","v":0},{"$f":"Harmonischen!$C$69/100*SIN($C206*$T$191*PI()/180)","v":0},{"$f":"Harmonischen!$C$70/100*SIN($C206*$U$191*PI()/180)","v":0},{"$f":"Harmonischen!$C$71/100*SIN($C206*$V$191*PI()/180)","v":0},{"$f":"Harmonischen!$C$72/100*SIN($C206*$W$191*PI()/180)","v":0},{"$f":"Harmonischen!$C$73/100*SIN($C206*$X$191*PI()/180)","v":0},{"$f":"Harmonischen!$C$74/100*SIN($C206*$Y$191*PI()/180)","v":0},{"$f":"Harmonischen!$C$75/100*SIN($C206*$Z$191*PI()/180)","v":0},{"$f":"Harmonischen!$C$76/100*SIN($C206*$AA$191*PI()/180)","v":0},{"$f":"Harmonischen!$C$77/100*SIN($C206*$AB$191*PI()/180)","v":0},null,0.37574801687143938]
[null,null,15,{"$f":"Harmonischen!$C$53/100*SIN(C207*PI()/180)","v":0.25881904510252074},{"$f":"Harmonischen!$C$54/100*SIN(C207*$E$191*PI()/180)","v":0},{"$f":"Harmonischen!$C$55/100*SIN(C207*$F$191*PI()/180)","v":0.1414213562373095},{"$f":"Harmonischen!$C$56/100*SIN(C207*$G$191*PI()/180)","v":0},{"$f":"Harmonischen!$C$57/100*SIN(C207*$H$191*PI()/180)","v":0},{"$f":"Harmonischen!$C$58/100*SIN(C207*$I$191*PI()/180)","v":0},{"$f":"Harmonischen!$C$59/100*SIN(C207*$J$191*PI()/180)","v":0},{"$f":"Harmonischen!$C$60/100*SIN(C207*$K$191*PI()/180)","v":0},{"$f":"Harmonischen!$C$61/100*SIN(C207*$L$191*PI()/180)","v":0},{"$f":"Harmonischen!$C$62/100*SIN(C207*$M$191*PI()/180)","v":0},{"$f":"Harmonischen!$C$63/100*SIN($C207*$N$191*PI()/180)","v":0},{"$f":"Harmonischen!$C$64/100*SIN($C207*$O$191*PI()/180)","v":0},{"$f":"Harmonischen!$C$65/100*SIN($C207*$P$191*PI()/180)","v":0},{"$f":"Harmonischen!$C$66/100*SIN($C207*$Q$191*PI()/180)","v":0},{"$f":"Harmonischen!$C$67/100*SIN($C207*$R$191*PI()/180)","v":0},{"$f":"Harmonischen!$C$68/100*SIN($C207*$S$191*PI()/180)","v":0},{"$f":"Harmonischen!$C$69/100*SIN($C207*$T$191*PI()/180)","v":0},{"$f":"Harmonischen!$C$70/100*SIN($C207*$U$191*PI()/180)","v":0},{"$f":"Harmonischen!$C$71/100*SIN($C207*$V$191*PI()/180)","v":0},{"$f":"Harmonischen!$C$72/100*SIN($C207*$W$191*PI()/180)","v":0},{"$f":"Harmonischen!$C$73/100*SIN($C207*$X$191*PI()/180)","v":0},{"$f":"Harmonischen!$C$74/100*SIN($C207*$Y$191*PI()/180)","v":0},{"$f":"Harmonischen!$C$75/100*SIN($C207*$Z$191*PI()/180)","v":0},{"$f":"Harmonischen!$C$76/100*SIN($C207*$AA$191*PI()/180)","v":0},{"$f":"Harmonischen!$C$77/100*SIN($C207*$AB$191*PI()/180)","v":0},null,0.40024040133983024]
[null,null,16,{"$f":"Harmonischen!$C$53/100*SIN(C208*PI()/180)","v":0.27563735581699916},{"$f":"Harmonischen!$C$54/100*SIN(C208*$E$191*PI()/180)","v":0},{"$f":"Harmonischen!$C$55/100*SIN(C208*$F$191*PI()/180)","v":0.14862896509547882},{"$f":"Harmonischen!$C$56/100*SIN(C208*$G$191*PI()/180)","v":0},{"$f":"Harmonischen!$C$57/100*SIN(C208*$H$191*PI()/180)","v":0},{"$f":"Harmonischen!$C$58/100*SIN(C208*$I$191*PI()/180)","v":0},{"$f":"Harmonischen!$C$59/100*SIN(C208*$J$191*PI()/180)","v":0},{"$f":"Harmonischen!$C$60/100*SIN(C208*$K$191*PI()/180)","v":0},{"$f":"Harmonischen!$C$61/100*SIN(C208*$L$191*PI()/180)","v":0},{"$f":"Harmonischen!$C$62/100*SIN(C208*$M$191*PI()/180)","v":0},{"$f":"Harmonischen!$C$63/100*SIN($C208*$N$191*PI()/180)","v":0},{"$f":"Harmonischen!$C$64/100*SIN($C208*$O$191*PI()/180)","v":0},{"$f":"Harmonischen!$C$65/100*SIN($C208*$P$191*PI()/180)","v":0},{"$f":"Harmonischen!$C$66/100*SIN($C208*$Q$191*PI()/180)","v":0},{"$f":"Harmonischen!$C$67/100*SIN($C208*$R$191*PI()/180)","v":0},{"$f":"Harmonischen!$C$68/100*SIN($C208*$S$191*PI()/180)","v":0},{"$f":"Harmonischen!$C$69/100*SIN($C208*$T$191*PI()/180)","v":0},{"$f":"Harmonischen!$C$70/100*SIN($C208*$U$191*PI()/180)","v":0},{"$f":"Harmonischen!$C$71/100*SIN($C208*$V$191*PI()/180)","v":0},{"$f":"Harmonischen!$C$72/100*SIN($C208*$W$191*PI()/180)","v":0},{"$f":"Harmonischen!$C$73/100*SIN($C208*$X$191*PI()/180)","v":0},{"$f":"Harmonischen!$C$74/100*SIN($C208*$Y$191*PI()/180)","v":0},{"$f":"Harmonischen!$C$75/100*SIN($C208*$Z$191*PI()/180)","v":0},{"$f":"Harmonischen!$C$76/100*SIN($C208*$AA$191*PI()/180)","v":0},{"$f":"Harmonischen!$C$77/100*SIN($C208*$AB$191*PI()/180)","v":0},null,0.42426632091247796]
[null,null,17,{"$f":"Harmonischen!$C$53/100*SIN(C209*PI()/180)","v":0.29237170472273677},{"$f":"Harmonischen!$C$54/100*SIN(C209*$E$191*PI()/180)","v":0},{"$f":"Harmonischen!$C$55/100*SIN(C209*$F$191*PI()/180)","v":0.15542919229139418},{"$f":"Harmonischen!$C$56/100*SIN(C209*$G$191*PI()/180)","v":0},{"$f":"Harmonischen!$C$57/100*SIN(C209*$H$191*PI()/180)","v":0},{"$f":"Harmonischen!$C$58/100*SIN(C209*$I$191*PI()/180)","v":0},{"$f":"Harmonischen!$C$59/100*SIN(C209*$J$191*PI()/180)","v":0},{"$f":"Harmonischen!$C$60/100*SIN(C209*$K$191*PI()/180)","v":0},{"$f":"Harmonischen!$C$61/100*SIN(C209*$L$191*PI()/180)","v":0},{"$f":"Harmonischen!$C$62/100*SIN(C209*$M$191*PI()/180)","v":0},{"$f":"Harmonischen!$C$63/100*SIN($C209*$N$191*PI()/180)","v":0},{"$f":"Harmonischen!$C$64/100*SIN($C209*$O$191*PI()/180)","v":0},{"$f":"Harmonischen!$C$65/100*SIN($C209*$P$191*PI()/180)","v":0},{"$f":"Harmonischen!$C$66/100*SIN($C209*$Q$191*PI()/180)","v":0},{"$f":"Harmonischen!$C$67/100*SIN($C209*$R$191*PI()/180)","v":0},{"$f":"Harmonischen!$C$68/100*SIN($C209*$S$191*PI()/180)","v":0},{"$f":"Harmonischen!$C$69/100*SIN($C209*$T$191*PI()/180)","v":0},{"$f":"Harmonischen!$C$70/100*SIN($C209*$U$191*PI()/180)","v":0},{"$f":"Harmonischen!$C$71/100*SIN($C209*$V$191*PI()/180)","v":0},{"$f":"Harmonischen!$C$72/100*SIN($C209*$W$191*PI()/180)","v":0},{"$f":"Harmonischen!$C$73/100*SIN($C209*$X$191*PI()/180)","v":0},{"$f":"Harmonischen!$C$74/100*SIN($C209*$Y$191*PI()/180)","v":0},{"$f":"Harmonischen!$C$75/100*SIN($C209*$Z$191*PI()/180)","v":0},{"$f":"Harmonischen!$C$76/100*SIN($C209*$AA$191*PI()/180)","v":0},{"$f":"Harmonischen!$C$77/100*SIN($C209*$AB$191*PI()/180)","v":0},null,0.44780089701413095]
[null,null,18,{"$f":"Harmonischen!$C$53/100*SIN(C210*PI()/180)","v":0.3090169943749474},{"$f":"Harmonischen!$C$54/100*SIN(C210*$E$191*PI()/180)","v":0},{"$f":"Harmonischen!$C$55/100*SIN(C210*$F$191*PI()/180)","v":0.16180339887498951},{"$f":"Harmonischen!$C$56/100*SIN(C210*$G$191*PI()/180)","v":0},{"$f":"Harmonischen!$C$57/100*SIN(C210*$H$191*PI()/180)","v":0},{"$f":"Harmonischen!$C$58/100*SIN(C210*$I$191*PI()/180)","v":0},{"$f":"Harmonischen!$C$59/100*SIN(C210*$J$191*PI()/180)","v":0},{"$f":"Harmonischen!$C$60/100*SIN(C210*$K$191*PI()/180)","v":0},{"$f":"Harmonischen!$C$61/100*SIN(C210*$L$191*PI()/180)","v":0},{"$f":"Harmonischen!$C$62/100*SIN(C210*$M$191*PI()/180)","v":0},{"$f":"Harmonischen!$C$63/100*SIN($C210*$N$191*PI()/180)","v":0},{"$f":"Harmonischen!$C$64/100*SIN($C210*$O$191*PI()/180)","v":0},{"$f":"Harmonischen!$C$65/100*SIN($C210*$P$191*PI()/180)","v":0},{"$f":"Harmonischen!$C$66/100*SIN($C210*$Q$191*PI()/180)","v":0},{"$f":"Harmonischen!$C$67/100*SIN($C210*$R$191*PI()/180)","v":0},{"$f":"Harmonischen!$C$68/100*SIN($C210*$S$191*PI()/180)","v":0},{"$f":"Harmonischen!$C$69/100*SIN($C210*$T$191*PI()/180)","v":0},{"$f":"Harmonischen!$C$70/100*SIN($C210*$U$191*PI()/180)","v":0},{"$f":"Harmonischen!$C$71/100*SIN($C210*$V$191*PI()/180)","v":0},{"$f":"Harmonischen!$C$72/100*SIN($C210*$W$191*PI()/180)","v":0},{"$f":"Harmonischen!$C$73/100*SIN($C210*$X$191*PI()/180)","v":0},{"$f":"Harmonischen!$C$74/100*SIN($C210*$Y$191*PI()/180)","v":0},{"$f":"Harmonischen!$C$75/100*SIN($C210*$Z$191*PI()/180)","v":0},{"$f":"Harmonischen!$C$76/100*SIN($C210*$AA$191*PI()/180)","v":0},{"$f":"Harmonischen!$C$77/100*SIN($C210*$AB$191*PI()/180)","v":0},null,0.47082039324993691]
[null,null,19,{"$f":"Harmonischen!$C$53/100*SIN(C211*PI()/180)","v":0.32556815445715664},{"$f":"Harmonischen!$C$54/100*SIN(C211*$E$191*PI()/180)","v":0},{"$f":"Harmonischen!$C$55/100*SIN(C211*$F$191*PI()/180)","v":0.1677341135890848},{"$f":"Harmonischen!$C$56/100*SIN(C211*$G$191*PI()/180)","v":0},{"$f":"Harmonischen!$C$57/100*SIN(C211*$H$191*PI()/180)","v":0},{"$f":"Harmonischen!$C$58/100*SIN(C211*$I$191*PI()/180)","v":0},{"$f":"Harmonischen!$C$59/100*SIN(C211*$J$191*PI()/180)","v":0},{"$f":"Harmonischen!$C$60/100*SIN(C211*$K$191*PI()/180)","v":0},{"$f":"Harmonischen!$C$61/100*SIN(C211*$L$191*PI()/180)","v":0},{"$f":"Harmonischen!$C$62/100*SIN(C211*$M$191*PI()/180)","v":0},{"$f":"Harmonischen!$C$63/100*SIN($C211*$N$191*PI()/180)","v":0},{"$f":"Harmonischen!$C$64/100*SIN($C211*$O$191*PI()/180)","v":0},{"$f":"Harmonischen!$C$65/100*SIN($C211*$P$191*PI()/180)","v":0},{"$f":"Harmonischen!$C$66/100*SIN($C211*$Q$191*PI()/180)","v":0},{"$f":"Harmonischen!$C$67/100*SIN($C211*$R$191*PI()/180)","v":0},{"$f":"Harmonischen!$C$68/100*SIN($C211*$S$191*PI()/180)","v":0},{"$f":"Harmonischen!$C$69/100*SIN($C211*$T$191*PI()/180)","v":0},{"$f":"Harmonischen!$C$70/100*SIN($C211*$U$191*PI()/180)","v":0},{"$f":"Harmonischen!$C$71/100*SIN($C211*$V$191*PI()/180)","v":0},{"$f":"Harmonischen!$C$72/100*SIN($C211*$W$191*PI()/180)","v":0},{"$f":"Harmonischen!$C$73/100*SIN($C211*$X$191*PI()/180)","v":0},{"$f":"Harmonischen!$C$74/100*SIN($C211*$Y$191*PI()/180)","v":0},{"$f":"Harmonischen!$C$75/100*SIN($C211*$Z$191*PI()/180)","v":0},{"$f":"Harmonischen!$C$76/100*SIN($C211*$AA$191*PI()/180)","v":0},{"$f":"Harmonischen!$C$77/100*SIN($C211*$AB$191*PI()/180)","v":0},null,0.49330226804624144]
[null,null,20,{"$f":"Harmonischen!$C$53/100*SIN(C212*PI()/180)","v":0.34202014332566871},{"$f":"Harmonischen!$C$54/100*SIN(C212*$E$191*PI()/180)","v":0},{"$f":"Harmonischen!$C$55/100*SIN(C212*$F$191*PI()/180)","v":0.17320508075688773},{"$f":"Harmonischen!$C$56/100*SIN(C212*$G$191*PI()/180)","v":0},{"$f":"Harmonischen!$C$57/100*SIN(C212*$H$191*PI()/180)","v":0},{"$f":"Harmonischen!$C$58/100*SIN(C212*$I$191*PI()/180)","v":0},{"$f":"Harmonischen!$C$59/100*SIN(C212*$J$191*PI()/180)","v":0},{"$f":"Harmonischen!$C$60/100*SIN(C212*$K$191*PI()/180)","v":0},{"$f":"Harmonischen!$C$61/100*SIN(C212*$L$191*PI()/180)","v":0},{"$f":"Harmonischen!$C$62/100*SIN(C212*$M$191*PI()/180)","v":0},{"$f":"Harmonischen!$C$63/100*SIN($C212*$N$191*PI()/180)","v":0},{"$f":"Harmonischen!$C$64/100*SIN($C212*$O$191*PI()/180)","v":0},{"$f":"Harmonischen!$C$65/100*SIN($C212*$P$191*PI()/180)","v":0},{"$f":"Harmonischen!$C$66/100*SIN($C212*$Q$191*PI()/180)","v":0},{"$f":"Harmonischen!$C$67/100*SIN($C212*$R$191*PI()/180)","v":0},{"$f":"Harmonischen!$C$68/100*SIN($C212*$S$191*PI()/180)","v":0},{"$f":"Harmonischen!$C$69/100*SIN($C212*$T$191*PI()/180)","v":0},{"$f":"Harmonischen!$C$70/100*SIN($C212*$U$191*PI()/180)","v":0},{"$f":"Harmonischen!$C$71/100*SIN($C212*$V$191*PI()/180)","v":0},{"$f":"Harmonischen!$C$72/100*SIN($C212*$W$191*PI()/180)","v":0},{"$f":"Harmonischen!$C$73/100*SIN($C212*$X$191*PI()/180)","v":0},{"$f":"Harmonischen!$C$74/100*SIN($C212*$Y$191*PI()/180)","v":0},{"$f":"Harmonischen!$C$75/100*SIN($C212*$Z$191*PI()/180)","v":0},{"$f":"Harmonischen!$C$76/100*SIN($C212*$AA$191*PI()/180)","v":0},{"$f":"Harmonischen!$C$77/100*SIN($C212*$AB$191*PI()/180)","v":0},null,0.51522522408255644]
[null,null,21,{"$f":"Harmonischen!$C$53/100*SIN(C213*PI()/180)","v":0.35836794954530027},{"$f":"Harmonischen!$C$54/100*SIN(C213*$E$191*PI()/180)","v":0},{"$f":"Harmonischen!$C$55/100*SIN(C213*$F$191*PI()/180)","v":0.17820130483767357},{"$f":"Harmonischen!$C$56/100*SIN(C213*$G$191*PI()/180)","v":0},{"$f":"Harmonischen!$C$57/100*SIN(C213*$H$191*PI()/180)","v":0},{"$f":"Harmonischen!$C$58/100*SIN(C213*$I$191*PI()/180)","v":0},{"$f":"Harmonischen!$C$59/100*SIN(C213*$J$191*PI()/180)","v":0},{"$f":"Harmonischen!$C$60/100*SIN(C213*$K$191*PI()/180)","v":0},{"$f":"Harmonischen!$C$61/100*SIN(C213*$L$191*PI()/180)","v":0},{"$f":"Harmonischen!$C$62/100*SIN(C213*$M$191*PI()/180)","v":0},{"$f":"Harmonischen!$C$63/100*SIN($C213*$N$191*PI()/180)","v":0},{"$f":"Harmonischen!$C$64/100*SIN($C213*$O$191*PI()/180)","v":0},{"$f":"Harmonischen!$C$65/100*SIN($C213*$P$191*PI()/180)","v":0},{"$f":"Harmonischen!$C$66/100*SIN($C213*$Q$191*PI()/180)","v":0},{"$f":"Harmonischen!$C$67/100*SIN($C213*$R$191*PI()/180)","v":0},{"$f":"Harmonischen!$C$68/100*SIN($C213*$S$191*PI()/180)","v":0},{"$f":"Harmonischen!$C$69/100*SIN($C213*$T$191*PI()/180)","v":0},{"$f":"Harmonischen!$C$70/100*SIN($C213*$U$191*PI()/180)","v":0},{"$f":"Harmonischen!$C$71/100*SIN($C213*$V$191*PI()/180)","v":0},{"$f":"Harmonischen!$C$72/100*SIN($C213*$W$191*PI()/180)","v":0},{"$f":"Harmonischen!$C$73/100*SIN($C213*$X$191*PI()/180)","v":0},{"$f":"Harmonischen!$C$74/100*SIN($C213*$Y$191*PI()/180)","v":0},{"$f":"Harmonischen!$C$75/100*SIN($C213*$Z$191*PI()/180)","v":0},{"$f":"Harmonischen!$C$76/100*SIN($C213*$AA$191*PI()/180)","v":0},{"$f":"Harmonischen!$C$77/100*SIN($C213*$AB$191*PI()/180)","v":0},null,0.53656925438297387]
[null,null,22,{"$f":"Harmonischen!$C$53/100*SIN(C214*PI()/180)","v":0.37460659341591201},{"$f":"Harmonischen!$C$54/100*SIN(C214*$E$191*PI()/180)","v":0},{"$f":"Harmonischen!$C$55/100*SIN(C214*$F$191*PI()/180)","v":0.18270909152852019},{"$f":"Harmonischen!$C$56/100*SIN(C214*$G$191*PI()/180)","v":0},{"$f":"Harmonischen!$C$57/100*SIN(C214*$H$191*PI()/180)","v":0},{"$f":"Harmonischen!$C$58/100*SIN(C214*$I$191*PI()/180)","v":0},{"$f":"Harmonischen!$C$59/100*SIN(C214*$J$191*PI()/180)","v":0},{"$f":"Harmonischen!$C$60/100*SIN(C214*$K$191*PI()/180)","v":0},{"$f":"Harmonischen!$C$61/100*SIN(C214*$L$191*PI()/180)","v":0},{"$f":"Harmonischen!$C$62/100*SIN(C214*$M$191*PI()/180)","v":0},{"$f":"Harmonischen!$C$63/100*SIN($C214*$N$191*PI()/180)","v":0},{"$f":"Harmonischen!$C$64/100*SIN($C214*$O$191*PI()/180)","v":0},{"$f":"Harmonischen!$C$65/100*SIN($C214*$P$191*PI()/180)","v":0},{"$f":"Harmonischen!$C$66/100*SIN($C214*$Q$191*PI()/180)","v":0},{"$f":"Harmonischen!$C$67/100*SIN($C214*$R$191*PI()/180)","v":0},{"$f":"Harmonischen!$C$68/100*SIN($C214*$S$191*PI()/180)","v":0},{"$f":"Harmonischen!$C$69/100*SIN($C214*$T$191*PI()/180)","v":0},{"$f":"Harmonischen!$C$70/100*SIN($C214*$U$191*PI()/180)","v":0},{"$f":"Harmonischen!$C$71/100*SIN($C214*$V$191*PI()/180)","v":0},{"$f":"Harmonischen!$C$72/100*SIN($C214*$W$191*PI()/180)","v":0},{"$f":"Harmonischen!$C$73/100*SIN($C214*$X$191*PI()/180)","v":0},{"$f":"Harmonischen!$C$74/100*SIN($C214*$Y$191*PI()/180)","v":0},{"$f":"Harmonischen!$C$75/100*SIN($C214*$Z$191*PI()/180)","v":0},{"$f":"Harmonischen!$C$76/100*SIN($C214*$AA$191*PI()/180)","v":0},{"$f":"Harmonischen!$C$77/100*SIN($C214*$AB$191*PI()/180)","v":0},null,0.55731568494443218]
[null,null,23,{"$f":"Harmonischen!$C$53/100*SIN(C215*PI()/180)","v":0.39073112848927372},{"$f":"Harmonischen!$C$54/100*SIN(C215*$E$191*PI()/180)","v":0},{"$f":"Harmonischen!$C$55/100*SIN(C215*$F$191*PI()/180)","v":0.18671608529944037},{"$f":"Harmonischen!$C$56/100*SIN(C215*$G$191*PI()/180)","v":0},{"$f":"Harmonischen!$C$57/100*SIN(C215*$H$191*PI()/180)","v":0},{"$f":"Harmonischen!$C$58/100*SIN(C215*$I$191*PI()/180)","v":0},{"$f":"Harmonischen!$C$59/100*SIN(C215*$J$191*PI()/180)","v":0},{"$f":"Harmonischen!$C$60/100*SIN(C215*$K$191*PI()/180)","v":0},{"$f":"Harmonischen!$C$61/100*SIN(C215*$L$191*PI()/180)","v":0},{"$f":"Harmonischen!$C$62/100*SIN(C215*$M$191*PI()/180)","v":0},{"$f":"Harmonischen!$C$63/100*SIN($C215*$N$191*PI()/180)","v":0},{"$f":"Harmonischen!$C$64/100*SIN($C215*$O$191*PI()/180)","v":0},{"$f":"Harmonischen!$C$65/100*SIN($C215*$P$191*PI()/180)","v":0},{"$f":"Harmonischen!$C$66/100*SIN($C215*$Q$191*PI()/180)","v":0},{"$f":"Harmonischen!$C$67/100*SIN($C215*$R$191*PI()/180)","v":0},{"$f":"Harmonischen!$C$68/100*SIN($C215*$S$191*PI()/180)","v":0},{"$f":"Harmonischen!$C$69/100*SIN($C215*$T$191*PI()/180)","v":0},{"$f":"Harmonischen!$C$70/100*SIN($C215*$U$191*PI()/180)","v":0},{"$f":"Harmonischen!$C$71/100*SIN($C215*$V$191*PI()/180)","v":0},{"$f":"Harmonischen!$C$72/100*SIN($C215*$W$191*PI()/180)","v":0},{"$f":"Harmonischen!$C$73/100*SIN($C215*$X$191*PI()/180)","v":0},{"$f":"Harmonischen!$C$74/100*SIN($C215*$Y$191*PI()/180)","v":0},{"$f":"Harmonischen!$C$75/100*SIN($C215*$Z$191*PI()/180)","v":0},{"$f":"Harmonischen!$C$76/100*SIN($C215*$AA$191*PI()/180)","v":0},{"$f":"Harmonischen!$C$77/100*SIN($C215*$AB$191*PI()/180)","v":0},null,0.57744721378871411]
[null,null,24,{"$f":"Harmonischen!$C$53/100*SIN(C216*PI()/180)","v":0.40673664307580015},{"$f":"Harmonischen!$C$54/100*SIN(C216*$E$191*PI()/180)","v":0},{"$f":"Harmonischen!$C$55/100*SIN(C216*$F$191*PI()/180)","v":0.19021130325903071},{"$f":"Harmonischen!$C$56/100*SIN(C216*$G$191*PI()/180)","v":0},{"$f":"Harmonischen!$C$57/100*SIN(C216*$H$191*PI()/180)","v":0},{"$f":"Harmonischen!$C$58/100*SIN(C216*$I$191*PI()/180)","v":0},{"$f":"Harmonischen!$C$59/100*SIN(C216*$J$191*PI()/180)","v":0},{"$f":"Harmonischen!$C$60/100*SIN(C216*$K$191*PI()/180)","v":0},{"$f":"Harmonischen!$C$61/100*SIN(C216*$L$191*PI()/180)","v":0},{"$f":"Harmonischen!$C$62/100*SIN(C216*$M$191*PI()/180)","v":0},{"$f":"Harmonischen!$C$63/100*SIN($C216*$N$191*PI()/180)","v":0},{"$f":"Harmonischen!$C$64/100*SIN($C216*$O$191*PI()/180)","v":0},{"$f":"Harmonischen!$C$65/100*SIN($C216*$P$191*PI()/180)","v":0},{"$f":"Harmonischen!$C$66/100*SIN($C216*$Q$191*PI()/180)","v":0},{"$f":"Harmonischen!$C$67/100*SIN($C216*$R$191*PI()/180)","v":0},{"$f":"Harmonischen!$C$68/100*SIN($C216*$S$191*PI()/180)","v":0},{"$f":"Harmonischen!$C$69/100*SIN($C216*$T$191*PI()/180)","v":0},{"$f":"Harmonischen!$C$70/100*SIN($C216*$U$191*PI()/180)","v":0},{"$f":"Harmonischen!$C$71/100*SIN($C216*$V$191*PI()/180)","v":0},{"$f":"Harmonischen!$C$72/100*SIN($C216*$W$191*PI()/180)","v":0},{"$f":"Harmonischen!$C$73/100*SIN($C216*$X$191*PI()/180)","v":0},{"$f":"Harmonischen!$C$74/100*SIN($C216*$Y$191*PI()/180)","v":0},{"$f":"Harmonischen!$C$75/100*SIN($C216*$Z$191*PI()/180)","v":0},{"$f":"Harmonischen!$C$76/100*SIN($C216*$AA$191*PI()/180)","v":0},{"$f":"Harmonischen!$C$77/100*SIN($C216*$AB$191*PI()/180)","v":0},null,0.59694794633483084]
[null,null,25,{"$f":"Harmonischen!$C$53/100*SIN(C217*PI()/180)","v":0.42261826174069944},{"$f":"Harmonischen!$C$54/100*SIN(C217*$E$191*PI()/180)","v":0},{"$f":"Harmonischen!$C$55/100*SIN(C217*$F$191*PI()/180)","v":0.19318516525781368},{"$f":"Harmonischen!$C$56/100*SIN(C217*$G$191*PI()/180)","v":0},{"$f":"Harmonischen!$C$57/100*SIN(C217*$H$191*PI()/180)","v":0},{"$f":"Harmonischen!$C$58/100*SIN(C217*$I$191*PI()/180)","v":0},{"$f":"Harmonischen!$C$59/100*SIN(C217*$J$191*PI()/180)","v":0},{"$f":"Harmonischen!$C$60/100*SIN(C217*$K$191*PI()/180)","v":0},{"$f":"Harmonischen!$C$61/100*SIN(C217*$L$191*PI()/180)","v":0},{"$f":"Harmonischen!$C$62/100*SIN(C217*$M$191*PI()/180)","v":0},{"$f":"Harmonischen!$C$63/100*SIN($C217*$N$191*PI()/180)","v":0},{"$f":"Harmonischen!$C$64/100*SIN($C217*$O$191*PI()/180)","v":0},{"$f":"Harmonischen!$C$65/100*SIN($C217*$P$191*PI()/180)","v":0},{"$f":"Harmonischen!$C$66/100*SIN($C217*$Q$191*PI()/180)","v":0},{"$f":"Harmonischen!$C$67/100*SIN($C217*$R$191*PI()/180)","v":0},{"$f":"Harmonischen!$C$68/100*SIN($C217*$S$191*PI()/180)","v":0},{"$f":"Harmonischen!$C$69/100*SIN($C217*$T$191*PI()/180)","v":0},{"$f":"Harmonischen!$C$70/100*SIN($C217*$U$191*PI()/180)","v":0},{"$f":"Harmonischen!$C$71/100*SIN($C217*$V$191*PI()/180)","v":0},{"$f":"Harmonischen!$C$72/100*SIN($C217*$W$191*PI()/180)","v":0},{"$f":"Harmonischen!$C$73/100*SIN($C217*$X$191*PI()/180)","v":0},{"$f":"Harmonischen!$C$74/100*SIN($C217*$Y$191*PI()/180)","v":0},{"$f":"Harmonischen!$C$75/100*SIN($C217*$Z$191*PI()/180)","v":0},{"$f":"Harmonischen!$C$76/100*SIN($C217*$AA$191*PI()/180)","v":0},{"$f":"Harmonischen!$C$77/100*SIN($C217*$AB$191*PI()/180)","v":0},null,0.61580342699851309]
[null,null,26,{"$f":"Harmonischen!$C$53/100*SIN(C218*PI()/180)","v":0.4383711467890774},{"$f":"Harmonischen!$C$54/100*SIN(C218*$E$191*PI()/180)","v":0},{"$f":"Harmonischen!$C$55/100*SIN(C218*$F$191*PI()/180)","v":0.19562952014676113},{"$f":"Harmonischen!$C$56/100*SIN(C218*$G$191*PI()/180)","v":0},{"$f":"Harmonischen!$C$57/100*SIN(C218*$H$191*PI()/180)","v":0},{"$f":"Harmonischen!$C$58/100*SIN(C218*$I$191*PI()/180)","v":0},{"$f":"Harmonischen!$C$59/100*SIN(C218*$J$191*PI()/180)","v":0},{"$f":"Harmonischen!$C$60/100*SIN(C218*$K$191*PI()/180)","v":0},{"$f":"Harmonischen!$C$61/100*SIN(C218*$L$191*PI()/180)","v":0},{"$f":"Harmonischen!$C$62/100*SIN(C218*$M$191*PI()/180)","v":0},{"$f":"Harmonischen!$C$63/100*SIN($C218*$N$191*PI()/180)","v":0},{"$f":"Harmonischen!$C$64/100*SIN($C218*$O$191*PI()/180)","v":0},{"$f":"Harmonischen!$C$65/100*SIN($C218*$P$191*PI()/180)","v":0},{"$f":"Harmonischen!$C$66/100*SIN($C218*$Q$191*PI()/180)","v":0},{"$f":"Harmonischen!$C$67/100*SIN($C218*$R$191*PI()/180)","v":0},{"$f":"Harmonischen!$C$68/100*SIN($C218*$S$191*PI()/180)","v":0},{"$f":"Harmonischen!$C$69/100*SIN($C218*$T$191*PI()/180)","v":0},{"$f":"Harmonischen!$C$70/100*SIN($C218*$U$191*PI()/180)","v":0},{"$f":"Harmonischen!$C$71/100*SIN($C218*$V$191*PI()/180)","v":0},{"$f":"Harmonischen!$C$72/100*SIN($C218*$W$191*PI()/180)","v":0},{"$f":"Harmonischen!$C$73/100*SIN($C218*$X$191*PI()/180)","v":0},{"$f":"Harmonischen!$C$74/100*SIN($C218*$Y$191*PI()/180)","v":0},{"$f":"Harmonischen!$C$75/100*SIN($C218*$Z$191*PI()/180)","v":0},{"$f":"Harmonischen!$C$76/100*SIN($C218*$AA$191*PI()/180)","v":0},{"$f":"Harmonischen!$C$77/100*SIN($C218*$AB$191*PI()/180)","v":0},null,0.63400066693583856]
[null,null,27,{"$f":"Harmonischen!$C$53/100*SIN(C219*PI()/180)","v":0.45399049973954675},{"$f":"Harmonischen!$C$54/100*SIN(C219*$E$191*PI()/180)","v":0},{"$f":"Harmonischen!$C$55/100*SIN(C219*$F$191*PI()/180)","v":0.19753766811902757},{"$f":"Harmonischen!$C$56/100*SIN(C219*$G$191*PI()/180)","v":0},{"$f":"Harmonischen!$C$57/100*SIN(C219*$H$191*PI()/180)","v":0},{"$f":"Harmonischen!$C$58/100*SIN(C219*$I$191*PI()/180)","v":0},{"$f":"Harmonischen!$C$59/100*SIN(C219*$J$191*PI()/180)","v":0},{"$f":"Harmonischen!$C$60/100*SIN(C219*$K$191*PI()/180)","v":0},{"$f":"Harmonischen!$C$61/100*SIN(C219*$L$191*PI()/180)","v":0},{"$f":"Harmonischen!$C$62/100*SIN(C219*$M$191*PI()/180)","v":0},{"$f":"Harmonischen!$C$63/100*SIN($C219*$N$191*PI()/180)","v":0},{"$f":"Harmonischen!$C$64/100*SIN($C219*$O$191*PI()/180)","v":0},{"$f":"Harmonischen!$C$65/100*SIN($C219*$P$191*PI()/180)","v":0},{"$f":"Harmonischen!$C$66/100*SIN($C219*$Q$191*PI()/180)","v":0},{"$f":"Harmonischen!$C$67/100*SIN($C219*$R$191*PI()/180)","v":0},{"$f":"Harmonischen!$C$68/100*SIN($C219*$S$191*PI()/180)","v":0},{"$f":"Harmonischen!$C$69/100*SIN($C219*$T$191*PI()/180)","v":0},{"$f":"Harmonischen!$C$70/100*SIN($C219*$U$191*PI()/180)","v":0},{"$f":"Harmonischen!$C$71/100*SIN($C219*$V$191*PI()/180)","v":0},{"$f":"Harmonischen!$C$72/100*SIN($C219*$W$191*PI()/180)","v":0},{"$f":"Harmonischen!$C$73/100*SIN($C219*$X$191*PI()/180)","v":0},{"$f":"Harmonischen!$C$74/100*SIN($C219*$Y$191*PI()/180)","v":0},{"$f":"Harmonischen!$C$75/100*SIN($C219*$Z$191*PI()/180)","v":0},{"$f":"Harmonischen!$C$76/100*SIN($C219*$AA$191*PI()/180)","v":0},{"$f":"Harmonischen!$C$77/100*SIN($C219*$AB$191*PI()/180)","v":0},null,0.65152816785857426]
[null,null,28,{"$f":"Harmonischen!$C$53/100*SIN(C220*PI()/180)","v":0.46947156278589081},{"$f":"Harmonischen!$C$54/100*SIN(C220*$E$191*PI()/180)","v":0},{"$f":"Harmonischen!$C$55/100*SIN(C220*$F$191*PI()/180)","v":0.19890437907365466},{"$f":"Harmonischen!$C$56/100*SIN(C220*$G$191*PI()/180)","v":0},{"$f":"Harmonischen!$C$57/100*SIN(C220*$H$191*PI()/180)","v":0},{"$f":"Harmonischen!$C$58/100*SIN(C220*$I$191*PI()/180)","v":0},{"$f":"Harmonischen!$C$59/100*SIN(C220*$J$191*PI()/180)","v":0},{"$f":"Harmonischen!$C$60/100*SIN(C220*$K$191*PI()/180)","v":0},{"$f":"Harmonischen!$C$61/100*SIN(C220*$L$191*PI()/180)","v":0},{"$f":"Harmonischen!$C$62/100*SIN(C220*$M$191*PI()/180)","v":0},{"$f":"Harmonischen!$C$63/100*SIN($C220*$N$191*PI()/180)","v":0},{"$f":"Harmonischen!$C$64/100*SIN($C220*$O$191*PI()/180)","v":0},{"$f":"Harmonischen!$C$65/100*SIN($C220*$P$191*PI()/180)","v":0},{"$f":"Harmonischen!$C$66/100*SIN($C220*$Q$191*PI()/180)","v":0},{"$f":"Harmonischen!$C$67/100*SIN($C220*$R$191*PI()/180)","v":0},{"$f":"Harmonischen!$C$68/100*SIN($C220*$S$191*PI()/180)","v":0},{"$f":"Harmonischen!$C$69/100*SIN($C220*$T$191*PI()/180)","v":0},{"$f":"Harmonischen!$C$70/100*SIN($C220*$U$191*PI()/180)","v":0},{"$f":"Harmonischen!$C$71/100*SIN($C220*$V$191*PI()/180)","v":0},{"$f":"Harmonischen!$C$72/100*SIN($C220*$W$191*PI()/180)","v":0},{"$f":"Harmonischen!$C$73/100*SIN($C220*$X$191*PI()/180)","v":0},{"$f":"Harmonischen!$C$74/100*SIN($C220*$Y$191*PI()/180)","v":0},{"$f":"Harmonischen!$C$75/100*SIN($C220*$Z$191*PI()/180)","v":0},{"$f":"Harmonischen!$C$76/100*SIN($C220*$AA$191*PI()/180)","v":0},{"$f":"Harmonischen!$C$77/100*SIN($C220*$AB$191*PI()/180)","v":0},null,0.66837594185954541]
[null,null,29,{"$f":"Harmonischen!$C$53/100*SIN(C221*PI()/180)","v":0.48480962024633706},{"$f":"Harmonischen!$C$54/100*SIN(C221*$E$191*PI()/180)","v":0},{"$f":"Harmonischen!$C$55/100*SIN(C221*$F$191*PI()/180)","v":0.19972590695091477},{"$f":"Harmonischen!$C$56/100*SIN(C221*$G$191*PI()/180)","v":0},{"$f":"Harmonischen!$C$57/100*SIN(C221*$H$191*PI()/180)","v":0},{"$f":"Harmonischen!$C$58/100*SIN(C221*$I$191*PI()/180)","v":0},{"$f":"Harmonischen!$C$59/100*SIN(C221*$J$191*PI()/180)","v":0},{"$f":"Harmonischen!$C$60/100*SIN(C221*$K$191*PI()/180)","v":0},{"$f":"Harmonischen!$C$61/100*SIN(C221*$L$191*PI()/180)","v":0},{"$f":"Harmonischen!$C$62/100*SIN(C221*$M$191*PI()/180)","v":0},{"$f":"Harmonischen!$C$63/100*SIN($C221*$N$191*PI()/180)","v":0},{"$f":"Harmonischen!$C$64/100*SIN($C221*$O$191*PI()/180)","v":0},{"$f":"Harmonischen!$C$65/100*SIN($C221*$P$191*PI()/180)","v":0},{"$f":"Harmonischen!$C$66/100*SIN($C221*$Q$191*PI()/180)","v":0},{"$f":"Harmonischen!$C$67/100*SIN($C221*$R$191*PI()/180)","v":0},{"$f":"Harmonischen!$C$68/100*SIN($C221*$S$191*PI()/180)","v":0},{"$f":"Harmonischen!$C$69/100*SIN($C221*$T$191*PI()/180)","v":0},{"$f":"Harmonischen!$C$70/100*SIN($C221*$U$191*PI()/180)","v":0},{"$f":"Harmonischen!$C$71/100*SIN($C221*$V$191*PI()/180)","v":0},{"$f":"Harmonischen!$C$72/100*SIN($C221*$W$191*PI()/180)","v":0},{"$f":"Harmonischen!$C$73/100*SIN($C221*$X$191*PI()/180)","v":0},{"$f":"Harmonischen!$C$74/100*SIN($C221*$Y$191*PI()/180)","v":0},{"$f":"Harmonischen!$C$75/100*SIN($C221*$Z$191*PI()/180)","v":0},{"$f":"Harmonischen!$C$76/100*SIN($C221*$AA$191*PI()/180)","v":0},{"$f":"Harmonischen!$C$77/100*SIN($C221*$AB$191*PI()/180)","v":0},null,0.68453552719725186]
[null,null,30,{"$f":"Harmonischen!$C$53/100*SIN(C222*PI()/180)","v":0.49999999999999994},{"$f":"Harmonischen!$C$54/100*SIN(C222*$E$191*PI()/180)","v":0},{"$f":"Harmonischen!$C$55/100*SIN(C222*$F$191*PI()/180)","v":0.2},{"$f":"Harmonischen!$C$56/100*SIN(C222*$G$191*PI()/180)","v":0},{"$f":"Harmonischen!$C$57/100*SIN(C222*$H$191*PI()/180)","v":0},{"$f":"Harmonischen!$C$58/100*SIN(C222*$I$191*PI()/180)","v":0},{"$f":"Harmonischen!$C$59/100*SIN(C222*$J$191*PI()/180)","v":0},{"$f":"Harmonischen!$C$60/100*SIN(C222*$K$191*PI()/180)","v":0},{"$f":"Harmonischen!$C$61/100*SIN(C222*$L$191*PI()/180)","v":0},{"$f":"Harmonischen!$C$62/100*SIN(C222*$M$191*PI()/180)","v":0},{"$f":"Harmonischen!$C$63/100*SIN($C222*$N$191*PI()/180)","v":0},{"$f":"Harmonischen!$C$64/100*SIN($C222*$O$191*PI()/180)","v":0},{"$f":"Harmonischen!$C$65/100*SIN($C222*$P$191*PI()/180)","v":0},{"$f":"Harmonischen!$C$66/100*SIN($C222*$Q$191*PI()/180)","v":0},{"$f":"Harmonischen!$C$67/100*SIN($C222*$R$191*PI()/180)","v":0},{"$f":"Harmonischen!$C$68/100*SIN($C222*$S$191*PI()/180)","v":0},{"$f":"Harmonischen!$C$69/100*SIN($C222*$T$191*PI()/180)","v":0},{"$f":"Harmonischen!$C$70/100*SIN($C222*$U$191*PI()/180)","v":0},{"$f":"Harmonischen!$C$71/100*SIN($C222*$V$191*PI()/180)","v":0},{"$f":"Harmonischen!$C$72/100*SIN($C222*$W$191*PI()/180)","v":0},{"$f":"Harmonischen!$C$73/100*SIN($C222*$X$191*PI()/180)","v":0},{"$f":"Harmonischen!$C$74/100*SIN($C222*$Y$191*PI()/180)","v":0},{"$f":"Harmonischen!$C$75/100*SIN($C222*$Z$191*PI()/180)","v":0},{"$f":"Harmonischen!$C$76/100*SIN($C222*$AA$191*PI()/180)","v":0},{"$f":"Harmonischen!$C$77/100*SIN($C222*$AB$191*PI()/180)","v":0},null,0.7]
[null,null,31,{"$f":"Harmonischen!$C$53/100*SIN(C223*PI()/180)","v":0.51503807491005416},{"$f":"Harmonischen!$C$54/100*SIN(C223*$E$191*PI()/180)","v":0},{"$f":"Harmonischen!$C$55/100*SIN(C223*$F$191*PI()/180)","v":0.19972590695091477},{"$f":"Harmonischen!$C$56/100*SIN(C223*$G$191*PI()/180)","v":0},{"$f":"Harmonischen!$C$57/100*SIN(C223*$H$191*PI()/180)","v":0},{"$f":"Harmonischen!$C$58/100*SIN(C223*$I$191*PI()/180)","v":0},{"$f":"Harmonischen!$C$59/100*SIN(C223*$J$191*PI()/180)","v":0},{"$f":"Harmonischen!$C$60/100*SIN(C223*$K$191*PI()/180)","v":0},{"$f":"Harmonischen!$C$61/100*SIN(C223*$L$191*PI()/180)","v":0},{"$f":"Harmonischen!$C$62/100*SIN(C223*$M$191*PI()/180)","v":0},{"$f":"Harmonischen!$C$63/100*SIN($C223*$N$191*PI()/180)","v":0},{"$f":"Harmonischen!$C$64/100*SIN($C223*$O$191*PI()/180)","v":0},{"$f":"Harmonischen!$C$65/100*SIN($C223*$P$191*PI()/180)","v":0},{"$f":"Harmonischen!$C$66/100*SIN($C223*$Q$191*PI()/180)","v":0},{"$f":"Harmonischen!$C$67/100*SIN($C223*$R$191*PI()/180)","v":0},{"$f":"Harmonischen!$C$68/100*SIN($C223*$S$191*PI()/180)","v":0},{"$f":"Harmonischen!$C$69/100*SIN($C223*$T$191*PI()/180)","v":0},{"$f":"Harmonischen!$C$70/100*SIN($C223*$U$191*PI()/180)","v":0},{"$f":"Harmonischen!$C$71/100*SIN($C223*$V$191*PI()/180)","v":0},{"$f":"Harmonischen!$C$72/100*SIN($C223*$W$191*PI()/180)","v":0},{"$f":"Harmonischen!$C$73/100*SIN($C223*$X$191*PI()/180)","v":0},{"$f":"Harmonischen!$C$74/100*SIN($C223*$Y$191*PI()/180)","v":0},{"$f":"Harmonischen!$C$75/100*SIN($C223*$Z$191*PI()/180)","v":0},{"$f":"Harmonischen!$C$76/100*SIN($C223*$AA$191*PI()/180)","v":0},{"$f":"Harmonischen!$C$77/100*SIN($C223*$AB$191*PI()/180)","v":0},null,0.7147639818609689]
[null,null,32,{"$f":"Harmonischen!$C$53/100*SIN(C224*PI()/180)","v":0.5299192642332049},{"$f":"Harmonischen!$C$54/100*SIN(C224*$E$191*PI()/180)","v":0},{"$f":"Harmonischen!$C$55/100*SIN(C224*$F$191*PI()/180)","v":0.19890437907365469},{"$f":"Harmonischen!$C$56/100*SIN(C224*$G$191*PI()/180)","v":0},{"$f":"Harmonischen!$C$57/100*SIN(C224*$H$191*PI()/180)","v":0},{"$f":"Harmonischen!$C$58/100*SIN(C224*$I$191*PI()/180)","v":0},{"$f":"Harmonischen!$C$59/100*SIN(C224*$J$191*PI()/180)","v":0},{"$f":"Harmonischen!$C$60/100*SIN(C224*$K$191*PI()/180)","v":0},{"$f":"Harmonischen!$C$61/100*SIN(C224*$L$191*PI()/180)","v":0},{"$f":"Harmonischen!$C$62/100*SIN(C224*$M$191*PI()/180)","v":0},{"$f":"Harmonischen!$C$63/100*SIN($C224*$N$191*PI()/180)","v":0},{"$f":"Harmonischen!$C$64/100*SIN($C224*$O$191*PI()/180)","v":0},{"$f":"Harmonischen!$C$65/100*SIN($C224*$P$191*PI()/180)","v":0},{"$f":"Harmonischen!$C$66/100*SIN($C224*$Q$191*PI()/180)","v":0},{"$f":"Harmonischen!$C$67/100*SIN($C224*$R$191*PI()/180)","v":0},{"$f":"Harmonischen!$C$68/100*SIN($C224*$S$191*PI()/180)","v":0},{"$f":"Harmonischen!$C$69/100*SIN($C224*$T$191*PI()/180)","v":0},{"$f":"Harmonischen!$C$70/100*SIN($C224*$U$191*PI()/180)","v":0},{"$f":"Harmonischen!$C$71/100*SIN($C224*$V$191*PI()/180)","v":0},{"$f":"Harmonischen!$C$72/100*SIN($C224*$W$191*PI()/180)","v":0},{"$f":"Harmonischen!$C$73/100*SIN($C224*$X$191*PI()/180)","v":0},{"$f":"Harmonischen!$C$74/100*SIN($C224*$Y$191*PI()/180)","v":0},{"$f":"Harmonischen!$C$75/100*SIN($C224*$Z$191*PI()/180)","v":0},{"$f":"Harmonischen!$C$76/100*SIN($C224*$AA$191*PI()/180)","v":0},{"$f":"Harmonischen!$C$77/100*SIN($C224*$AB$191*PI()/180)","v":0},null,0.72882364330685956]
[null,null,33,{"$f":"Harmonischen!$C$53/100*SIN(C225*PI()/180)","v":0.54463903501502708},{"$f":"Harmonischen!$C$54/100*SIN(C225*$E$191*PI()/180)","v":0},{"$f":"Harmonischen!$C$55/100*SIN(C225*$F$191*PI()/180)","v":0.19753766811902754},{"$f":"Harmonischen!$C$56/100*SIN(C225*$G$191*PI()/180)","v":0},{"$f":"Harmonischen!$C$57/100*SIN(C225*$H$191*PI()/180)","v":0},{"$f":"Harmonischen!$C$58/100*SIN(C225*$I$191*PI()/180)","v":0},{"$f":"Harmonischen!$C$59/100*SIN(C225*$J$191*PI()/180)","v":0},{"$f":"Harmonischen!$C$60/100*SIN(C225*$K$191*PI()/180)","v":0},{"$f":"Harmonischen!$C$61/100*SIN(C225*$L$191*PI()/180)","v":0},{"$f":"Harmonischen!$C$62/100*SIN(C225*$M$191*PI()/180)","v":0},{"$f":"Harmonischen!$C$63/100*SIN($C225*$N$191*PI()/180)","v":0},{"$f":"Harmonischen!$C$64/100*SIN($C225*$O$191*PI()/180)","v":0},{"$f":"Harmonischen!$C$65/100*SIN($C225*$P$191*PI()/180)","v":0},{"$f":"Harmonischen!$C$66/100*SIN($C225*$Q$191*PI()/180)","v":0},{"$f":"Harmonischen!$C$67/100*SIN($C225*$R$191*PI()/180)","v":0},{"$f":"Harmonischen!$C$68/100*SIN($C225*$S$191*PI()/180)","v":0},{"$f":"Harmonischen!$C$69/100*SIN($C225*$T$191*PI()/180)","v":0},{"$f":"Harmonischen!$C$70/100*SIN($C225*$U$191*PI()/180)","v":0},{"$f":"Harmonischen!$C$71/100*SIN($C225*$V$191*PI()/180)","v":0},{"$f":"Harmonischen!$C$72/100*SIN($C225*$W$191*PI()/180)","v":0},{"$f":"Harmonischen!$C$73/100*SIN($C225*$X$191*PI()/180)","v":0},{"$f":"Harmonischen!$C$74/100*SIN($C225*$Y$191*PI()/180)","v":0},{"$f":"Harmonischen!$C$75/100*SIN($C225*$Z$191*PI()/180)","v":0},{"$f":"Harmonischen!$C$76/100*SIN($C225*$AA$191*PI()/180)","v":0},{"$f":"Harmonischen!$C$77/100*SIN($C225*$AB$191*PI()/180)","v":0},null,0.74217670313405459]
[null,null,34,{"$f":"Harmonischen!$C$53/100*SIN(C226*PI()/180)","v":0.5591929034707469},{"$f":"Harmonischen!$C$54/100*SIN(C226*$E$191*PI()/180)","v":0},{"$f":"Harmonischen!$C$55/100*SIN(C226*$F$191*PI()/180)","v":0.19562952014676116},{"$f":"Harmonischen!$C$56/100*SIN(C226*$G$191*PI()/180)","v":0},{"$f":"Harmonischen!$C$57/100*SIN(C226*$H$191*PI()/180)","v":0},{"$f":"Harmonischen!$C$58/100*SIN(C226*$I$191*PI()/180)","v":0},{"$f":"Harmonischen!$C$59/100*SIN(C226*$J$191*PI()/180)","v":0},{"$f":"Harmonischen!$C$60/100*SIN(C226*$K$191*PI()/180)","v":0},{"$f":"Harmonischen!$C$61/100*SIN(C226*$L$191*PI()/180)","v":0},{"$f":"Harmonischen!$C$62/100*SIN(C226*$M$191*PI()/180)","v":0},{"$f":"Harmonischen!$C$63/100*SIN($C226*$N$191*PI()/180)","v":0},{"$f":"Harmonischen!$C$64/100*SIN($C226*$O$191*PI()/180)","v":0},{"$f":"Harmonischen!$C$65/100*SIN($C226*$P$191*PI()/180)","v":0},{"$f":"Harmonischen!$C$66/100*SIN($C226*$Q$191*PI()/180)","v":0},{"$f":"Harmonischen!$C$67/100*SIN($C226*$R$191*PI()/180)","v":0},{"$f":"Harmonischen!$C$68/100*SIN($C226*$S$191*PI()/180)","v":0},{"$f":"Harmonischen!$C$69/100*SIN($C226*$T$191*PI()/180)","v":0},{"$f":"Harmonischen!$C$70/100*SIN($C226*$U$191*PI()/180)","v":0},{"$f":"Harmonischen!$C$71/100*SIN($C226*$V$191*PI()/180)","v":0},{"$f":"Harmonischen!$C$72/100*SIN($C226*$W$191*PI()/180)","v":0},{"$f":"Harmonischen!$C$73/100*SIN($C226*$X$191*PI()/180)","v":0},{"$f":"Harmonischen!$C$74/100*SIN($C226*$Y$191*PI()/180)","v":0},{"$f":"Harmonischen!$C$75/100*SIN($C226*$Z$191*PI()/180)","v":0},{"$f":"Harmonischen!$C$76/100*SIN($C226*$AA$191*PI()/180)","v":0},{"$f":"Harmonischen!$C$77/100*SIN($C226*$AB$191*PI()/180)","v":0},null,0.75482242361750806]
[null,null,35,{"$f":"Harmonischen!$C$53/100*SIN(C227*PI()/180)","v":0.57357643635104605},{"$f":"Harmonischen!$C$54/100*SIN(C227*$E$191*PI()/180)","v":0},{"$f":"Harmonischen!$C$55/100*SIN(C227*$F$191*PI()/180)","v":0.19318516525781368},{"$f":"Harmonischen!$C$56/100*SIN(C227*$G$191*PI()/180)","v":0},{"$f":"Harmonischen!$C$57/100*SIN(C227*$H$191*PI()/180)","v":0},{"$f":"Harmonischen!$C$58/100*SIN(C227*$I$191*PI()/180)","v":0},{"$f":"Harmonischen!$C$59/100*SIN(C227*$J$191*PI()/180)","v":0},{"$f":"Harmonischen!$C$60/100*SIN(C227*$K$191*PI()/180)","v":0},{"$f":"Harmonischen!$C$61/100*SIN(C227*$L$191*PI()/180)","v":0},{"$f":"Harmonischen!$C$62/100*SIN(C227*$M$191*PI()/180)","v":0},{"$f":"Harmonischen!$C$63/100*SIN($C227*$N$191*PI()/180)","v":0},{"$f":"Harmonischen!$C$64/100*SIN($C227*$O$191*PI()/180)","v":0},{"$f":"Harmonischen!$C$65/100*SIN($C227*$P$191*PI()/180)","v":0},{"$f":"Harmonischen!$C$66/100*SIN($C227*$Q$191*PI()/180)","v":0},{"$f":"Harmonischen!$C$67/100*SIN($C227*$R$191*PI()/180)","v":0},{"$f":"Harmonischen!$C$68/100*SIN($C227*$S$191*PI()/180)","v":0},{"$f":"Harmonischen!$C$69/100*SIN($C227*$T$191*PI()/180)","v":0},{"$f":"Harmonischen!$C$70/100*SIN($C227*$U$191*PI()/180)","v":0},{"$f":"Harmonischen!$C$71/100*SIN($C227*$V$191*PI()/180)","v":0},{"$f":"Harmonischen!$C$72/100*SIN($C227*$W$191*PI()/180)","v":0},{"$f":"Harmonischen!$C$73/100*SIN($C227*$X$191*PI()/180)","v":0},{"$f":"Harmonischen!$C$74/100*SIN($C227*$Y$191*PI()/180)","v":0},{"$f":"Harmonischen!$C$75/100*SIN($C227*$Z$191*PI()/180)","v":0},{"$f":"Harmonischen!$C$76/100*SIN($C227*$AA$191*PI()/180)","v":0},{"$f":"Harmonischen!$C$77/100*SIN($C227*$AB$191*PI()/180)","v":0},null,0.76676160160885976]
[null,null,36,{"$f":"Harmonischen!$C$53/100*SIN(C228*PI()/180)","v":0.58778525229247314},{"$f":"Harmonischen!$C$54/100*SIN(C228*$E$191*PI()/180)","v":0},{"$f":"Harmonischen!$C$55/100*SIN(C228*$F$191*PI()/180)","v":0.19021130325903074},{"$f":"Harmonischen!$C$56/100*SIN(C228*$G$191*PI()/180)","v":0},{"$f":"Harmonischen!$C$57/100*SIN(C228*$H$191*PI()/180)","v":0},{"$f":"Harmonischen!$C$58/100*SIN(C228*$I$191*PI()/180)","v":0},{"$f":"Harmonischen!$C$59/100*SIN(C228*$J$191*PI()/180)","v":0},{"$f":"Harmonischen!$C$60/100*SIN(C228*$K$191*PI()/180)","v":0},{"$f":"Harmonischen!$C$61/100*SIN(C228*$L$191*PI()/180)","v":0},{"$f":"Harmonischen!$C$62/100*SIN(C228*$M$191*PI()/180)","v":0},{"$f":"Harmonischen!$C$63/100*SIN($C228*$N$191*PI()/180)","v":0},{"$f":"Harmonischen!$C$64/100*SIN($C228*$O$191*PI()/180)","v":0},{"$f":"Harmonischen!$C$65/100*SIN($C228*$P$191*PI()/180)","v":0},{"$f":"Harmonischen!$C$66/100*SIN($C228*$Q$191*PI()/180)","v":0},{"$f":"Harmonischen!$C$67/100*SIN($C228*$R$191*PI()/180)","v":0},{"$f":"Harmonischen!$C$68/100*SIN($C228*$S$191*PI()/180)","v":0},{"$f":"Harmonischen!$C$69/100*SIN($C228*$T$191*PI()/180)","v":0},{"$f":"Harmonischen!$C$70/100*SIN($C228*$U$191*PI()/180)","v":0},{"$f":"Harmonischen!$C$71/100*SIN($C228*$V$191*PI()/180)","v":0},{"$f":"Harmonischen!$C$72/100*SIN($C228*$W$191*PI()/180)","v":0},{"$f":"Harmonischen!$C$73/100*SIN($C228*$X$191*PI()/180)","v":0},{"$f":"Harmonischen!$C$74/100*SIN($C228*$Y$191*PI()/180)","v":0},{"$f":"Harmonischen!$C$75/100*SIN($C228*$Z$191*PI()/180)","v":0},{"$f":"Harmonischen!$C$76/100*SIN($C228*$AA$191*PI()/180)","v":0},{"$f":"Harmonischen!$C$77/100*SIN($C228*$AB$191*PI()/180)","v":0},null,0.77799655555150382]
[null,null,37,{"$f":"Harmonischen!$C$53/100*SIN(C229*PI()/180)","v":0.60181502315204827},{"$f":"Harmonischen!$C$54/100*SIN(C229*$E$191*PI()/180)","v":0},{"$f":"Harmonischen!$C$55/100*SIN(C229*$F$191*PI()/180)","v":0.18671608529944037},{"$f":"Harmonischen!$C$56/100*SIN(C229*$G$191*PI()/180)","v":0},{"$f":"Harmonischen!$C$57/100*SIN(C229*$H$191*PI()/180)","v":0},{"$f":"Harmonischen!$C$58/100*SIN(C229*$I$191*PI()/180)","v":0},{"$f":"Harmonischen!$C$59/100*SIN(C229*$J$191*PI()/180)","v":0},{"$f":"Harmonischen!$C$60/100*SIN(C229*$K$191*PI()/180)","v":0},{"$f":"Harmonischen!$C$61/100*SIN(C229*$L$191*PI()/180)","v":0},{"$f":"Harmonischen!$C$62/100*SIN(C229*$M$191*PI()/180)","v":0},{"$f":"Harmonischen!$C$63/100*SIN($C229*$N$191*PI()/180)","v":0},{"$f":"Harmonischen!$C$64/100*SIN($C229*$O$191*PI()/180)","v":0},{"$f":"Harmonischen!$C$65/100*SIN($C229*$P$191*PI()/180)","v":0},{"$f":"Harmonischen!$C$66/100*SIN($C229*$Q$191*PI()/180)","v":0},{"$f":"Harmonischen!$C$67/100*SIN($C229*$R$191*PI()/180)","v":0},{"$f":"Harmonischen!$C$68/100*SIN($C229*$S$191*PI()/180)","v":0},{"$f":"Harmonischen!$C$69/100*SIN($C229*$T$191*PI()/180)","v":0},{"$f":"Harmonischen!$C$70/100*SIN($C229*$U$191*PI()/180)","v":0},{"$f":"Harmonischen!$C$71/100*SIN($C229*$V$191*PI()/180)","v":0},{"$f":"Harmonischen!$C$72/100*SIN($C229*$W$191*PI()/180)","v":0},{"$f":"Harmonischen!$C$73/100*SIN($C229*$X$191*PI()/180)","v":0},{"$f":"Harmonischen!$C$74/100*SIN($C229*$Y$191*PI()/180)","v":0},{"$f":"Harmonischen!$C$75/100*SIN($C229*$Z$191*PI()/180)","v":0},{"$f":"Harmonischen!$C$76/100*SIN($C229*$AA$191*PI()/180)","v":0},{"$f":"Harmonischen!$C$77/100*SIN($C229*$AB$191*PI()/180)","v":0},null,0.78853110845148866]
[null,null,38,{"$f":"Harmonischen!$C$53/100*SIN(C230*PI()/180)","v":0.61566147532565818},{"$f":"Harmonischen!$C$54/100*SIN(C230*$E$191*PI()/180)","v":0},{"$f":"Harmonischen!$C$55/100*SIN(C230*$F$191*PI()/180)","v":0.18270909152852022},{"$f":"Harmonischen!$C$56/100*SIN(C230*$G$191*PI()/180)","v":0},{"$f":"Harmonischen!$C$57/100*SIN(C230*$H$191*PI()/180)","v":0},{"$f":"Harmonischen!$C$58/100*SIN(C230*$I$191*PI()/180)","v":0},{"$f":"Harmonischen!$C$59/100*SIN(C230*$J$191*PI()/180)","v":0},{"$f":"Harmonischen!$C$60/100*SIN(C230*$K$191*PI()/180)","v":0},{"$f":"Harmonischen!$C$61/100*SIN(C230*$L$191*PI()/180)","v":0},{"$f":"Harmonischen!$C$62/100*SIN(C230*$M$191*PI()/180)","v":0},{"$f":"Harmonischen!$C$63/100*SIN($C230*$N$191*PI()/180)","v":0},{"$f":"Harmonischen!$C$64/100*SIN($C230*$O$191*PI()/180)","v":0},{"$f":"Harmonischen!$C$65/100*SIN($C230*$P$191*PI()/180)","v":0},{"$f":"Harmonischen!$C$66/100*SIN($C230*$Q$191*PI()/180)","v":0},{"$f":"Harmonischen!$C$67/100*SIN($C230*$R$191*PI()/180)","v":0},{"$f":"Harmonischen!$C$68/100*SIN($C230*$S$191*PI()/180)","v":0},{"$f":"Harmonischen!$C$69/100*SIN($C230*$T$191*PI()/180)","v":0},{"$f":"Harmonischen!$C$70/100*SIN($C230*$U$191*PI()/180)","v":0},{"$f":"Harmonischen!$C$71/100*SIN($C230*$V$191*PI()/180)","v":0},{"$f":"Harmonischen!$C$72/100*SIN($C230*$W$191*PI()/180)","v":0},{"$f":"Harmonischen!$C$73/100*SIN($C230*$X$191*PI()/180)","v":0},{"$f":"Harmonischen!$C$74/100*SIN($C230*$Y$191*PI()/180)","v":0},{"$f":"Harmonischen!$C$75/100*SIN($C230*$Z$191*PI()/180)","v":0},{"$f":"Harmonischen!$C$76/100*SIN($C230*$AA$191*PI()/180)","v":0},{"$f":"Harmonischen!$C$77/100*SIN($C230*$AB$191*PI()/180)","v":0},null,0.7983705668541784]
[null,null,39,{"$f":"Harmonischen!$C$53/100*SIN(C231*PI()/180)","v":0.62932039104983739},{"$f":"Harmonischen!$C$54/100*SIN(C231*$E$191*PI()/180)","v":0},{"$f":"Harmonischen!$C$55/100*SIN(C231*$F$191*PI()/180)","v":0.1782013048376736},{"$f":"Harmonischen!$C$56/100*SIN(C231*$G$191*PI()/180)","v":0},{"$f":"Harmonischen!$C$57/100*SIN(C231*$H$191*PI()/180)","v":0},{"$f":"Harmonischen!$C$58/100*SIN(C231*$I$191*PI()/180)","v":0},{"$f":"Harmonischen!$C$59/100*SIN(C231*$J$191*PI()/180)","v":0},{"$f":"Harmonischen!$C$60/100*SIN(C231*$K$191*PI()/180)","v":0},{"$f":"Harmonischen!$C$61/100*SIN(C231*$L$191*PI()/180)","v":0},{"$f":"Harmonischen!$C$62/100*SIN(C231*$M$191*PI()/180)","v":0},{"$f":"Harmonischen!$C$63/100*SIN($C231*$N$191*PI()/180)","v":0},{"$f":"Harmonischen!$C$64/100*SIN($C231*$O$191*PI()/180)","v":0},{"$f":"Harmonischen!$C$65/100*SIN($C231*$P$191*PI()/180)","v":0},{"$f":"Harmonischen!$C$66/100*SIN($C231*$Q$191*PI()/180)","v":0},{"$f":"Harmonischen!$C$67/100*SIN($C231*$R$191*PI()/180)","v":0},{"$f":"Harmonischen!$C$68/100*SIN($C231*$S$191*PI()/180)","v":0},{"$f":"Harmonischen!$C$69/100*SIN($C231*$T$191*PI()/180)","v":0},{"$f":"Harmonischen!$C$70/100*SIN($C231*$U$191*PI()/180)","v":0},{"$f":"Harmonischen!$C$71/100*SIN($C231*$V$191*PI()/180)","v":0},{"$f":"Harmonischen!$C$72/100*SIN($C231*$W$191*PI()/180)","v":0},{"$f":"Harmonischen!$C$73/100*SIN($C231*$X$191*PI()/180)","v":0},{"$f":"Harmonischen!$C$74/100*SIN($C231*$Y$191*PI()/180)","v":0},{"$f":"Harmonischen!$C$75/100*SIN($C231*$Z$191*PI()/180)","v":0},{"$f":"Harmonischen!$C$76/100*SIN($C231*$AA$191*PI()/180)","v":0},{"$f":"Harmonischen!$C$77/100*SIN($C231*$AB$191*PI()/180)","v":0},null,0.80752169588751099]
[null,null,40,{"$f":"Harmonischen!$C$53/100*SIN(C232*PI()/180)","v":0.64278760968653925},{"$f":"Harmonischen!$C$54/100*SIN(C232*$E$191*PI()/180)","v":0},{"$f":"Harmonischen!$C$55/100*SIN(C232*$F$191*PI()/180)","v":0.17320508075688776},{"$f":"Harmonischen!$C$56/100*SIN(C232*$G$191*PI()/180)","v":0},{"$f":"Harmonischen!$C$57/100*SIN(C232*$H$191*PI()/180)","v":0},{"$f":"Harmonischen!$C$58/100*SIN(C232*$I$191*PI()/180)","v":0},{"$f":"Harmonischen!$C$59/100*SIN(C232*$J$191*PI()/180)","v":0},{"$f":"Harmonischen!$C$60/100*SIN(C232*$K$191*PI()/180)","v":0},{"$f":"Harmonischen!$C$61/100*SIN(C232*$L$191*PI()/180)","v":0},{"$f":"Harmonischen!$C$62/100*SIN(C232*$M$191*PI()/180)","v":0},{"$f":"Harmonischen!$C$63/100*SIN($C232*$N$191*PI()/180)","v":0},{"$f":"Harmonischen!$C$64/100*SIN($C232*$O$191*PI()/180)","v":0},{"$f":"Harmonischen!$C$65/100*SIN($C232*$P$191*PI()/180)","v":0},{"$f":"Harmonischen!$C$66/100*SIN($C232*$Q$191*PI()/180)","v":0},{"$f":"Harmonischen!$C$67/100*SIN($C232*$R$191*PI()/180)","v":0},{"$f":"Harmonischen!$C$68/100*SIN($C232*$S$191*PI()/180)","v":0},{"$f":"Harmonischen!$C$69/100*SIN($C232*$T$191*PI()/180)","v":0},{"$f":"Harmonischen!$C$70/100*SIN($C232*$U$191*PI()/180)","v":0},{"$f":"Harmonischen!$C$71/100*SIN($C232*$V$191*PI()/180)","v":0},{"$f":"Harmonischen!$C$72/100*SIN($C232*$W$191*PI()/180)","v":0},{"$f":"Harmonischen!$C$73/100*SIN($C232*$X$191*PI()/180)","v":0},{"$f":"Harmonischen!$C$74/100*SIN($C232*$Y$191*PI()/180)","v":0},{"$f":"Harmonischen!$C$75/100*SIN($C232*$Z$191*PI()/180)","v":0},{"$f":"Harmonischen!$C$76/100*SIN($C232*$AA$191*PI()/180)","v":0},{"$f":"Harmonischen!$C$77/100*SIN($C232*$AB$191*PI()/180)","v":0},null,0.81599269044342704]
[null,null,41,{"$f":"Harmonischen!$C$53/100*SIN(C233*PI()/180)","v":0.65605902899050716},{"$f":"Harmonischen!$C$54/100*SIN(C233*$E$191*PI()/180)","v":0},{"$f":"Harmonischen!$C$55/100*SIN(C233*$F$191*PI()/180)","v":0.1677341135890848},{"$f":"Harmonischen!$C$56/100*SIN(C233*$G$191*PI()/180)","v":0},{"$f":"Harmonischen!$C$57/100*SIN(C233*$H$191*PI()/180)","v":0},{"$f":"Harmonischen!$C$58/100*SIN(C233*$I$191*PI()/180)","v":0},{"$f":"Harmonischen!$C$59/100*SIN(C233*$J$191*PI()/180)","v":0},{"$f":"Harmonischen!$C$60/100*SIN(C233*$K$191*PI()/180)","v":0},{"$f":"Harmonischen!$C$61/100*SIN(C233*$L$191*PI()/180)","v":0},{"$f":"Harmonischen!$C$62/100*SIN(C233*$M$191*PI()/180)","v":0},{"$f":"Harmonischen!$C$63/100*SIN($C233*$N$191*PI()/180)","v":0},{"$f":"Harmonischen!$C$64/100*SIN($C233*$O$191*PI()/180)","v":0},{"$f":"Harmonischen!$C$65/100*SIN($C233*$P$191*PI()/180)","v":0},{"$f":"Harmonischen!$C$66/100*SIN($C233*$Q$191*PI()/180)","v":0},{"$f":"Harmonischen!$C$67/100*SIN($C233*$R$191*PI()/180)","v":0},{"$f":"Harmonischen!$C$68/100*SIN($C233*$S$191*PI()/180)","v":0},{"$f":"Harmonischen!$C$69/100*SIN($C233*$T$191*PI()/180)","v":0},{"$f":"Harmonischen!$C$70/100*SIN($C233*$U$191*PI()/180)","v":0},{"$f":"Harmonischen!$C$71/100*SIN($C233*$V$191*PI()/180)","v":0},{"$f":"Harmonischen!$C$72/100*SIN($C233*$W$191*PI()/180)","v":0},{"$f":"Harmonischen!$C$73/100*SIN($C233*$X$191*PI()/180)","v":0},{"$f":"Harmonischen!$C$74/100*SIN($C233*$Y$191*PI()/180)","v":0},{"$f":"Harmonischen!$C$75/100*SIN($C233*$Z$191*PI()/180)","v":0},{"$f":"Harmonischen!$C$76/100*SIN($C233*$AA$191*PI()/180)","v":0},{"$f":"Harmonischen!$C$77/100*SIN($C233*$AB$191*PI()/180)","v":0},null,0.82379314257959191]
[null,null,42,{"$f":"Harmonischen!$C$53/100*SIN(C234*PI()/180)","v":0.66913060635885824},{"$f":"Harmonischen!$C$54/100*SIN(C234*$E$191*PI()/180)","v":0},{"$f":"Harmonischen!$C$55/100*SIN(C234*$F$191*PI()/180)","v":0.16180339887498951},{"$f":"Harmonischen!$C$56/100*SIN(C234*$G$191*PI()/180)","v":0},{"$f":"Harmonischen!$C$57/100*SIN(C234*$H$191*PI()/180)","v":0},{"$f":"Harmonischen!$C$58/100*SIN(C234*$I$191*PI()/180)","v":0},{"$f":"Harmonischen!$C$59/100*SIN(C234*$J$191*PI()/180)","v":0},{"$f":"Harmonischen!$C$60/100*SIN(C234*$K$191*PI()/180)","v":0},{"$f":"Harmonischen!$C$61/100*SIN(C234*$L$191*PI()/180)","v":0},{"$f":"Harmonischen!$C$62/100*SIN(C234*$M$191*PI()/180)","v":0},{"$f":"Harmonischen!$C$63/100*SIN($C234*$N$191*PI()/180)","v":0},{"$f":"Harmonischen!$C$64/100*SIN($C234*$O$191*PI()/180)","v":0},{"$f":"Harmonischen!$C$65/100*SIN($C234*$P$191*PI()/180)","v":0},{"$f":"Harmonischen!$C$66/100*SIN($C234*$Q$191*PI()/180)","v":0},{"$f":"Harmonischen!$C$67/100*SIN($C234*$R$191*PI()/180)","v":0},{"$f":"Harmonischen!$C$68/100*SIN($C234*$S$191*PI()/180)","v":0},{"$f":"Harmonischen!$C$69/100*SIN($C234*$T$191*PI()/180)","v":0},{"$f":"Harmonischen!$C$70/100*SIN($C234*$U$191*PI()/180)","v":0},{"$f":"Harmonischen!$C$71/100*SIN($C234*$V$191*PI()/180)","v":0},{"$f":"Harmonischen!$C$72/100*SIN($C234*$W$191*PI()/180)","v":0},{"$f":"Harmonischen!$C$73/100*SIN($C234*$X$191*PI()/180)","v":0},{"$f":"Harmonischen!$C$74/100*SIN($C234*$Y$191*PI()/180)","v":0},{"$f":"Harmonischen!$C$75/100*SIN($C234*$Z$191*PI()/180)","v":0},{"$f":"Harmonischen!$C$76/100*SIN($C234*$AA$191*PI()/180)","v":0},{"$f":"Harmonischen!$C$77/100*SIN($C234*$AB$191*PI()/180)","v":0},null,0.83093400523384775]
[null,null,43,{"$f":"Harmonischen!$C$53/100*SIN(C235*PI()/180)","v":0.68199836006249848},{"$f":"Harmonischen!$C$54/100*SIN(C235*$E$191*PI()/180)","v":0},{"$f":"Harmonischen!$C$55/100*SIN(C235*$F$191*PI()/180)","v":0.15542919229139421},{"$f":"Harmonischen!$C$56/100*SIN(C235*$G$191*PI()/180)","v":0},{"$f":"Harmonischen!$C$57/100*SIN(C235*$H$191*PI()/180)","v":0},{"$f":"Harmonischen!$C$58/100*SIN(C235*$I$191*PI()/180)","v":0},{"$f":"Harmonischen!$C$59/100*SIN(C235*$J$191*PI()/180)","v":0},{"$f":"Harmonischen!$C$60/100*SIN(C235*$K$191*PI()/180)","v":0},{"$f":"Harmonischen!$C$61/100*SIN(C235*$L$191*PI()/180)","v":0},{"$f":"Harmonischen!$C$62/100*SIN(C235*$M$191*PI()/180)","v":0},{"$f":"Harmonischen!$C$63/100*SIN($C235*$N$191*PI()/180)","v":0},{"$f":"Harmonischen!$C$64/100*SIN($C235*$O$191*PI()/180)","v":0},{"$f":"Harmonischen!$C$65/100*SIN($C235*$P$191*PI()/180)","v":0},{"$f":"Harmonischen!$C$66/100*SIN($C235*$Q$191*PI()/180)","v":0},{"$f":"Harmonischen!$C$67/100*SIN($C235*$R$191*PI()/180)","v":0},{"$f":"Harmonischen!$C$68/100*SIN($C235*$S$191*PI()/180)","v":0},{"$f":"Harmonischen!$C$69/100*SIN($C235*$T$191*PI()/180)","v":0},{"$f":"Harmonischen!$C$70/100*SIN($C235*$U$191*PI()/180)","v":0},{"$f":"Harmonischen!$C$71/100*SIN($C235*$V$191*PI()/180)","v":0},{"$f":"Harmonischen!$C$72/100*SIN($C235*$W$191*PI()/180)","v":0},{"$f":"Harmonischen!$C$73/100*SIN($C235*$X$191*PI()/180)","v":0},{"$f":"Harmonischen!$C$74/100*SIN($C235*$Y$191*PI()/180)","v":0},{"$f":"Harmonischen!$C$75/100*SIN($C235*$Z$191*PI()/180)","v":0},{"$f":"Harmonischen!$C$76/100*SIN($C235*$AA$191*PI()/180)","v":0},{"$f":"Harmonischen!$C$77/100*SIN($C235*$AB$191*PI()/180)","v":0},null,0.83742755235389266]
[null,null,44,{"$f":"Harmonischen!$C$53/100*SIN(C236*PI()/180)","v":0.69465837045899725},{"$f":"Harmonischen!$C$54/100*SIN(C236*$E$191*PI()/180)","v":0},{"$f":"Harmonischen!$C$55/100*SIN(C236*$F$191*PI()/180)","v":0.14862896509547885},{"$f":"Harmonischen!$C$56/100*SIN(C236*$G$191*PI()/180)","v":0},{"$f":"Harmonischen!$C$57/100*SIN(C236*$H$191*PI()/180)","v":0},{"$f":"Harmonischen!$C$58/100*SIN(C236*$I$191*PI()/180)","v":0},{"$f":"Harmonischen!$C$59/100*SIN(C236*$J$191*PI()/180)","v":0},{"$f":"Harmonischen!$C$60/100*SIN(C236*$K$191*PI()/180)","v":0},{"$f":"Harmonischen!$C$61/100*SIN(C236*$L$191*PI()/180)","v":0},{"$f":"Harmonischen!$C$62/100*SIN(C236*$M$191*PI()/180)","v":0},{"$f":"Harmonischen!$C$63/100*SIN($C236*$N$191*PI()/180)","v":0},{"$f":"Harmonischen!$C$64/100*SIN($C236*$O$191*PI()/180)","v":0},{"$f":"Harmonischen!$C$65/100*SIN($C236*$P$191*PI()/180)","v":0},{"$f":"Harmonischen!$C$66/100*SIN($C236*$Q$191*PI()/180)","v":0},{"$f":"Harmonischen!$C$67/100*SIN($C236*$R$191*PI()/180)","v":0},{"$f":"Harmonischen!$C$68/100*SIN($C236*$S$191*PI()/180)","v":0},{"$f":"Harmonischen!$C$69/100*SIN($C236*$T$191*PI()/180)","v":0},{"$f":"Harmonischen!$C$70/100*SIN($C236*$U$191*PI()/180)","v":0},{"$f":"Harmonischen!$C$71/100*SIN($C236*$V$191*PI()/180)","v":0},{"$f":"Harmonischen!$C$72/100*SIN($C236*$W$191*PI()/180)","v":0},{"$f":"Harmonischen!$C$73/100*SIN($C236*$X$191*PI()/180)","v":0},{"$f":"Harmonischen!$C$74/100*SIN($C236*$Y$191*PI()/180)","v":0},{"$f":"Harmonischen!$C$75/100*SIN($C236*$Z$191*PI()/180)","v":0},{"$f":"Harmonischen!$C$76/100*SIN($C236*$AA$191*PI()/180)","v":0},{"$f":"Harmonischen!$C$77/100*SIN($C236*$AB$191*PI()/180)","v":0},null,0.8432873355544761]
[null,null,45,{"$f":"Harmonischen!$C$53/100*SIN(C237*PI()/180)","v":0.70710678118654746},{"$f":"Harmonischen!$C$54/100*SIN(C237*$E$191*PI()/180)","v":0},{"$f":"Harmonischen!$C$55/100*SIN(C237*$F$191*PI()/180)","v":0.14142135623730953},{"$f":"Harmonischen!$C$56/100*SIN(C237*$G$191*PI()/180)","v":0},{"$f":"Harmonischen!$C$57/100*SIN(C237*$H$191*PI()/180)","v":0},{"$f":"Harmonischen!$C$58/100*SIN(C237*$I$191*PI()/180)","v":0},{"$f":"Harmonischen!$C$59/100*SIN(C237*$J$191*PI()/180)","v":0},{"$f":"Harmonischen!$C$60/100*SIN(C237*$K$191*PI()/180)","v":0},{"$f":"Harmonischen!$C$61/100*SIN(C237*$L$191*PI()/180)","v":0},{"$f":"Harmonischen!$C$62/100*SIN(C237*$M$191*PI()/180)","v":0},{"$f":"Harmonischen!$C$63/100*SIN($C237*$N$191*PI()/180)","v":0},{"$f":"Harmonischen!$C$64/100*SIN($C237*$O$191*PI()/180)","v":0},{"$f":"Harmonischen!$C$65/100*SIN($C237*$P$191*PI()/180)","v":0},{"$f":"Harmonischen!$C$66/100*SIN($C237*$Q$191*PI()/180)","v":0},{"$f":"Harmonischen!$C$67/100*SIN($C237*$R$191*PI()/180)","v":0},{"$f":"Harmonischen!$C$68/100*SIN($C237*$S$191*PI()/180)","v":0},{"$f":"Harmonischen!$C$69/100*SIN($C237*$T$191*PI()/180)","v":0},{"$f":"Harmonischen!$C$70/100*SIN($C237*$U$191*PI()/180)","v":0},{"$f":"Harmonischen!$C$71/100*SIN($C237*$V$191*PI()/180)","v":0},{"$f":"Harmonischen!$C$72/100*SIN($C237*$W$191*PI()/180)","v":0},{"$f":"Harmonischen!$C$73/100*SIN($C237*$X$191*PI()/180)","v":0},{"$f":"Harmonischen!$C$74/100*SIN($C237*$Y$191*PI()/180)","v":0},{"$f":"Harmonischen!$C$75/100*SIN($C237*$Z$191*PI()/180)","v":0},{"$f":"Harmonischen!$C$76/100*SIN($C237*$AA$191*PI()/180)","v":0},{"$f":"Harmonischen!$C$77/100*SIN($C237*$AB$191*PI()/180)","v":0},null,0.84852813742385702]
[null,null,46,{"$f":"Harmonischen!$C$53/100*SIN(C238*PI()/180)","v":0.71933980033865108},{"$f":"Harmonischen!$C$54/100*SIN(C238*$E$191*PI()/180)","v":0},{"$f":"Harmonischen!$C$55/100*SIN(C238*$F$191*PI()/180)","v":0.13382612127177168},{"$f":"Harmonischen!$C$56/100*SIN(C238*$G$191*PI()/180)","v":0},{"$f":"Harmonischen!$C$57/100*SIN(C238*$H$191*PI()/180)","v":0},{"$f":"Harmonischen!$C$58/100*SIN(C238*$I$191*PI()/180)","v":0},{"$f":"Harmonischen!$C$59/100*SIN(C238*$J$191*PI()/180)","v":0},{"$f":"Harmonischen!$C$60/100*SIN(C238*$K$191*PI()/180)","v":0},{"$f":"Harmonischen!$C$61/100*SIN(C238*$L$191*PI()/180)","v":0},{"$f":"Harmonischen!$C$62/100*SIN(C238*$M$191*PI()/180)","v":0},{"$f":"Harmonischen!$C$63/100*SIN($C238*$N$191*PI()/180)","v":0},{"$f":"Harmonischen!$C$64/100*SIN($C238*$O$191*PI()/180)","v":0},{"$f":"Harmonischen!$C$65/100*SIN($C238*$P$191*PI()/180)","v":0},{"$f":"Harmonischen!$C$66/100*SIN($C238*$Q$191*PI()/180)","v":0},{"$f":"Harmonischen!$C$67/100*SIN($C238*$R$191*PI()/180)","v":0},{"$f":"Harmonischen!$C$68/100*SIN($C238*$S$191*PI()/180)","v":0},{"$f":"Harmonischen!$C$69/100*SIN($C238*$T$191*PI()/180)","v":0},{"$f":"Harmonischen!$C$70/100*SIN($C238*$U$191*PI()/180)","v":0},{"$f":"Harmonischen!$C$71/100*SIN($C238*$V$191*PI()/180)","v":0},{"$f":"Harmonischen!$C$72/100*SIN($C238*$W$191*PI()/180)","v":0},{"$f":"Harmonischen!$C$73/100*SIN($C238*$X$191*PI()/180)","v":0},{"$f":"Harmonischen!$C$74/100*SIN($C238*$Y$191*PI()/180)","v":0},{"$f":"Harmonischen!$C$75/100*SIN($C238*$Z$191*PI()/180)","v":0},{"$f":"Harmonischen!$C$76/100*SIN($C238*$AA$191*PI()/180)","v":0},{"$f":"Harmonischen!$C$77/100*SIN($C238*$AB$191*PI()/180)","v":0},null,0.85316592161042282]
[null,null,47,{"$f":"Harmonischen!$C$53/100*SIN(C239*PI()/180)","v":0.73135370161917046},{"$f":"Harmonischen!$C$54/100*SIN(C239*$E$191*PI()/180)","v":0},{"$f":"Harmonischen!$C$55/100*SIN(C239*$F$191*PI()/180)","v":0.12586407820996756},{"$f":"Harmonischen!$C$56/100*SIN(C239*$G$191*PI()/180)","v":0},{"$f":"Harmonischen!$C$57/100*SIN(C239*$H$191*PI()/180)","v":0},{"$f":"Harmonischen!$C$58/100*SIN(C239*$I$191*PI()/180)","v":0},{"$f":"Harmonischen!$C$59/100*SIN(C239*$J$191*PI()/180)","v":0},{"$f":"Harmonischen!$C$60/100*SIN(C239*$K$191*PI()/180)","v":0},{"$f":"Harmonischen!$C$61/100*SIN(C239*$L$191*PI()/180)","v":0},{"$f":"Harmonischen!$C$62/100*SIN(C239*$M$191*PI()/180)","v":0},{"$f":"Harmonischen!$C$63/100*SIN($C239*$N$191*PI()/180)","v":0},{"$f":"Harmonischen!$C$64/100*SIN($C239*$O$191*PI()/180)","v":0},{"$f":"Harmonischen!$C$65/100*SIN($C239*$P$191*PI()/180)","v":0},{"$f":"Harmonischen!$C$66/100*SIN($C239*$Q$191*PI()/180)","v":0},{"$f":"Harmonischen!$C$67/100*SIN($C239*$R$191*PI()/180)","v":0},{"$f":"Harmonischen!$C$68/100*SIN($C239*$S$191*PI()/180)","v":0},{"$f":"Harmonischen!$C$69/100*SIN($C239*$T$191*PI()/180)","v":0},{"$f":"Harmonischen!$C$70/100*SIN($C239*$U$191*PI()/180)","v":0},{"$f":"Harmonischen!$C$71/100*SIN($C239*$V$191*PI()/180)","v":0},{"$f":"Harmonischen!$C$72/100*SIN($C239*$W$191*PI()/180)","v":0},{"$f":"Harmonischen!$C$73/100*SIN($C239*$X$191*PI()/180)","v":0},{"$f":"Harmonischen!$C$74/100*SIN($C239*$Y$191*PI()/180)","v":0},{"$f":"Harmonischen!$C$75/100*SIN($C239*$Z$191*PI()/180)","v":0},{"$f":"Harmonischen!$C$76/100*SIN($C239*$AA$191*PI()/180)","v":0},{"$f":"Harmonischen!$C$77/100*SIN($C239*$AB$191*PI()/180)","v":0},null,0.85721777982913805]
[null,null,48,{"$f":"Harmonischen!$C$53/100*SIN(C240*PI()/180)","v":0.74314482547739413},{"$f":"Harmonischen!$C$54/100*SIN(C240*$E$191*PI()/180)","v":0},{"$f":"Harmonischen!$C$55/100*SIN(C240*$F$191*PI()/180)","v":0.11755705045849466},{"$f":"Harmonischen!$C$56/100*SIN(C240*$G$191*PI()/180)","v":0},{"$f":"Harmonischen!$C$57/100*SIN(C240*$H$191*PI()/180)","v":0},{"$f":"Harmonischen!$C$58/100*SIN(C240*$I$191*PI()/180)","v":0},{"$f":"Harmonischen!$C$59/100*SIN(C240*$J$191*PI()/180)","v":0},{"$f":"Harmonischen!$C$60/100*SIN(C240*$K$191*PI()/180)","v":0},{"$f":"Harmonischen!$C$61/100*SIN(C240*$L$191*PI()/180)","v":0},{"$f":"Harmonischen!$C$62/100*SIN(C240*$M$191*PI()/180)","v":0},{"$f":"Harmonischen!$C$63/100*SIN($C240*$N$191*PI()/180)","v":0},{"$f":"Harmonischen!$C$64/100*SIN($C240*$O$191*PI()/180)","v":0},{"$f":"Harmonischen!$C$65/100*SIN($C240*$P$191*PI()/180)","v":0},{"$f":"Harmonischen!$C$66/100*SIN($C240*$Q$191*PI()/180)","v":0},{"$f":"Harmonischen!$C$67/100*SIN($C240*$R$191*PI()/180)","v":0},{"$f":"Harmonischen!$C$68/100*SIN($C240*$S$191*PI()/180)","v":0},{"$f":"Harmonischen!$C$69/100*SIN($C240*$T$191*PI()/180)","v":0},{"$f":"Harmonischen!$C$70/100*SIN($C240*$U$191*PI()/180)","v":0},{"$f":"Harmonischen!$C$71/100*SIN($C240*$V$191*PI()/180)","v":0},{"$f":"Harmonischen!$C$72/100*SIN($C240*$W$191*PI()/180)","v":0},{"$f":"Harmonischen!$C$73/100*SIN($C240*$X$191*PI()/180)","v":0},{"$f":"Harmonischen!$C$74/100*SIN($C240*$Y$191*PI()/180)","v":0},{"$f":"Harmonischen!$C$75/100*SIN($C240*$Z$191*PI()/180)","v":0},{"$f":"Harmonischen!$C$76/100*SIN($C240*$AA$191*PI()/180)","v":0},{"$f":"Harmonischen!$C$77/100*SIN($C240*$AB$191*PI()/180)","v":0},null,0.86070187593588876]
[null,null,49,{"$f":"Harmonischen!$C$53/100*SIN(C241*PI()/180)","v":0.75470958022277201},{"$f":"Harmonischen!$C$54/100*SIN(C241*$E$191*PI()/180)","v":0},{"$f":"Harmonischen!$C$55/100*SIN(C241*$F$191*PI()/180)","v":0.1089278070030054},{"$f":"Harmonischen!$C$56/100*SIN(C241*$G$191*PI()/180)","v":0},{"$f":"Harmonischen!$C$57/100*SIN(C241*$H$191*PI()/180)","v":0},{"$f":"Harmonischen!$C$58/100*SIN(C241*$I$191*PI()/180)","v":0},{"$f":"Harmonischen!$C$59/100*SIN(C241*$J$191*PI()/180)","v":0},{"$f":"Harmonischen!$C$60/100*SIN(C241*$K$191*PI()/180)","v":0},{"$f":"Harmonischen!$C$61/100*SIN(C241*$L$191*PI()/180)","v":0},{"$f":"Harmonischen!$C$62/100*SIN(C241*$M$191*PI()/180)","v":0},{"$f":"Harmonischen!$C$63/100*SIN($C241*$N$191*PI()/180)","v":0},{"$f":"Harmonischen!$C$64/100*SIN($C241*$O$191*PI()/180)","v":0},{"$f":"Harmonischen!$C$65/100*SIN($C241*$P$191*PI()/180)","v":0},{"$f":"Harmonischen!$C$66/100*SIN($C241*$Q$191*PI()/180)","v":0},{"$f":"Harmonischen!$C$67/100*SIN($C241*$R$191*PI()/180)","v":0},{"$f":"Harmonischen!$C$68/100*SIN($C241*$S$191*PI()/180)","v":0},{"$f":"Harmonischen!$C$69/100*SIN($C241*$T$191*PI()/180)","v":0},{"$f":"Harmonischen!$C$70/100*SIN($C241*$U$191*PI()/180)","v":0},{"$f":"Harmonischen!$C$71/100*SIN($C241*$V$191*PI()/180)","v":0},{"$f":"Harmonischen!$C$72/100*SIN($C241*$W$191*PI()/180)","v":0},{"$f":"Harmonischen!$C$73/100*SIN($C241*$X$191*PI()/180)","v":0},{"$f":"Harmonischen!$C$74/100*SIN($C241*$Y$191*PI()/180)","v":0},{"$f":"Harmonischen!$C$75/100*SIN($C241*$Z$191*PI()/180)","v":0},{"$f":"Harmonischen!$C$76/100*SIN($C241*$AA$191*PI()/180)","v":0},{"$f":"Harmonischen!$C$77/100*SIN($C241*$AB$191*PI()/180)","v":0},null,0.86363738722577743]
[null,null,50,{"$f":"Harmonischen!$C$53/100*SIN(C242*PI()/180)","v":0.76604444311897801},{"$f":"Harmonischen!$C$54/100*SIN(C242*$E$191*PI()/180)","v":0},{"$f":"Harmonischen!$C$55/100*SIN(C242*$F$191*PI()/180)","v":9.9999999999999992E-2},{"$f":"Harmonischen!$C$56/100*SIN(C242*$G$191*PI()/180)","v":0},{"$f":"Harmonischen!$C$57/100*SIN(C242*$H$191*PI()/180)","v":0},{"$f":"Harmonischen!$C$58/100*SIN(C242*$I$191*PI()/180)","v":0},{"$f":"Harmonischen!$C$59/100*SIN(C242*$J$191*PI()/180)","v":0},{"$f":"Harmonischen!$C$60/100*SIN(C242*$K$191*PI()/180)","v":0},{"$f":"Harmonischen!$C$61/100*SIN(C242*$L$191*PI()/180)","v":0},{"$f":"Harmonischen!$C$62/100*SIN(C242*$M$191*PI()/180)","v":0},{"$f":"Harmonischen!$C$63/100*SIN($C242*$N$191*PI()/180)","v":0},{"$f":"Harmonischen!$C$64/100*SIN($C242*$O$191*PI()/180)","v":0},{"$f":"Harmonischen!$C$65/100*SIN($C242*$P$191*PI()/180)","v":0},{"$f":"Harmonischen!$C$66/100*SIN($C242*$Q$191*PI()/180)","v":0},{"$f":"Harmonischen!$C$67/100*SIN($C242*$R$191*PI()/180)","v":0},{"$f":"Harmonischen!$C$68/100*SIN($C242*$S$191*PI()/180)","v":0},{"$f":"Harmonischen!$C$69/100*SIN($C242*$T$191*PI()/180)","v":0},{"$f":"Harmonischen!$C$70/100*SIN($C242*$U$191*PI()/180)","v":0},{"$f":"Harmonischen!$C$71/100*SIN($C242*$V$191*PI()/180)","v":0},{"$f":"Harmonischen!$C$72/100*SIN($C242*$W$191*PI()/180)","v":0},{"$f":"Harmonischen!$C$73/100*SIN($C242*$X$191*PI()/180)","v":0},{"$f":"Harmonischen!$C$74/100*SIN($C242*$Y$191*PI()/180)","v":0},{"$f":"Harmonischen!$C$75/100*SIN($C242*$Z$191*PI()/180)","v":0},{"$f":"Harmonischen!$C$76/100*SIN($C242*$AA$191*PI()/180)","v":0},{"$f":"Harmonischen!$C$77/100*SIN($C242*$AB$191*PI()/180)","v":0},null,0.86604444311897799]
[null,null,51,{"$f":"Harmonischen!$C$53/100*SIN(C243*PI()/180)","v":0.77714596145697079},{"$f":"Harmonischen!$C$54/100*SIN(C243*$E$191*PI()/180)","v":0},{"$f":"Harmonischen!$C$55/100*SIN(C243*$F$191*PI()/180)","v":9.0798099947909383E-2},{"$f":"Harmonischen!$C$56/100*SIN(C243*$G$191*PI()/180)","v":0},{"$f":"Harmonischen!$C$57/100*SIN(C243*$H$191*PI()/180)","v":0},{"$f":"Harmonischen!$C$58/100*SIN(C243*$I$191*PI()/180)","v":0},{"$f":"Harmonischen!$C$59/100*SIN(C243*$J$191*PI()/180)","v":0},{"$f":"Harmonischen!$C$60/100*SIN(C243*$K$191*PI()/180)","v":0},{"$f":"Harmonischen!$C$61/100*SIN(C243*$L$191*PI()/180)","v":0},{"$f":"Harmonischen!$C$62/100*SIN(C243*$M$191*PI()/180)","v":0},{"$f":"Harmonischen!$C$63/100*SIN($C243*$N$191*PI()/180)","v":0},{"$f":"Harmonischen!$C$64/100*SIN($C243*$O$191*PI()/180)","v":0},{"$f":"Harmonischen!$C$65/100*SIN($C243*$P$191*PI()/180)","v":0},{"$f":"Harmonischen!$C$66/100*SIN($C243*$Q$191*PI()/180)","v":0},{"$f":"Harmonischen!$C$67/100*SIN($C243*$R$191*PI()/180)","v":0},{"$f":"Harmonischen!$C$68/100*SIN($C243*$S$191*PI()/180)","v":0},{"$f":"Harmonischen!$C$69/100*SIN($C243*$T$191*PI()/180)","v":0},{"$f":"Harmonischen!$C$70/100*SIN($C243*$U$191*PI()/180)","v":0},{"$f":"Harmonischen!$C$71/100*SIN($C243*$V$191*PI()/180)","v":0},{"$f":"Harmonischen!$C$72/100*SIN($C243*$W$191*PI()/180)","v":0},{"$f":"Harmonischen!$C$73/100*SIN($C243*$X$191*PI()/180)","v":0},{"$f":"Harmonischen!$C$74/100*SIN($C243*$Y$191*PI()/180)","v":0},{"$f":"Harmonischen!$C$75/100*SIN($C243*$Z$191*PI()/180)","v":0},{"$f":"Harmonischen!$C$76/100*SIN($C243*$AA$191*PI()/180)","v":0},{"$f":"Harmonischen!$C$77/100*SIN($C243*$AB$191*PI()/180)","v":0},null,0.86794406140488012]
[null,null,52,{"$f":"Harmonischen!$C$53/100*SIN(C244*PI()/180)","v":0.78801075360672201},{"$f":"Harmonischen!$C$54/100*SIN(C244*$E$191*PI()/180)","v":0},{"$f":"Harmonischen!$C$55/100*SIN(C244*$F$191*PI()/180)","v":8.1347328615160086E-2},{"$f":"Harmonischen!$C$56/100*SIN(C244*$G$191*PI()/180)","v":0},{"$f":"Harmonischen!$C$57/100*SIN(C244*$H$191*PI()/180)","v":0},{"$f":"Harmonischen!$C$58/100*SIN(C244*$I$191*PI()/180)","v":0},{"$f":"Harmonischen!$C$59/100*SIN(C244*$J$191*PI()/180)","v":0},{"$f":"Harmonischen!$C$60/100*SIN(C244*$K$191*PI()/180)","v":0},{"$f":"Harmonischen!$C$61/100*SIN(C244*$L$191*PI()/180)","v":0},{"$f":"Harmonischen!$C$62/100*SIN(C244*$M$191*PI()/180)","v":0},{"$f":"Harmonischen!$C$63/100*SIN($C244*$N$191*PI()/180)","v":0},{"$f":"Harmonischen!$C$64/100*SIN($C244*$O$191*PI()/180)","v":0},{"$f":"Harmonischen!$C$65/100*SIN($C244*$P$191*PI()/180)","v":0},{"$f":"Harmonischen!$C$66/100*SIN($C244*$Q$191*PI()/180)","v":0},{"$f":"Harmonischen!$C$67/100*SIN($C244*$R$191*PI()/180)","v":0},{"$f":"Harmonischen!$C$68/100*SIN($C244*$S$191*PI()/180)","v":0},{"$f":"Harmonischen!$C$69/100*SIN($C244*$T$191*PI()/180)","v":0},{"$f":"Harmonischen!$C$70/100*SIN($C244*$U$191*PI()/180)","v":0},{"$f":"Harmonischen!$C$71/100*SIN($C244*$V$191*PI()/180)","v":0},{"$f":"Harmonischen!$C$72/100*SIN($C244*$W$191*PI()/180)","v":0},{"$f":"Harmonischen!$C$73/100*SIN($C244*$X$191*PI()/180)","v":0},{"$f":"Harmonischen!$C$74/100*SIN($C244*$Y$191*PI()/180)","v":0},{"$f":"Harmonischen!$C$75/100*SIN($C244*$Z$191*PI()/180)","v":0},{"$f":"Harmonischen!$C$76/100*SIN($C244*$AA$191*PI()/180)","v":0},{"$f":"Harmonischen!$C$77/100*SIN($C244*$AB$191*PI()/180)","v":0},null,0.86935808222188204]
[null,null,53,{"$f":"Harmonischen!$C$53/100*SIN(C245*PI()/180)","v":0.79863551004729283},{"$f":"Harmonischen!$C$54/100*SIN(C245*$E$191*PI()/180)","v":0},{"$f":"Harmonischen!$C$55/100*SIN(C245*$F$191*PI()/180)","v":7.1673589909060045E-2},{"$f":"Harmonischen!$C$56/100*SIN(C245*$G$191*PI()/180)","v":0},{"$f":"Harmonischen!$C$57/100*SIN(C245*$H$191*PI()/180)","v":0},{"$f":"Harmonischen!$C$58/100*SIN(C245*$I$191*PI()/180)","v":0},{"$f":"Harmonischen!$C$59/100*SIN(C245*$J$191*PI()/180)","v":0},{"$f":"Harmonischen!$C$60/100*SIN(C245*$K$191*PI()/180)","v":0},{"$f":"Harmonischen!$C$61/100*SIN(C245*$L$191*PI()/180)","v":0},{"$f":"Harmonischen!$C$62/100*SIN(C245*$M$191*PI()/180)","v":0},{"$f":"Harmonischen!$C$63/100*SIN($C245*$N$191*PI()/180)","v":0},{"$f":"Harmonischen!$C$64/100*SIN($C245*$O$191*PI()/180)","v":0},{"$f":"Harmonischen!$C$65/100*SIN($C245*$P$191*PI()/180)","v":0},{"$f":"Harmonischen!$C$66/100*SIN($C245*$Q$191*PI()/180)","v":0},{"$f":"Harmonischen!$C$67/100*SIN($C245*$R$191*PI()/180)","v":0},{"$f":"Harmonischen!$C$68/100*SIN($C245*$S$191*PI()/180)","v":0},{"$f":"Harmonischen!$C$69/100*SIN($C245*$T$191*PI()/180)","v":0},{"$f":"Harmonischen!$C$70/100*SIN($C245*$U$191*PI()/180)","v":0},{"$f":"Harmonischen!$C$71/100*SIN($C245*$V$191*PI()/180)","v":0},{"$f":"Harmonischen!$C$72/100*SIN($C245*$W$191*PI()/180)","v":0},{"$f":"Harmonischen!$C$73/100*SIN($C245*$X$191*PI()/180)","v":0},{"$f":"Harmonischen!$C$74/100*SIN($C245*$Y$191*PI()/180)","v":0},{"$f":"Harmonischen!$C$75/100*SIN($C245*$Z$191*PI()/180)","v":0},{"$f":"Harmonischen!$C$76/100*SIN($C245*$AA$191*PI()/180)","v":0},{"$f":"Harmonischen!$C$77/100*SIN($C245*$AB$191*PI()/180)","v":0},null,0.87030909995635286]
[null,null,54,{"$f":"Harmonischen!$C$53/100*SIN(C246*PI()/180)","v":0.80901699437494745},{"$f":"Harmonischen!$C$54/100*SIN(C246*$E$191*PI()/180)","v":0},{"$f":"Harmonischen!$C$55/100*SIN(C246*$F$191*PI()/180)","v":6.1803398874989507E-2},{"$f":"Harmonischen!$C$56/100*SIN(C246*$G$191*PI()/180)","v":0},{"$f":"Harmonischen!$C$57/100*SIN(C246*$H$191*PI()/180)","v":0},{"$f":"Harmonischen!$C$58/100*SIN(C246*$I$191*PI()/180)","v":0},{"$f":"Harmonischen!$C$59/100*SIN(C246*$J$191*PI()/180)","v":0},{"$f":"Harmonischen!$C$60/100*SIN(C246*$K$191*PI()/180)","v":0},{"$f":"Harmonischen!$C$61/100*SIN(C246*$L$191*PI()/180)","v":0},{"$f":"Harmonischen!$C$62/100*SIN(C246*$M$191*PI()/180)","v":0},{"$f":"Harmonischen!$C$63/100*SIN($C246*$N$191*PI()/180)","v":0},{"$f":"Harmonischen!$C$64/100*SIN($C246*$O$191*PI()/180)","v":0},{"$f":"Harmonischen!$C$65/100*SIN($C246*$P$191*PI()/180)","v":0},{"$f":"Harmonischen!$C$66/100*SIN($C246*$Q$191*PI()/180)","v":0},{"$f":"Harmonischen!$C$67/100*SIN($C246*$R$191*PI()/180)","v":0},{"$f":"Harmonischen!$C$68/100*SIN($C246*$S$191*PI()/180)","v":0},{"$f":"Harmonischen!$C$69/100*SIN($C246*$T$191*PI()/180)","v":0},{"$f":"Harmonischen!$C$70/100*SIN($C246*$U$191*PI()/180)","v":0},{"$f":"Harmonischen!$C$71/100*SIN($C246*$V$191*PI()/180)","v":0},{"$f":"Harmonischen!$C$72/100*SIN($C246*$W$191*PI()/180)","v":0},{"$f":"Harmonischen!$C$73/100*SIN($C246*$X$191*PI()/180)","v":0},{"$f":"Harmonischen!$C$74/100*SIN($C246*$Y$191*PI()/180)","v":0},{"$f":"Harmonischen!$C$75/100*SIN($C246*$Z$191*PI()/180)","v":0},{"$f":"Harmonischen!$C$76/100*SIN($C246*$AA$191*PI()/180)","v":0},{"$f":"Harmonischen!$C$77/100*SIN($C246*$AB$191*PI()/180)","v":0},null,0.87082039324993699]
[null,null,55,{"$f":"Harmonischen!$C$53/100*SIN(C247*PI()/180)","v":0.8191520442889918},{"$f":"Harmonischen!$C$54/100*SIN(C247*$E$191*PI()/180)","v":0},{"$f":"Harmonischen!$C$55/100*SIN(C247*$F$191*PI()/180)","v":5.1763809020504203E-2},{"$f":"Harmonischen!$C$56/100*SIN(C247*$G$191*PI()/180)","v":0},{"$f":"Harmonischen!$C$57/100*SIN(C247*$H$191*PI()/180)","v":0},{"$f":"Harmonischen!$C$58/100*SIN(C247*$I$191*PI()/180)","v":0},{"$f":"Harmonischen!$C$59/100*SIN(C247*$J$191*PI()/180)","v":0},{"$f":"Harmonischen!$C$60/100*SIN(C247*$K$191*PI()/180)","v":0},{"$f":"Harmonischen!$C$61/100*SIN(C247*$L$191*PI()/180)","v":0},{"$f":"Harmonischen!$C$62/100*SIN(C247*$M$191*PI()/180)","v":0},{"$f":"Harmonischen!$C$63/100*SIN($C247*$N$191*PI()/180)","v":0},{"$f":"Harmonischen!$C$64/100*SIN($C247*$O$191*PI()/180)","v":0},{"$f":"Harmonischen!$C$65/100*SIN($C247*$P$191*PI()/180)","v":0},{"$f":"Harmonischen!$C$66/100*SIN($C247*$Q$191*PI()/180)","v":0},{"$f":"Harmonischen!$C$67/100*SIN($C247*$R$191*PI()/180)","v":0},{"$f":"Harmonischen!$C$68/100*SIN($C247*$S$191*PI()/180)","v":0},{"$f":"Harmonischen!$C$69/100*SIN($C247*$T$191*PI()/180)","v":0},{"$f":"Harmonischen!$C$70/100*SIN($C247*$U$191*PI()/180)","v":0},{"$f":"Harmonischen!$C$71/100*SIN($C247*$V$191*PI()/180)","v":0},{"$f":"Harmonischen!$C$72/100*SIN($C247*$W$191*PI()/180)","v":0},{"$f":"Harmonischen!$C$73/100*SIN($C247*$X$191*PI()/180)","v":0},{"$f":"Harmonischen!$C$74/100*SIN($C247*$Y$191*PI()/180)","v":0},{"$f":"Harmonischen!$C$75/100*SIN($C247*$Z$191*PI()/180)","v":0},{"$f":"Harmonischen!$C$76/100*SIN($C247*$AA$191*PI()/180)","v":0},{"$f":"Harmonischen!$C$77/100*SIN($C247*$AB$191*PI()/180)","v":0},null,0.87091585330949606]
[null,null,56,{"$f":"Harmonischen!$C$53/100*SIN(C248*PI()/180)","v":0.82903757255504174},{"$f":"Harmonischen!$C$54/100*SIN(C248*$E$191*PI()/180)","v":0},{"$f":"Harmonischen!$C$55/100*SIN(C248*$F$191*PI()/180)","v":4.1582338163551863E-2},{"$f":"Harmonischen!$C$56/100*SIN(C248*$G$191*PI()/180)","v":0},{"$f":"Harmonischen!$C$57/100*SIN(C248*$H$191*PI()/180)","v":0},{"$f":"Harmonischen!$C$58/100*SIN(C248*$I$191*PI()/180)","v":0},{"$f":"Harmonischen!$C$59/100*SIN(C248*$J$191*PI()/180)","v":0},{"$f":"Harmonischen!$C$60/100*SIN(C248*$K$191*PI()/180)","v":0},{"$f":"Harmonischen!$C$61/100*SIN(C248*$L$191*PI()/180)","v":0},{"$f":"Harmonischen!$C$62/100*SIN(C248*$M$191*PI()/180)","v":0},{"$f":"Harmonischen!$C$63/100*SIN($C248*$N$191*PI()/180)","v":0},{"$f":"Harmonischen!$C$64/100*SIN($C248*$O$191*PI()/180)","v":0},{"$f":"Harmonischen!$C$65/100*SIN($C248*$P$191*PI()/180)","v":0},{"$f":"Harmonischen!$C$66/100*SIN($C248*$Q$191*PI()/180)","v":0},{"$f":"Harmonischen!$C$67/100*SIN($C248*$R$191*PI()/180)","v":0},{"$f":"Harmonischen!$C$68/100*SIN($C248*$S$191*PI()/180)","v":0},{"$f":"Harmonischen!$C$69/100*SIN($C248*$T$191*PI()/180)","v":0},{"$f":"Harmonischen!$C$70/100*SIN($C248*$U$191*PI()/180)","v":0},{"$f":"Harmonischen!$C$71/100*SIN($C248*$V$191*PI()/180)","v":0},{"$f":"Harmonischen!$C$72/100*SIN($C248*$W$191*PI()/180)","v":0},{"$f":"Harmonischen!$C$73/100*SIN($C248*$X$191*PI()/180)","v":0},{"$f":"Harmonischen!$C$74/100*SIN($C248*$Y$191*PI()/180)","v":0},{"$f":"Harmonischen!$C$75/100*SIN($C248*$Z$191*PI()/180)","v":0},{"$f":"Harmonischen!$C$76/100*SIN($C248*$AA$191*PI()/180)","v":0},{"$f":"Harmonischen!$C$77/100*SIN($C248*$AB$191*PI()/180)","v":0},null,0.87061991071859357]
[null,null,57,{"$f":"Harmonischen!$C$53/100*SIN(C249*PI()/180)","v":0.83867056794542394},{"$f":"Harmonischen!$C$54/100*SIN(C249*$E$191*PI()/180)","v":0},{"$f":"Harmonischen!$C$55/100*SIN(C249*$F$191*PI()/180)","v":3.1286893008046199E-2},{"$f":"Harmonischen!$C$56/100*SIN(C249*$G$191*PI()/180)","v":0},{"$f":"Harmonischen!$C$57/100*SIN(C249*$H$191*PI()/180)","v":0},{"$f":"Harmonischen!$C$58/100*SIN(C249*$I$191*PI()/180)","v":0},{"$f":"Harmonischen!$C$59/100*SIN(C249*$J$191*PI()/180)","v":0},{"$f":"Harmonischen!$C$60/100*SIN(C249*$K$191*PI()/180)","v":0},{"$f":"Harmonischen!$C$61/100*SIN(C249*$L$191*PI()/180)","v":0},{"$f":"Harmonischen!$C$62/100*SIN(C249*$M$191*PI()/180)","v":0},{"$f":"Harmonischen!$C$63/100*SIN($C249*$N$191*PI()/180)","v":0},{"$f":"Harmonischen!$C$64/100*SIN($C249*$O$191*PI()/180)","v":0},{"$f":"Harmonischen!$C$65/100*SIN($C249*$P$191*PI()/180)","v":0},{"$f":"Harmonischen!$C$66/100*SIN($C249*$Q$191*PI()/180)","v":0},{"$f":"Harmonischen!$C$67/100*SIN($C249*$R$191*PI()/180)","v":0},{"$f":"Harmonischen!$C$68/100*SIN($C249*$S$191*PI()/180)","v":0},{"$f":"Harmonischen!$C$69/100*SIN($C249*$T$191*PI()/180)","v":0},{"$f":"Harmonischen!$C$70/100*SIN($C249*$U$191*PI()/180)","v":0},{"$f":"Harmonischen!$C$71/100*SIN($C249*$V$191*PI()/180)","v":0},{"$f":"Harmonischen!$C$72/100*SIN($C249*$W$191*PI()/180)","v":0},{"$f":"Harmonischen!$C$73/100*SIN($C249*$X$191*PI()/180)","v":0},{"$f":"Harmonischen!$C$74/100*SIN($C249*$Y$191*PI()/180)","v":0},{"$f":"Harmonischen!$C$75/100*SIN($C249*$Z$191*PI()/180)","v":0},{"$f":"Harmonischen!$C$76/100*SIN($C249*$AA$191*PI()/180)","v":0},{"$f":"Harmonischen!$C$77/100*SIN($C249*$AB$191*PI()/180)","v":0},null,0.86995746095347015]
[null,null,58,{"$f":"Harmonischen!$C$53/100*SIN(C250*PI()/180)","v":0.84804809615642596},{"$f":"Harmonischen!$C$54/100*SIN(C250*$E$191*PI()/180)","v":0},{"$f":"Harmonischen!$C$55/100*SIN(C250*$F$191*PI()/180)","v":2.0905692653530747E-2},{"$f":"Harmonischen!$C$56/100*SIN(C250*$G$191*PI()/180)","v":0},{"$f":"Harmonischen!$C$57/100*SIN(C250*$H$191*PI()/180)","v":0},{"$f":"Harmonischen!$C$58/100*SIN(C250*$I$191*PI()/180)","v":0},{"$f":"Harmonischen!$C$59/100*SIN(C250*$J$191*PI()/180)","v":0},{"$f":"Harmonischen!$C$60/100*SIN(C250*$K$191*PI()/180)","v":0},{"$f":"Harmonischen!$C$61/100*SIN(C250*$L$191*PI()/180)","v":0},{"$f":"Harmonischen!$C$62/100*SIN(C250*$M$191*PI()/180)","v":0},{"$f":"Harmonischen!$C$63/100*SIN($C250*$N$191*PI()/180)","v":0},{"$f":"Harmonischen!$C$64/100*SIN($C250*$O$191*PI()/180)","v":0},{"$f":"Harmonischen!$C$65/100*SIN($C250*$P$191*PI()/180)","v":0},{"$f":"Harmonischen!$C$66/100*SIN($C250*$Q$191*PI()/180)","v":0},{"$f":"Harmonischen!$C$67/100*SIN($C250*$R$191*PI()/180)","v":0},{"$f":"Harmonischen!$C$68/100*SIN($C250*$S$191*PI()/180)","v":0},{"$f":"Harmonischen!$C$69/100*SIN($C250*$T$191*PI()/180)","v":0},{"$f":"Harmonischen!$C$70/100*SIN($C250*$U$191*PI()/180)","v":0},{"$f":"Harmonischen!$C$71/100*SIN($C250*$V$191*PI()/180)","v":0},{"$f":"Harmonischen!$C$72/100*SIN($C250*$W$191*PI()/180)","v":0},{"$f":"Harmonischen!$C$73/100*SIN($C250*$X$191*PI()/180)","v":0},{"$f":"Harmonischen!$C$74/100*SIN($C250*$Y$191*PI()/180)","v":0},{"$f":"Harmonischen!$C$75/100*SIN($C250*$Z$191*PI()/180)","v":0},{"$f":"Harmonischen!$C$76/100*SIN($C250*$AA$191*PI()/180)","v":0},{"$f":"Harmonischen!$C$77/100*SIN($C250*$AB$191*PI()/180)","v":0},null,0.86895378880995666]
[null,null,59,{"$f":"Harmonischen!$C$53/100*SIN(C251*PI()/180)","v":0.85716730070211222},{"$f":"Harmonischen!$C$54/100*SIN(C251*$E$191*PI()/180)","v":0},{"$f":"Harmonischen!$C$55/100*SIN(C251*$F$191*PI()/180)","v":1.0467191248588761E-2},{"$f":"Harmonischen!$C$56/100*SIN(C251*$G$191*PI()/180)","v":0},{"$f":"Harmonischen!$C$57/100*SIN(C251*$H$191*PI()/180)","v":0},{"$f":"Harmonischen!$C$58/100*SIN(C251*$I$191*PI()/180)","v":0},{"$f":"Harmonischen!$C$59/100*SIN(C251*$J$191*PI()/180)","v":0},{"$f":"Harmonischen!$C$60/100*SIN(C251*$K$191*PI()/180)","v":0},{"$f":"Harmonischen!$C$61/100*SIN(C251*$L$191*PI()/180)","v":0},{"$f":"Harmonischen!$C$62/100*SIN(C251*$M$191*PI()/180)","v":0},{"$f":"Harmonischen!$C$63/100*SIN($C251*$N$191*PI()/180)","v":0},{"$f":"Harmonischen!$C$64/100*SIN($C251*$O$191*PI()/180)","v":0},{"$f":"Harmonischen!$C$65/100*SIN($C251*$P$191*PI()/180)","v":0},{"$f":"Harmonischen!$C$66/100*SIN($C251*$Q$191*PI()/180)","v":0},{"$f":"Harmonischen!$C$67/100*SIN($C251*$R$191*PI()/180)","v":0},{"$f":"Harmonischen!$C$68/100*SIN($C251*$S$191*PI()/180)","v":0},{"$f":"Harmonischen!$C$69/100*SIN($C251*$T$191*PI()/180)","v":0},{"$f":"Harmonischen!$C$70/100*SIN($C251*$U$191*PI()/180)","v":0},{"$f":"Harmonischen!$C$71/100*SIN($C251*$V$191*PI()/180)","v":0},{"$f":"Harmonischen!$C$72/100*SIN($C251*$W$191*PI()/180)","v":0},{"$f":"Harmonischen!$C$73/100*SIN($C251*$X$191*PI()/180)","v":0},{"$f":"Harmonischen!$C$74/100*SIN($C251*$Y$191*PI()/180)","v":0},{"$f":"Harmonischen!$C$75/100*SIN($C251*$Z$191*PI()/180)","v":0},{"$f":"Harmonischen!$C$76/100*SIN($C251*$AA$191*PI()/180)","v":0},{"$f":"Harmonischen!$C$77/100*SIN($C251*$AB$191*PI()/180)","v":0},null,0.86763449195070097]
[null,null,60,{"$f":"Harmonischen!$C$53/100*SIN(C252*PI()/180)","v":0.8660254037844386},{"$f":"Harmonischen!$C$54/100*SIN(C252*$E$191*PI()/180)","v":0},{"$f":"Harmonischen!$C$55/100*SIN(C252*$F$191*PI()/180)","v":2.45029690981724E-17},{"$f":"Harmonischen!$C$56/100*SIN(C252*$G$191*PI()/180)","v":0},{"$f":"Harmonischen!$C$57/100*SIN(C252*$H$191*PI()/180)","v":0},{"$f":"Harmonischen!$C$58/100*SIN(C252*$I$191*PI()/180)","v":0},{"$f":"Harmonischen!$C$59/100*SIN(C252*$J$191*PI()/180)","v":0},{"$f":"Harmonischen!$C$60/100*SIN(C252*$K$191*PI()/180)","v":0},{"$f":"Harmonischen!$C$61/100*SIN(C252*$L$191*PI()/180)","v":0},{"$f":"Harmonischen!$C$62/100*SIN(C252*$M$191*PI()/180)","v":0},{"$f":"Harmonischen!$C$63/100*SIN($C252*$N$191*PI()/180)","v":0},{"$f":"Harmonischen!$C$64/100*SIN($C252*$O$191*PI()/180)","v":0},{"$f":"Harmonischen!$C$65/100*SIN($C252*$P$191*PI()/180)","v":0},{"$f":"Harmonischen!$C$66/100*SIN($C252*$Q$191*PI()/180)","v":0},{"$f":"Harmonischen!$C$67/100*SIN($C252*$R$191*PI()/180)","v":0},{"$f":"Harmonischen!$C$68/100*SIN($C252*$S$191*PI()/180)","v":0},{"$f":"Harmonischen!$C$69/100*SIN($C252*$T$191*PI()/180)","v":0},{"$f":"Harmonischen!$C$70/100*SIN($C252*$U$191*PI()/180)","v":0},{"$f":"Harmonischen!$C$71/100*SIN($C252*$V$191*PI()/180)","v":0},{"$f":"Harmonischen!$C$72/100*SIN($C252*$W$191*PI()/180)","v":0},{"$f":"Harmonischen!$C$73/100*SIN($C252*$X$191*PI()/180)","v":0},{"$f":"Harmonischen!$C$74/100*SIN($C252*$Y$191*PI()/180)","v":0},{"$f":"Harmonischen!$C$75/100*SIN($C252*$Z$191*PI()/180)","v":0},{"$f":"Harmonischen!$C$76/100*SIN($C252*$AA$191*PI()/180)","v":0},{"$f":"Harmonischen!$C$77/100*SIN($C252*$AB$191*PI()/180)","v":0},null,0.8660254037844386]
[null,null,61,{"$f":"Harmonischen!$C$53/100*SIN(C253*PI()/180)","v":0.87461970713939574},{"$f":"Harmonischen!$C$54/100*SIN(C253*$E$191*PI()/180)","v":0},{"$f":"Harmonischen!$C$55/100*SIN(C253*$F$191*PI()/180)","v":-1.0467191248588713E-2},{"$f":"Harmonischen!$C$56/100*SIN(C253*$G$191*PI()/180)","v":0},{"$f":"Harmonischen!$C$57/100*SIN(C253*$H$191*PI()/180)","v":0},{"$f":"Harmonischen!$C$58/100*SIN(C253*$I$191*PI()/180)","v":0},{"$f":"Harmonischen!$C$59/100*SIN(C253*$J$191*PI()/180)","v":0},{"$f":"Harmonischen!$C$60/100*SIN(C253*$K$191*PI()/180)","v":0},{"$f":"Harmonischen!$C$61/100*SIN(C253*$L$191*PI()/180)","v":0},{"$f":"Harmonischen!$C$62/100*SIN(C253*$M$191*PI()/180)","v":0},{"$f":"Harmonischen!$C$63/100*SIN($C253*$N$191*PI()/180)","v":0},{"$f":"Harmonischen!$C$64/100*SIN($C253*$O$191*PI()/180)","v":0},{"$f":"Harmonischen!$C$65/100*SIN($C253*$P$191*PI()/180)","v":0},{"$f":"Harmonischen!$C$66/100*SIN($C253*$Q$191*PI()/180)","v":0},{"$f":"Harmonischen!$C$67/100*SIN($C253*$R$191*PI()/180)","v":0},{"$f":"Harmonischen!$C$68/100*SIN($C253*$S$191*PI()/180)","v":0},{"$f":"Harmonischen!$C$69/100*SIN($C253*$T$191*PI()/180)","v":0},{"$f":"Harmonischen!$C$70/100*SIN($C253*$U$191*PI()/180)","v":0},{"$f":"Harmonischen!$C$71/100*SIN($C253*$V$191*PI()/180)","v":0},{"$f":"Harmonischen!$C$72/100*SIN($C253*$W$191*PI()/180)","v":0},{"$f":"Harmonischen!$C$73/100*SIN($C253*$X$191*PI()/180)","v":0},{"$f":"Harmonischen!$C$74/100*SIN($C253*$Y$191*PI()/180)","v":0},{"$f":"Harmonischen!$C$75/100*SIN($C253*$Z$191*PI()/180)","v":0},{"$f":"Harmonischen!$C$76/100*SIN($C253*$AA$191*PI()/180)","v":0},{"$f":"Harmonischen!$C$77/100*SIN($C253*$AB$191*PI()/180)","v":0},null,0.86415251589080699]
[null,null,62,{"$f":"Harmonischen!$C$53/100*SIN(C254*PI()/180)","v":0.88294759285892688},{"$f":"Harmonischen!$C$54/100*SIN(C254*$E$191*PI()/180)","v":0},{"$f":"Harmonischen!$C$55/100*SIN(C254*$F$191*PI()/180)","v":-2.0905692653530612E-2},{"$f":"Harmonischen!$C$56/100*SIN(C254*$G$191*PI()/180)","v":0},{"$f":"Harmonischen!$C$57/100*SIN(C254*$H$191*PI()/180)","v":0},{"$f":"Harmonischen!$C$58/100*SIN(C254*$I$191*PI()/180)","v":0},{"$f":"Harmonischen!$C$59/100*SIN(C254*$J$191*PI()/180)","v":0},{"$f":"Harmonischen!$C$60/100*SIN(C254*$K$191*PI()/180)","v":0},{"$f":"Harmonischen!$C$61/100*SIN(C254*$L$191*PI()/180)","v":0},{"$f":"Harmonischen!$C$62/100*SIN(C254*$M$191*PI()/180)","v":0},{"$f":"Harmonischen!$C$63/100*SIN($C254*$N$191*PI()/180)","v":0},{"$f":"Harmonischen!$C$64/100*SIN($C254*$O$191*PI()/180)","v":0},{"$f":"Harmonischen!$C$65/100*SIN($C254*$P$191*PI()/180)","v":0},{"$f":"Harmonischen!$C$66/100*SIN($C254*$Q$191*PI()/180)","v":0},{"$f":"Harmonischen!$C$67/100*SIN($C254*$R$191*PI()/180)","v":0},{"$f":"Harmonischen!$C$68/100*SIN($C254*$S$191*PI()/180)","v":0},{"$f":"Harmonischen!$C$69/100*SIN($C254*$T$191*PI()/180)","v":0},{"$f":"Harmonischen!$C$70/100*SIN($C254*$U$191*PI()/180)","v":0},{"$f":"Harmonischen!$C$71/100*SIN($C254*$V$191*PI()/180)","v":0},{"$f":"Harmonischen!$C$72/100*SIN($C254*$W$191*PI()/180)","v":0},{"$f":"Harmonischen!$C$73/100*SIN($C254*$X$191*PI()/180)","v":0},{"$f":"Harmonischen!$C$74/100*SIN($C254*$Y$191*PI()/180)","v":0},{"$f":"Harmonischen!$C$75/100*SIN($C254*$Z$191*PI()/180)","v":0},{"$f":"Harmonischen!$C$76/100*SIN($C254*$AA$191*PI()/180)","v":0},{"$f":"Harmonischen!$C$77/100*SIN($C254*$AB$191*PI()/180)","v":0},null,0.86204190020539628]
[null,null,63,{"$f":"Harmonischen!$C$53/100*SIN(C255*PI()/180)","v":0.89100652418836779},{"$f":"Harmonischen!$C$54/100*SIN(C255*$E$191*PI()/180)","v":0},{"$f":"Harmonischen!$C$55/100*SIN(C255*$F$191*PI()/180)","v":-3.128689300804615E-2},{"$f":"Harmonischen!$C$56/100*SIN(C255*$G$191*PI()/180)","v":0},{"$f":"Harmonischen!$C$57/100*SIN(C255*$H$191*PI()/180)","v":0},{"$f":"Harmonischen!$C$58/100*SIN(C255*$I$191*PI()/180)","v":0},{"$f":"Harmonischen!$C$59/100*SIN(C255*$J$191*PI()/180)","v":0},{"$f":"Harmonischen!$C$60/100*SIN(C255*$K$191*PI()/180)","v":0},{"$f":"Harmonischen!$C$61/100*SIN(C255*$L$191*PI()/180)","v":0},{"$f":"Harmonischen!$C$62/100*SIN(C255*$M$191*PI()/180)","v":0},{"$f":"Harmonischen!$C$63/100*SIN($C255*$N$191*PI()/180)","v":0},{"$f":"Harmonischen!$C$64/100*SIN($C255*$O$191*PI()/180)","v":0},{"$f":"Harmonischen!$C$65/100*SIN($C255*$P$191*PI()/180)","v":0},{"$f":"Harmonischen!$C$66/100*SIN($C255*$Q$191*PI()/180)","v":0},{"$f":"Harmonischen!$C$67/100*SIN($C255*$R$191*PI()/180)","v":0},{"$f":"Harmonischen!$C$68/100*SIN($C255*$S$191*PI()/180)","v":0},{"$f":"Harmonischen!$C$69/100*SIN($C255*$T$191*PI()/180)","v":0},{"$f":"Harmonischen!$C$70/100*SIN($C255*$U$191*PI()/180)","v":0},{"$f":"Harmonischen!$C$71/100*SIN($C255*$V$191*PI()/180)","v":0},{"$f":"Harmonischen!$C$72/100*SIN($C255*$W$191*PI()/180)","v":0},{"$f":"Harmonischen!$C$73/100*SIN($C255*$X$191*PI()/180)","v":0},{"$f":"Harmonischen!$C$74/100*SIN($C255*$Y$191*PI()/180)","v":0},{"$f":"Harmonischen!$C$75/100*SIN($C255*$Z$191*PI()/180)","v":0},{"$f":"Harmonischen!$C$76/100*SIN($C255*$AA$191*PI()/180)","v":0},{"$f":"Harmonischen!$C$77/100*SIN($C255*$AB$191*PI()/180)","v":0},null,0.85971963118032169]
[null,null,64,{"$f":"Harmonischen!$C$53/100*SIN(C256*PI()/180)","v":0.89879404629916704},{"$f":"Harmonischen!$C$54/100*SIN(C256*$E$191*PI()/180)","v":0},{"$f":"Harmonischen!$C$55/100*SIN(C256*$F$191*PI()/180)","v":-4.1582338163551814E-2},{"$f":"Harmonischen!$C$56/100*SIN(C256*$G$191*PI()/180)","v":0},{"$f":"Harmonischen!$C$57/100*SIN(C256*$H$191*PI()/180)","v":0},{"$f":"Harmonischen!$C$58/100*SIN(C256*$I$191*PI()/180)","v":0},{"$f":"Harmonischen!$C$59/100*SIN(C256*$J$191*PI()/180)","v":0},{"$f":"Harmonischen!$C$60/100*SIN(C256*$K$191*PI()/180)","v":0},{"$f":"Harmonischen!$C$61/100*SIN(C256*$L$191*PI()/180)","v":0},{"$f":"Harmonischen!$C$62/100*SIN(C256*$M$191*PI()/180)","v":0},{"$f":"Harmonischen!$C$63/100*SIN($C256*$N$191*PI()/180)","v":0},{"$f":"Harmonischen!$C$64/100*SIN($C256*$O$191*PI()/180)","v":0},{"$f":"Harmonischen!$C$65/100*SIN($C256*$P$191*PI()/180)","v":0},{"$f":"Harmonischen!$C$66/100*SIN($C256*$Q$191*PI()/180)","v":0},{"$f":"Harmonischen!$C$67/100*SIN($C256*$R$191*PI()/180)","v":0},{"$f":"Harmonischen!$C$68/100*SIN($C256*$S$191*PI()/180)","v":0},{"$f":"Harmonischen!$C$69/100*SIN($C256*$T$191*PI()/180)","v":0},{"$f":"Harmonischen!$C$70/100*SIN($C256*$U$191*PI()/180)","v":0},{"$f":"Harmonischen!$C$71/100*SIN($C256*$V$191*PI()/180)","v":0},{"$f":"Harmonischen!$C$72/100*SIN($C256*$W$191*PI()/180)","v":0},{"$f":"Harmonischen!$C$73/100*SIN($C256*$X$191*PI()/180)","v":0},{"$f":"Harmonischen!$C$74/100*SIN($C256*$Y$191*PI()/180)","v":0},{"$f":"Harmonischen!$C$75/100*SIN($C256*$Z$191*PI()/180)","v":0},{"$f":"Harmonischen!$C$76/100*SIN($C256*$AA$191*PI()/180)","v":0},{"$f":"Harmonischen!$C$77/100*SIN($C256*$AB$191*PI()/180)","v":0},null,{"$f":"SUM(D256:AB256)","v":0.8572117081356152}]
[null,null,65,{"$f":"Harmonischen!$C$53/100*SIN(C257*PI()/180)","v":0.90630778703664994},{"$f":"Harmonischen!$C$54/100*SIN(C257*$E$191*PI()/180)","v":0},{"$f":"Harmonischen!$C$55/100*SIN(C257*$F$191*PI()/180)","v":-5.1763809020504072E-2},{"$f":"Harmonischen!$C$56/100*SIN(C257*$G$191*PI()/180)","v":0},{"$f":"Harmonischen!$C$57/100*SIN(C257*$H$191*PI()/180)","v":0},{"$f":"Harmonischen!$C$58/100*SIN(C257*$I$191*PI()/180)","v":0},{"$f":"Harmonischen!$C$59/100*SIN(C257*$J$191*PI()/180)","v":0},{"$f":"Harmonischen!$C$60/100*SIN(C257*$K$191*PI()/180)","v":0},{"$f":"Harmonischen!$C$61/100*SIN(C257*$L$191*PI()/180)","v":0},{"$f":"Harmonischen!$C$62/100*SIN(C257*$M$191*PI()/180)","v":0},{"$f":"Harmonischen!$C$63/100*SIN($C257*$N$191*PI()/180)","v":0},{"$f":"Harmonischen!$C$64/100*SIN($C257*$O$191*PI()/180)","v":0},{"$f":"Harmonischen!$C$65/100*SIN($C257*$P$191*PI()/180)","v":0},{"$f":"Harmonischen!$C$66/100*SIN($C257*$Q$191*PI()/180)","v":0},{"$f":"Harmonischen!$C$67/100*SIN($C257*$R$191*PI()/180)","v":0},{"$f":"Harmonischen!$C$68/100*SIN($C257*$S$191*PI()/180)","v":0},{"$f":"Harmonischen!$C$69/100*SIN($C257*$T$191*PI()/180)","v":0},{"$f":"Harmonischen!$C$70/100*SIN($C257*$U$191*PI()/180)","v":0},{"$f":"Harmonischen!$C$71/100*SIN($C257*$V$191*PI()/180)","v":0},{"$f":"Harmonischen!$C$72/100*SIN($C257*$W$191*PI()/180)","v":0},{"$f":"Harmonischen!$C$73/100*SIN($C257*$X$191*PI()/180)","v":0},{"$f":"Harmonischen!$C$74/100*SIN($C257*$Y$191*PI()/180)","v":0},{"$f":"Harmonischen!$C$75/100*SIN($C257*$Z$191*PI()/180)","v":0},{"$f":"Harmonischen!$C$76/100*SIN($C257*$AA$191*PI()/180)","v":0},{"$f":"Harmonischen!$C$77/100*SIN($C257*$AB$191*PI()/180)","v":0},null,0.8545439780161459]
[null,null,66,{"$f":"Harmonischen!$C$53/100*SIN(C258*PI()/180)","v":0.91354545764260087},{"$f":"Harmonischen!$C$54/100*SIN(C258*$E$191*PI()/180)","v":0},{"$f":"Harmonischen!$C$55/100*SIN(C258*$F$191*PI()/180)","v":-6.1803398874989549E-2},{"$f":"Harmonischen!$C$56/100*SIN(C258*$G$191*PI()/180)","v":0},{"$f":"Harmonischen!$C$57/100*SIN(C258*$H$191*PI()/180)","v":0},{"$f":"Harmonischen!$C$58/100*SIN(C258*$I$191*PI()/180)","v":0},{"$f":"Harmonischen!$C$59/100*SIN(C258*$J$191*PI()/180)","v":0},{"$f":"Harmonischen!$C$60/100*SIN(C258*$K$191*PI()/180)","v":0},{"$f":"Harmonischen!$C$61/100*SIN(C258*$L$191*PI()/180)","v":0},{"$f":"Harmonischen!$C$62/100*SIN(C258*$M$191*PI()/180)","v":0},{"$f":"Harmonischen!$C$63/100*SIN($C258*$N$191*PI()/180)","v":0},{"$f":"Harmonischen!$C$64/100*SIN($C258*$O$191*PI()/180)","v":0},{"$f":"Harmonischen!$C$65/100*SIN($C258*$P$191*PI()/180)","v":0},{"$f":"Harmonischen!$C$66/100*SIN($C258*$Q$191*PI()/180)","v":0},{"$f":"Harmonischen!$C$67/100*SIN($C258*$R$191*PI()/180)","v":0},{"$f":"Harmonischen!$C$68/100*SIN($C258*$S$191*PI()/180)","v":0},{"$f":"Harmonischen!$C$69/100*SIN($C258*$T$191*PI()/180)","v":0},{"$f":"Harmonischen!$C$70/100*SIN($C258*$U$191*PI()/180)","v":0},{"$f":"Harmonischen!$C$71/100*SIN($C258*$V$191*PI()/180)","v":0},{"$f":"Harmonischen!$C$72/100*SIN($C258*$W$191*PI()/180)","v":0},{"$f":"Harmonischen!$C$73/100*SIN($C258*$X$191*PI()/180)","v":0},{"$f":"Harmonischen!$C$74/100*SIN($C258*$Y$191*PI()/180)","v":0},{"$f":"Harmonischen!$C$75/100*SIN($C258*$Z$191*PI()/180)","v":0},{"$f":"Harmonischen!$C$76/100*SIN($C258*$AA$191*PI()/180)","v":0},{"$f":"Harmonischen!$C$77/100*SIN($C258*$AB$191*PI()/180)","v":0},null,0.85174205876761133]
[null,null,67,{"$f":"Harmonischen!$C$53/100*SIN(C259*PI()/180)","v":0.92050485345244026},{"$f":"Harmonischen!$C$54/100*SIN(C259*$E$191*PI()/180)","v":0},{"$f":"Harmonischen!$C$55/100*SIN(C259*$F$191*PI()/180)","v":-7.1673589909060087E-2},{"$f":"Harmonischen!$C$56/100*SIN(C259*$G$191*PI()/180)","v":0},{"$f":"Harmonischen!$C$57/100*SIN(C259*$H$191*PI()/180)","v":0},{"$f":"Harmonischen!$C$58/100*SIN(C259*$I$191*PI()/180)","v":0},{"$f":"Harmonischen!$C$59/100*SIN(C259*$J$191*PI()/180)","v":0},{"$f":"Harmonischen!$C$60/100*SIN(C259*$K$191*PI()/180)","v":0},{"$f":"Harmonischen!$C$61/100*SIN(C259*$L$191*PI()/180)","v":0},{"$f":"Harmonischen!$C$62/100*SIN(C259*$M$191*PI()/180)","v":0},{"$f":"Harmonischen!$C$63/100*SIN($C259*$N$191*PI()/180)","v":0},{"$f":"Harmonischen!$C$64/100*SIN($C259*$O$191*PI()/180)","v":0},{"$f":"Harmonischen!$C$65/100*SIN($C259*$P$191*PI()/180)","v":0},{"$f":"Harmonischen!$C$66/100*SIN($C259*$Q$191*PI()/180)","v":0},{"$f":"Harmonischen!$C$67/100*SIN($C259*$R$191*PI()/180)","v":0},{"$f":"Harmonischen!$C$68/100*SIN($C259*$S$191*PI()/180)","v":0},{"$f":"Harmonischen!$C$69/100*SIN($C259*$T$191*PI()/180)","v":0},{"$f":"Harmonischen!$C$70/100*SIN($C259*$U$191*PI()/180)","v":0},{"$f":"Harmonischen!$C$71/100*SIN($C259*$V$191*PI()/180)","v":0},{"$f":"Harmonischen!$C$72/100*SIN($C259*$W$191*PI()/180)","v":0},{"$f":"Harmonischen!$C$73/100*SIN($C259*$X$191*PI()/180)","v":0},{"$f":"Harmonischen!$C$74/100*SIN($C259*$Y$191*PI()/180)","v":0},{"$f":"Harmonischen!$C$75/100*SIN($C259*$Z$191*PI()/180)","v":0},{"$f":"Harmonischen!$C$76/100*SIN($C259*$AA$191*PI()/180)","v":0},{"$f":"Harmonischen!$C$77/100*SIN($C259*$AB$191*PI()/180)","v":0},null,0.84883126354338012]
[null,null,68,{"$f":"Harmonischen!$C$53/100*SIN(C260*PI()/180)","v":0.92718385456678742},{"$f":"Harmonischen!$C$54/100*SIN(C260*$E$191*PI()/180)","v":0},{"$f":"Harmonischen!$C$55/100*SIN(C260*$F$191*PI()/180)","v":-8.1347328615159975E-2},{"$f":"Harmonischen!$C$56/100*SIN(C260*$G$191*PI()/180)","v":0},{"$f":"Harmonischen!$C$57/100*SIN(C260*$H$191*PI()/180)","v":0},{"$f":"Harmonischen!$C$58/100*SIN(C260*$I$191*PI()/180)","v":0},{"$f":"Harmonischen!$C$59/100*SIN(C260*$J$191*PI()/180)","v":0},{"$f":"Harmonischen!$C$60/100*SIN(C260*$K$191*PI()/180)","v":0},{"$f":"Harmonischen!$C$61/100*SIN(C260*$L$191*PI()/180)","v":0},{"$f":"Harmonischen!$C$62/100*SIN(C260*$M$191*PI()/180)","v":0},{"$f":"Harmonischen!$C$63/100*SIN($C260*$N$191*PI()/180)","v":0},{"$f":"Harmonischen!$C$64/100*SIN($C260*$O$191*PI()/180)","v":0},{"$f":"Harmonischen!$C$65/100*SIN($C260*$P$191*PI()/180)","v":0},{"$f":"Harmonischen!$C$66/100*SIN($C260*$Q$191*PI()/180)","v":0},{"$f":"Harmonischen!$C$67/100*SIN($C260*$R$191*PI()/180)","v":0},{"$f":"Harmonischen!$C$68/100*SIN($C260*$S$191*PI()/180)","v":0},{"$f":"Harmonischen!$C$69/100*SIN($C260*$T$191*PI()/180)","v":0},{"$f":"Harmonischen!$C$70/100*SIN($C260*$U$191*PI()/180)","v":0},{"$f":"Harmonischen!$C$71/100*SIN($C260*$V$191*PI()/180)","v":0},{"$f":"Harmonischen!$C$72/100*SIN($C260*$W$191*PI()/180)","v":0},{"$f":"Harmonischen!$C$73/100*SIN($C260*$X$191*PI()/180)","v":0},{"$f":"Harmonischen!$C$74/100*SIN($C260*$Y$191*PI()/180)","v":0},{"$f":"Harmonischen!$C$75/100*SIN($C260*$Z$191*PI()/180)","v":0},{"$f":"Harmonischen!$C$76/100*SIN($C260*$AA$191*PI()/180)","v":0},{"$f":"Harmonischen!$C$77/100*SIN($C260*$AB$191*PI()/180)","v":0},null,0.84583652595162739]
[null,null,69,{"$f":"Harmonischen!$C$53/100*SIN(C261*PI()/180)","v":0.93358042649720174},{"$f":"Harmonischen!$C$54/100*SIN(C261*$E$191*PI()/180)","v":0},{"$f":"Harmonischen!$C$55/100*SIN(C261*$F$191*PI()/180)","v":-9.0798099947909258E-2},{"$f":"Harmonischen!$C$56/100*SIN(C261*$G$191*PI()/180)","v":0},{"$f":"Harmonischen!$C$57/100*SIN(C261*$H$191*PI()/180)","v":0},{"$f":"Harmonischen!$C$58/100*SIN(C261*$I$191*PI()/180)","v":0},{"$f":"Harmonischen!$C$59/100*SIN(C261*$J$191*PI()/180)","v":0},{"$f":"Harmonischen!$C$60/100*SIN(C261*$K$191*PI()/180)","v":0},{"$f":"Harmonischen!$C$61/100*SIN(C261*$L$191*PI()/180)","v":0},{"$f":"Harmonischen!$C$62/100*SIN(C261*$M$191*PI()/180)","v":0},{"$f":"Harmonischen!$C$63/100*SIN($C261*$N$191*PI()/180)","v":0},{"$f":"Harmonischen!$C$64/100*SIN($C261*$O$191*PI()/180)","v":0},{"$f":"Harmonischen!$C$65/100*SIN($C261*$P$191*PI()/180)","v":0},{"$f":"Harmonischen!$C$66/100*SIN($C261*$Q$191*PI()/180)","v":0},{"$f":"Harmonischen!$C$67/100*SIN($C261*$R$191*PI()/180)","v":0},{"$f":"Harmonischen!$C$68/100*SIN($C261*$S$191*PI()/180)","v":0},{"$f":"Harmonischen!$C$69/100*SIN($C261*$T$191*PI()/180)","v":0},{"$f":"Harmonischen!$C$70/100*SIN($C261*$U$191*PI()/180)","v":0},{"$f":"Harmonischen!$C$71/100*SIN($C261*$V$191*PI()/180)","v":0},{"$f":"Harmonischen!$C$72/100*SIN($C261*$W$191*PI()/180)","v":0},{"$f":"Harmonischen!$C$73/100*SIN($C261*$X$191*PI()/180)","v":0},{"$f":"Harmonischen!$C$74/100*SIN($C261*$Y$191*PI()/180)","v":0},{"$f":"Harmonischen!$C$75/100*SIN($C261*$Z$191*PI()/180)","v":0},{"$f":"Harmonischen!$C$76/100*SIN($C261*$AA$191*PI()/180)","v":0},{"$f":"Harmonischen!$C$77/100*SIN($C261*$AB$191*PI()/180)","v":0},null,0.84278232654929253]
[null,null,70,{"$f":"Harmonischen!$C$53/100*SIN(C262*PI()/180)","v":0.93969262078590832},{"$f":"Harmonischen!$C$54/100*SIN(C262*$E$191*PI()/180)","v":0},{"$f":"Harmonischen!$C$55/100*SIN(C262*$F$191*PI()/180)","v":-0.10000000000000003},{"$f":"Harmonischen!$C$56/100*SIN(C262*$G$191*PI()/180)","v":0},{"$f":"Harmonischen!$C$57/100*SIN(C262*$H$191*PI()/180)","v":0},{"$f":"Harmonischen!$C$58/100*SIN(C262*$I$191*PI()/180)","v":0},{"$f":"Harmonischen!$C$59/100*SIN(C262*$J$191*PI()/180)","v":0},{"$f":"Harmonischen!$C$60/100*SIN(C262*$K$191*PI()/180)","v":0},{"$f":"Harmonischen!$C$61/100*SIN(C262*$L$191*PI()/180)","v":0},{"$f":"Harmonischen!$C$62/100*SIN(C262*$M$191*PI()/180)","v":0},{"$f":"Harmonischen!$C$63/100*SIN($C262*$N$191*PI()/180)","v":0},{"$f":"Harmonischen!$C$64/100*SIN($C262*$O$191*PI()/180)","v":0},{"$f":"Harmonischen!$C$65/100*SIN($C262*$P$191*PI()/180)","v":0},{"$f":"Harmonischen!$C$66/100*SIN($C262*$Q$191*PI()/180)","v":0},{"$f":"Harmonischen!$C$67/100*SIN($C262*$R$191*PI()/180)","v":0},{"$f":"Harmonischen!$C$68/100*SIN($C262*$S$191*PI()/180)","v":0},{"$f":"Harmonischen!$C$69/100*SIN($C262*$T$191*PI()/180)","v":0},{"$f":"Harmonischen!$C$70/100*SIN($C262*$U$191*PI()/180)","v":0},{"$f":"Harmonischen!$C$71/100*SIN($C262*$V$191*PI()/180)","v":0},{"$f":"Harmonischen!$C$72/100*SIN($C262*$W$191*PI()/180)","v":0},{"$f":"Harmonischen!$C$73/100*SIN($C262*$X$191*PI()/180)","v":0},{"$f":"Harmonischen!$C$74/100*SIN($C262*$Y$191*PI()/180)","v":0},{"$f":"Harmonischen!$C$75/100*SIN($C262*$Z$191*PI()/180)","v":0},{"$f":"Harmonischen!$C$76/100*SIN($C262*$AA$191*PI()/180)","v":0},{"$f":"Harmonischen!$C$77/100*SIN($C262*$AB$191*PI()/180)","v":0},null,0.83969262078590834]
[null,null,71,{"$f":"Harmonischen!$C$53/100*SIN(C263*PI()/180)","v":0.94551857559931674},{"$f":"Harmonischen!$C$54/100*SIN(C263*$E$191*PI()/180)","v":0},{"$f":"Harmonischen!$C$55/100*SIN(C263*$F$191*PI()/180)","v":-0.10892780700300542},{"$f":"Harmonischen!$C$56/100*SIN(C263*$G$191*PI()/180)","v":0},{"$f":"Harmonischen!$C$57/100*SIN(C263*$H$191*PI()/180)","v":0},{"$f":"Harmonischen!$C$58/100*SIN(C263*$I$191*PI()/180)","v":0},{"$f":"Harmonischen!$C$59/100*SIN(C263*$J$191*PI()/180)","v":0},{"$f":"Harmonischen!$C$60/100*SIN(C263*$K$191*PI()/180)","v":0},{"$f":"Harmonischen!$C$61/100*SIN(C263*$L$191*PI()/180)","v":0},{"$f":"Harmonischen!$C$62/100*SIN(C263*$M$191*PI()/180)","v":0},{"$f":"Harmonischen!$C$63/100*SIN($C263*$N$191*PI()/180)","v":0},{"$f":"Harmonischen!$C$64/100*SIN($C263*$O$191*PI()/180)","v":0},{"$f":"Harmonischen!$C$65/100*SIN($C263*$P$191*PI()/180)","v":0},{"$f":"Harmonischen!$C$66/100*SIN($C263*$Q$191*PI()/180)","v":0},{"$f":"Harmonischen!$C$67/100*SIN($C263*$R$191*PI()/180)","v":0},{"$f":"Harmonischen!$C$68/100*SIN($C263*$S$191*PI()/180)","v":0},{"$f":"Harmonischen!$C$69/100*SIN($C263*$T$191*PI()/180)","v":0},{"$f":"Harmonischen!$C$70/100*SIN($C263*$U$191*PI()/180)","v":0},{"$f":"Harmonischen!$C$71/100*SIN($C263*$V$191*PI()/180)","v":0},{"$f":"Harmonischen!$C$72/100*SIN($C263*$W$191*PI()/180)","v":0},{"$f":"Harmonischen!$C$73/100*SIN($C263*$X$191*PI()/180)","v":0},{"$f":"Harmonischen!$C$74/100*SIN($C263*$Y$191*PI()/180)","v":0},{"$f":"Harmonischen!$C$75/100*SIN($C263*$Z$191*PI()/180)","v":0},{"$f":"Harmonischen!$C$76/100*SIN($C263*$AA$191*PI()/180)","v":0},{"$f":"Harmonischen!$C$77/100*SIN($C263*$AB$191*PI()/180)","v":0},null,0.83659076859631132]
[null,null,72,{"$f":"Harmonischen!$C$53/100*SIN(C264*PI()/180)","v":0.95105651629515353},{"$f":"Harmonischen!$C$54/100*SIN(C264*$E$191*PI()/180)","v":0},{"$f":"Harmonischen!$C$55/100*SIN(C264*$F$191*PI()/180)","v":-0.11755705045849461},{"$f":"Harmonischen!$C$56/100*SIN(C264*$G$191*PI()/180)","v":0},{"$f":"Harmonischen!$C$57/100*SIN(C264*$H$191*PI()/180)","v":0},{"$f":"Harmonischen!$C$58/100*SIN(C264*$I$191*PI()/180)","v":0},{"$f":"Harmonischen!$C$59/100*SIN(C264*$J$191*PI()/180)","v":0},{"$f":"Harmonischen!$C$60/100*SIN(C264*$K$191*PI()/180)","v":0},{"$f":"Harmonischen!$C$61/100*SIN(C264*$L$191*PI()/180)","v":0},{"$f":"Harmonischen!$C$62/100*SIN(C264*$M$191*PI()/180)","v":0},{"$f":"Harmonischen!$C$63/100*SIN($C264*$N$191*PI()/180)","v":0},{"$f":"Harmonischen!$C$64/100*SIN($C264*$O$191*PI()/180)","v":0},{"$f":"Harmonischen!$C$65/100*SIN($C264*$P$191*PI()/180)","v":0},{"$f":"Harmonischen!$C$66/100*SIN($C264*$Q$191*PI()/180)","v":0},{"$f":"Harmonischen!$C$67/100*SIN($C264*$R$191*PI()/180)","v":0},{"$f":"Harmonischen!$C$68/100*SIN($C264*$S$191*PI()/180)","v":0},{"$f":"Harmonischen!$C$69/100*SIN($C264*$T$191*PI()/180)","v":0},{"$f":"Harmonischen!$C$70/100*SIN($C264*$U$191*PI()/180)","v":0},{"$f":"Harmonischen!$C$71/100*SIN($C264*$V$191*PI()/180)","v":0},{"$f":"Harmonischen!$C$72/100*SIN($C264*$W$191*PI()/180)","v":0},{"$f":"Harmonischen!$C$73/100*SIN($C264*$X$191*PI()/180)","v":0},{"$f":"Harmonischen!$C$74/100*SIN($C264*$Y$191*PI()/180)","v":0},{"$f":"Harmonischen!$C$75/100*SIN($C264*$Z$191*PI()/180)","v":0},{"$f":"Harmonischen!$C$76/100*SIN($C264*$AA$191*PI()/180)","v":0},{"$f":"Harmonischen!$C$77/100*SIN($C264*$AB$191*PI()/180)","v":0},null,0.8334994658366589]
[null,null,73,{"$f":"Harmonischen!$C$53/100*SIN(C265*PI()/180)","v":0.95630475596303544},{"$f":"Harmonischen!$C$54/100*SIN(C265*$E$191*PI()/180)","v":0},{"$f":"Harmonischen!$C$55/100*SIN(C265*$F$191*PI()/180)","v":-0.12586407820996753},{"$f":"Harmonischen!$C$56/100*SIN(C265*$G$191*PI()/180)","v":0},{"$f":"Harmonischen!$C$57/100*SIN(C265*$H$191*PI()/180)","v":0},{"$f":"Harmonischen!$C$58/100*SIN(C265*$I$191*PI()/180)","v":0},{"$f":"Harmonischen!$C$59/100*SIN(C265*$J$191*PI()/180)","v":0},{"$f":"Harmonischen!$C$60/100*SIN(C265*$K$191*PI()/180)","v":0},{"$f":"Harmonischen!$C$61/100*SIN(C265*$L$191*PI()/180)","v":0},{"$f":"Harmonischen!$C$62/100*SIN(C265*$M$191*PI()/180)","v":0},{"$f":"Harmonischen!$C$63/100*SIN($C265*$N$191*PI()/180)","v":0},{"$f":"Harmonischen!$C$64/100*SIN($C265*$O$191*PI()/180)","v":0},{"$f":"Harmonischen!$C$65/100*SIN($C265*$P$191*PI()/180)","v":0},{"$f":"Harmonischen!$C$66/100*SIN($C265*$Q$191*PI()/180)","v":0},{"$f":"Harmonischen!$C$67/100*SIN($C265*$R$191*PI()/180)","v":0},{"$f":"Harmonischen!$C$68/100*SIN($C265*$S$191*PI()/180)","v":0},{"$f":"Harmonischen!$C$69/100*SIN($C265*$T$191*PI()/180)","v":0},{"$f":"Harmonischen!$C$70/100*SIN($C265*$U$191*PI()/180)","v":0},{"$f":"Harmonischen!$C$71/100*SIN($C265*$V$191*PI()/180)","v":0},{"$f":"Harmonischen!$C$72/100*SIN($C265*$W$191*PI()/180)","v":0},{"$f":"Harmonischen!$C$73/100*SIN($C265*$X$191*PI()/180)","v":0},{"$f":"Harmonischen!$C$74/100*SIN($C265*$Y$191*PI()/180)","v":0},{"$f":"Harmonischen!$C$75/100*SIN($C265*$Z$191*PI()/180)","v":0},{"$f":"Harmonischen!$C$76/100*SIN($C265*$AA$191*PI()/180)","v":0},{"$f":"Harmonischen!$C$77/100*SIN($C265*$AB$191*PI()/180)","v":0},null,0.83044067775306796]
[null,null,74,{"$f":"Harmonischen!$C$53/100*SIN(C266*PI()/180)","v":0.96126169593831889},{"$f":"Harmonischen!$C$54/100*SIN(C266*$E$191*PI()/180)","v":0},{"$f":"Harmonischen!$C$55/100*SIN(C266*$F$191*PI()/180)","v":-0.13382612127177165},{"$f":"Harmonischen!$C$56/100*SIN(C266*$G$191*PI()/180)","v":0},{"$f":"Harmonischen!$C$57/100*SIN(C266*$H$191*PI()/180)","v":0},{"$f":"Harmonischen!$C$58/100*SIN(C266*$I$191*PI()/180)","v":0},{"$f":"Harmonischen!$C$59/100*SIN(C266*$J$191*PI()/180)","v":0},{"$f":"Harmonischen!$C$60/100*SIN(C266*$K$191*PI()/180)","v":0},{"$f":"Harmonischen!$C$61/100*SIN(C266*$L$191*PI()/180)","v":0},{"$f":"Harmonischen!$C$62/100*SIN(C266*$M$191*PI()/180)","v":0},{"$f":"Harmonischen!$C$63/100*SIN($C266*$N$191*PI()/180)","v":0},{"$f":"Harmonischen!$C$64/100*SIN($C266*$O$191*PI()/180)","v":0},{"$f":"Harmonischen!$C$65/100*SIN($C266*$P$191*PI()/180)","v":0},{"$f":"Harmonischen!$C$66/100*SIN($C266*$Q$191*PI()/180)","v":0},{"$f":"Harmonischen!$C$67/100*SIN($C266*$R$191*PI()/180)","v":0},{"$f":"Harmonischen!$C$68/100*SIN($C266*$S$191*PI()/180)","v":0},{"$f":"Harmonischen!$C$69/100*SIN($C266*$T$191*PI()/180)","v":0},{"$f":"Harmonischen!$C$70/100*SIN($C266*$U$191*PI()/180)","v":0},{"$f":"Harmonischen!$C$71/100*SIN($C266*$V$191*PI()/180)","v":0},{"$f":"Harmonischen!$C$72/100*SIN($C266*$W$191*PI()/180)","v":0},{"$f":"Harmonischen!$C$73/100*SIN($C266*$X$191*PI()/180)","v":0},{"$f":"Harmonischen!$C$74/100*SIN($C266*$Y$191*PI()/180)","v":0},{"$f":"Harmonischen!$C$75/100*SIN($C266*$Z$191*PI()/180)","v":0},{"$f":"Harmonischen!$C$76/100*SIN($C266*$AA$191*PI()/180)","v":0},{"$f":"Harmonischen!$C$77/100*SIN($C266*$AB$191*PI()/180)","v":0},null,0.82743557466654727]
[null,null,75,{"$f":"Harmonischen!$C$53/100*SIN(C267*PI()/180)","v":0.96592582628906831},{"$f":"Harmonischen!$C$54/100*SIN(C267*$E$191*PI()/180)","v":0},{"$f":"Harmonischen!$C$55/100*SIN(C267*$F$191*PI()/180)","v":-0.1414213562373095},{"$f":"Harmonischen!$C$56/100*SIN(C267*$G$191*PI()/180)","v":0},{"$f":"Harmonischen!$C$57/100*SIN(C267*$H$191*PI()/180)","v":0},{"$f":"Harmonischen!$C$58/100*SIN(C267*$I$191*PI()/180)","v":0},{"$f":"Harmonischen!$C$59/100*SIN(C267*$J$191*PI()/180)","v":0},{"$f":"Harmonischen!$C$60/100*SIN(C267*$K$191*PI()/180)","v":0},{"$f":"Harmonischen!$C$61/100*SIN(C267*$L$191*PI()/180)","v":0},{"$f":"Harmonischen!$C$62/100*SIN(C267*$M$191*PI()/180)","v":0},{"$f":"Harmonischen!$C$63/100*SIN($C267*$N$191*PI()/180)","v":0},{"$f":"Harmonischen!$C$64/100*SIN($C267*$O$191*PI()/180)","v":0},{"$f":"Harmonischen!$C$65/100*SIN($C267*$P$191*PI()/180)","v":0},{"$f":"Harmonischen!$C$66/100*SIN($C267*$Q$191*PI()/180)","v":0},{"$f":"Harmonischen!$C$67/100*SIN($C267*$R$191*PI()/180)","v":0},{"$f":"Harmonischen!$C$68/100*SIN($C267*$S$191*PI()/180)","v":0},{"$f":"Harmonischen!$C$69/100*SIN($C267*$T$191*PI()/180)","v":0},{"$f":"Harmonischen!$C$70/100*SIN($C267*$U$191*PI()/180)","v":0},{"$f":"Harmonischen!$C$71/100*SIN($C267*$V$191*PI()/180)","v":0},{"$f":"Harmonischen!$C$72/100*SIN($C267*$W$191*PI()/180)","v":0},{"$f":"Harmonischen!$C$73/100*SIN($C267*$X$191*PI()/180)","v":0},{"$f":"Harmonischen!$C$74/100*SIN($C267*$Y$191*PI()/180)","v":0},{"$f":"Harmonischen!$C$75/100*SIN($C267*$Z$191*PI()/180)","v":0},{"$f":"Harmonischen!$C$76/100*SIN($C267*$AA$191*PI()/180)","v":0},{"$f":"Harmonischen!$C$77/100*SIN($C267*$AB$191*PI()/180)","v":0},null,0.82450447005175875]
[null,null,76,{"$f":"Harmonischen!$C$53/100*SIN(C268*PI()/180)","v":0.97029572627599647},{"$f":"Harmonischen!$C$54/100*SIN(C268*$E$191*PI()/180)","v":0},{"$f":"Harmonischen!$C$55/100*SIN(C268*$F$191*PI()/180)","v":-0.14862896509547882},{"$f":"Harmonischen!$C$56/100*SIN(C268*$G$191*PI()/180)","v":0},{"$f":"Harmonischen!$C$57/100*SIN(C268*$H$191*PI()/180)","v":0},{"$f":"Harmonischen!$C$58/100*SIN(C268*$I$191*PI()/180)","v":0},{"$f":"Harmonischen!$C$59/100*SIN(C268*$J$191*PI()/180)","v":0},{"$f":"Harmonischen!$C$60/100*SIN(C268*$K$191*PI()/180)","v":0},{"$f":"Harmonischen!$C$61/100*SIN(C268*$L$191*PI()/180)","v":0},{"$f":"Harmonischen!$C$62/100*SIN(C268*$M$191*PI()/180)","v":0},{"$f":"Harmonischen!$C$63/100*SIN($C268*$N$191*PI()/180)","v":0},{"$f":"Harmonischen!$C$64/100*SIN($C268*$O$191*PI()/180)","v":0},{"$f":"Harmonischen!$C$65/100*SIN($C268*$P$191*PI()/180)","v":0},{"$f":"Harmonischen!$C$66/100*SIN($C268*$Q$191*PI()/180)","v":0},{"$f":"Harmonischen!$C$67/100*SIN($C268*$R$191*PI()/180)","v":0},{"$f":"Harmonischen!$C$68/100*SIN($C268*$S$191*PI()/180)","v":0},{"$f":"Harmonischen!$C$69/100*SIN($C268*$T$191*PI()/180)","v":0},{"$f":"Harmonischen!$C$70/100*SIN($C268*$U$191*PI()/180)","v":0},{"$f":"Harmonischen!$C$71/100*SIN($C268*$V$191*PI()/180)","v":0},{"$f":"Harmonischen!$C$72/100*SIN($C268*$W$191*PI()/180)","v":0},{"$f":"Harmonischen!$C$73/100*SIN($C268*$X$191*PI()/180)","v":0},{"$f":"Harmonischen!$C$74/100*SIN($C268*$Y$191*PI()/180)","v":0},{"$f":"Harmonischen!$C$75/100*SIN($C268*$Z$191*PI()/180)","v":0},{"$f":"Harmonischen!$C$76/100*SIN($C268*$AA$191*PI()/180)","v":0},{"$f":"Harmonischen!$C$77/100*SIN($C268*$AB$191*PI()/180)","v":0},null,0.82166676118051762]
[null,null,77,{"$f":"Harmonischen!$C$53/100*SIN(C269*PI()/180)","v":0.97437006478523525},{"$f":"Harmonischen!$C$54/100*SIN(C269*$E$191*PI()/180)","v":0},{"$f":"Harmonischen!$C$55/100*SIN(C269*$F$191*PI()/180)","v":-0.15542919229139424},{"$f":"Harmonischen!$C$56/100*SIN(C269*$G$191*PI()/180)","v":0},{"$f":"Harmonischen!$C$57/100*SIN(C269*$H$191*PI()/180)","v":0},{"$f":"Harmonischen!$C$58/100*SIN(C269*$I$191*PI()/180)","v":0},{"$f":"Harmonischen!$C$59/100*SIN(C269*$J$191*PI()/180)","v":0},{"$f":"Harmonischen!$C$60/100*SIN(C269*$K$191*PI()/180)","v":0},{"$f":"Harmonischen!$C$61/100*SIN(C269*$L$191*PI()/180)","v":0},{"$f":"Harmonischen!$C$62/100*SIN(C269*$M$191*PI()/180)","v":0},{"$f":"Harmonischen!$C$63/100*SIN($C269*$N$191*PI()/180)","v":0},{"$f":"Harmonischen!$C$64/100*SIN($C269*$O$191*PI()/180)","v":0},{"$f":"Harmonischen!$C$65/100*SIN($C269*$P$191*PI()/180)","v":0},{"$f":"Harmonischen!$C$66/100*SIN($C269*$Q$191*PI()/180)","v":0},{"$f":"Harmonischen!$C$67/100*SIN($C269*$R$191*PI()/180)","v":0},{"$f":"Harmonischen!$C$68/100*SIN($C269*$S$191*PI()/180)","v":0},{"$f":"Harmonischen!$C$69/100*SIN($C269*$T$191*PI()/180)","v":0},{"$f":"Harmonischen!$C$70/100*SIN($C269*$U$191*PI()/180)","v":0},{"$f":"Harmonischen!$C$71/100*SIN($C269*$V$191*PI()/180)","v":0},{"$f":"Harmonischen!$C$72/100*SIN($C269*$W$191*PI()/180)","v":0},{"$f":"Harmonischen!$C$73/100*SIN($C269*$X$191*PI()/180)","v":0},{"$f":"Harmonischen!$C$74/100*SIN($C269*$Y$191*PI()/180)","v":0},{"$f":"Harmonischen!$C$75/100*SIN($C269*$Z$191*PI()/180)","v":0},{"$f":"Harmonischen!$C$76/100*SIN($C269*$AA$191*PI()/180)","v":0},{"$f":"Harmonischen!$C$77/100*SIN($C269*$AB$191*PI()/180)","v":0},null,0.81894087249384095]
[null,null,78,{"$f":"Harmonischen!$C$53/100*SIN(C270*PI()/180)","v":0.97814760073380558},{"$f":"Harmonischen!$C$54/100*SIN(C270*$E$191*PI()/180)","v":0},{"$f":"Harmonischen!$C$55/100*SIN(C270*$F$191*PI()/180)","v":-0.16180339887498948},{"$f":"Harmonischen!$C$56/100*SIN(C270*$G$191*PI()/180)","v":0},{"$f":"Harmonischen!$C$57/100*SIN(C270*$H$191*PI()/180)","v":0},{"$f":"Harmonischen!$C$58/100*SIN(C270*$I$191*PI()/180)","v":0},{"$f":"Harmonischen!$C$59/100*SIN(C270*$J$191*PI()/180)","v":0},{"$f":"Harmonischen!$C$60/100*SIN(C270*$K$191*PI()/180)","v":0},{"$f":"Harmonischen!$C$61/100*SIN(C270*$L$191*PI()/180)","v":0},{"$f":"Harmonischen!$C$62/100*SIN(C270*$M$191*PI()/180)","v":0},{"$f":"Harmonischen!$C$63/100*SIN($C270*$N$191*PI()/180)","v":0},{"$f":"Harmonischen!$C$64/100*SIN($C270*$O$191*PI()/180)","v":0},{"$f":"Harmonischen!$C$65/100*SIN($C270*$P$191*PI()/180)","v":0},{"$f":"Harmonischen!$C$66/100*SIN($C270*$Q$191*PI()/180)","v":0},{"$f":"Harmonischen!$C$67/100*SIN($C270*$R$191*PI()/180)","v":0},{"$f":"Harmonischen!$C$68/100*SIN($C270*$S$191*PI()/180)","v":0},{"$f":"Harmonischen!$C$69/100*SIN($C270*$T$191*PI()/180)","v":0},{"$f":"Harmonischen!$C$70/100*SIN($C270*$U$191*PI()/180)","v":0},{"$f":"Harmonischen!$C$71/100*SIN($C270*$V$191*PI()/180)","v":0},{"$f":"Harmonischen!$C$72/100*SIN($C270*$W$191*PI()/180)","v":0},{"$f":"Harmonischen!$C$73/100*SIN($C270*$X$191*PI()/180)","v":0},{"$f":"Harmonischen!$C$74/100*SIN($C270*$Y$191*PI()/180)","v":0},{"$f":"Harmonischen!$C$75/100*SIN($C270*$Z$191*PI()/180)","v":0},{"$f":"Harmonischen!$C$76/100*SIN($C270*$AA$191*PI()/180)","v":0},{"$f":"Harmonischen!$C$77/100*SIN($C270*$AB$191*PI()/180)","v":0},null,0.81634420185881607]
[null,null,79,{"$f":"Harmonischen!$C$53/100*SIN(C271*PI()/180)","v":0.98162718344766398},{"$f":"Harmonischen!$C$54/100*SIN(C271*$E$191*PI()/180)","v":0},{"$f":"Harmonischen!$C$55/100*SIN(C271*$F$191*PI()/180)","v":-0.16773411358908483},{"$f":"Harmonischen!$C$56/100*SIN(C271*$G$191*PI()/180)","v":0},{"$f":"Harmonischen!$C$57/100*SIN(C271*$H$191*PI()/180)","v":0},{"$f":"Harmonischen!$C$58/100*SIN(C271*$I$191*PI()/180)","v":0},{"$f":"Harmonischen!$C$59/100*SIN(C271*$J$191*PI()/180)","v":0},{"$f":"Harmonischen!$C$60/100*SIN(C271*$K$191*PI()/180)","v":0},{"$f":"Harmonischen!$C$61/100*SIN(C271*$L$191*PI()/180)","v":0},{"$f":"Harmonischen!$C$62/100*SIN(C271*$M$191*PI()/180)","v":0},{"$f":"Harmonischen!$C$63/100*SIN($C271*$N$191*PI()/180)","v":0},{"$f":"Harmonischen!$C$64/100*SIN($C271*$O$191*PI()/180)","v":0},{"$f":"Harmonischen!$C$65/100*SIN($C271*$P$191*PI()/180)","v":0},{"$f":"Harmonischen!$C$66/100*SIN($C271*$Q$191*PI()/180)","v":0},{"$f":"Harmonischen!$C$67/100*SIN($C271*$R$191*PI()/180)","v":0},{"$f":"Harmonischen!$C$68/100*SIN($C271*$S$191*PI()/180)","v":0},{"$f":"Harmonischen!$C$69/100*SIN($C271*$T$191*PI()/180)","v":0},{"$f":"Harmonischen!$C$70/100*SIN($C271*$U$191*PI()/180)","v":0},{"$f":"Harmonischen!$C$71/100*SIN($C271*$V$191*PI()/180)","v":0},{"$f":"Harmonischen!$C$72/100*SIN($C271*$W$191*PI()/180)","v":0},{"$f":"Harmonischen!$C$73/100*SIN($C271*$X$191*PI()/180)","v":0},{"$f":"Harmonischen!$C$74/100*SIN($C271*$Y$191*PI()/180)","v":0},{"$f":"Harmonischen!$C$75/100*SIN($C271*$Z$191*PI()/180)","v":0},{"$f":"Harmonischen!$C$76/100*SIN($C271*$AA$191*PI()/180)","v":0},{"$f":"Harmonischen!$C$77/100*SIN($C271*$AB$191*PI()/180)","v":0},null,0.81389306985857912]
[null,null,80,{"$f":"Harmonischen!$C$53/100*SIN(C272*PI()/180)","v":0.98480775301220802},{"$f":"Harmonischen!$C$54/100*SIN(C272*$E$191*PI()/180)","v":0},{"$f":"Harmonischen!$C$55/100*SIN(C272*$F$191*PI()/180)","v":-0.17320508075688767},{"$f":"Harmonischen!$C$56/100*SIN(C272*$G$191*PI()/180)","v":0},{"$f":"Harmonischen!$C$57/100*SIN(C272*$H$191*PI()/180)","v":0},{"$f":"Harmonischen!$C$58/100*SIN(C272*$I$191*PI()/180)","v":0},{"$f":"Harmonischen!$C$59/100*SIN(C272*$J$191*PI()/180)","v":0},{"$f":"Harmonischen!$C$60/100*SIN(C272*$K$191*PI()/180)","v":0},{"$f":"Harmonischen!$C$61/100*SIN(C272*$L$191*PI()/180)","v":0},{"$f":"Harmonischen!$C$62/100*SIN(C272*$M$191*PI()/180)","v":0},{"$f":"Harmonischen!$C$63/100*SIN($C272*$N$191*PI()/180)","v":0},{"$f":"Harmonischen!$C$64/100*SIN($C272*$O$191*PI()/180)","v":0},{"$f":"Harmonischen!$C$65/100*SIN($C272*$P$191*PI()/180)","v":0},{"$f":"Harmonischen!$C$66/100*SIN($C272*$Q$191*PI()/180)","v":0},{"$f":"Harmonischen!$C$67/100*SIN($C272*$R$191*PI()/180)","v":0},{"$f":"Harmonischen!$C$68/100*SIN($C272*$S$191*PI()/180)","v":0},{"$f":"Harmonischen!$C$69/100*SIN($C272*$T$191*PI()/180)","v":0},{"$f":"Harmonischen!$C$70/100*SIN($C272*$U$191*PI()/180)","v":0},{"$f":"Harmonischen!$C$71/100*SIN($C272*$V$191*PI()/180)","v":0},{"$f":"Harmonischen!$C$72/100*SIN($C272*$W$191*PI()/180)","v":0},{"$f":"Harmonischen!$C$73/100*SIN($C272*$X$191*PI()/180)","v":0},{"$f":"Harmonischen!$C$74/100*SIN($C272*$Y$191*PI()/180)","v":0},{"$f":"Harmonischen!$C$75/100*SIN($C272*$Z$191*PI()/180)","v":0},{"$f":"Harmonischen!$C$76/100*SIN($C272*$AA$191*PI()/180)","v":0},{"$f":"Harmonischen!$C$77/100*SIN($C272*$AB$191*PI()/180)","v":0},null,0.81160267225532035]
[null,null,81,{"$f":"Harmonischen!$C$53/100*SIN(C273*PI()/180)","v":0.98768834059513777},{"$f":"Harmonischen!$C$54/100*SIN(C273*$E$191*PI()/180)","v":0},{"$f":"Harmonischen!$C$55/100*SIN(C273*$F$191*PI()/180)","v":-0.17820130483767357},{"$f":"Harmonischen!$C$56/100*SIN(C273*$G$191*PI()/180)","v":0},{"$f":"Harmonischen!$C$57/100*SIN(C273*$H$191*PI()/180)","v":0},{"$f":"Harmonischen!$C$58/100*SIN(C273*$I$191*PI()/180)","v":0},{"$f":"Harmonischen!$C$59/100*SIN(C273*$J$191*PI()/180)","v":0},{"$f":"Harmonischen!$C$60/100*SIN(C273*$K$191*PI()/180)","v":0},{"$f":"Harmonischen!$C$61/100*SIN(C273*$L$191*PI()/180)","v":0},{"$f":"Harmonischen!$C$62/100*SIN(C273*$M$191*PI()/180)","v":0},{"$f":"Harmonischen!$C$63/100*SIN($C273*$N$191*PI()/180)","v":0},{"$f":"Harmonischen!$C$64/100*SIN($C273*$O$191*PI()/180)","v":0},{"$f":"Harmonischen!$C$65/100*SIN($C273*$P$191*PI()/180)","v":0},{"$f":"Harmonischen!$C$66/100*SIN($C273*$Q$191*PI()/180)","v":0},{"$f":"Harmonischen!$C$67/100*SIN($C273*$R$191*PI()/180)","v":0},{"$f":"Harmonischen!$C$68/100*SIN($C273*$S$191*PI()/180)","v":0},{"$f":"Harmonischen!$C$69/100*SIN($C273*$T$191*PI()/180)","v":0},{"$f":"Harmonischen!$C$70/100*SIN($C273*$U$191*PI()/180)","v":0},{"$f":"Harmonischen!$C$71/100*SIN($C273*$V$191*PI()/180)","v":0},{"$f":"Harmonischen!$C$72/100*SIN($C273*$W$191*PI()/180)","v":0},{"$f":"Harmonischen!$C$73/100*SIN($C273*$X$191*PI()/180)","v":0},{"$f":"Harmonischen!$C$74/100*SIN($C273*$Y$191*PI()/180)","v":0},{"$f":"Harmonischen!$C$75/100*SIN($C273*$Z$191*PI()/180)","v":0},{"$f":"Harmonischen!$C$76/100*SIN($C273*$AA$191*PI()/180)","v":0},{"$f":"Harmonischen!$C$77/100*SIN($C273*$AB$191*PI()/180)","v":0},null,0.80948703575746417]
[null,null,82,{"$f":"Harmonischen!$C$53/100*SIN(C274*PI()/180)","v":0.99026806874157025},{"$f":"Harmonischen!$C$54/100*SIN(C274*$E$191*PI()/180)","v":0},{"$f":"Harmonischen!$C$55/100*SIN(C274*$F$191*PI()/180)","v":-0.18270909152852022},{"$f":"Harmonischen!$C$56/100*SIN(C274*$G$191*PI()/180)","v":0},{"$f":"Harmonischen!$C$57/100*SIN(C274*$H$191*PI()/180)","v":0},{"$f":"Harmonischen!$C$58/100*SIN(C274*$I$191*PI()/180)","v":0},{"$f":"Harmonischen!$C$59/100*SIN(C274*$J$191*PI()/180)","v":0},{"$f":"Harmonischen!$C$60/100*SIN(C274*$K$191*PI()/180)","v":0},{"$f":"Harmonischen!$C$61/100*SIN(C274*$L$191*PI()/180)","v":0},{"$f":"Harmonischen!$C$62/100*SIN(C274*$M$191*PI()/180)","v":0},{"$f":"Harmonischen!$C$63/100*SIN($C274*$N$191*PI()/180)","v":0},{"$f":"Harmonischen!$C$64/100*SIN($C274*$O$191*PI()/180)","v":0},{"$f":"Harmonischen!$C$65/100*SIN($C274*$P$191*PI()/180)","v":0},{"$f":"Harmonischen!$C$66/100*SIN($C274*$Q$191*PI()/180)","v":0},{"$f":"Harmonischen!$C$67/100*SIN($C274*$R$191*PI()/180)","v":0},{"$f":"Harmonischen!$C$68/100*SIN($C274*$S$191*PI()/180)","v":0},{"$f":"Harmonischen!$C$69/100*SIN($C274*$T$191*PI()/180)","v":0},{"$f":"Harmonischen!$C$70/100*SIN($C274*$U$191*PI()/180)","v":0},{"$f":"Harmonischen!$C$71/100*SIN($C274*$V$191*PI()/180)","v":0},{"$f":"Harmonischen!$C$72/100*SIN($C274*$W$191*PI()/180)","v":0},{"$f":"Harmonischen!$C$73/100*SIN($C274*$X$191*PI()/180)","v":0},{"$f":"Harmonischen!$C$74/100*SIN($C274*$Y$191*PI()/180)","v":0},{"$f":"Harmonischen!$C$75/100*SIN($C274*$Z$191*PI()/180)","v":0},{"$f":"Harmonischen!$C$76/100*SIN($C274*$AA$191*PI()/180)","v":0},{"$f":"Harmonischen!$C$77/100*SIN($C274*$AB$191*PI()/180)","v":0},null,0.80755897721305003]
[null,null,83,{"$f":"Harmonischen!$C$53/100*SIN(C275*PI()/180)","v":0.99254615164132198},{"$f":"Harmonischen!$C$54/100*SIN(C275*$E$191*PI()/180)","v":0},{"$f":"Harmonischen!$C$55/100*SIN(C275*$F$191*PI()/180)","v":-0.18671608529944034},{"$f":"Harmonischen!$C$56/100*SIN(C275*$G$191*PI()/180)","v":0},{"$f":"Harmonischen!$C$57/100*SIN(C275*$H$191*PI()/180)","v":0},{"$f":"Harmonischen!$C$58/100*SIN(C275*$I$191*PI()/180)","v":0},{"$f":"Harmonischen!$C$59/100*SIN(C275*$J$191*PI()/180)","v":0},{"$f":"Harmonischen!$C$60/100*SIN(C275*$K$191*PI()/180)","v":0},{"$f":"Harmonischen!$C$61/100*SIN(C275*$L$191*PI()/180)","v":0},{"$f":"Harmonischen!$C$62/100*SIN(C275*$M$191*PI()/180)","v":0},{"$f":"Harmonischen!$C$63/100*SIN($C275*$N$191*PI()/180)","v":0},{"$f":"Harmonischen!$C$64/100*SIN($C275*$O$191*PI()/180)","v":0},{"$f":"Harmonischen!$C$65/100*SIN($C275*$P$191*PI()/180)","v":0},{"$f":"Harmonischen!$C$66/100*SIN($C275*$Q$191*PI()/180)","v":0},{"$f":"Harmonischen!$C$67/100*SIN($C275*$R$191*PI()/180)","v":0},{"$f":"Harmonischen!$C$68/100*SIN($C275*$S$191*PI()/180)","v":0},{"$f":"Harmonischen!$C$69/100*SIN($C275*$T$191*PI()/180)","v":0},{"$f":"Harmonischen!$C$70/100*SIN($C275*$U$191*PI()/180)","v":0},{"$f":"Harmonischen!$C$71/100*SIN($C275*$V$191*PI()/180)","v":0},{"$f":"Harmonischen!$C$72/100*SIN($C275*$W$191*PI()/180)","v":0},{"$f":"Harmonischen!$C$73/100*SIN($C275*$X$191*PI()/180)","v":0},{"$f":"Harmonischen!$C$74/100*SIN($C275*$Y$191*PI()/180)","v":0},{"$f":"Harmonischen!$C$75/100*SIN($C275*$Z$191*PI()/180)","v":0},{"$f":"Harmonischen!$C$76/100*SIN($C275*$AA$191*PI()/180)","v":0},{"$f":"Harmonischen!$C$77/100*SIN($C275*$AB$191*PI()/180)","v":0},null,0.80583006634188159]
[null,null,84,{"$f":"Harmonischen!$C$53/100*SIN(C276*PI()/180)","v":0.99452189536827329},{"$f":"Harmonischen!$C$54/100*SIN(C276*$E$191*PI()/180)","v":0},{"$f":"Harmonischen!$C$55/100*SIN(C276*$F$191*PI()/180)","v":-0.19021130325903071},{"$f":"Harmonischen!$C$56/100*SIN(C276*$G$191*PI()/180)","v":0},{"$f":"Harmonischen!$C$57/100*SIN(C276*$H$191*PI()/180)","v":0},{"$f":"Harmonischen!$C$58/100*SIN(C276*$I$191*PI()/180)","v":0},{"$f":"Harmonischen!$C$59/100*SIN(C276*$J$191*PI()/180)","v":0},{"$f":"Harmonischen!$C$60/100*SIN(C276*$K$191*PI()/180)","v":0},{"$f":"Harmonischen!$C$61/100*SIN(C276*$L$191*PI()/180)","v":0},{"$f":"Harmonischen!$C$62/100*SIN(C276*$M$191*PI()/180)","v":0},{"$f":"Harmonischen!$C$63/100*SIN($C276*$N$191*PI()/180)","v":0},{"$f":"Harmonischen!$C$64/100*SIN($C276*$O$191*PI()/180)","v":0},{"$f":"Harmonischen!$C$65/100*SIN($C276*$P$191*PI()/180)","v":0},{"$f":"Harmonischen!$C$66/100*SIN($C276*$Q$191*PI()/180)","v":0},{"$f":"Harmonischen!$C$67/100*SIN($C276*$R$191*PI()/180)","v":0},{"$f":"Harmonischen!$C$68/100*SIN($C276*$S$191*PI()/180)","v":0},{"$f":"Harmonischen!$C$69/100*SIN($C276*$T$191*PI()/180)","v":0},{"$f":"Harmonischen!$C$70/100*SIN($C276*$U$191*PI()/180)","v":0},{"$f":"Harmonischen!$C$71/100*SIN($C276*$V$191*PI()/180)","v":0},{"$f":"Harmonischen!$C$72/100*SIN($C276*$W$191*PI()/180)","v":0},{"$f":"Harmonischen!$C$73/100*SIN($C276*$X$191*PI()/180)","v":0},{"$f":"Harmonischen!$C$74/100*SIN($C276*$Y$191*PI()/180)","v":0},{"$f":"Harmonischen!$C$75/100*SIN($C276*$Z$191*PI()/180)","v":0},{"$f":"Harmonischen!$C$76/100*SIN($C276*$AA$191*PI()/180)","v":0},{"$f":"Harmonischen!$C$77/100*SIN($C276*$AB$191*PI()/180)","v":0},null,0.80431059210924261]
[null,null,85,{"$f":"Harmonischen!$C$53/100*SIN(C277*PI()/180)","v":0.99619469809174555},{"$f":"Harmonischen!$C$54/100*SIN(C277*$E$191*PI()/180)","v":0},{"$f":"Harmonischen!$C$55/100*SIN(C277*$F$191*PI()/180)","v":-0.19318516525781368},{"$f":"Harmonischen!$C$56/100*SIN(C277*$G$191*PI()/180)","v":0},{"$f":"Harmonischen!$C$57/100*SIN(C277*$H$191*PI()/180)","v":0},{"$f":"Harmonischen!$C$58/100*SIN(C277*$I$191*PI()/180)","v":0},{"$f":"Harmonischen!$C$59/100*SIN(C277*$J$191*PI()/180)","v":0},{"$f":"Harmonischen!$C$60/100*SIN(C277*$K$191*PI()/180)","v":0},{"$f":"Harmonischen!$C$61/100*SIN(C277*$L$191*PI()/180)","v":0},{"$f":"Harmonischen!$C$62/100*SIN(C277*$M$191*PI()/180)","v":0},{"$f":"Harmonischen!$C$63/100*SIN($C277*$N$191*PI()/180)","v":0},{"$f":"Harmonischen!$C$64/100*SIN($C277*$O$191*PI()/180)","v":0},{"$f":"Harmonischen!$C$65/100*SIN($C277*$P$191*PI()/180)","v":0},{"$f":"Harmonischen!$C$66/100*SIN($C277*$Q$191*PI()/180)","v":0},{"$f":"Harmonischen!$C$67/100*SIN($C277*$R$191*PI()/180)","v":0},{"$f":"Harmonischen!$C$68/100*SIN($C277*$S$191*PI()/180)","v":0},{"$f":"Harmonischen!$C$69/100*SIN($C277*$T$191*PI()/180)","v":0},{"$f":"Harmonischen!$C$70/100*SIN($C277*$U$191*PI()/180)","v":0},{"$f":"Harmonischen!$C$71/100*SIN($C277*$V$191*PI()/180)","v":0},{"$f":"Harmonischen!$C$72/100*SIN($C277*$W$191*PI()/180)","v":0},{"$f":"Harmonischen!$C$73/100*SIN($C277*$X$191*PI()/180)","v":0},{"$f":"Harmonischen!$C$74/100*SIN($C277*$Y$191*PI()/180)","v":0},{"$f":"Harmonischen!$C$75/100*SIN($C277*$Z$191*PI()/180)","v":0},{"$f":"Harmonischen!$C$76/100*SIN($C277*$AA$191*PI()/180)","v":0},{"$f":"Harmonischen!$C$77/100*SIN($C277*$AB$191*PI()/180)","v":0},null,0.80300953283393184]
[null,null,86,{"$f":"Harmonischen!$C$53/100*SIN(C278*PI()/180)","v":0.9975640502598242},{"$f":"Harmonischen!$C$54/100*SIN(C278*$E$191*PI()/180)","v":0},{"$f":"Harmonischen!$C$55/100*SIN(C278*$F$191*PI()/180)","v":-0.19562952014676113},{"$f":"Harmonischen!$C$56/100*SIN(C278*$G$191*PI()/180)","v":0},{"$f":"Harmonischen!$C$57/100*SIN(C278*$H$191*PI()/180)","v":0},{"$f":"Harmonischen!$C$58/100*SIN(C278*$I$191*PI()/180)","v":0},{"$f":"Harmonischen!$C$59/100*SIN(C278*$J$191*PI()/180)","v":0},{"$f":"Harmonischen!$C$60/100*SIN(C278*$K$191*PI()/180)","v":0},{"$f":"Harmonischen!$C$61/100*SIN(C278*$L$191*PI()/180)","v":0},{"$f":"Harmonischen!$C$62/100*SIN(C278*$M$191*PI()/180)","v":0},{"$f":"Harmonischen!$C$63/100*SIN($C278*$N$191*PI()/180)","v":0},{"$f":"Harmonischen!$C$64/100*SIN($C278*$O$191*PI()/180)","v":0},{"$f":"Harmonischen!$C$65/100*SIN($C278*$P$191*PI()/180)","v":0},{"$f":"Harmonischen!$C$66/100*SIN($C278*$Q$191*PI()/180)","v":0},{"$f":"Harmonischen!$C$67/100*SIN($C278*$R$191*PI()/180)","v":0},{"$f":"Harmonischen!$C$68/100*SIN($C278*$S$191*PI()/180)","v":0},{"$f":"Harmonischen!$C$69/100*SIN($C278*$T$191*PI()/180)","v":0},{"$f":"Harmonischen!$C$70/100*SIN($C278*$U$191*PI()/180)","v":0},{"$f":"Harmonischen!$C$71/100*SIN($C278*$V$191*PI()/180)","v":0},{"$f":"Harmonischen!$C$72/100*SIN($C278*$W$191*PI()/180)","v":0},{"$f":"Harmonischen!$C$73/100*SIN($C278*$X$191*PI()/180)","v":0},{"$f":"Harmonischen!$C$74/100*SIN($C278*$Y$191*PI()/180)","v":0},{"$f":"Harmonischen!$C$75/100*SIN($C278*$Z$191*PI()/180)","v":0},{"$f":"Harmonischen!$C$76/100*SIN($C278*$AA$191*PI()/180)","v":0},{"$f":"Harmonischen!$C$77/100*SIN($C278*$AB$191*PI()/180)","v":0},null,0.80193453011306304]
[null,null,87,{"$f":"Harmonischen!$C$53/100*SIN(C279*PI()/180)","v":0.99862953475457383},{"$f":"Harmonischen!$C$54/100*SIN(C279*$E$191*PI()/180)","v":0},{"$f":"Harmonischen!$C$55/100*SIN(C279*$F$191*PI()/180)","v":-0.19753766811902754},{"$f":"Harmonischen!$C$56/100*SIN(C279*$G$191*PI()/180)","v":0},{"$f":"Harmonischen!$C$57/100*SIN(C279*$H$191*PI()/180)","v":0},{"$f":"Harmonischen!$C$58/100*SIN(C279*$I$191*PI()/180)","v":0},{"$f":"Harmonischen!$C$59/100*SIN(C279*$J$191*PI()/180)","v":0},{"$f":"Harmonischen!$C$60/100*SIN(C279*$K$191*PI()/180)","v":0},{"$f":"Harmonischen!$C$61/100*SIN(C279*$L$191*PI()/180)","v":0},{"$f":"Harmonischen!$C$62/100*SIN(C279*$M$191*PI()/180)","v":0},{"$f":"Harmonischen!$C$63/100*SIN($C279*$N$191*PI()/180)","v":0},{"$f":"Harmonischen!$C$64/100*SIN($C279*$O$191*PI()/180)","v":0},{"$f":"Harmonischen!$C$65/100*SIN($C279*$P$191*PI()/180)","v":0},{"$f":"Harmonischen!$C$66/100*SIN($C279*$Q$191*PI()/180)","v":0},{"$f":"Harmonischen!$C$67/100*SIN($C279*$R$191*PI()/180)","v":0},{"$f":"Harmonischen!$C$68/100*SIN($C279*$S$191*PI()/180)","v":0},{"$f":"Harmonischen!$C$69/100*SIN($C279*$T$191*PI()/180)","v":0},{"$f":"Harmonischen!$C$70/100*SIN($C279*$U$191*PI()/180)","v":0},{"$f":"Harmonischen!$C$71/100*SIN($C279*$V$191*PI()/180)","v":0},{"$f":"Harmonischen!$C$72/100*SIN($C279*$W$191*PI()/180)","v":0},{"$f":"Harmonischen!$C$73/100*SIN($C279*$X$191*PI()/180)","v":0},{"$f":"Harmonischen!$C$74/100*SIN($C279*$Y$191*PI()/180)","v":0},{"$f":"Harmonischen!$C$75/100*SIN($C279*$Z$191*PI()/180)","v":0},{"$f":"Harmonischen!$C$76/100*SIN($C279*$AA$191*PI()/180)","v":0},{"$f":"Harmonischen!$C$77/100*SIN($C279*$AB$191*PI()/180)","v":0},null,0.80109186663554632]
[null,null,88,{"$f":"Harmonischen!$C$53/100*SIN(C280*PI()/180)","v":0.99939082701909576},{"$f":"Harmonischen!$C$54/100*SIN(C280*$E$191*PI()/180)","v":0},{"$f":"Harmonischen!$C$55/100*SIN(C280*$F$191*PI()/180)","v":-0.19890437907365469},{"$f":"Harmonischen!$C$56/100*SIN(C280*$G$191*PI()/180)","v":0},{"$f":"Harmonischen!$C$57/100*SIN(C280*$H$191*PI()/180)","v":0},{"$f":"Harmonischen!$C$58/100*SIN(C280*$I$191*PI()/180)","v":0},{"$f":"Harmonischen!$C$59/100*SIN(C280*$J$191*PI()/180)","v":0},{"$f":"Harmonischen!$C$60/100*SIN(C280*$K$191*PI()/180)","v":0},{"$f":"Harmonischen!$C$61/100*SIN(C280*$L$191*PI()/180)","v":0},{"$f":"Harmonischen!$C$62/100*SIN(C280*$M$191*PI()/180)","v":0},{"$f":"Harmonischen!$C$63/100*SIN($C280*$N$191*PI()/180)","v":0},{"$f":"Harmonischen!$C$64/100*SIN($C280*$O$191*PI()/180)","v":0},{"$f":"Harmonischen!$C$65/100*SIN($C280*$P$191*PI()/180)","v":0},{"$f":"Harmonischen!$C$66/100*SIN($C280*$Q$191*PI()/180)","v":0},{"$f":"Harmonischen!$C$67/100*SIN($C280*$R$191*PI()/180)","v":0},{"$f":"Harmonischen!$C$68/100*SIN($C280*$S$191*PI()/180)","v":0},{"$f":"Harmonischen!$C$69/100*SIN($C280*$T$191*PI()/180)","v":0},{"$f":"Harmonischen!$C$70/100*SIN($C280*$U$191*PI()/180)","v":0},{"$f":"Harmonischen!$C$71/100*SIN($C280*$V$191*PI()/180)","v":0},{"$f":"Harmonischen!$C$72/100*SIN($C280*$W$191*PI()/180)","v":0},{"$f":"Harmonischen!$C$73/100*SIN($C280*$X$191*PI()/180)","v":0},{"$f":"Harmonischen!$C$74/100*SIN($C280*$Y$191*PI()/180)","v":0},{"$f":"Harmonischen!$C$75/100*SIN($C280*$Z$191*PI()/180)","v":0},{"$f":"Harmonischen!$C$76/100*SIN($C280*$AA$191*PI()/180)","v":0},{"$f":"Harmonischen!$C$77/100*SIN($C280*$AB$191*PI()/180)","v":0},null,0.8004864479454411]
[null,null,89,{"$f":"Harmonischen!$C$53/100*SIN(C281*PI()/180)","v":0.99984769515639127},{"$f":"Harmonischen!$C$54/100*SIN(C281*$E$191*PI()/180)","v":0},{"$f":"Harmonischen!$C$55/100*SIN(C281*$F$191*PI()/180)","v":-0.19972590695091477},{"$f":"Harmonischen!$C$56/100*SIN(C281*$G$191*PI()/180)","v":0},{"$f":"Harmonischen!$C$57/100*SIN(C281*$H$191*PI()/180)","v":0},{"$f":"Harmonischen!$C$58/100*SIN(C281*$I$191*PI()/180)","v":0},{"$f":"Harmonischen!$C$59/100*SIN(C281*$J$191*PI()/180)","v":0},{"$f":"Harmonischen!$C$60/100*SIN(C281*$K$191*PI()/180)","v":0},{"$f":"Harmonischen!$C$61/100*SIN(C281*$L$191*PI()/180)","v":0},{"$f":"Harmonischen!$C$62/100*SIN(C281*$M$191*PI()/180)","v":0},{"$f":"Harmonischen!$C$63/100*SIN($C281*$N$191*PI()/180)","v":0},{"$f":"Harmonischen!$C$64/100*SIN($C281*$O$191*PI()/180)","v":0},{"$f":"Harmonischen!$C$65/100*SIN($C281*$P$191*PI()/180)","v":0},{"$f":"Harmonischen!$C$66/100*SIN($C281*$Q$191*PI()/180)","v":0},{"$f":"Harmonischen!$C$67/100*SIN($C281*$R$191*PI()/180)","v":0},{"$f":"Harmonischen!$C$68/100*SIN($C281*$S$191*PI()/180)","v":0},{"$f":"Harmonischen!$C$69/100*SIN($C281*$T$191*PI()/180)","v":0},{"$f":"Harmonischen!$C$70/100*SIN($C281*$U$191*PI()/180)","v":0},{"$f":"Harmonischen!$C$71/100*SIN($C281*$V$191*PI()/180)","v":0},{"$f":"Harmonischen!$C$72/100*SIN($C281*$W$191*PI()/180)","v":0},{"$f":"Harmonischen!$C$73/100*SIN($C281*$X$191*PI()/180)","v":0},{"$f":"Harmonischen!$C$74/100*SIN($C281*$Y$191*PI()/180)","v":0},{"$f":"Harmonischen!$C$75/100*SIN($C281*$Z$191*PI()/180)","v":0},{"$f":"Harmonischen!$C$76/100*SIN($C281*$AA$191*PI()/180)","v":0},{"$f":"Harmonischen!$C$77/100*SIN($C281*$AB$191*PI()/180)","v":0},null,0.80012178820547653]
[null,null,90,{"$f":"Harmonischen!$C$53/100*SIN(C282*PI()/180)","v":1},{"$f":"Harmonischen!$C$54/100*SIN(C282*$E$191*PI()/180)","v":0},{"$f":"Harmonischen!$C$55/100*SIN(C282*$F$191*PI()/180)","v":-0.2},{"$f":"Harmonischen!$C$56/100*SIN(C282*$G$191*PI()/180)","v":0},{"$f":"Harmonischen!$C$57/100*SIN(C282*$H$191*PI()/180)","v":0},{"$f":"Harmonischen!$C$58/100*SIN(C282*$I$191*PI()/180)","v":0},{"$f":"Harmonischen!$C$59/100*SIN(C282*$J$191*PI()/180)","v":0},{"$f":"Harmonischen!$C$60/100*SIN(C282*$K$191*PI()/180)","v":0},{"$f":"Harmonischen!$C$61/100*SIN(C282*$L$191*PI()/180)","v":0},{"$f":"Harmonischen!$C$62/100*SIN(C282*$M$191*PI()/180)","v":0},{"$f":"Harmonischen!$C$63/100*SIN($C282*$N$191*PI()/180)","v":0},{"$f":"Harmonischen!$C$64/100*SIN($C282*$O$191*PI()/180)","v":0},{"$f":"Harmonischen!$C$65/100*SIN($C282*$P$191*PI()/180)","v":0},{"$f":"Harmonischen!$C$66/100*SIN($C282*$Q$191*PI()/180)","v":0},{"$f":"Harmonischen!$C$67/100*SIN($C282*$R$191*PI()/180)","v":0},{"$f":"Harmonischen!$C$68/100*SIN($C282*$S$191*PI()/180)","v":0},{"$f":"Harmonischen!$C$69/100*SIN($C282*$T$191*PI()/180)","v":0},{"$f":"Harmonischen!$C$70/100*SIN($C282*$U$191*PI()/180)","v":0},{"$f":"Harmonischen!$C$71/100*SIN($C282*$V$191*PI()/180)","v":0},{"$f":"Harmonischen!$C$72/100*SIN($C282*$W$191*PI()/180)","v":0},{"$f":"Harmonischen!$C$73/100*SIN($C282*$X$191*PI()/180)","v":0},{"$f":"Harmonischen!$C$74/100*SIN($C282*$Y$191*PI()/180)","v":0},{"$f":"Harmonischen!$C$75/100*SIN($C282*$Z$191*PI()/180)","v":0},{"$f":"Harmonischen!$C$76/100*SIN($C282*$AA$191*PI()/180)","v":0},{"$f":"Harmonischen!$C$77/100*SIN($C282*$AB$191*PI()/180)","v":0},null,0.8]
[null,null,91,{"$f":"Harmonischen!$C$53/100*SIN(C283*PI()/180)","v":0.99984769515639127},{"$f":"Harmonischen!$C$54/100*SIN(C283*$E$191*PI()/180)","v":0},{"$f":"Harmonischen!$C$55/100*SIN(C283*$F$191*PI()/180)","v":-0.19972590695091477},{"$f":"Harmonischen!$C$56/100*SIN(C283*$G$191*PI()/180)","v":0},{"$f":"Harmonischen!$C$57/100*SIN(C283*$H$191*PI()/180)","v":0},{"$f":"Harmonischen!$C$58/100*SIN(C283*$I$191*PI()/180)","v":0},{"$f":"Harmonischen!$C$59/100*SIN(C283*$J$191*PI()/180)","v":0},{"$f":"Harmonischen!$C$60/100*SIN(C283*$K$191*PI()/180)","v":0},{"$f":"Harmonischen!$C$61/100*SIN(C283*$L$191*PI()/180)","v":0},{"$f":"Harmonischen!$C$62/100*SIN(C283*$M$191*PI()/180)","v":0},{"$f":"Harmonischen!$C$63/100*SIN($C283*$N$191*PI()/180)","v":0},{"$f":"Harmonischen!$C$64/100*SIN($C283*$O$191*PI()/180)","v":0},{"$f":"Harmonischen!$C$65/100*SIN($C283*$P$191*PI()/180)","v":0},{"$f":"Harmonischen!$C$66/100*SIN($C283*$Q$191*PI()/180)","v":0},{"$f":"Harmonischen!$C$67/100*SIN($C283*$R$191*PI()/180)","v":0},{"$f":"Harmonischen!$C$68/100*SIN($C283*$S$191*PI()/180)","v":0},{"$f":"Harmonischen!$C$69/100*SIN($C283*$T$191*PI()/180)","v":0},{"$f":"Harmonischen!$C$70/100*SIN($C283*$U$191*PI()/180)","v":0},{"$f":"Harmonischen!$C$71/100*SIN($C283*$V$191*PI()/180)","v":0},{"$f":"Harmonischen!$C$72/100*SIN($C283*$W$191*PI()/180)","v":0},{"$f":"Harmonischen!$C$73/100*SIN($C283*$X$191*PI()/180)","v":0},{"$f":"Harmonischen!$C$74/100*SIN($C283*$Y$191*PI()/180)","v":0},{"$f":"Harmonischen!$C$75/100*SIN($C283*$Z$191*PI()/180)","v":0},{"$f":"Harmonischen!$C$76/100*SIN($C283*$AA$191*PI()/180)","v":0},{"$f":"Harmonischen!$C$77/100*SIN($C283*$AB$191*PI()/180)","v":0},null,0.80012178820547653]
[null,null,92,{"$f":"Harmonischen!$C$53/100*SIN(C284*PI()/180)","v":0.99939082701909576},{"$f":"Harmonischen!$C$54/100*SIN(C284*$E$191*PI()/180)","v":0},{"$f":"Harmonischen!$C$55/100*SIN(C284*$F$191*PI()/180)","v":-0.19890437907365469},{"$f":"Harmonischen!$C$56/100*SIN(C284*$G$191*PI()/180)","v":0},{"$f":"Harmonischen!$C$57/100*SIN(C284*$H$191*PI()/180)","v":0},{"$f":"Harmonischen!$C$58/100*SIN(C284*$I$191*PI()/180)","v":0},{"$f":"Harmonischen!$C$59/100*SIN(C284*$J$191*PI()/180)","v":0},{"$f":"Harmonischen!$C$60/100*SIN(C284*$K$191*PI()/180)","v":0},{"$f":"Harmonischen!$C$61/100*SIN(C284*$L$191*PI()/180)","v":0},{"$f":"Harmonischen!$C$62/100*SIN(C284*$M$191*PI()/180)","v":0},{"$f":"Harmonischen!$C$63/100*SIN($C284*$N$191*PI()/180)","v":0},{"$f":"Harmonischen!$C$64/100*SIN($C284*$O$191*PI()/180)","v":0},{"$f":"Harmonischen!$C$65/100*SIN($C284*$P$191*PI()/180)","v":0},{"$f":"Harmonischen!$C$66/100*SIN($C284*$Q$191*PI()/180)","v":0},{"$f":"Harmonischen!$C$67/100*SIN($C284*$R$191*PI()/180)","v":0},{"$f":"Harmonischen!$C$68/100*SIN($C284*$S$191*PI()/180)","v":0},{"$f":"Harmonischen!$C$69/100*SIN($C284*$T$191*PI()/180)","v":0},{"$f":"Harmonischen!$C$70/100*SIN($C284*$U$191*PI()/180)","v":0},{"$f":"Harmonischen!$C$71/100*SIN($C284*$V$191*PI()/180)","v":0},{"$f":"Harmonischen!$C$72/100*SIN($C284*$W$191*PI()/180)","v":0},{"$f":"Harmonischen!$C$73/100*SIN($C284*$X$191*PI()/180)","v":0},{"$f":"Harmonischen!$C$74/100*SIN($C284*$Y$191*PI()/180)","v":0},{"$f":"Harmonischen!$C$75/100*SIN($C284*$Z$191*PI()/180)","v":0},{"$f":"Harmonischen!$C$76/100*SIN($C284*$AA$191*PI()/180)","v":0},{"$f":"Harmonischen!$C$77/100*SIN($C284*$AB$191*PI()/180)","v":0},null,0.8004864479454411]
[null,null,93,{"$f":"Harmonischen!$C$53/100*SIN(C285*PI()/180)","v":0.99862953475457383},{"$f":"Harmonischen!$C$54/100*SIN(C285*$E$191*PI()/180)","v":0},{"$f":"Harmonischen!$C$55/100*SIN(C285*$F$191*PI()/180)","v":-0.19753766811902757},{"$f":"Harmonischen!$C$56/100*SIN(C285*$G$191*PI()/180)","v":0},{"$f":"Harmonischen!$C$57/100*SIN(C285*$H$191*PI()/180)","v":0},{"$f":"Harmonischen!$C$58/100*SIN(C285*$I$191*PI()/180)","v":0},{"$f":"Harmonischen!$C$59/100*SIN(C285*$J$191*PI()/180)","v":0},{"$f":"Harmonischen!$C$60/100*SIN(C285*$K$191*PI()/180)","v":0},{"$f":"Harmonischen!$C$61/100*SIN(C285*$L$191*PI()/180)","v":0},{"$f":"Harmonischen!$C$62/100*SIN(C285*$M$191*PI()/180)","v":0},{"$f":"Harmonischen!$C$63/100*SIN($C285*$N$191*PI()/180)","v":0},{"$f":"Harmonischen!$C$64/100*SIN($C285*$O$191*PI()/180)","v":0},{"$f":"Harmonischen!$C$65/100*SIN($C285*$P$191*PI()/180)","v":0},{"$f":"Harmonischen!$C$66/100*SIN($C285*$Q$191*PI()/180)","v":0},{"$f":"Harmonischen!$C$67/100*SIN($C285*$R$191*PI()/180)","v":0},{"$f":"Harmonischen!$C$68/100*SIN($C285*$S$191*PI()/180)","v":0},{"$f":"Harmonischen!$C$69/100*SIN($C285*$T$191*PI()/180)","v":0},{"$f":"Harmonischen!$C$70/100*SIN($C285*$U$191*PI()/180)","v":0},{"$f":"Harmonischen!$C$71/100*SIN($C285*$V$191*PI()/180)","v":0},{"$f":"Harmonischen!$C$72/100*SIN($C285*$W$191*PI()/180)","v":0},{"$f":"Harmonischen!$C$73/100*SIN($C285*$X$191*PI()/180)","v":0},{"$f":"Harmonischen!$C$74/100*SIN($C285*$Y$191*PI()/180)","v":0},{"$f":"Harmonischen!$C$75/100*SIN($C285*$Z$191*PI()/180)","v":0},{"$f":"Harmonischen!$C$76/100*SIN($C285*$AA$191*PI()/180)","v":0},{"$f":"Harmonischen!$C$77/100*SIN($C285*$AB$191*PI()/180)","v":0},null,0.80109186663554621]
[null,null,94,{"$f":"Harmonischen!$C$53/100*SIN(C286*PI()/180)","v":0.9975640502598242},{"$f":"Harmonischen!$C$54/100*SIN(C286*$E$191*PI()/180)","v":0},{"$f":"Harmonischen!$C$55/100*SIN(C286*$F$191*PI()/180)","v":-0.19562952014676116},{"$f":"Harmonischen!$C$56/100*SIN(C286*$G$191*PI()/180)","v":0},{"$f":"Harmonischen!$C$57/100*SIN(C286*$H$191*PI()/180)","v":0},{"$f":"Harmonischen!$C$58/100*SIN(C286*$I$191*PI()/180)","v":0},{"$f":"Harmonischen!$C$59/100*SIN(C286*$J$191*PI()/180)","v":0},{"$f":"Harmonischen!$C$60/100*SIN(C286*$K$191*PI()/180)","v":0},{"$f":"Harmonischen!$C$61/100*SIN(C286*$L$191*PI()/180)","v":0},{"$f":"Harmonischen!$C$62/100*SIN(C286*$M$191*PI()/180)","v":0},{"$f":"Harmonischen!$C$63/100*SIN($C286*$N$191*PI()/180)","v":0},{"$f":"Harmonischen!$C$64/100*SIN($C286*$O$191*PI()/180)","v":0},{"$f":"Harmonischen!$C$65/100*SIN($C286*$P$191*PI()/180)","v":0},{"$f":"Harmonischen!$C$66/100*SIN($C286*$Q$191*PI()/180)","v":0},{"$f":"Harmonischen!$C$67/100*SIN($C286*$R$191*PI()/180)","v":0},{"$f":"Harmonischen!$C$68/100*SIN($C286*$S$191*PI()/180)","v":0},{"$f":"Harmonischen!$C$69/100*SIN($C286*$T$191*PI()/180)","v":0},{"$f":"Harmonischen!$C$70/100*SIN($C286*$U$191*PI()/180)","v":0},{"$f":"Harmonischen!$C$71/100*SIN($C286*$V$191*PI()/180)","v":0},{"$f":"Harmonischen!$C$72/100*SIN($C286*$W$191*PI()/180)","v":0},{"$f":"Harmonischen!$C$73/100*SIN($C286*$X$191*PI()/180)","v":0},{"$f":"Harmonischen!$C$74/100*SIN($C286*$Y$191*PI()/180)","v":0},{"$f":"Harmonischen!$C$75/100*SIN($C286*$Z$191*PI()/180)","v":0},{"$f":"Harmonischen!$C$76/100*SIN($C286*$AA$191*PI()/180)","v":0},{"$f":"Harmonischen!$C$77/100*SIN($C286*$AB$191*PI()/180)","v":0},null,0.80193453011306304]
[null,null,95,{"$f":"Harmonischen!$C$53/100*SIN(C287*PI()/180)","v":0.99619469809174555},{"$f":"Harmonischen!$C$54/100*SIN(C287*$E$191*PI()/180)","v":0},{"$f":"Harmonischen!$C$55/100*SIN(C287*$F$191*PI()/180)","v":-0.19318516525781365},{"$f":"Harmonischen!$C$56/100*SIN(C287*$G$191*PI()/180)","v":0},{"$f":"Harmonischen!$C$57/100*SIN(C287*$H$191*PI()/180)","v":0},{"$f":"Harmonischen!$C$58/100*SIN(C287*$I$191*PI()/180)","v":0},{"$f":"Harmonischen!$C$59/100*SIN(C287*$J$191*PI()/180)","v":0},{"$f":"Harmonischen!$C$60/100*SIN(C287*$K$191*PI()/180)","v":0},{"$f":"Harmonischen!$C$61/100*SIN(C287*$L$191*PI()/180)","v":0},{"$f":"Harmonischen!$C$62/100*SIN(C287*$M$191*PI()/180)","v":0},{"$f":"Harmonischen!$C$63/100*SIN($C287*$N$191*PI()/180)","v":0},{"$f":"Harmonischen!$C$64/100*SIN($C287*$O$191*PI()/180)","v":0},{"$f":"Harmonischen!$C$65/100*SIN($C287*$P$191*PI()/180)","v":0},{"$f":"Harmonischen!$C$66/100*SIN($C287*$Q$191*PI()/180)","v":0},{"$f":"Harmonischen!$C$67/100*SIN($C287*$R$191*PI()/180)","v":0},{"$f":"Harmonischen!$C$68/100*SIN($C287*$S$191*PI()/180)","v":0},{"$f":"Harmonischen!$C$69/100*SIN($C287*$T$191*PI()/180)","v":0},{"$f":"Harmonischen!$C$70/100*SIN($C287*$U$191*PI()/180)","v":0},{"$f":"Harmonischen!$C$71/100*SIN($C287*$V$191*PI()/180)","v":0},{"$f":"Harmonischen!$C$72/100*SIN($C287*$W$191*PI()/180)","v":0},{"$f":"Harmonischen!$C$73/100*SIN($C287*$X$191*PI()/180)","v":0},{"$f":"Harmonischen!$C$74/100*SIN($C287*$Y$191*PI()/180)","v":0},{"$f":"Harmonischen!$C$75/100*SIN($C287*$Z$191*PI()/180)","v":0},{"$f":"Harmonischen!$C$76/100*SIN($C287*$AA$191*PI()/180)","v":0},{"$f":"Harmonischen!$C$77/100*SIN($C287*$AB$191*PI()/180)","v":0},null,0.80300953283393195]
[null,null,96,{"$f":"Harmonischen!$C$53/100*SIN(C288*PI()/180)","v":0.9945218953682734},{"$f":"Harmonischen!$C$54/100*SIN(C288*$E$191*PI()/180)","v":0},{"$f":"Harmonischen!$C$55/100*SIN(C288*$F$191*PI()/180)","v":-0.19021130325903074},{"$f":"Harmonischen!$C$56/100*SIN(C288*$G$191*PI()/180)","v":0},{"$f":"Harmonischen!$C$57/100*SIN(C288*$H$191*PI()/180)","v":0},{"$f":"Harmonischen!$C$58/100*SIN(C288*$I$191*PI()/180)","v":0},{"$f":"Harmonischen!$C$59/100*SIN(C288*$J$191*PI()/180)","v":0},{"$f":"Harmonischen!$C$60/100*SIN(C288*$K$191*PI()/180)","v":0},{"$f":"Harmonischen!$C$61/100*SIN(C288*$L$191*PI()/180)","v":0},{"$f":"Harmonischen!$C$62/100*SIN(C288*$M$191*PI()/180)","v":0},{"$f":"Harmonischen!$C$63/100*SIN($C288*$N$191*PI()/180)","v":0},{"$f":"Harmonischen!$C$64/100*SIN($C288*$O$191*PI()/180)","v":0},{"$f":"Harmonischen!$C$65/100*SIN($C288*$P$191*PI()/180)","v":0},{"$f":"Harmonischen!$C$66/100*SIN($C288*$Q$191*PI()/180)","v":0},{"$f":"Harmonischen!$C$67/100*SIN($C288*$R$191*PI()/180)","v":0},{"$f":"Harmonischen!$C$68/100*SIN($C288*$S$191*PI()/180)","v":0},{"$f":"Harmonischen!$C$69/100*SIN($C288*$T$191*PI()/180)","v":0},{"$f":"Harmonischen!$C$70/100*SIN($C288*$U$191*PI()/180)","v":0},{"$f":"Harmonischen!$C$71/100*SIN($C288*$V$191*PI()/180)","v":0},{"$f":"Harmonischen!$C$72/100*SIN($C288*$W$191*PI()/180)","v":0},{"$f":"Harmonischen!$C$73/100*SIN($C288*$X$191*PI()/180)","v":0},{"$f":"Harmonischen!$C$74/100*SIN($C288*$Y$191*PI()/180)","v":0},{"$f":"Harmonischen!$C$75/100*SIN($C288*$Z$191*PI()/180)","v":0},{"$f":"Harmonischen!$C$76/100*SIN($C288*$AA$191*PI()/180)","v":0},{"$f":"Harmonischen!$C$77/100*SIN($C288*$AB$191*PI()/180)","v":0},null,0.80431059210924261]
[null,null,97,{"$f":"Harmonischen!$C$53/100*SIN(C289*PI()/180)","v":0.99254615164132209},{"$f":"Harmonischen!$C$54/100*SIN(C289*$E$191*PI()/180)","v":0},{"$f":"Harmonischen!$C$55/100*SIN(C289*$F$191*PI()/180)","v":-0.18671608529944042},{"$f":"Harmonischen!$C$56/100*SIN(C289*$G$191*PI()/180)","v":0},{"$f":"Harmonischen!$C$57/100*SIN(C289*$H$191*PI()/180)","v":0},{"$f":"Harmonischen!$C$58/100*SIN(C289*$I$191*PI()/180)","v":0},{"$f":"Harmonischen!$C$59/100*SIN(C289*$J$191*PI()/180)","v":0},{"$f":"Harmonischen!$C$60/100*SIN(C289*$K$191*PI()/180)","v":0},{"$f":"Harmonischen!$C$61/100*SIN(C289*$L$191*PI()/180)","v":0},{"$f":"Harmonischen!$C$62/100*SIN(C289*$M$191*PI()/180)","v":0},{"$f":"Harmonischen!$C$63/100*SIN($C289*$N$191*PI()/180)","v":0},{"$f":"Harmonischen!$C$64/100*SIN($C289*$O$191*PI()/180)","v":0},{"$f":"Harmonischen!$C$65/100*SIN($C289*$P$191*PI()/180)","v":0},{"$f":"Harmonischen!$C$66/100*SIN($C289*$Q$191*PI()/180)","v":0},{"$f":"Harmonischen!$C$67/100*SIN($C289*$R$191*PI()/180)","v":0},{"$f":"Harmonischen!$C$68/100*SIN($C289*$S$191*PI()/180)","v":0},{"$f":"Harmonischen!$C$69/100*SIN($C289*$T$191*PI()/180)","v":0},{"$f":"Harmonischen!$C$70/100*SIN($C289*$U$191*PI()/180)","v":0},{"$f":"Harmonischen!$C$71/100*SIN($C289*$V$191*PI()/180)","v":0},{"$f":"Harmonischen!$C$72/100*SIN($C289*$W$191*PI()/180)","v":0},{"$f":"Harmonischen!$C$73/100*SIN($C289*$X$191*PI()/180)","v":0},{"$f":"Harmonischen!$C$74/100*SIN($C289*$Y$191*PI()/180)","v":0},{"$f":"Harmonischen!$C$75/100*SIN($C289*$Z$191*PI()/180)","v":0},{"$f":"Harmonischen!$C$76/100*SIN($C289*$AA$191*PI()/180)","v":0},{"$f":"Harmonischen!$C$77/100*SIN($C289*$AB$191*PI()/180)","v":0},null,0.8058300663418817]
[null,null,98,{"$f":"Harmonischen!$C$53/100*SIN(C290*PI()/180)","v":0.99026806874157036},{"$f":"Harmonischen!$C$54/100*SIN(C290*$E$191*PI()/180)","v":0},{"$f":"Harmonischen!$C$55/100*SIN(C290*$F$191*PI()/180)","v":-0.18270909152852016},{"$f":"Harmonischen!$C$56/100*SIN(C290*$G$191*PI()/180)","v":0},{"$f":"Harmonischen!$C$57/100*SIN(C290*$H$191*PI()/180)","v":0},{"$f":"Harmonischen!$C$58/100*SIN(C290*$I$191*PI()/180)","v":0},{"$f":"Harmonischen!$C$59/100*SIN(C290*$J$191*PI()/180)","v":0},{"$f":"Harmonischen!$C$60/100*SIN(C290*$K$191*PI()/180)","v":0},{"$f":"Harmonischen!$C$61/100*SIN(C290*$L$191*PI()/180)","v":0},{"$f":"Harmonischen!$C$62/100*SIN(C290*$M$191*PI()/180)","v":0},{"$f":"Harmonischen!$C$63/100*SIN($C290*$N$191*PI()/180)","v":0},{"$f":"Harmonischen!$C$64/100*SIN($C290*$O$191*PI()/180)","v":0},{"$f":"Harmonischen!$C$65/100*SIN($C290*$P$191*PI()/180)","v":0},{"$f":"Harmonischen!$C$66/100*SIN($C290*$Q$191*PI()/180)","v":0},{"$f":"Harmonischen!$C$67/100*SIN($C290*$R$191*PI()/180)","v":0},{"$f":"Harmonischen!$C$68/100*SIN($C290*$S$191*PI()/180)","v":0},{"$f":"Harmonischen!$C$69/100*SIN($C290*$T$191*PI()/180)","v":0},{"$f":"Harmonischen!$C$70/100*SIN($C290*$U$191*PI()/180)","v":0},{"$f":"Harmonischen!$C$71/100*SIN($C290*$V$191*PI()/180)","v":0},{"$f":"Harmonischen!$C$72/100*SIN($C290*$W$191*PI()/180)","v":0},{"$f":"Harmonischen!$C$73/100*SIN($C290*$X$191*PI()/180)","v":0},{"$f":"Harmonischen!$C$74/100*SIN($C290*$Y$191*PI()/180)","v":0},{"$f":"Harmonischen!$C$75/100*SIN($C290*$Z$191*PI()/180)","v":0},{"$f":"Harmonischen!$C$76/100*SIN($C290*$AA$191*PI()/180)","v":0},{"$f":"Harmonischen!$C$77/100*SIN($C290*$AB$191*PI()/180)","v":0},null,0.80755897721305026]
[null,null,99,{"$f":"Harmonischen!$C$53/100*SIN(C291*PI()/180)","v":0.98768834059513766},{"$f":"Harmonischen!$C$54/100*SIN(C291*$E$191*PI()/180)","v":0},{"$f":"Harmonischen!$C$55/100*SIN(C291*$F$191*PI()/180)","v":-0.1782013048376736},{"$f":"Harmonischen!$C$56/100*SIN(C291*$G$191*PI()/180)","v":0},{"$f":"Harmonischen!$C$57/100*SIN(C291*$H$191*PI()/180)","v":0},{"$f":"Harmonischen!$C$58/100*SIN(C291*$I$191*PI()/180)","v":0},{"$f":"Harmonischen!$C$59/100*SIN(C291*$J$191*PI()/180)","v":0},{"$f":"Harmonischen!$C$60/100*SIN(C291*$K$191*PI()/180)","v":0},{"$f":"Harmonischen!$C$61/100*SIN(C291*$L$191*PI()/180)","v":0},{"$f":"Harmonischen!$C$62/100*SIN(C291*$M$191*PI()/180)","v":0},{"$f":"Harmonischen!$C$63/100*SIN($C291*$N$191*PI()/180)","v":0},{"$f":"Harmonischen!$C$64/100*SIN($C291*$O$191*PI()/180)","v":0},{"$f":"Harmonischen!$C$65/100*SIN($C291*$P$191*PI()/180)","v":0},{"$f":"Harmonischen!$C$66/100*SIN($C291*$Q$191*PI()/180)","v":0},{"$f":"Harmonischen!$C$67/100*SIN($C291*$R$191*PI()/180)","v":0},{"$f":"Harmonischen!$C$68/100*SIN($C291*$S$191*PI()/180)","v":0},{"$f":"Harmonischen!$C$69/100*SIN($C291*$T$191*PI()/180)","v":0},{"$f":"Harmonischen!$C$70/100*SIN($C291*$U$191*PI()/180)","v":0},{"$f":"Harmonischen!$C$71/100*SIN($C291*$V$191*PI()/180)","v":0},{"$f":"Harmonischen!$C$72/100*SIN($C291*$W$191*PI()/180)","v":0},{"$f":"Harmonischen!$C$73/100*SIN($C291*$X$191*PI()/180)","v":0},{"$f":"Harmonischen!$C$74/100*SIN($C291*$Y$191*PI()/180)","v":0},{"$f":"Harmonischen!$C$75/100*SIN($C291*$Z$191*PI()/180)","v":0},{"$f":"Harmonischen!$C$76/100*SIN($C291*$AA$191*PI()/180)","v":0},{"$f":"Harmonischen!$C$77/100*SIN($C291*$AB$191*PI()/180)","v":0},null,0.80948703575746406]
[null,null,100,{"$f":"Harmonischen!$C$53/100*SIN(C292*PI()/180)","v":0.98480775301220802},{"$f":"Harmonischen!$C$54/100*SIN(C292*$E$191*PI()/180)","v":0},{"$f":"Harmonischen!$C$55/100*SIN(C292*$F$191*PI()/180)","v":-0.17320508075688773},{"$f":"Harmonischen!$C$56/100*SIN(C292*$G$191*PI()/180)","v":0},{"$f":"Harmonischen!$C$57/100*SIN(C292*$H$191*PI()/180)","v":0},{"$f":"Harmonischen!$C$58/100*SIN(C292*$I$191*PI()/180)","v":0},{"$f":"Harmonischen!$C$59/100*SIN(C292*$J$191*PI()/180)","v":0},{"$f":"Harmonischen!$C$60/100*SIN(C292*$K$191*PI()/180)","v":0},{"$f":"Harmonischen!$C$61/100*SIN(C292*$L$191*PI()/180)","v":0},{"$f":"Harmonischen!$C$62/100*SIN(C292*$M$191*PI()/180)","v":0},{"$f":"Harmonischen!$C$63/100*SIN($C292*$N$191*PI()/180)","v":0},{"$f":"Harmonischen!$C$64/100*SIN($C292*$O$191*PI()/180)","v":0},{"$f":"Harmonischen!$C$65/100*SIN($C292*$P$191*PI()/180)","v":0},{"$f":"Harmonischen!$C$66/100*SIN($C292*$Q$191*PI()/180)","v":0},{"$f":"Harmonischen!$C$67/100*SIN($C292*$R$191*PI()/180)","v":0},{"$f":"Harmonischen!$C$68/100*SIN($C292*$S$191*PI()/180)","v":0},{"$f":"Harmonischen!$C$69/100*SIN($C292*$T$191*PI()/180)","v":0},{"$f":"Harmonischen!$C$70/100*SIN($C292*$U$191*PI()/180)","v":0},{"$f":"Harmonischen!$C$71/100*SIN($C292*$V$191*PI()/180)","v":0},{"$f":"Harmonischen!$C$72/100*SIN($C292*$W$191*PI()/180)","v":0},{"$f":"Harmonischen!$C$73/100*SIN($C292*$X$191*PI()/180)","v":0},{"$f":"Harmonischen!$C$74/100*SIN($C292*$Y$191*PI()/180)","v":0},{"$f":"Harmonischen!$C$75/100*SIN($C292*$Z$191*PI()/180)","v":0},{"$f":"Harmonischen!$C$76/100*SIN($C292*$AA$191*PI()/180)","v":0},{"$f":"Harmonischen!$C$77/100*SIN($C292*$AB$191*PI()/180)","v":0},null,0.81160267225532023]
[null,null,101,{"$f":"Harmonischen!$C$53/100*SIN(C293*PI()/180)","v":0.98162718344766398},{"$f":"Harmonischen!$C$54/100*SIN(C293*$E$191*PI()/180)","v":0},{"$f":"Harmonischen!$C$55/100*SIN(C293*$F$191*PI()/180)","v":-0.16773411358908485},{"$f":"Harmonischen!$C$56/100*SIN(C293*$G$191*PI()/180)","v":0},{"$f":"Harmonischen!$C$57/100*SIN(C293*$H$191*PI()/180)","v":0},{"$f":"Harmonischen!$C$58/100*SIN(C293*$I$191*PI()/180)","v":0},{"$f":"Harmonischen!$C$59/100*SIN(C293*$J$191*PI()/180)","v":0},{"$f":"Harmonischen!$C$60/100*SIN(C293*$K$191*PI()/180)","v":0},{"$f":"Harmonischen!$C$61/100*SIN(C293*$L$191*PI()/180)","v":0},{"$f":"Harmonischen!$C$62/100*SIN(C293*$M$191*PI()/180)","v":0},{"$f":"Harmonischen!$C$63/100*SIN($C293*$N$191*PI()/180)","v":0},{"$f":"Harmonischen!$C$64/100*SIN($C293*$O$191*PI()/180)","v":0},{"$f":"Harmonischen!$C$65/100*SIN($C293*$P$191*PI()/180)","v":0},{"$f":"Harmonischen!$C$66/100*SIN($C293*$Q$191*PI()/180)","v":0},{"$f":"Harmonischen!$C$67/100*SIN($C293*$R$191*PI()/180)","v":0},{"$f":"Harmonischen!$C$68/100*SIN($C293*$S$191*PI()/180)","v":0},{"$f":"Harmonischen!$C$69/100*SIN($C293*$T$191*PI()/180)","v":0},{"$f":"Harmonischen!$C$70/100*SIN($C293*$U$191*PI()/180)","v":0},{"$f":"Harmonischen!$C$71/100*SIN($C293*$V$191*PI()/180)","v":0},{"$f":"Harmonischen!$C$72/100*SIN($C293*$W$191*PI()/180)","v":0},{"$f":"Harmonischen!$C$73/100*SIN($C293*$X$191*PI()/180)","v":0},{"$f":"Harmonischen!$C$74/100*SIN($C293*$Y$191*PI()/180)","v":0},{"$f":"Harmonischen!$C$75/100*SIN($C293*$Z$191*PI()/180)","v":0},{"$f":"Harmonischen!$C$76/100*SIN($C293*$AA$191*PI()/180)","v":0},{"$f":"Harmonischen!$C$77/100*SIN($C293*$AB$191*PI()/180)","v":0},null,0.81389306985857912]
[null,null,102,{"$f":"Harmonischen!$C$53/100*SIN(C294*PI()/180)","v":0.97814760073380569},{"$f":"Harmonischen!$C$54/100*SIN(C294*$E$191*PI()/180)","v":0},{"$f":"Harmonischen!$C$55/100*SIN(C294*$F$191*PI()/180)","v":-0.16180339887498951},{"$f":"Harmonischen!$C$56/100*SIN(C294*$G$191*PI()/180)","v":0},{"$f":"Harmonischen!$C$57/100*SIN(C294*$H$191*PI()/180)","v":0},{"$f":"Harmonischen!$C$58/100*SIN(C294*$I$191*PI()/180)","v":0},{"$f":"Harmonischen!$C$59/100*SIN(C294*$J$191*PI()/180)","v":0},{"$f":"Harmonischen!$C$60/100*SIN(C294*$K$191*PI()/180)","v":0},{"$f":"Harmonischen!$C$61/100*SIN(C294*$L$191*PI()/180)","v":0},{"$f":"Harmonischen!$C$62/100*SIN(C294*$M$191*PI()/180)","v":0},{"$f":"Harmonischen!$C$63/100*SIN($C294*$N$191*PI()/180)","v":0},{"$f":"Harmonischen!$C$64/100*SIN($C294*$O$191*PI()/180)","v":0},{"$f":"Harmonischen!$C$65/100*SIN($C294*$P$191*PI()/180)","v":0},{"$f":"Harmonischen!$C$66/100*SIN($C294*$Q$191*PI()/180)","v":0},{"$f":"Harmonischen!$C$67/100*SIN($C294*$R$191*PI()/180)","v":0},{"$f":"Harmonischen!$C$68/100*SIN($C294*$S$191*PI()/180)","v":0},{"$f":"Harmonischen!$C$69/100*SIN($C294*$T$191*PI()/180)","v":0},{"$f":"Harmonischen!$C$70/100*SIN($C294*$U$191*PI()/180)","v":0},{"$f":"Harmonischen!$C$71/100*SIN($C294*$V$191*PI()/180)","v":0},{"$f":"Harmonischen!$C$72/100*SIN($C294*$W$191*PI()/180)","v":0},{"$f":"Harmonischen!$C$73/100*SIN($C294*$X$191*PI()/180)","v":0},{"$f":"Harmonischen!$C$74/100*SIN($C294*$Y$191*PI()/180)","v":0},{"$f":"Harmonischen!$C$75/100*SIN($C294*$Z$191*PI()/180)","v":0},{"$f":"Harmonischen!$C$76/100*SIN($C294*$AA$191*PI()/180)","v":0},{"$f":"Harmonischen!$C$77/100*SIN($C294*$AB$191*PI()/180)","v":0},null,0.81634420185881618]
[null,null,103,{"$f":"Harmonischen!$C$53/100*SIN(C295*PI()/180)","v":0.97437006478523525},{"$f":"Harmonischen!$C$54/100*SIN(C295*$E$191*PI()/180)","v":0},{"$f":"Harmonischen!$C$55/100*SIN(C295*$F$191*PI()/180)","v":-0.15542919229139418},{"$f":"Harmonischen!$C$56/100*SIN(C295*$G$191*PI()/180)","v":0},{"$f":"Harmonischen!$C$57/100*SIN(C295*$H$191*PI()/180)","v":0},{"$f":"Harmonischen!$C$58/100*SIN(C295*$I$191*PI()/180)","v":0},{"$f":"Harmonischen!$C$59/100*SIN(C295*$J$191*PI()/180)","v":0},{"$f":"Harmonischen!$C$60/100*SIN(C295*$K$191*PI()/180)","v":0},{"$f":"Harmonischen!$C$61/100*SIN(C295*$L$191*PI()/180)","v":0},{"$f":"Harmonischen!$C$62/100*SIN(C295*$M$191*PI()/180)","v":0},{"$f":"Harmonischen!$C$63/100*SIN($C295*$N$191*PI()/180)","v":0},{"$f":"Harmonischen!$C$64/100*SIN($C295*$O$191*PI()/180)","v":0},{"$f":"Harmonischen!$C$65/100*SIN($C295*$P$191*PI()/180)","v":0},{"$f":"Harmonischen!$C$66/100*SIN($C295*$Q$191*PI()/180)","v":0},{"$f":"Harmonischen!$C$67/100*SIN($C295*$R$191*PI()/180)","v":0},{"$f":"Harmonischen!$C$68/100*SIN($C295*$S$191*PI()/180)","v":0},{"$f":"Harmonischen!$C$69/100*SIN($C295*$T$191*PI()/180)","v":0},{"$f":"Harmonischen!$C$70/100*SIN($C295*$U$191*PI()/180)","v":0},{"$f":"Harmonischen!$C$71/100*SIN($C295*$V$191*PI()/180)","v":0},{"$f":"Harmonischen!$C$72/100*SIN($C295*$W$191*PI()/180)","v":0},{"$f":"Harmonischen!$C$73/100*SIN($C295*$X$191*PI()/180)","v":0},{"$f":"Harmonischen!$C$74/100*SIN($C295*$Y$191*PI()/180)","v":0},{"$f":"Harmonischen!$C$75/100*SIN($C295*$Z$191*PI()/180)","v":0},{"$f":"Harmonischen!$C$76/100*SIN($C295*$AA$191*PI()/180)","v":0},{"$f":"Harmonischen!$C$77/100*SIN($C295*$AB$191*PI()/180)","v":0},null,0.81894087249384107]
[null,null,104,{"$f":"Harmonischen!$C$53/100*SIN(C296*PI()/180)","v":0.97029572627599647},{"$f":"Harmonischen!$C$54/100*SIN(C296*$E$191*PI()/180)","v":0},{"$f":"Harmonischen!$C$55/100*SIN(C296*$F$191*PI()/180)","v":-0.14862896509547893},{"$f":"Harmonischen!$C$56/100*SIN(C296*$G$191*PI()/180)","v":0},{"$f":"Harmonischen!$C$57/100*SIN(C296*$H$191*PI()/180)","v":0},{"$f":"Harmonischen!$C$58/100*SIN(C296*$I$191*PI()/180)","v":0},{"$f":"Harmonischen!$C$59/100*SIN(C296*$J$191*PI()/180)","v":0},{"$f":"Harmonischen!$C$60/100*SIN(C296*$K$191*PI()/180)","v":0},{"$f":"Harmonischen!$C$61/100*SIN(C296*$L$191*PI()/180)","v":0},{"$f":"Harmonischen!$C$62/100*SIN(C296*$M$191*PI()/180)","v":0},{"$f":"Harmonischen!$C$63/100*SIN($C296*$N$191*PI()/180)","v":0},{"$f":"Harmonischen!$C$64/100*SIN($C296*$O$191*PI()/180)","v":0},{"$f":"Harmonischen!$C$65/100*SIN($C296*$P$191*PI()/180)","v":0},{"$f":"Harmonischen!$C$66/100*SIN($C296*$Q$191*PI()/180)","v":0},{"$f":"Harmonischen!$C$67/100*SIN($C296*$R$191*PI()/180)","v":0},{"$f":"Harmonischen!$C$68/100*SIN($C296*$S$191*PI()/180)","v":0},{"$f":"Harmonischen!$C$69/100*SIN($C296*$T$191*PI()/180)","v":0},{"$f":"Harmonischen!$C$70/100*SIN($C296*$U$191*PI()/180)","v":0},{"$f":"Harmonischen!$C$71/100*SIN($C296*$V$191*PI()/180)","v":0},{"$f":"Harmonischen!$C$72/100*SIN($C296*$W$191*PI()/180)","v":0},{"$f":"Harmonischen!$C$73/100*SIN($C296*$X$191*PI()/180)","v":0},{"$f":"Harmonischen!$C$74/100*SIN($C296*$Y$191*PI()/180)","v":0},{"$f":"Harmonischen!$C$75/100*SIN($C296*$Z$191*PI()/180)","v":0},{"$f":"Harmonischen!$C$76/100*SIN($C296*$AA$191*PI()/180)","v":0},{"$f":"Harmonischen!$C$77/100*SIN($C296*$AB$191*PI()/180)","v":0},null,0.82166676118051751]
[null,null,105,{"$f":"Harmonischen!$C$53/100*SIN(C297*PI()/180)","v":0.96592582628906831},{"$f":"Harmonischen!$C$54/100*SIN(C297*$E$191*PI()/180)","v":0},{"$f":"Harmonischen!$C$55/100*SIN(C297*$F$191*PI()/180)","v":-0.14142135623730953},{"$f":"Harmonischen!$C$56/100*SIN(C297*$G$191*PI()/180)","v":0},{"$f":"Harmonischen!$C$57/100*SIN(C297*$H$191*PI()/180)","v":0},{"$f":"Harmonischen!$C$58/100*SIN(C297*$I$191*PI()/180)","v":0},{"$f":"Harmonischen!$C$59/100*SIN(C297*$J$191*PI()/180)","v":0},{"$f":"Harmonischen!$C$60/100*SIN(C297*$K$191*PI()/180)","v":0},{"$f":"Harmonischen!$C$61/100*SIN(C297*$L$191*PI()/180)","v":0},{"$f":"Harmonischen!$C$62/100*SIN(C297*$M$191*PI()/180)","v":0},{"$f":"Harmonischen!$C$63/100*SIN($C297*$N$191*PI()/180)","v":0},{"$f":"Harmonischen!$C$64/100*SIN($C297*$O$191*PI()/180)","v":0},{"$f":"Harmonischen!$C$65/100*SIN($C297*$P$191*PI()/180)","v":0},{"$f":"Harmonischen!$C$66/100*SIN($C297*$Q$191*PI()/180)","v":0},{"$f":"Harmonischen!$C$67/100*SIN($C297*$R$191*PI()/180)","v":0},{"$f":"Harmonischen!$C$68/100*SIN($C297*$S$191*PI()/180)","v":0},{"$f":"Harmonischen!$C$69/100*SIN($C297*$T$191*PI()/180)","v":0},{"$f":"Harmonischen!$C$70/100*SIN($C297*$U$191*PI()/180)","v":0},{"$f":"Harmonischen!$C$71/100*SIN($C297*$V$191*PI()/180)","v":0},{"$f":"Harmonischen!$C$72/100*SIN($C297*$W$191*PI()/180)","v":0},{"$f":"Harmonischen!$C$73/100*SIN($C297*$X$191*PI()/180)","v":0},{"$f":"Harmonischen!$C$74/100*SIN($C297*$Y$191*PI()/180)","v":0},{"$f":"Harmonischen!$C$75/100*SIN($C297*$Z$191*PI()/180)","v":0},{"$f":"Harmonischen!$C$76/100*SIN($C297*$AA$191*PI()/180)","v":0},{"$f":"Harmonischen!$C$77/100*SIN($C297*$AB$191*PI()/180)","v":0},null,0.82450447005175875]
[null,null,106,{"$f":"Harmonischen!$C$53/100*SIN(C298*PI()/180)","v":0.96126169593831889},{"$f":"Harmonischen!$C$54/100*SIN(C298*$E$191*PI()/180)","v":0},{"$f":"Harmonischen!$C$55/100*SIN(C298*$F$191*PI()/180)","v":-0.13382612127177163},{"$f":"Harmonischen!$C$56/100*SIN(C298*$G$191*PI()/180)","v":0},{"$f":"Harmonischen!$C$57/100*SIN(C298*$H$191*PI()/180)","v":0},{"$f":"Harmonischen!$C$58/100*SIN(C298*$I$191*PI()/180)","v":0},{"$f":"Harmonischen!$C$59/100*SIN(C298*$J$191*PI()/180)","v":0},{"$f":"Harmonischen!$C$60/100*SIN(C298*$K$191*PI()/180)","v":0},{"$f":"Harmonischen!$C$61/100*SIN(C298*$L$191*PI()/180)","v":0},{"$f":"Harmonischen!$C$62/100*SIN(C298*$M$191*PI()/180)","v":0},{"$f":"Harmonischen!$C$63/100*SIN($C298*$N$191*PI()/180)","v":0},{"$f":"Harmonischen!$C$64/100*SIN($C298*$O$191*PI()/180)","v":0},{"$f":"Harmonischen!$C$65/100*SIN($C298*$P$191*PI()/180)","v":0},{"$f":"Harmonischen!$C$66/100*SIN($C298*$Q$191*PI()/180)","v":0},{"$f":"Harmonischen!$C$67/100*SIN($C298*$R$191*PI()/180)","v":0},{"$f":"Harmonischen!$C$68/100*SIN($C298*$S$191*PI()/180)","v":0},{"$f":"Harmonischen!$C$69/100*SIN($C298*$T$191*PI()/180)","v":0},{"$f":"Harmonischen!$C$70/100*SIN($C298*$U$191*PI()/180)","v":0},{"$f":"Harmonischen!$C$71/100*SIN($C298*$V$191*PI()/180)","v":0},{"$f":"Harmonischen!$C$72/100*SIN($C298*$W$191*PI()/180)","v":0},{"$f":"Harmonischen!$C$73/100*SIN($C298*$X$191*PI()/180)","v":0},{"$f":"Harmonischen!$C$74/100*SIN($C298*$Y$191*PI()/180)","v":0},{"$f":"Harmonischen!$C$75/100*SIN($C298*$Z$191*PI()/180)","v":0},{"$f":"Harmonischen!$C$76/100*SIN($C298*$AA$191*PI()/180)","v":0},{"$f":"Harmonischen!$C$77/100*SIN($C298*$AB$191*PI()/180)","v":0},null,0.82743557466654727]
[null,null,107,{"$f":"Harmonischen!$C$53/100*SIN(C299*PI()/180)","v":0.95630475596303555},{"$f":"Harmonischen!$C$54/100*SIN(C299*$E$191*PI()/180)","v":0},{"$f":"Harmonischen!$C$55/100*SIN(C299*$F$191*PI()/180)","v":-0.12586407820996756},{"$f":"Harmonischen!$C$56/100*SIN(C299*$G$191*PI()/180)","v":0},{"$f":"Harmonischen!$C$57/100*SIN(C299*$H$191*PI()/180)","v":0},{"$f":"Harmonischen!$C$58/100*SIN(C299*$I$191*PI()/180)","v":0},{"$f":"Harmonischen!$C$59/100*SIN(C299*$J$191*PI()/180)","v":0},{"$f":"Harmonischen!$C$60/100*SIN(C299*$K$191*PI()/180)","v":0},{"$f":"Harmonischen!$C$61/100*SIN(C299*$L$191*PI()/180)","v":0},{"$f":"Harmonischen!$C$62/100*SIN(C299*$M$191*PI()/180)","v":0},{"$f":"Harmonischen!$C$63/100*SIN($C299*$N$191*PI()/180)","v":0},{"$f":"Harmonischen!$C$64/100*SIN($C299*$O$191*PI()/180)","v":0},{"$f":"Harmonischen!$C$65/100*SIN($C299*$P$191*PI()/180)","v":0},{"$f":"Harmonischen!$C$66/100*SIN($C299*$Q$191*PI()/180)","v":0},{"$f":"Harmonischen!$C$67/100*SIN($C299*$R$191*PI()/180)","v":0},{"$f":"Harmonischen!$C$68/100*SIN($C299*$S$191*PI()/180)","v":0},{"$f":"Harmonischen!$C$69/100*SIN($C299*$T$191*PI()/180)","v":0},{"$f":"Harmonischen!$C$70/100*SIN($C299*$U$191*PI()/180)","v":0},{"$f":"Harmonischen!$C$71/100*SIN($C299*$V$191*PI()/180)","v":0},{"$f":"Harmonischen!$C$72/100*SIN($C299*$W$191*PI()/180)","v":0},{"$f":"Harmonischen!$C$73/100*SIN($C299*$X$191*PI()/180)","v":0},{"$f":"Harmonischen!$C$74/100*SIN($C299*$Y$191*PI()/180)","v":0},{"$f":"Harmonischen!$C$75/100*SIN($C299*$Z$191*PI()/180)","v":0},{"$f":"Harmonischen!$C$76/100*SIN($C299*$AA$191*PI()/180)","v":0},{"$f":"Harmonischen!$C$77/100*SIN($C299*$AB$191*PI()/180)","v":0},null,0.83044067775306796]
[null,null,108,{"$f":"Harmonischen!$C$53/100*SIN(C300*PI()/180)","v":0.95105651629515364},{"$f":"Harmonischen!$C$54/100*SIN(C300*$E$191*PI()/180)","v":0},{"$f":"Harmonischen!$C$55/100*SIN(C300*$F$191*PI()/180)","v":-0.11755705045849468},{"$f":"Harmonischen!$C$56/100*SIN(C300*$G$191*PI()/180)","v":0},{"$f":"Harmonischen!$C$57/100*SIN(C300*$H$191*PI()/180)","v":0},{"$f":"Harmonischen!$C$58/100*SIN(C300*$I$191*PI()/180)","v":0},{"$f":"Harmonischen!$C$59/100*SIN(C300*$J$191*PI()/180)","v":0},{"$f":"Harmonischen!$C$60/100*SIN(C300*$K$191*PI()/180)","v":0},{"$f":"Harmonischen!$C$61/100*SIN(C300*$L$191*PI()/180)","v":0},{"$f":"Harmonischen!$C$62/100*SIN(C300*$M$191*PI()/180)","v":0},{"$f":"Harmonischen!$C$63/100*SIN($C300*$N$191*PI()/180)","v":0},{"$f":"Harmonischen!$C$64/100*SIN($C300*$O$191*PI()/180)","v":0},{"$f":"Harmonischen!$C$65/100*SIN($C300*$P$191*PI()/180)","v":0},{"$f":"Harmonischen!$C$66/100*SIN($C300*$Q$191*PI()/180)","v":0},{"$f":"Harmonischen!$C$67/100*SIN($C300*$R$191*PI()/180)","v":0},{"$f":"Harmonischen!$C$68/100*SIN($C300*$S$191*PI()/180)","v":0},{"$f":"Harmonischen!$C$69/100*SIN($C300*$T$191*PI()/180)","v":0},{"$f":"Harmonischen!$C$70/100*SIN($C300*$U$191*PI()/180)","v":0},{"$f":"Harmonischen!$C$71/100*SIN($C300*$V$191*PI()/180)","v":0},{"$f":"Harmonischen!$C$72/100*SIN($C300*$W$191*PI()/180)","v":0},{"$f":"Harmonischen!$C$73/100*SIN($C300*$X$191*PI()/180)","v":0},{"$f":"Harmonischen!$C$74/100*SIN($C300*$Y$191*PI()/180)","v":0},{"$f":"Harmonischen!$C$75/100*SIN($C300*$Z$191*PI()/180)","v":0},{"$f":"Harmonischen!$C$76/100*SIN($C300*$AA$191*PI()/180)","v":0},{"$f":"Harmonischen!$C$77/100*SIN($C300*$AB$191*PI()/180)","v":0},null,0.83349946583665901]
[null,null,109,{"$f":"Harmonischen!$C$53/100*SIN(C301*PI()/180)","v":0.94551857559931685},{"$f":"Harmonischen!$C$54/100*SIN(C301*$E$191*PI()/180)","v":0},{"$f":"Harmonischen!$C$55/100*SIN(C301*$F$191*PI()/180)","v":-0.1089278070030054},{"$f":"Harmonischen!$C$56/100*SIN(C301*$G$191*PI()/180)","v":0},{"$f":"Harmonischen!$C$57/100*SIN(C301*$H$191*PI()/180)","v":0},{"$f":"Harmonischen!$C$58/100*SIN(C301*$I$191*PI()/180)","v":0},{"$f":"Harmonischen!$C$59/100*SIN(C301*$J$191*PI()/180)","v":0},{"$f":"Harmonischen!$C$60/100*SIN(C301*$K$191*PI()/180)","v":0},{"$f":"Harmonischen!$C$61/100*SIN(C301*$L$191*PI()/180)","v":0},{"$f":"Harmonischen!$C$62/100*SIN(C301*$M$191*PI()/180)","v":0},{"$f":"Harmonischen!$C$63/100*SIN($C301*$N$191*PI()/180)","v":0},{"$f":"Harmonischen!$C$64/100*SIN($C301*$O$191*PI()/180)","v":0},{"$f":"Harmonischen!$C$65/100*SIN($C301*$P$191*PI()/180)","v":0},{"$f":"Harmonischen!$C$66/100*SIN($C301*$Q$191*PI()/180)","v":0},{"$f":"Harmonischen!$C$67/100*SIN($C301*$R$191*PI()/180)","v":0},{"$f":"Harmonischen!$C$68/100*SIN($C301*$S$191*PI()/180)","v":0},{"$f":"Harmonischen!$C$69/100*SIN($C301*$T$191*PI()/180)","v":0},{"$f":"Harmonischen!$C$70/100*SIN($C301*$U$191*PI()/180)","v":0},{"$f":"Harmonischen!$C$71/100*SIN($C301*$V$191*PI()/180)","v":0},{"$f":"Harmonischen!$C$72/100*SIN($C301*$W$191*PI()/180)","v":0},{"$f":"Harmonischen!$C$73/100*SIN($C301*$X$191*PI()/180)","v":0},{"$f":"Harmonischen!$C$74/100*SIN($C301*$Y$191*PI()/180)","v":0},{"$f":"Harmonischen!$C$75/100*SIN($C301*$Z$191*PI()/180)","v":0},{"$f":"Harmonischen!$C$76/100*SIN($C301*$AA$191*PI()/180)","v":0},{"$f":"Harmonischen!$C$77/100*SIN($C301*$AB$191*PI()/180)","v":0},null,0.83659076859631143]
[null,null,110,{"$f":"Harmonischen!$C$53/100*SIN(C302*PI()/180)","v":0.93969262078590843},{"$f":"Harmonischen!$C$54/100*SIN(C302*$E$191*PI()/180)","v":0},{"$f":"Harmonischen!$C$55/100*SIN(C302*$F$191*PI()/180)","v":-0.10000000000000009},{"$f":"Harmonischen!$C$56/100*SIN(C302*$G$191*PI()/180)","v":0},{"$f":"Harmonischen!$C$57/100*SIN(C302*$H$191*PI()/180)","v":0},{"$f":"Harmonischen!$C$58/100*SIN(C302*$I$191*PI()/180)","v":0},{"$f":"Harmonischen!$C$59/100*SIN(C302*$J$191*PI()/180)","v":0},{"$f":"Harmonischen!$C$60/100*SIN(C302*$K$191*PI()/180)","v":0},{"$f":"Harmonischen!$C$61/100*SIN(C302*$L$191*PI()/180)","v":0},{"$f":"Harmonischen!$C$62/100*SIN(C302*$M$191*PI()/180)","v":0},{"$f":"Harmonischen!$C$63/100*SIN($C302*$N$191*PI()/180)","v":0},{"$f":"Harmonischen!$C$64/100*SIN($C302*$O$191*PI()/180)","v":0},{"$f":"Harmonischen!$C$65/100*SIN($C302*$P$191*PI()/180)","v":0},{"$f":"Harmonischen!$C$66/100*SIN($C302*$Q$191*PI()/180)","v":0},{"$f":"Harmonischen!$C$67/100*SIN($C302*$R$191*PI()/180)","v":0},{"$f":"Harmonischen!$C$68/100*SIN($C302*$S$191*PI()/180)","v":0},{"$f":"Harmonischen!$C$69/100*SIN($C302*$T$191*PI()/180)","v":0},{"$f":"Harmonischen!$C$70/100*SIN($C302*$U$191*PI()/180)","v":0},{"$f":"Harmonischen!$C$71/100*SIN($C302*$V$191*PI()/180)","v":0},{"$f":"Harmonischen!$C$72/100*SIN($C302*$W$191*PI()/180)","v":0},{"$f":"Harmonischen!$C$73/100*SIN($C302*$X$191*PI()/180)","v":0},{"$f":"Harmonischen!$C$74/100*SIN($C302*$Y$191*PI()/180)","v":0},{"$f":"Harmonischen!$C$75/100*SIN($C302*$Z$191*PI()/180)","v":0},{"$f":"Harmonischen!$C$76/100*SIN($C302*$AA$191*PI()/180)","v":0},{"$f":"Harmonischen!$C$77/100*SIN($C302*$AB$191*PI()/180)","v":0},null,0.83969262078590834]
[null,null,111,{"$f":"Harmonischen!$C$53/100*SIN(C303*PI()/180)","v":0.93358042649720174},{"$f":"Harmonischen!$C$54/100*SIN(C303*$E$191*PI()/180)","v":0},{"$f":"Harmonischen!$C$55/100*SIN(C303*$F$191*PI()/180)","v":-9.0798099947909397E-2},{"$f":"Harmonischen!$C$56/100*SIN(C303*$G$191*PI()/180)","v":0},{"$f":"Harmonischen!$C$57/100*SIN(C303*$H$191*PI()/180)","v":0},{"$f":"Harmonischen!$C$58/100*SIN(C303*$I$191*PI()/180)","v":0},{"$f":"Harmonischen!$C$59/100*SIN(C303*$J$191*PI()/180)","v":0},{"$f":"Harmonischen!$C$60/100*SIN(C303*$K$191*PI()/180)","v":0},{"$f":"Harmonischen!$C$61/100*SIN(C303*$L$191*PI()/180)","v":0},{"$f":"Harmonischen!$C$62/100*SIN(C303*$M$191*PI()/180)","v":0},{"$f":"Harmonischen!$C$63/100*SIN($C303*$N$191*PI()/180)","v":0},{"$f":"Harmonischen!$C$64/100*SIN($C303*$O$191*PI()/180)","v":0},{"$f":"Harmonischen!$C$65/100*SIN($C303*$P$191*PI()/180)","v":0},{"$f":"Harmonischen!$C$66/100*SIN($C303*$Q$191*PI()/180)","v":0},{"$f":"Harmonischen!$C$67/100*SIN($C303*$R$191*PI()/180)","v":0},{"$f":"Harmonischen!$C$68/100*SIN($C303*$S$191*PI()/180)","v":0},{"$f":"Harmonischen!$C$69/100*SIN($C303*$T$191*PI()/180)","v":0},{"$f":"Harmonischen!$C$70/100*SIN($C303*$U$191*PI()/180)","v":0},{"$f":"Harmonischen!$C$71/100*SIN($C303*$V$191*PI()/180)","v":0},{"$f":"Harmonischen!$C$72/100*SIN($C303*$W$191*PI()/180)","v":0},{"$f":"Harmonischen!$C$73/100*SIN($C303*$X$191*PI()/180)","v":0},{"$f":"Harmonischen!$C$74/100*SIN($C303*$Y$191*PI()/180)","v":0},{"$f":"Harmonischen!$C$75/100*SIN($C303*$Z$191*PI()/180)","v":0},{"$f":"Harmonischen!$C$76/100*SIN($C303*$AA$191*PI()/180)","v":0},{"$f":"Harmonischen!$C$77/100*SIN($C303*$AB$191*PI()/180)","v":0},null,0.8427823265492923]
[null,null,112,{"$f":"Harmonischen!$C$53/100*SIN(C304*PI()/180)","v":0.92718385456678742},{"$f":"Harmonischen!$C$54/100*SIN(C304*$E$191*PI()/180)","v":0},{"$f":"Harmonischen!$C$55/100*SIN(C304*$F$191*PI()/180)","v":-8.1347328615160031E-2},{"$f":"Harmonischen!$C$56/100*SIN(C304*$G$191*PI()/180)","v":0},{"$f":"Harmonischen!$C$57/100*SIN(C304*$H$191*PI()/180)","v":0},{"$f":"Harmonischen!$C$58/100*SIN(C304*$I$191*PI()/180)","v":0},{"$f":"Harmonischen!$C$59/100*SIN(C304*$J$191*PI()/180)","v":0},{"$f":"Harmonischen!$C$60/100*SIN(C304*$K$191*PI()/180)","v":0},{"$f":"Harmonischen!$C$61/100*SIN(C304*$L$191*PI()/180)","v":0},{"$f":"Harmonischen!$C$62/100*SIN(C304*$M$191*PI()/180)","v":0},{"$f":"Harmonischen!$C$63/100*SIN($C304*$N$191*PI()/180)","v":0},{"$f":"Harmonischen!$C$64/100*SIN($C304*$O$191*PI()/180)","v":0},{"$f":"Harmonischen!$C$65/100*SIN($C304*$P$191*PI()/180)","v":0},{"$f":"Harmonischen!$C$66/100*SIN($C304*$Q$191*PI()/180)","v":0},{"$f":"Harmonischen!$C$67/100*SIN($C304*$R$191*PI()/180)","v":0},{"$f":"Harmonischen!$C$68/100*SIN($C304*$S$191*PI()/180)","v":0},{"$f":"Harmonischen!$C$69/100*SIN($C304*$T$191*PI()/180)","v":0},{"$f":"Harmonischen!$C$70/100*SIN($C304*$U$191*PI()/180)","v":0},{"$f":"Harmonischen!$C$71/100*SIN($C304*$V$191*PI()/180)","v":0},{"$f":"Harmonischen!$C$72/100*SIN($C304*$W$191*PI()/180)","v":0},{"$f":"Harmonischen!$C$73/100*SIN($C304*$X$191*PI()/180)","v":0},{"$f":"Harmonischen!$C$74/100*SIN($C304*$Y$191*PI()/180)","v":0},{"$f":"Harmonischen!$C$75/100*SIN($C304*$Z$191*PI()/180)","v":0},{"$f":"Harmonischen!$C$76/100*SIN($C304*$AA$191*PI()/180)","v":0},{"$f":"Harmonischen!$C$77/100*SIN($C304*$AB$191*PI()/180)","v":0},null,0.84583652595162739]
[null,null,113,{"$f":"Harmonischen!$C$53/100*SIN(C305*PI()/180)","v":0.92050485345244037},{"$f":"Harmonischen!$C$54/100*SIN(C305*$E$191*PI()/180)","v":0},{"$f":"Harmonischen!$C$55/100*SIN(C305*$F$191*PI()/180)","v":-7.1673589909060156E-2},{"$f":"Harmonischen!$C$56/100*SIN(C305*$G$191*PI()/180)","v":0},{"$f":"Harmonischen!$C$57/100*SIN(C305*$H$191*PI()/180)","v":0},{"$f":"Harmonischen!$C$58/100*SIN(C305*$I$191*PI()/180)","v":0},{"$f":"Harmonischen!$C$59/100*SIN(C305*$J$191*PI()/180)","v":0},{"$f":"Harmonischen!$C$60/100*SIN(C305*$K$191*PI()/180)","v":0},{"$f":"Harmonischen!$C$61/100*SIN(C305*$L$191*PI()/180)","v":0},{"$f":"Harmonischen!$C$62/100*SIN(C305*$M$191*PI()/180)","v":0},{"$f":"Harmonischen!$C$63/100*SIN($C305*$N$191*PI()/180)","v":0},{"$f":"Harmonischen!$C$64/100*SIN($C305*$O$191*PI()/180)","v":0},{"$f":"Harmonischen!$C$65/100*SIN($C305*$P$191*PI()/180)","v":0},{"$f":"Harmonischen!$C$66/100*SIN($C305*$Q$191*PI()/180)","v":0},{"$f":"Harmonischen!$C$67/100*SIN($C305*$R$191*PI()/180)","v":0},{"$f":"Harmonischen!$C$68/100*SIN($C305*$S$191*PI()/180)","v":0},{"$f":"Harmonischen!$C$69/100*SIN($C305*$T$191*PI()/180)","v":0},{"$f":"Harmonischen!$C$70/100*SIN($C305*$U$191*PI()/180)","v":0},{"$f":"Harmonischen!$C$71/100*SIN($C305*$V$191*PI()/180)","v":0},{"$f":"Harmonischen!$C$72/100*SIN($C305*$W$191*PI()/180)","v":0},{"$f":"Harmonischen!$C$73/100*SIN($C305*$X$191*PI()/180)","v":0},{"$f":"Harmonischen!$C$74/100*SIN($C305*$Y$191*PI()/180)","v":0},{"$f":"Harmonischen!$C$75/100*SIN($C305*$Z$191*PI()/180)","v":0},{"$f":"Harmonischen!$C$76/100*SIN($C305*$AA$191*PI()/180)","v":0},{"$f":"Harmonischen!$C$77/100*SIN($C305*$AB$191*PI()/180)","v":0},null,0.84883126354338023]
[null,null,114,{"$f":"Harmonischen!$C$53/100*SIN(C306*PI()/180)","v":0.91354545764260098},{"$f":"Harmonischen!$C$54/100*SIN(C306*$E$191*PI()/180)","v":0},{"$f":"Harmonischen!$C$55/100*SIN(C306*$F$191*PI()/180)","v":-6.1803398874989528E-2},{"$f":"Harmonischen!$C$56/100*SIN(C306*$G$191*PI()/180)","v":0},{"$f":"Harmonischen!$C$57/100*SIN(C306*$H$191*PI()/180)","v":0},{"$f":"Harmonischen!$C$58/100*SIN(C306*$I$191*PI()/180)","v":0},{"$f":"Harmonischen!$C$59/100*SIN(C306*$J$191*PI()/180)","v":0},{"$f":"Harmonischen!$C$60/100*SIN(C306*$K$191*PI()/180)","v":0},{"$f":"Harmonischen!$C$61/100*SIN(C306*$L$191*PI()/180)","v":0},{"$f":"Harmonischen!$C$62/100*SIN(C306*$M$191*PI()/180)","v":0},{"$f":"Harmonischen!$C$63/100*SIN($C306*$N$191*PI()/180)","v":0},{"$f":"Harmonischen!$C$64/100*SIN($C306*$O$191*PI()/180)","v":0},{"$f":"Harmonischen!$C$65/100*SIN($C306*$P$191*PI()/180)","v":0},{"$f":"Harmonischen!$C$66/100*SIN($C306*$Q$191*PI()/180)","v":0},{"$f":"Harmonischen!$C$67/100*SIN($C306*$R$191*PI()/180)","v":0},{"$f":"Harmonischen!$C$68/100*SIN($C306*$S$191*PI()/180)","v":0},{"$f":"Harmonischen!$C$69/100*SIN($C306*$T$191*PI()/180)","v":0},{"$f":"Harmonischen!$C$70/100*SIN($C306*$U$191*PI()/180)","v":0},{"$f":"Harmonischen!$C$71/100*SIN($C306*$V$191*PI()/180)","v":0},{"$f":"Harmonischen!$C$72/100*SIN($C306*$W$191*PI()/180)","v":0},{"$f":"Harmonischen!$C$73/100*SIN($C306*$X$191*PI()/180)","v":0},{"$f":"Harmonischen!$C$74/100*SIN($C306*$Y$191*PI()/180)","v":0},{"$f":"Harmonischen!$C$75/100*SIN($C306*$Z$191*PI()/180)","v":0},{"$f":"Harmonischen!$C$76/100*SIN($C306*$AA$191*PI()/180)","v":0},{"$f":"Harmonischen!$C$77/100*SIN($C306*$AB$191*PI()/180)","v":0},null,0.85174205876761144]
[null,null,115,{"$f":"Harmonischen!$C$53/100*SIN(C307*PI()/180)","v":0.90630778703665005},{"$f":"Harmonischen!$C$54/100*SIN(C307*$E$191*PI()/180)","v":0},{"$f":"Harmonischen!$C$55/100*SIN(C307*$F$191*PI()/180)","v":-5.1763809020504141E-2},{"$f":"Harmonischen!$C$56/100*SIN(C307*$G$191*PI()/180)","v":0},{"$f":"Harmonischen!$C$57/100*SIN(C307*$H$191*PI()/180)","v":0},{"$f":"Harmonischen!$C$58/100*SIN(C307*$I$191*PI()/180)","v":0},{"$f":"Harmonischen!$C$59/100*SIN(C307*$J$191*PI()/180)","v":0},{"$f":"Harmonischen!$C$60/100*SIN(C307*$K$191*PI()/180)","v":0},{"$f":"Harmonischen!$C$61/100*SIN(C307*$L$191*PI()/180)","v":0},{"$f":"Harmonischen!$C$62/100*SIN(C307*$M$191*PI()/180)","v":0},{"$f":"Harmonischen!$C$63/100*SIN($C307*$N$191*PI()/180)","v":0},{"$f":"Harmonischen!$C$64/100*SIN($C307*$O$191*PI()/180)","v":0},{"$f":"Harmonischen!$C$65/100*SIN($C307*$P$191*PI()/180)","v":0},{"$f":"Harmonischen!$C$66/100*SIN($C307*$Q$191*PI()/180)","v":0},{"$f":"Harmonischen!$C$67/100*SIN($C307*$R$191*PI()/180)","v":0},{"$f":"Harmonischen!$C$68/100*SIN($C307*$S$191*PI()/180)","v":0},{"$f":"Harmonischen!$C$69/100*SIN($C307*$T$191*PI()/180)","v":0},{"$f":"Harmonischen!$C$70/100*SIN($C307*$U$191*PI()/180)","v":0},{"$f":"Harmonischen!$C$71/100*SIN($C307*$V$191*PI()/180)","v":0},{"$f":"Harmonischen!$C$72/100*SIN($C307*$W$191*PI()/180)","v":0},{"$f":"Harmonischen!$C$73/100*SIN($C307*$X$191*PI()/180)","v":0},{"$f":"Harmonischen!$C$74/100*SIN($C307*$Y$191*PI()/180)","v":0},{"$f":"Harmonischen!$C$75/100*SIN($C307*$Z$191*PI()/180)","v":0},{"$f":"Harmonischen!$C$76/100*SIN($C307*$AA$191*PI()/180)","v":0},{"$f":"Harmonischen!$C$77/100*SIN($C307*$AB$191*PI()/180)","v":0},null,0.8545439780161459]
[null,null,116,{"$f":"Harmonischen!$C$53/100*SIN(C308*PI()/180)","v":0.89879404629916693},{"$f":"Harmonischen!$C$54/100*SIN(C308*$E$191*PI()/180)","v":0},{"$f":"Harmonischen!$C$55/100*SIN(C308*$F$191*PI()/180)","v":-4.1582338163551974E-2},{"$f":"Harmonischen!$C$56/100*SIN(C308*$G$191*PI()/180)","v":0},{"$f":"Harmonischen!$C$57/100*SIN(C308*$H$191*PI()/180)","v":0},{"$f":"Harmonischen!$C$58/100*SIN(C308*$I$191*PI()/180)","v":0},{"$f":"Harmonischen!$C$59/100*SIN(C308*$J$191*PI()/180)","v":0},{"$f":"Harmonischen!$C$60/100*SIN(C308*$K$191*PI()/180)","v":0},{"$f":"Harmonischen!$C$61/100*SIN(C308*$L$191*PI()/180)","v":0},{"$f":"Harmonischen!$C$62/100*SIN(C308*$M$191*PI()/180)","v":0},{"$f":"Harmonischen!$C$63/100*SIN($C308*$N$191*PI()/180)","v":0},{"$f":"Harmonischen!$C$64/100*SIN($C308*$O$191*PI()/180)","v":0},{"$f":"Harmonischen!$C$65/100*SIN($C308*$P$191*PI()/180)","v":0},{"$f":"Harmonischen!$C$66/100*SIN($C308*$Q$191*PI()/180)","v":0},{"$f":"Harmonischen!$C$67/100*SIN($C308*$R$191*PI()/180)","v":0},{"$f":"Harmonischen!$C$68/100*SIN($C308*$S$191*PI()/180)","v":0},{"$f":"Harmonischen!$C$69/100*SIN($C308*$T$191*PI()/180)","v":0},{"$f":"Harmonischen!$C$70/100*SIN($C308*$U$191*PI()/180)","v":0},{"$f":"Harmonischen!$C$71/100*SIN($C308*$V$191*PI()/180)","v":0},{"$f":"Harmonischen!$C$72/100*SIN($C308*$W$191*PI()/180)","v":0},{"$f":"Harmonischen!$C$73/100*SIN($C308*$X$191*PI()/180)","v":0},{"$f":"Harmonischen!$C$74/100*SIN($C308*$Y$191*PI()/180)","v":0},{"$f":"Harmonischen!$C$75/100*SIN($C308*$Z$191*PI()/180)","v":0},{"$f":"Harmonischen!$C$76/100*SIN($C308*$AA$191*PI()/180)","v":0},{"$f":"Harmonischen!$C$77/100*SIN($C308*$AB$191*PI()/180)","v":0},null,0.85721170813561498]
[null,null,117,{"$f":"Harmonischen!$C$53/100*SIN(C309*PI()/180)","v":0.8910065241883679},{"$f":"Harmonischen!$C$54/100*SIN(C309*$E$191*PI()/180)","v":0},{"$f":"Harmonischen!$C$55/100*SIN(C309*$F$191*PI()/180)","v":-3.1286893008046227E-2},{"$f":"Harmonischen!$C$56/100*SIN(C309*$G$191*PI()/180)","v":0},{"$f":"Harmonischen!$C$57/100*SIN(C309*$H$191*PI()/180)","v":0},{"$f":"Harmonischen!$C$58/100*SIN(C309*$I$191*PI()/180)","v":0},{"$f":"Harmonischen!$C$59/100*SIN(C309*$J$191*PI()/180)","v":0},{"$f":"Harmonischen!$C$60/100*SIN(C309*$K$191*PI()/180)","v":0},{"$f":"Harmonischen!$C$61/100*SIN(C309*$L$191*PI()/180)","v":0},{"$f":"Harmonischen!$C$62/100*SIN(C309*$M$191*PI()/180)","v":0},{"$f":"Harmonischen!$C$63/100*SIN($C309*$N$191*PI()/180)","v":0},{"$f":"Harmonischen!$C$64/100*SIN($C309*$O$191*PI()/180)","v":0},{"$f":"Harmonischen!$C$65/100*SIN($C309*$P$191*PI()/180)","v":0},{"$f":"Harmonischen!$C$66/100*SIN($C309*$Q$191*PI()/180)","v":0},{"$f":"Harmonischen!$C$67/100*SIN($C309*$R$191*PI()/180)","v":0},{"$f":"Harmonischen!$C$68/100*SIN($C309*$S$191*PI()/180)","v":0},{"$f":"Harmonischen!$C$69/100*SIN($C309*$T$191*PI()/180)","v":0},{"$f":"Harmonischen!$C$70/100*SIN($C309*$U$191*PI()/180)","v":0},{"$f":"Harmonischen!$C$71/100*SIN($C309*$V$191*PI()/180)","v":0},{"$f":"Harmonischen!$C$72/100*SIN($C309*$W$191*PI()/180)","v":0},{"$f":"Harmonischen!$C$73/100*SIN($C309*$X$191*PI()/180)","v":0},{"$f":"Harmonischen!$C$74/100*SIN($C309*$Y$191*PI()/180)","v":0},{"$f":"Harmonischen!$C$75/100*SIN($C309*$Z$191*PI()/180)","v":0},{"$f":"Harmonischen!$C$76/100*SIN($C309*$AA$191*PI()/180)","v":0},{"$f":"Harmonischen!$C$77/100*SIN($C309*$AB$191*PI()/180)","v":0},null,0.85971963118032169]
[null,null,118,{"$f":"Harmonischen!$C$53/100*SIN(C310*PI()/180)","v":0.8829475928589271},{"$f":"Harmonischen!$C$54/100*SIN(C310*$E$191*PI()/180)","v":0},{"$f":"Harmonischen!$C$55/100*SIN(C310*$F$191*PI()/180)","v":-2.0905692653530684E-2},{"$f":"Harmonischen!$C$56/100*SIN(C310*$G$191*PI()/180)","v":0},{"$f":"Harmonischen!$C$57/100*SIN(C310*$H$191*PI()/180)","v":0},{"$f":"Harmonischen!$C$58/100*SIN(C310*$I$191*PI()/180)","v":0},{"$f":"Harmonischen!$C$59/100*SIN(C310*$J$191*PI()/180)","v":0},{"$f":"Harmonischen!$C$60/100*SIN(C310*$K$191*PI()/180)","v":0},{"$f":"Harmonischen!$C$61/100*SIN(C310*$L$191*PI()/180)","v":0},{"$f":"Harmonischen!$C$62/100*SIN(C310*$M$191*PI()/180)","v":0},{"$f":"Harmonischen!$C$63/100*SIN($C310*$N$191*PI()/180)","v":0},{"$f":"Harmonischen!$C$64/100*SIN($C310*$O$191*PI()/180)","v":0},{"$f":"Harmonischen!$C$65/100*SIN($C310*$P$191*PI()/180)","v":0},{"$f":"Harmonischen!$C$66/100*SIN($C310*$Q$191*PI()/180)","v":0},{"$f":"Harmonischen!$C$67/100*SIN($C310*$R$191*PI()/180)","v":0},{"$f":"Harmonischen!$C$68/100*SIN($C310*$S$191*PI()/180)","v":0},{"$f":"Harmonischen!$C$69/100*SIN($C310*$T$191*PI()/180)","v":0},{"$f":"Harmonischen!$C$70/100*SIN($C310*$U$191*PI()/180)","v":0},{"$f":"Harmonischen!$C$71/100*SIN($C310*$V$191*PI()/180)","v":0},{"$f":"Harmonischen!$C$72/100*SIN($C310*$W$191*PI()/180)","v":0},{"$f":"Harmonischen!$C$73/100*SIN($C310*$X$191*PI()/180)","v":0},{"$f":"Harmonischen!$C$74/100*SIN($C310*$Y$191*PI()/180)","v":0},{"$f":"Harmonischen!$C$75/100*SIN($C310*$Z$191*PI()/180)","v":0},{"$f":"Harmonischen!$C$76/100*SIN($C310*$AA$191*PI()/180)","v":0},{"$f":"Harmonischen!$C$77/100*SIN($C310*$AB$191*PI()/180)","v":0},null,0.86204190020539639]
[null,null,119,{"$f":"Harmonischen!$C$53/100*SIN(C311*PI()/180)","v":0.87461970713939585},{"$f":"Harmonischen!$C$54/100*SIN(C311*$E$191*PI()/180)","v":0},{"$f":"Harmonischen!$C$55/100*SIN(C311*$F$191*PI()/180)","v":-1.0467191248588874E-2},{"$f":"Harmonischen!$C$56/100*SIN(C311*$G$191*PI()/180)","v":0},{"$f":"Harmonischen!$C$57/100*SIN(C311*$H$191*PI()/180)","v":0},{"$f":"Harmonischen!$C$58/100*SIN(C311*$I$191*PI()/180)","v":0},{"$f":"Harmonischen!$C$59/100*SIN(C311*$J$191*PI()/180)","v":0},{"$f":"Harmonischen!$C$60/100*SIN(C311*$K$191*PI()/180)","v":0},{"$f":"Harmonischen!$C$61/100*SIN(C311*$L$191*PI()/180)","v":0},{"$f":"Harmonischen!$C$62/100*SIN(C311*$M$191*PI()/180)","v":0},{"$f":"Harmonischen!$C$63/100*SIN($C311*$N$191*PI()/180)","v":0},{"$f":"Harmonischen!$C$64/100*SIN($C311*$O$191*PI()/180)","v":0},{"$f":"Harmonischen!$C$65/100*SIN($C311*$P$191*PI()/180)","v":0},{"$f":"Harmonischen!$C$66/100*SIN($C311*$Q$191*PI()/180)","v":0},{"$f":"Harmonischen!$C$67/100*SIN($C311*$R$191*PI()/180)","v":0},{"$f":"Harmonischen!$C$68/100*SIN($C311*$S$191*PI()/180)","v":0},{"$f":"Harmonischen!$C$69/100*SIN($C311*$T$191*PI()/180)","v":0},{"$f":"Harmonischen!$C$70/100*SIN($C311*$U$191*PI()/180)","v":0},{"$f":"Harmonischen!$C$71/100*SIN($C311*$V$191*PI()/180)","v":0},{"$f":"Harmonischen!$C$72/100*SIN($C311*$W$191*PI()/180)","v":0},{"$f":"Harmonischen!$C$73/100*SIN($C311*$X$191*PI()/180)","v":0},{"$f":"Harmonischen!$C$74/100*SIN($C311*$Y$191*PI()/180)","v":0},{"$f":"Harmonischen!$C$75/100*SIN($C311*$Z$191*PI()/180)","v":0},{"$f":"Harmonischen!$C$76/100*SIN($C311*$AA$191*PI()/180)","v":0},{"$f":"Harmonischen!$C$77/100*SIN($C311*$AB$191*PI()/180)","v":0},null,0.86415251589080699]
[null,null,120,{"$f":"Harmonischen!$C$53/100*SIN(C312*PI()/180)","v":0.86602540378443871},{"$f":"Harmonischen!$C$54/100*SIN(C312*$E$191*PI()/180)","v":0},{"$f":"Harmonischen!$C$55/100*SIN(C312*$F$191*PI()/180)","v":-4.90059381963448E-17},{"$f":"Harmonischen!$C$56/100*SIN(C312*$G$191*PI()/180)","v":0},{"$f":"Harmonischen!$C$57/100*SIN(C312*$H$191*PI()/180)","v":0},{"$f":"Harmonischen!$C$58/100*SIN(C312*$I$191*PI()/180)","v":0},{"$f":"Harmonischen!$C$59/100*SIN(C312*$J$191*PI()/180)","v":0},{"$f":"Harmonischen!$C$60/100*SIN(C312*$K$191*PI()/180)","v":0},{"$f":"Harmonischen!$C$61/100*SIN(C312*$L$191*PI()/180)","v":0},{"$f":"Harmonischen!$C$62/100*SIN(C312*$M$191*PI()/180)","v":0},{"$f":"Harmonischen!$C$63/100*SIN($C312*$N$191*PI()/180)","v":0},{"$f":"Harmonischen!$C$64/100*SIN($C312*$O$191*PI()/180)","v":0},{"$f":"Harmonischen!$C$65/100*SIN($C312*$P$191*PI()/180)","v":0},{"$f":"Harmonischen!$C$66/100*SIN($C312*$Q$191*PI()/180)","v":0},{"$f":"Harmonischen!$C$67/100*SIN($C312*$R$191*PI()/180)","v":0},{"$f":"Harmonischen!$C$68/100*SIN($C312*$S$191*PI()/180)","v":0},{"$f":"Harmonischen!$C$69/100*SIN($C312*$T$191*PI()/180)","v":0},{"$f":"Harmonischen!$C$70/100*SIN($C312*$U$191*PI()/180)","v":0},{"$f":"Harmonischen!$C$71/100*SIN($C312*$V$191*PI()/180)","v":0},{"$f":"Harmonischen!$C$72/100*SIN($C312*$W$191*PI()/180)","v":0},{"$f":"Harmonischen!$C$73/100*SIN($C312*$X$191*PI()/180)","v":0},{"$f":"Harmonischen!$C$74/100*SIN($C312*$Y$191*PI()/180)","v":0},{"$f":"Harmonischen!$C$75/100*SIN($C312*$Z$191*PI()/180)","v":0},{"$f":"Harmonischen!$C$76/100*SIN($C312*$AA$191*PI()/180)","v":0},{"$f":"Harmonischen!$C$77/100*SIN($C312*$AB$191*PI()/180)","v":0},null,0.86602540378443871]
[null,null,121,{"$f":"Harmonischen!$C$53/100*SIN(C313*PI()/180)","v":0.85716730070211233},{"$f":"Harmonischen!$C$54/100*SIN(C313*$E$191*PI()/180)","v":0},{"$f":"Harmonischen!$C$55/100*SIN(C313*$F$191*PI()/180)","v":1.0467191248588777E-2},{"$f":"Harmonischen!$C$56/100*SIN(C313*$G$191*PI()/180)","v":0},{"$f":"Harmonischen!$C$57/100*SIN(C313*$H$191*PI()/180)","v":0},{"$f":"Harmonischen!$C$58/100*SIN(C313*$I$191*PI()/180)","v":0},{"$f":"Harmonischen!$C$59/100*SIN(C313*$J$191*PI()/180)","v":0},{"$f":"Harmonischen!$C$60/100*SIN(C313*$K$191*PI()/180)","v":0},{"$f":"Harmonischen!$C$61/100*SIN(C313*$L$191*PI()/180)","v":0},{"$f":"Harmonischen!$C$62/100*SIN(C313*$M$191*PI()/180)","v":0},{"$f":"Harmonischen!$C$63/100*SIN($C313*$N$191*PI()/180)","v":0},{"$f":"Harmonischen!$C$64/100*SIN($C313*$O$191*PI()/180)","v":0},{"$f":"Harmonischen!$C$65/100*SIN($C313*$P$191*PI()/180)","v":0},{"$f":"Harmonischen!$C$66/100*SIN($C313*$Q$191*PI()/180)","v":0},{"$f":"Harmonischen!$C$67/100*SIN($C313*$R$191*PI()/180)","v":0},{"$f":"Harmonischen!$C$68/100*SIN($C313*$S$191*PI()/180)","v":0},{"$f":"Harmonischen!$C$69/100*SIN($C313*$T$191*PI()/180)","v":0},{"$f":"Harmonischen!$C$70/100*SIN($C313*$U$191*PI()/180)","v":0},{"$f":"Harmonischen!$C$71/100*SIN($C313*$V$191*PI()/180)","v":0},{"$f":"Harmonischen!$C$72/100*SIN($C313*$W$191*PI()/180)","v":0},{"$f":"Harmonischen!$C$73/100*SIN($C313*$X$191*PI()/180)","v":0},{"$f":"Harmonischen!$C$74/100*SIN($C313*$Y$191*PI()/180)","v":0},{"$f":"Harmonischen!$C$75/100*SIN($C313*$Z$191*PI()/180)","v":0},{"$f":"Harmonischen!$C$76/100*SIN($C313*$AA$191*PI()/180)","v":0},{"$f":"Harmonischen!$C$77/100*SIN($C313*$AB$191*PI()/180)","v":0},null,0.86763449195070108]
[null,null,122,{"$f":"Harmonischen!$C$53/100*SIN(C314*PI()/180)","v":0.84804809615642607},{"$f":"Harmonischen!$C$54/100*SIN(C314*$E$191*PI()/180)","v":0},{"$f":"Harmonischen!$C$55/100*SIN(C314*$F$191*PI()/180)","v":2.0905692653530587E-2},{"$f":"Harmonischen!$C$56/100*SIN(C314*$G$191*PI()/180)","v":0},{"$f":"Harmonischen!$C$57/100*SIN(C314*$H$191*PI()/180)","v":0},{"$f":"Harmonischen!$C$58/100*SIN(C314*$I$191*PI()/180)","v":0},{"$f":"Harmonischen!$C$59/100*SIN(C314*$J$191*PI()/180)","v":0},{"$f":"Harmonischen!$C$60/100*SIN(C314*$K$191*PI()/180)","v":0},{"$f":"Harmonischen!$C$61/100*SIN(C314*$L$191*PI()/180)","v":0},{"$f":"Harmonischen!$C$62/100*SIN(C314*$M$191*PI()/180)","v":0},{"$f":"Harmonischen!$C$63/100*SIN($C314*$N$191*PI()/180)","v":0},{"$f":"Harmonischen!$C$64/100*SIN($C314*$O$191*PI()/180)","v":0},{"$f":"Harmonischen!$C$65/100*SIN($C314*$P$191*PI()/180)","v":0},{"$f":"Harmonischen!$C$66/100*SIN($C314*$Q$191*PI()/180)","v":0},{"$f":"Harmonischen!$C$67/100*SIN($C314*$R$191*PI()/180)","v":0},{"$f":"Harmonischen!$C$68/100*SIN($C314*$S$191*PI()/180)","v":0},{"$f":"Harmonischen!$C$69/100*SIN($C314*$T$191*PI()/180)","v":0},{"$f":"Harmonischen!$C$70/100*SIN($C314*$U$191*PI()/180)","v":0},{"$f":"Harmonischen!$C$71/100*SIN($C314*$V$191*PI()/180)","v":0},{"$f":"Harmonischen!$C$72/100*SIN($C314*$W$191*PI()/180)","v":0},{"$f":"Harmonischen!$C$73/100*SIN($C314*$X$191*PI()/180)","v":0},{"$f":"Harmonischen!$C$74/100*SIN($C314*$Y$191*PI()/180)","v":0},{"$f":"Harmonischen!$C$75/100*SIN($C314*$Z$191*PI()/180)","v":0},{"$f":"Harmonischen!$C$76/100*SIN($C314*$AA$191*PI()/180)","v":0},{"$f":"Harmonischen!$C$77/100*SIN($C314*$AB$191*PI()/180)","v":0},null,0.86895378880995666]
[null,null,123,{"$f":"Harmonischen!$C$53/100*SIN(C315*PI()/180)","v":0.83867056794542394},{"$f":"Harmonischen!$C$54/100*SIN(C315*$E$191*PI()/180)","v":0},{"$f":"Harmonischen!$C$55/100*SIN(C315*$F$191*PI()/180)","v":3.1286893008046122E-2},{"$f":"Harmonischen!$C$56/100*SIN(C315*$G$191*PI()/180)","v":0},{"$f":"Harmonischen!$C$57/100*SIN(C315*$H$191*PI()/180)","v":0},{"$f":"Harmonischen!$C$58/100*SIN(C315*$I$191*PI()/180)","v":0},{"$f":"Harmonischen!$C$59/100*SIN(C315*$J$191*PI()/180)","v":0},{"$f":"Harmonischen!$C$60/100*SIN(C315*$K$191*PI()/180)","v":0},{"$f":"Harmonischen!$C$61/100*SIN(C315*$L$191*PI()/180)","v":0},{"$f":"Harmonischen!$C$62/100*SIN(C315*$M$191*PI()/180)","v":0},{"$f":"Harmonischen!$C$63/100*SIN($C315*$N$191*PI()/180)","v":0},{"$f":"Harmonischen!$C$64/100*SIN($C315*$O$191*PI()/180)","v":0},{"$f":"Harmonischen!$C$65/100*SIN($C315*$P$191*PI()/180)","v":0},{"$f":"Harmonischen!$C$66/100*SIN($C315*$Q$191*PI()/180)","v":0},{"$f":"Harmonischen!$C$67/100*SIN($C315*$R$191*PI()/180)","v":0},{"$f":"Harmonischen!$C$68/100*SIN($C315*$S$191*PI()/180)","v":0},{"$f":"Harmonischen!$C$69/100*SIN($C315*$T$191*PI()/180)","v":0},{"$f":"Harmonischen!$C$70/100*SIN($C315*$U$191*PI()/180)","v":0},{"$f":"Harmonischen!$C$71/100*SIN($C315*$V$191*PI()/180)","v":0},{"$f":"Harmonischen!$C$72/100*SIN($C315*$W$191*PI()/180)","v":0},{"$f":"Harmonischen!$C$73/100*SIN($C315*$X$191*PI()/180)","v":0},{"$f":"Harmonischen!$C$74/100*SIN($C315*$Y$191*PI()/180)","v":0},{"$f":"Harmonischen!$C$75/100*SIN($C315*$Z$191*PI()/180)","v":0},{"$f":"Harmonischen!$C$76/100*SIN($C315*$AA$191*PI()/180)","v":0},{"$f":"Harmonischen!$C$77/100*SIN($C315*$AB$191*PI()/180)","v":0},null,0.86995746095347004]
[null,null,124,{"$f":"Harmonischen!$C$53/100*SIN(C316*PI()/180)","v":0.82903757255504174},{"$f":"Harmonischen!$C$54/100*SIN(C316*$E$191*PI()/180)","v":0},{"$f":"Harmonischen!$C$55/100*SIN(C316*$F$191*PI()/180)","v":4.1582338163551703E-2},{"$f":"Harmonischen!$C$56/100*SIN(C316*$G$191*PI()/180)","v":0},{"$f":"Harmonischen!$C$57/100*SIN(C316*$H$191*PI()/180)","v":0},{"$f":"Harmonischen!$C$58/100*SIN(C316*$I$191*PI()/180)","v":0},{"$f":"Harmonischen!$C$59/100*SIN(C316*$J$191*PI()/180)","v":0},{"$f":"Harmonischen!$C$60/100*SIN(C316*$K$191*PI()/180)","v":0},{"$f":"Harmonischen!$C$61/100*SIN(C316*$L$191*PI()/180)","v":0},{"$f":"Harmonischen!$C$62/100*SIN(C316*$M$191*PI()/180)","v":0},{"$f":"Harmonischen!$C$63/100*SIN($C316*$N$191*PI()/180)","v":0},{"$f":"Harmonischen!$C$64/100*SIN($C316*$O$191*PI()/180)","v":0},{"$f":"Harmonischen!$C$65/100*SIN($C316*$P$191*PI()/180)","v":0},{"$f":"Harmonischen!$C$66/100*SIN($C316*$Q$191*PI()/180)","v":0},{"$f":"Harmonischen!$C$67/100*SIN($C316*$R$191*PI()/180)","v":0},{"$f":"Harmonischen!$C$68/100*SIN($C316*$S$191*PI()/180)","v":0},{"$f":"Harmonischen!$C$69/100*SIN($C316*$T$191*PI()/180)","v":0},{"$f":"Harmonischen!$C$70/100*SIN($C316*$U$191*PI()/180)","v":0},{"$f":"Harmonischen!$C$71/100*SIN($C316*$V$191*PI()/180)","v":0},{"$f":"Harmonischen!$C$72/100*SIN($C316*$W$191*PI()/180)","v":0},{"$f":"Harmonischen!$C$73/100*SIN($C316*$X$191*PI()/180)","v":0},{"$f":"Harmonischen!$C$74/100*SIN($C316*$Y$191*PI()/180)","v":0},{"$f":"Harmonischen!$C$75/100*SIN($C316*$Z$191*PI()/180)","v":0},{"$f":"Harmonischen!$C$76/100*SIN($C316*$AA$191*PI()/180)","v":0},{"$f":"Harmonischen!$C$77/100*SIN($C316*$AB$191*PI()/180)","v":0},null,0.87061991071859346]
[null,null,125,{"$f":"Harmonischen!$C$53/100*SIN(C317*PI()/180)","v":0.81915204428899202},{"$f":"Harmonischen!$C$54/100*SIN(C317*$E$191*PI()/180)","v":0},{"$f":"Harmonischen!$C$55/100*SIN(C317*$F$191*PI()/180)","v":5.1763809020504051E-2},{"$f":"Harmonischen!$C$56/100*SIN(C317*$G$191*PI()/180)","v":0},{"$f":"Harmonischen!$C$57/100*SIN(C317*$H$191*PI()/180)","v":0},{"$f":"Harmonischen!$C$58/100*SIN(C317*$I$191*PI()/180)","v":0},{"$f":"Harmonischen!$C$59/100*SIN(C317*$J$191*PI()/180)","v":0},{"$f":"Harmonischen!$C$60/100*SIN(C317*$K$191*PI()/180)","v":0},{"$f":"Harmonischen!$C$61/100*SIN(C317*$L$191*PI()/180)","v":0},{"$f":"Harmonischen!$C$62/100*SIN(C317*$M$191*PI()/180)","v":0},{"$f":"Harmonischen!$C$63/100*SIN($C317*$N$191*PI()/180)","v":0},{"$f":"Harmonischen!$C$64/100*SIN($C317*$O$191*PI()/180)","v":0},{"$f":"Harmonischen!$C$65/100*SIN($C317*$P$191*PI()/180)","v":0},{"$f":"Harmonischen!$C$66/100*SIN($C317*$Q$191*PI()/180)","v":0},{"$f":"Harmonischen!$C$67/100*SIN($C317*$R$191*PI()/180)","v":0},{"$f":"Harmonischen!$C$68/100*SIN($C317*$S$191*PI()/180)","v":0},{"$f":"Harmonischen!$C$69/100*SIN($C317*$T$191*PI()/180)","v":0},{"$f":"Harmonischen!$C$70/100*SIN($C317*$U$191*PI()/180)","v":0},{"$f":"Harmonischen!$C$71/100*SIN($C317*$V$191*PI()/180)","v":0},{"$f":"Harmonischen!$C$72/100*SIN($C317*$W$191*PI()/180)","v":0},{"$f":"Harmonischen!$C$73/100*SIN($C317*$X$191*PI()/180)","v":0},{"$f":"Harmonischen!$C$74/100*SIN($C317*$Y$191*PI()/180)","v":0},{"$f":"Harmonischen!$C$75/100*SIN($C317*$Z$191*PI()/180)","v":0},{"$f":"Harmonischen!$C$76/100*SIN($C317*$AA$191*PI()/180)","v":0},{"$f":"Harmonischen!$C$77/100*SIN($C317*$AB$191*PI()/180)","v":0},null,0.87091585330949606]
[null,null,126,{"$f":"Harmonischen!$C$53/100*SIN(C318*PI()/180)","v":0.80901699437494745},{"$f":"Harmonischen!$C$54/100*SIN(C318*$E$191*PI()/180)","v":0},{"$f":"Harmonischen!$C$55/100*SIN(C318*$F$191*PI()/180)","v":6.1803398874989438E-2},{"$f":"Harmonischen!$C$56/100*SIN(C318*$G$191*PI()/180)","v":0},{"$f":"Harmonischen!$C$57/100*SIN(C318*$H$191*PI()/180)","v":0},{"$f":"Harmonischen!$C$58/100*SIN(C318*$I$191*PI()/180)","v":0},{"$f":"Harmonischen!$C$59/100*SIN(C318*$J$191*PI()/180)","v":0},{"$f":"Harmonischen!$C$60/100*SIN(C318*$K$191*PI()/180)","v":0},{"$f":"Harmonischen!$C$61/100*SIN(C318*$L$191*PI()/180)","v":0},{"$f":"Harmonischen!$C$62/100*SIN(C318*$M$191*PI()/180)","v":0},{"$f":"Harmonischen!$C$63/100*SIN($C318*$N$191*PI()/180)","v":0},{"$f":"Harmonischen!$C$64/100*SIN($C318*$O$191*PI()/180)","v":0},{"$f":"Harmonischen!$C$65/100*SIN($C318*$P$191*PI()/180)","v":0},{"$f":"Harmonischen!$C$66/100*SIN($C318*$Q$191*PI()/180)","v":0},{"$f":"Harmonischen!$C$67/100*SIN($C318*$R$191*PI()/180)","v":0},{"$f":"Harmonischen!$C$68/100*SIN($C318*$S$191*PI()/180)","v":0},{"$f":"Harmonischen!$C$69/100*SIN($C318*$T$191*PI()/180)","v":0},{"$f":"Harmonischen!$C$70/100*SIN($C318*$U$191*PI()/180)","v":0},{"$f":"Harmonischen!$C$71/100*SIN($C318*$V$191*PI()/180)","v":0},{"$f":"Harmonischen!$C$72/100*SIN($C318*$W$191*PI()/180)","v":0},{"$f":"Harmonischen!$C$73/100*SIN($C318*$X$191*PI()/180)","v":0},{"$f":"Harmonischen!$C$74/100*SIN($C318*$Y$191*PI()/180)","v":0},{"$f":"Harmonischen!$C$75/100*SIN($C318*$Z$191*PI()/180)","v":0},{"$f":"Harmonischen!$C$76/100*SIN($C318*$AA$191*PI()/180)","v":0},{"$f":"Harmonischen!$C$77/100*SIN($C318*$AB$191*PI()/180)","v":0},null,0.87082039324993687]
[null,null,127,{"$f":"Harmonischen!$C$53/100*SIN(C319*PI()/180)","v":0.79863551004729272},{"$f":"Harmonischen!$C$54/100*SIN(C319*$E$191*PI()/180)","v":0},{"$f":"Harmonischen!$C$55/100*SIN(C319*$F$191*PI()/180)","v":7.1673589909059907E-2},{"$f":"Harmonischen!$C$56/100*SIN(C319*$G$191*PI()/180)","v":0},{"$f":"Harmonischen!$C$57/100*SIN(C319*$H$191*PI()/180)","v":0},{"$f":"Harmonischen!$C$58/100*SIN(C319*$I$191*PI()/180)","v":0},{"$f":"Harmonischen!$C$59/100*SIN(C319*$J$191*PI()/180)","v":0},{"$f":"Harmonischen!$C$60/100*SIN(C319*$K$191*PI()/180)","v":0},{"$f":"Harmonischen!$C$61/100*SIN(C319*$L$191*PI()/180)","v":0},{"$f":"Harmonischen!$C$62/100*SIN(C319*$M$191*PI()/180)","v":0},{"$f":"Harmonischen!$C$63/100*SIN($C319*$N$191*PI()/180)","v":0},{"$f":"Harmonischen!$C$64/100*SIN($C319*$O$191*PI()/180)","v":0},{"$f":"Harmonischen!$C$65/100*SIN($C319*$P$191*PI()/180)","v":0},{"$f":"Harmonischen!$C$66/100*SIN($C319*$Q$191*PI()/180)","v":0},{"$f":"Harmonischen!$C$67/100*SIN($C319*$R$191*PI()/180)","v":0},{"$f":"Harmonischen!$C$68/100*SIN($C319*$S$191*PI()/180)","v":0},{"$f":"Harmonischen!$C$69/100*SIN($C319*$T$191*PI()/180)","v":0},{"$f":"Harmonischen!$C$70/100*SIN($C319*$U$191*PI()/180)","v":0},{"$f":"Harmonischen!$C$71/100*SIN($C319*$V$191*PI()/180)","v":0},{"$f":"Harmonischen!$C$72/100*SIN($C319*$W$191*PI()/180)","v":0},{"$f":"Harmonischen!$C$73/100*SIN($C319*$X$191*PI()/180)","v":0},{"$f":"Harmonischen!$C$74/100*SIN($C319*$Y$191*PI()/180)","v":0},{"$f":"Harmonischen!$C$75/100*SIN($C319*$Z$191*PI()/180)","v":0},{"$f":"Harmonischen!$C$76/100*SIN($C319*$AA$191*PI()/180)","v":0},{"$f":"Harmonischen!$C$77/100*SIN($C319*$AB$191*PI()/180)","v":0},null,0.87030909995635264]
[null,null,128,{"$f":"Harmonischen!$C$53/100*SIN(C320*PI()/180)","v":0.78801075360672201},{"$f":"Harmonischen!$C$54/100*SIN(C320*$E$191*PI()/180)","v":0},{"$f":"Harmonischen!$C$55/100*SIN(C320*$F$191*PI()/180)","v":8.1347328615159947E-2},{"$f":"Harmonischen!$C$56/100*SIN(C320*$G$191*PI()/180)","v":0},{"$f":"Harmonischen!$C$57/100*SIN(C320*$H$191*PI()/180)","v":0},{"$f":"Harmonischen!$C$58/100*SIN(C320*$I$191*PI()/180)","v":0},{"$f":"Harmonischen!$C$59/100*SIN(C320*$J$191*PI()/180)","v":0},{"$f":"Harmonischen!$C$60/100*SIN(C320*$K$191*PI()/180)","v":0},{"$f":"Harmonischen!$C$61/100*SIN(C320*$L$191*PI()/180)","v":0},{"$f":"Harmonischen!$C$62/100*SIN(C320*$M$191*PI()/180)","v":0},{"$f":"Harmonischen!$C$63/100*SIN($C320*$N$191*PI()/180)","v":0},{"$f":"Harmonischen!$C$64/100*SIN($C320*$O$191*PI()/180)","v":0},{"$f":"Harmonischen!$C$65/100*SIN($C320*$P$191*PI()/180)","v":0},{"$f":"Harmonischen!$C$66/100*SIN($C320*$Q$191*PI()/180)","v":0},{"$f":"Harmonischen!$C$67/100*SIN($C320*$R$191*PI()/180)","v":0},{"$f":"Harmonischen!$C$68/100*SIN($C320*$S$191*PI()/180)","v":0},{"$f":"Harmonischen!$C$69/100*SIN($C320*$T$191*PI()/180)","v":0},{"$f":"Harmonischen!$C$70/100*SIN($C320*$U$191*PI()/180)","v":0},{"$f":"Harmonischen!$C$71/100*SIN($C320*$V$191*PI()/180)","v":0},{"$f":"Harmonischen!$C$72/100*SIN($C320*$W$191*PI()/180)","v":0},{"$f":"Harmonischen!$C$73/100*SIN($C320*$X$191*PI()/180)","v":0},{"$f":"Harmonischen!$C$74/100*SIN($C320*$Y$191*PI()/180)","v":0},{"$f":"Harmonischen!$C$75/100*SIN($C320*$Z$191*PI()/180)","v":0},{"$f":"Harmonischen!$C$76/100*SIN($C320*$AA$191*PI()/180)","v":0},{"$f":"Harmonischen!$C$77/100*SIN($C320*$AB$191*PI()/180)","v":0},null,{"$f":"SUM(D320:AB320)","v":0.86935808222188193}]
[null,null,129,{"$f":"Harmonischen!$C$53/100*SIN(C321*PI()/180)","v":0.77714596145697101},{"$f":"Harmonischen!$C$54/100*SIN(C321*$E$191*PI()/180)","v":0},{"$f":"Harmonischen!$C$55/100*SIN(C321*$F$191*PI()/180)","v":9.079809994790948E-2},{"$f":"Harmonischen!$C$56/100*SIN(C321*$G$191*PI()/180)","v":0},{"$f":"Harmonischen!$C$57/100*SIN(C321*$H$191*PI()/180)","v":0},{"$f":"Harmonischen!$C$58/100*SIN(C321*$I$191*PI()/180)","v":0},{"$f":"Harmonischen!$C$59/100*SIN(C321*$J$191*PI()/180)","v":0},{"$f":"Harmonischen!$C$60/100*SIN(C321*$K$191*PI()/180)","v":0},{"$f":"Harmonischen!$C$61/100*SIN(C321*$L$191*PI()/180)","v":0},{"$f":"Harmonischen!$C$62/100*SIN(C321*$M$191*PI()/180)","v":0},{"$f":"Harmonischen!$C$63/100*SIN($C321*$N$191*PI()/180)","v":0},{"$f":"Harmonischen!$C$64/100*SIN($C321*$O$191*PI()/180)","v":0},{"$f":"Harmonischen!$C$65/100*SIN($C321*$P$191*PI()/180)","v":0},{"$f":"Harmonischen!$C$66/100*SIN($C321*$Q$191*PI()/180)","v":0},{"$f":"Harmonischen!$C$67/100*SIN($C321*$R$191*PI()/180)","v":0},{"$f":"Harmonischen!$C$68/100*SIN($C321*$S$191*PI()/180)","v":0},{"$f":"Harmonischen!$C$69/100*SIN($C321*$T$191*PI()/180)","v":0},{"$f":"Harmonischen!$C$70/100*SIN($C321*$U$191*PI()/180)","v":0},{"$f":"Harmonischen!$C$71/100*SIN($C321*$V$191*PI()/180)","v":0},{"$f":"Harmonischen!$C$72/100*SIN($C321*$W$191*PI()/180)","v":0},{"$f":"Harmonischen!$C$73/100*SIN($C321*$X$191*PI()/180)","v":0},{"$f":"Harmonischen!$C$74/100*SIN($C321*$Y$191*PI()/180)","v":0},{"$f":"Harmonischen!$C$75/100*SIN($C321*$Z$191*PI()/180)","v":0},{"$f":"Harmonischen!$C$76/100*SIN($C321*$AA$191*PI()/180)","v":0},{"$f":"Harmonischen!$C$77/100*SIN($C321*$AB$191*PI()/180)","v":0},null,0.86794406140488045]
[null,null,130,{"$f":"Harmonischen!$C$53/100*SIN(C322*PI()/180)","v":0.76604444311897801},{"$f":"Harmonischen!$C$54/100*SIN(C322*$E$191*PI()/180)","v":0},{"$f":"Harmonischen!$C$55/100*SIN(C322*$F$191*PI()/180)","v":9.9999999999999867E-2},{"$f":"Harmonischen!$C$56/100*SIN(C322*$G$191*PI()/180)","v":0},{"$f":"Harmonischen!$C$57/100*SIN(C322*$H$191*PI()/180)","v":0},{"$f":"Harmonischen!$C$58/100*SIN(C322*$I$191*PI()/180)","v":0},{"$f":"Harmonischen!$C$59/100*SIN(C322*$J$191*PI()/180)","v":0},{"$f":"Harmonischen!$C$60/100*SIN(C322*$K$191*PI()/180)","v":0},{"$f":"Harmonischen!$C$61/100*SIN(C322*$L$191*PI()/180)","v":0},{"$f":"Harmonischen!$C$62/100*SIN(C322*$M$191*PI()/180)","v":0},{"$f":"Harmonischen!$C$63/100*SIN($C322*$N$191*PI()/180)","v":0},{"$f":"Harmonischen!$C$64/100*SIN($C322*$O$191*PI()/180)","v":0},{"$f":"Harmonischen!$C$65/100*SIN($C322*$P$191*PI()/180)","v":0},{"$f":"Harmonischen!$C$66/100*SIN($C322*$Q$191*PI()/180)","v":0},{"$f":"Harmonischen!$C$67/100*SIN($C322*$R$191*PI()/180)","v":0},{"$f":"Harmonischen!$C$68/100*SIN($C322*$S$191*PI()/180)","v":0},{"$f":"Harmonischen!$C$69/100*SIN($C322*$T$191*PI()/180)","v":0},{"$f":"Harmonischen!$C$70/100*SIN($C322*$U$191*PI()/180)","v":0},{"$f":"Harmonischen!$C$71/100*SIN($C322*$V$191*PI()/180)","v":0},{"$f":"Harmonischen!$C$72/100*SIN($C322*$W$191*PI()/180)","v":0},{"$f":"Harmonischen!$C$73/100*SIN($C322*$X$191*PI()/180)","v":0},{"$f":"Harmonischen!$C$74/100*SIN($C322*$Y$191*PI()/180)","v":0},{"$f":"Harmonischen!$C$75/100*SIN($C322*$Z$191*PI()/180)","v":0},{"$f":"Harmonischen!$C$76/100*SIN($C322*$AA$191*PI()/180)","v":0},{"$f":"Harmonischen!$C$77/100*SIN($C322*$AB$191*PI()/180)","v":0},null,0.86604444311897788]
[null,null,131,{"$f":"Harmonischen!$C$53/100*SIN(C323*PI()/180)","v":0.75470958022277179},{"$f":"Harmonischen!$C$54/100*SIN(C323*$E$191*PI()/180)","v":0},{"$f":"Harmonischen!$C$55/100*SIN(C323*$F$191*PI()/180)","v":0.10892780700300533},{"$f":"Harmonischen!$C$56/100*SIN(C323*$G$191*PI()/180)","v":0},{"$f":"Harmonischen!$C$57/100*SIN(C323*$H$191*PI()/180)","v":0},{"$f":"Harmonischen!$C$58/100*SIN(C323*$I$191*PI()/180)","v":0},{"$f":"Harmonischen!$C$59/100*SIN(C323*$J$191*PI()/180)","v":0},{"$f":"Harmonischen!$C$60/100*SIN(C323*$K$191*PI()/180)","v":0},{"$f":"Harmonischen!$C$61/100*SIN(C323*$L$191*PI()/180)","v":0},{"$f":"Harmonischen!$C$62/100*SIN(C323*$M$191*PI()/180)","v":0},{"$f":"Harmonischen!$C$63/100*SIN($C323*$N$191*PI()/180)","v":0},{"$f":"Harmonischen!$C$64/100*SIN($C323*$O$191*PI()/180)","v":0},{"$f":"Harmonischen!$C$65/100*SIN($C323*$P$191*PI()/180)","v":0},{"$f":"Harmonischen!$C$66/100*SIN($C323*$Q$191*PI()/180)","v":0},{"$f":"Harmonischen!$C$67/100*SIN($C323*$R$191*PI()/180)","v":0},{"$f":"Harmonischen!$C$68/100*SIN($C323*$S$191*PI()/180)","v":0},{"$f":"Harmonischen!$C$69/100*SIN($C323*$T$191*PI()/180)","v":0},{"$f":"Harmonischen!$C$70/100*SIN($C323*$U$191*PI()/180)","v":0},{"$f":"Harmonischen!$C$71/100*SIN($C323*$V$191*PI()/180)","v":0},{"$f":"Harmonischen!$C$72/100*SIN($C323*$W$191*PI()/180)","v":0},{"$f":"Harmonischen!$C$73/100*SIN($C323*$X$191*PI()/180)","v":0},{"$f":"Harmonischen!$C$74/100*SIN($C323*$Y$191*PI()/180)","v":0},{"$f":"Harmonischen!$C$75/100*SIN($C323*$Z$191*PI()/180)","v":0},{"$f":"Harmonischen!$C$76/100*SIN($C323*$AA$191*PI()/180)","v":0},{"$f":"Harmonischen!$C$77/100*SIN($C323*$AB$191*PI()/180)","v":0},null,0.8636373872257771]
[null,null,132,{"$f":"Harmonischen!$C$53/100*SIN(C324*PI()/180)","v":0.74314482547739424},{"$f":"Harmonischen!$C$54/100*SIN(C324*$E$191*PI()/180)","v":0},{"$f":"Harmonischen!$C$55/100*SIN(C324*$F$191*PI()/180)","v":0.11755705045849472},{"$f":"Harmonischen!$C$56/100*SIN(C324*$G$191*PI()/180)","v":0},{"$f":"Harmonischen!$C$57/100*SIN(C324*$H$191*PI()/180)","v":0},{"$f":"Harmonischen!$C$58/100*SIN(C324*$I$191*PI()/180)","v":0},{"$f":"Harmonischen!$C$59/100*SIN(C324*$J$191*PI()/180)","v":0},{"$f":"Harmonischen!$C$60/100*SIN(C324*$K$191*PI()/180)","v":0},{"$f":"Harmonischen!$C$61/100*SIN(C324*$L$191*PI()/180)","v":0},{"$f":"Harmonischen!$C$62/100*SIN(C324*$M$191*PI()/180)","v":0},{"$f":"Harmonischen!$C$63/100*SIN($C324*$N$191*PI()/180)","v":0},{"$f":"Harmonischen!$C$64/100*SIN($C324*$O$191*PI()/180)","v":0},{"$f":"Harmonischen!$C$65/100*SIN($C324*$P$191*PI()/180)","v":0},{"$f":"Harmonischen!$C$66/100*SIN($C324*$Q$191*PI()/180)","v":0},{"$f":"Harmonischen!$C$67/100*SIN($C324*$R$191*PI()/180)","v":0},{"$f":"Harmonischen!$C$68/100*SIN($C324*$S$191*PI()/180)","v":0},{"$f":"Harmonischen!$C$69/100*SIN($C324*$T$191*PI()/180)","v":0},{"$f":"Harmonischen!$C$70/100*SIN($C324*$U$191*PI()/180)","v":0},{"$f":"Harmonischen!$C$71/100*SIN($C324*$V$191*PI()/180)","v":0},{"$f":"Harmonischen!$C$72/100*SIN($C324*$W$191*PI()/180)","v":0},{"$f":"Harmonischen!$C$73/100*SIN($C324*$X$191*PI()/180)","v":0},{"$f":"Harmonischen!$C$74/100*SIN($C324*$Y$191*PI()/180)","v":0},{"$f":"Harmonischen!$C$75/100*SIN($C324*$Z$191*PI()/180)","v":0},{"$f":"Harmonischen!$C$76/100*SIN($C324*$AA$191*PI()/180)","v":0},{"$f":"Harmonischen!$C$77/100*SIN($C324*$AB$191*PI()/180)","v":0},null,0.86070187593588898]
[null,null,133,{"$f":"Harmonischen!$C$53/100*SIN(C325*PI()/180)","v":0.73135370161917057},{"$f":"Harmonischen!$C$54/100*SIN(C325*$E$191*PI()/180)","v":0},{"$f":"Harmonischen!$C$55/100*SIN(C325*$F$191*PI()/180)","v":0.12586407820996737},{"$f":"Harmonischen!$C$56/100*SIN(C325*$G$191*PI()/180)","v":0},{"$f":"Harmonischen!$C$57/100*SIN(C325*$H$191*PI()/180)","v":0},{"$f":"Harmonischen!$C$58/100*SIN(C325*$I$191*PI()/180)","v":0},{"$f":"Harmonischen!$C$59/100*SIN(C325*$J$191*PI()/180)","v":0},{"$f":"Harmonischen!$C$60/100*SIN(C325*$K$191*PI()/180)","v":0},{"$f":"Harmonischen!$C$61/100*SIN(C325*$L$191*PI()/180)","v":0},{"$f":"Harmonischen!$C$62/100*SIN(C325*$M$191*PI()/180)","v":0},{"$f":"Harmonischen!$C$63/100*SIN($C325*$N$191*PI()/180)","v":0},{"$f":"Harmonischen!$C$64/100*SIN($C325*$O$191*PI()/180)","v":0},{"$f":"Harmonischen!$C$65/100*SIN($C325*$P$191*PI()/180)","v":0},{"$f":"Harmonischen!$C$66/100*SIN($C325*$Q$191*PI()/180)","v":0},{"$f":"Harmonischen!$C$67/100*SIN($C325*$R$191*PI()/180)","v":0},{"$f":"Harmonischen!$C$68/100*SIN($C325*$S$191*PI()/180)","v":0},{"$f":"Harmonischen!$C$69/100*SIN($C325*$T$191*PI()/180)","v":0},{"$f":"Harmonischen!$C$70/100*SIN($C325*$U$191*PI()/180)","v":0},{"$f":"Harmonischen!$C$71/100*SIN($C325*$V$191*PI()/180)","v":0},{"$f":"Harmonischen!$C$72/100*SIN($C325*$W$191*PI()/180)","v":0},{"$f":"Harmonischen!$C$73/100*SIN($C325*$X$191*PI()/180)","v":0},{"$f":"Harmonischen!$C$74/100*SIN($C325*$Y$191*PI()/180)","v":0},{"$f":"Harmonischen!$C$75/100*SIN($C325*$Z$191*PI()/180)","v":0},{"$f":"Harmonischen!$C$76/100*SIN($C325*$AA$191*PI()/180)","v":0},{"$f":"Harmonischen!$C$77/100*SIN($C325*$AB$191*PI()/180)","v":0},null,0.85721777982913794]
[null,null,134,{"$f":"Harmonischen!$C$53/100*SIN(C326*PI()/180)","v":0.71933980033865141},{"$f":"Harmonischen!$C$54/100*SIN(C326*$E$191*PI()/180)","v":0},{"$f":"Harmonischen!$C$55/100*SIN(C326*$F$191*PI()/180)","v":0.13382612127177171},{"$f":"Harmonischen!$C$56/100*SIN(C326*$G$191*PI()/180)","v":0},{"$f":"Harmonischen!$C$57/100*SIN(C326*$H$191*PI()/180)","v":0},{"$f":"Harmonischen!$C$58/100*SIN(C326*$I$191*PI()/180)","v":0},{"$f":"Harmonischen!$C$59/100*SIN(C326*$J$191*PI()/180)","v":0},{"$f":"Harmonischen!$C$60/100*SIN(C326*$K$191*PI()/180)","v":0},{"$f":"Harmonischen!$C$61/100*SIN(C326*$L$191*PI()/180)","v":0},{"$f":"Harmonischen!$C$62/100*SIN(C326*$M$191*PI()/180)","v":0},{"$f":"Harmonischen!$C$63/100*SIN($C326*$N$191*PI()/180)","v":0},{"$f":"Harmonischen!$C$64/100*SIN($C326*$O$191*PI()/180)","v":0},{"$f":"Harmonischen!$C$65/100*SIN($C326*$P$191*PI()/180)","v":0},{"$f":"Harmonischen!$C$66/100*SIN($C326*$Q$191*PI()/180)","v":0},{"$f":"Harmonischen!$C$67/100*SIN($C326*$R$191*PI()/180)","v":0},{"$f":"Harmonischen!$C$68/100*SIN($C326*$S$191*PI()/180)","v":0},{"$f":"Harmonischen!$C$69/100*SIN($C326*$T$191*PI()/180)","v":0},{"$f":"Harmonischen!$C$70/100*SIN($C326*$U$191*PI()/180)","v":0},{"$f":"Harmonischen!$C$71/100*SIN($C326*$V$191*PI()/180)","v":0},{"$f":"Harmonischen!$C$72/100*SIN($C326*$W$191*PI()/180)","v":0},{"$f":"Harmonischen!$C$73/100*SIN($C326*$X$191*PI()/180)","v":0},{"$f":"Harmonischen!$C$74/100*SIN($C326*$Y$191*PI()/180)","v":0},{"$f":"Harmonischen!$C$75/100*SIN($C326*$Z$191*PI()/180)","v":0},{"$f":"Harmonischen!$C$76/100*SIN($C326*$AA$191*PI()/180)","v":0},{"$f":"Harmonischen!$C$77/100*SIN($C326*$AB$191*PI()/180)","v":0},null,0.85316592161042315]
[null,null,135,{"$f":"Harmonischen!$C$53/100*SIN(C327*PI()/180)","v":0.70710678118654757},{"$f":"Harmonischen!$C$54/100*SIN(C327*$E$191*PI()/180)","v":0},{"$f":"Harmonischen!$C$55/100*SIN(C327*$F$191*PI()/180)","v":0.14142135623730934},{"$f":"Harmonischen!$C$56/100*SIN(C327*$G$191*PI()/180)","v":0},{"$f":"Harmonischen!$C$57/100*SIN(C327*$H$191*PI()/180)","v":0},{"$f":"Harmonischen!$C$58/100*SIN(C327*$I$191*PI()/180)","v":0},{"$f":"Harmonischen!$C$59/100*SIN(C327*$J$191*PI()/180)","v":0},{"$f":"Harmonischen!$C$60/100*SIN(C327*$K$191*PI()/180)","v":0},{"$f":"Harmonischen!$C$61/100*SIN(C327*$L$191*PI()/180)","v":0},{"$f":"Harmonischen!$C$62/100*SIN(C327*$M$191*PI()/180)","v":0},{"$f":"Harmonischen!$C$63/100*SIN($C327*$N$191*PI()/180)","v":0},{"$f":"Harmonischen!$C$64/100*SIN($C327*$O$191*PI()/180)","v":0},{"$f":"Harmonischen!$C$65/100*SIN($C327*$P$191*PI()/180)","v":0},{"$f":"Harmonischen!$C$66/100*SIN($C327*$Q$191*PI()/180)","v":0},{"$f":"Harmonischen!$C$67/100*SIN($C327*$R$191*PI()/180)","v":0},{"$f":"Harmonischen!$C$68/100*SIN($C327*$S$191*PI()/180)","v":0},{"$f":"Harmonischen!$C$69/100*SIN($C327*$T$191*PI()/180)","v":0},{"$f":"Harmonischen!$C$70/100*SIN($C327*$U$191*PI()/180)","v":0},{"$f":"Harmonischen!$C$71/100*SIN($C327*$V$191*PI()/180)","v":0},{"$f":"Harmonischen!$C$72/100*SIN($C327*$W$191*PI()/180)","v":0},{"$f":"Harmonischen!$C$73/100*SIN($C327*$X$191*PI()/180)","v":0},{"$f":"Harmonischen!$C$74/100*SIN($C327*$Y$191*PI()/180)","v":0},{"$f":"Harmonischen!$C$75/100*SIN($C327*$Z$191*PI()/180)","v":0},{"$f":"Harmonischen!$C$76/100*SIN($C327*$AA$191*PI()/180)","v":0},{"$f":"Harmonischen!$C$77/100*SIN($C327*$AB$191*PI()/180)","v":0},null,0.84852813742385691]
[null,null,136,{"$f":"Harmonischen!$C$53/100*SIN(C328*PI()/180)","v":0.69465837045899714},{"$f":"Harmonischen!$C$54/100*SIN(C328*$E$191*PI()/180)","v":0},{"$f":"Harmonischen!$C$55/100*SIN(C328*$F$191*PI()/180)","v":0.14862896509547874},{"$f":"Harmonischen!$C$56/100*SIN(C328*$G$191*PI()/180)","v":0},{"$f":"Harmonischen!$C$57/100*SIN(C328*$H$191*PI()/180)","v":0},{"$f":"Harmonischen!$C$58/100*SIN(C328*$I$191*PI()/180)","v":0},{"$f":"Harmonischen!$C$59/100*SIN(C328*$J$191*PI()/180)","v":0},{"$f":"Harmonischen!$C$60/100*SIN(C328*$K$191*PI()/180)","v":0},{"$f":"Harmonischen!$C$61/100*SIN(C328*$L$191*PI()/180)","v":0},{"$f":"Harmonischen!$C$62/100*SIN(C328*$M$191*PI()/180)","v":0},{"$f":"Harmonischen!$C$63/100*SIN($C328*$N$191*PI()/180)","v":0},{"$f":"Harmonischen!$C$64/100*SIN($C328*$O$191*PI()/180)","v":0},{"$f":"Harmonischen!$C$65/100*SIN($C328*$P$191*PI()/180)","v":0},{"$f":"Harmonischen!$C$66/100*SIN($C328*$Q$191*PI()/180)","v":0},{"$f":"Harmonischen!$C$67/100*SIN($C328*$R$191*PI()/180)","v":0},{"$f":"Harmonischen!$C$68/100*SIN($C328*$S$191*PI()/180)","v":0},{"$f":"Harmonischen!$C$69/100*SIN($C328*$T$191*PI()/180)","v":0},{"$f":"Harmonischen!$C$70/100*SIN($C328*$U$191*PI()/180)","v":0},{"$f":"Harmonischen!$C$71/100*SIN($C328*$V$191*PI()/180)","v":0},{"$f":"Harmonischen!$C$72/100*SIN($C328*$W$191*PI()/180)","v":0},{"$f":"Harmonischen!$C$73/100*SIN($C328*$X$191*PI()/180)","v":0},{"$f":"Harmonischen!$C$74/100*SIN($C328*$Y$191*PI()/180)","v":0},{"$f":"Harmonischen!$C$75/100*SIN($C328*$Z$191*PI()/180)","v":0},{"$f":"Harmonischen!$C$76/100*SIN($C328*$AA$191*PI()/180)","v":0},{"$f":"Harmonischen!$C$77/100*SIN($C328*$AB$191*PI()/180)","v":0},null,0.84328733555447588]
[null,null,137,{"$f":"Harmonischen!$C$53/100*SIN(C329*PI()/180)","v":0.68199836006249859},{"$f":"Harmonischen!$C$54/100*SIN(C329*$E$191*PI()/180)","v":0},{"$f":"Harmonischen!$C$55/100*SIN(C329*$F$191*PI()/180)","v":0.15542919229139424},{"$f":"Harmonischen!$C$56/100*SIN(C329*$G$191*PI()/180)","v":0},{"$f":"Harmonischen!$C$57/100*SIN(C329*$H$191*PI()/180)","v":0},{"$f":"Harmonischen!$C$58/100*SIN(C329*$I$191*PI()/180)","v":0},{"$f":"Harmonischen!$C$59/100*SIN(C329*$J$191*PI()/180)","v":0},{"$f":"Harmonischen!$C$60/100*SIN(C329*$K$191*PI()/180)","v":0},{"$f":"Harmonischen!$C$61/100*SIN(C329*$L$191*PI()/180)","v":0},{"$f":"Harmonischen!$C$62/100*SIN(C329*$M$191*PI()/180)","v":0},{"$f":"Harmonischen!$C$63/100*SIN($C329*$N$191*PI()/180)","v":0},{"$f":"Harmonischen!$C$64/100*SIN($C329*$O$191*PI()/180)","v":0},{"$f":"Harmonischen!$C$65/100*SIN($C329*$P$191*PI()/180)","v":0},{"$f":"Harmonischen!$C$66/100*SIN($C329*$Q$191*PI()/180)","v":0},{"$f":"Harmonischen!$C$67/100*SIN($C329*$R$191*PI()/180)","v":0},{"$f":"Harmonischen!$C$68/100*SIN($C329*$S$191*PI()/180)","v":0},{"$f":"Harmonischen!$C$69/100*SIN($C329*$T$191*PI()/180)","v":0},{"$f":"Harmonischen!$C$70/100*SIN($C329*$U$191*PI()/180)","v":0},{"$f":"Harmonischen!$C$71/100*SIN($C329*$V$191*PI()/180)","v":0},{"$f":"Harmonischen!$C$72/100*SIN($C329*$W$191*PI()/180)","v":0},{"$f":"Harmonischen!$C$73/100*SIN($C329*$X$191*PI()/180)","v":0},{"$f":"Harmonischen!$C$74/100*SIN($C329*$Y$191*PI()/180)","v":0},{"$f":"Harmonischen!$C$75/100*SIN($C329*$Z$191*PI()/180)","v":0},{"$f":"Harmonischen!$C$76/100*SIN($C329*$AA$191*PI()/180)","v":0},{"$f":"Harmonischen!$C$77/100*SIN($C329*$AB$191*PI()/180)","v":0},null,0.83742755235389277]
[null,null,138,{"$f":"Harmonischen!$C$53/100*SIN(C330*PI()/180)","v":0.66913060635885835},{"$f":"Harmonischen!$C$54/100*SIN(C330*$E$191*PI()/180)","v":0},{"$f":"Harmonischen!$C$55/100*SIN(C330*$F$191*PI()/180)","v":0.16180339887498937},{"$f":"Harmonischen!$C$56/100*SIN(C330*$G$191*PI()/180)","v":0},{"$f":"Harmonischen!$C$57/100*SIN(C330*$H$191*PI()/180)","v":0},{"$f":"Harmonischen!$C$58/100*SIN(C330*$I$191*PI()/180)","v":0},{"$f":"Harmonischen!$C$59/100*SIN(C330*$J$191*PI()/180)","v":0},{"$f":"Harmonischen!$C$60/100*SIN(C330*$K$191*PI()/180)","v":0},{"$f":"Harmonischen!$C$61/100*SIN(C330*$L$191*PI()/180)","v":0},{"$f":"Harmonischen!$C$62/100*SIN(C330*$M$191*PI()/180)","v":0},{"$f":"Harmonischen!$C$63/100*SIN($C330*$N$191*PI()/180)","v":0},{"$f":"Harmonischen!$C$64/100*SIN($C330*$O$191*PI()/180)","v":0},{"$f":"Harmonischen!$C$65/100*SIN($C330*$P$191*PI()/180)","v":0},{"$f":"Harmonischen!$C$66/100*SIN($C330*$Q$191*PI()/180)","v":0},{"$f":"Harmonischen!$C$67/100*SIN($C330*$R$191*PI()/180)","v":0},{"$f":"Harmonischen!$C$68/100*SIN($C330*$S$191*PI()/180)","v":0},{"$f":"Harmonischen!$C$69/100*SIN($C330*$T$191*PI()/180)","v":0},{"$f":"Harmonischen!$C$70/100*SIN($C330*$U$191*PI()/180)","v":0},{"$f":"Harmonischen!$C$71/100*SIN($C330*$V$191*PI()/180)","v":0},{"$f":"Harmonischen!$C$72/100*SIN($C330*$W$191*PI()/180)","v":0},{"$f":"Harmonischen!$C$73/100*SIN($C330*$X$191*PI()/180)","v":0},{"$f":"Harmonischen!$C$74/100*SIN($C330*$Y$191*PI()/180)","v":0},{"$f":"Harmonischen!$C$75/100*SIN($C330*$Z$191*PI()/180)","v":0},{"$f":"Harmonischen!$C$76/100*SIN($C330*$AA$191*PI()/180)","v":0},{"$f":"Harmonischen!$C$77/100*SIN($C330*$AB$191*PI()/180)","v":0},null,0.83093400523384775]
[null,null,139,{"$f":"Harmonischen!$C$53/100*SIN(C331*PI()/180)","v":0.65605902899050728},{"$f":"Harmonischen!$C$54/100*SIN(C331*$E$191*PI()/180)","v":0},{"$f":"Harmonischen!$C$55/100*SIN(C331*$F$191*PI()/180)","v":0.16773411358908483},{"$f":"Harmonischen!$C$56/100*SIN(C331*$G$191*PI()/180)","v":0},{"$f":"Harmonischen!$C$57/100*SIN(C331*$H$191*PI()/180)","v":0},{"$f":"Harmonischen!$C$58/100*SIN(C331*$I$191*PI()/180)","v":0},{"$f":"Harmonischen!$C$59/100*SIN(C331*$J$191*PI()/180)","v":0},{"$f":"Harmonischen!$C$60/100*SIN(C331*$K$191*PI()/180)","v":0},{"$f":"Harmonischen!$C$61/100*SIN(C331*$L$191*PI()/180)","v":0},{"$f":"Harmonischen!$C$62/100*SIN(C331*$M$191*PI()/180)","v":0},{"$f":"Harmonischen!$C$63/100*SIN($C331*$N$191*PI()/180)","v":0},{"$f":"Harmonischen!$C$64/100*SIN($C331*$O$191*PI()/180)","v":0},{"$f":"Harmonischen!$C$65/100*SIN($C331*$P$191*PI()/180)","v":0},{"$f":"Harmonischen!$C$66/100*SIN($C331*$Q$191*PI()/180)","v":0},{"$f":"Harmonischen!$C$67/100*SIN($C331*$R$191*PI()/180)","v":0},{"$f":"Harmonischen!$C$68/100*SIN($C331*$S$191*PI()/180)","v":0},{"$f":"Harmonischen!$C$69/100*SIN($C331*$T$191*PI()/180)","v":0},{"$f":"Harmonischen!$C$70/100*SIN($C331*$U$191*PI()/180)","v":0},{"$f":"Harmonischen!$C$71/100*SIN($C331*$V$191*PI()/180)","v":0},{"$f":"Harmonischen!$C$72/100*SIN($C331*$W$191*PI()/180)","v":0},{"$f":"Harmonischen!$C$73/100*SIN($C331*$X$191*PI()/180)","v":0},{"$f":"Harmonischen!$C$74/100*SIN($C331*$Y$191*PI()/180)","v":0},{"$f":"Harmonischen!$C$75/100*SIN($C331*$Z$191*PI()/180)","v":0},{"$f":"Harmonischen!$C$76/100*SIN($C331*$AA$191*PI()/180)","v":0},{"$f":"Harmonischen!$C$77/100*SIN($C331*$AB$191*PI()/180)","v":0},null,0.82379314257959213]
[null,null,140,{"$f":"Harmonischen!$C$53/100*SIN(C332*PI()/180)","v":0.64278760968653947},{"$f":"Harmonischen!$C$54/100*SIN(C332*$E$191*PI()/180)","v":0},{"$f":"Harmonischen!$C$55/100*SIN(C332*$F$191*PI()/180)","v":0.17320508075688779},{"$f":"Harmonischen!$C$56/100*SIN(C332*$G$191*PI()/180)","v":0},{"$f":"Harmonischen!$C$57/100*SIN(C332*$H$191*PI()/180)","v":0},{"$f":"Harmonischen!$C$58/100*SIN(C332*$I$191*PI()/180)","v":0},{"$f":"Harmonischen!$C$59/100*SIN(C332*$J$191*PI()/180)","v":0},{"$f":"Harmonischen!$C$60/100*SIN(C332*$K$191*PI()/180)","v":0},{"$f":"Harmonischen!$C$61/100*SIN(C332*$L$191*PI()/180)","v":0},{"$f":"Harmonischen!$C$62/100*SIN(C332*$M$191*PI()/180)","v":0},{"$f":"Harmonischen!$C$63/100*SIN($C332*$N$191*PI()/180)","v":0},{"$f":"Harmonischen!$C$64/100*SIN($C332*$O$191*PI()/180)","v":0},{"$f":"Harmonischen!$C$65/100*SIN($C332*$P$191*PI()/180)","v":0},{"$f":"Harmonischen!$C$66/100*SIN($C332*$Q$191*PI()/180)","v":0},{"$f":"Harmonischen!$C$67/100*SIN($C332*$R$191*PI()/180)","v":0},{"$f":"Harmonischen!$C$68/100*SIN($C332*$S$191*PI()/180)","v":0},{"$f":"Harmonischen!$C$69/100*SIN($C332*$T$191*PI()/180)","v":0},{"$f":"Harmonischen!$C$70/100*SIN($C332*$U$191*PI()/180)","v":0},{"$f":"Harmonischen!$C$71/100*SIN($C332*$V$191*PI()/180)","v":0},{"$f":"Harmonischen!$C$72/100*SIN($C332*$W$191*PI()/180)","v":0},{"$f":"Harmonischen!$C$73/100*SIN($C332*$X$191*PI()/180)","v":0},{"$f":"Harmonischen!$C$74/100*SIN($C332*$Y$191*PI()/180)","v":0},{"$f":"Harmonischen!$C$75/100*SIN($C332*$Z$191*PI()/180)","v":0},{"$f":"Harmonischen!$C$76/100*SIN($C332*$AA$191*PI()/180)","v":0},{"$f":"Harmonischen!$C$77/100*SIN($C332*$AB$191*PI()/180)","v":0},null,0.81599269044342726]
[null,null,141,{"$f":"Harmonischen!$C$53/100*SIN(C333*PI()/180)","v":0.62932039104983772},{"$f":"Harmonischen!$C$54/100*SIN(C333*$E$191*PI()/180)","v":0},{"$f":"Harmonischen!$C$55/100*SIN(C333*$F$191*PI()/180)","v":0.17820130483767355},{"$f":"Harmonischen!$C$56/100*SIN(C333*$G$191*PI()/180)","v":0},{"$f":"Harmonischen!$C$57/100*SIN(C333*$H$191*PI()/180)","v":0},{"$f":"Harmonischen!$C$58/100*SIN(C333*$I$191*PI()/180)","v":0},{"$f":"Harmonischen!$C$59/100*SIN(C333*$J$191*PI()/180)","v":0},{"$f":"Harmonischen!$C$60/100*SIN(C333*$K$191*PI()/180)","v":0},{"$f":"Harmonischen!$C$61/100*SIN(C333*$L$191*PI()/180)","v":0},{"$f":"Harmonischen!$C$62/100*SIN(C333*$M$191*PI()/180)","v":0},{"$f":"Harmonischen!$C$63/100*SIN($C333*$N$191*PI()/180)","v":0},{"$f":"Harmonischen!$C$64/100*SIN($C333*$O$191*PI()/180)","v":0},{"$f":"Harmonischen!$C$65/100*SIN($C333*$P$191*PI()/180)","v":0},{"$f":"Harmonischen!$C$66/100*SIN($C333*$Q$191*PI()/180)","v":0},{"$f":"Harmonischen!$C$67/100*SIN($C333*$R$191*PI()/180)","v":0},{"$f":"Harmonischen!$C$68/100*SIN($C333*$S$191*PI()/180)","v":0},{"$f":"Harmonischen!$C$69/100*SIN($C333*$T$191*PI()/180)","v":0},{"$f":"Harmonischen!$C$70/100*SIN($C333*$U$191*PI()/180)","v":0},{"$f":"Harmonischen!$C$71/100*SIN($C333*$V$191*PI()/180)","v":0},{"$f":"Harmonischen!$C$72/100*SIN($C333*$W$191*PI()/180)","v":0},{"$f":"Harmonischen!$C$73/100*SIN($C333*$X$191*PI()/180)","v":0},{"$f":"Harmonischen!$C$74/100*SIN($C333*$Y$191*PI()/180)","v":0},{"$f":"Harmonischen!$C$75/100*SIN($C333*$Z$191*PI()/180)","v":0},{"$f":"Harmonischen!$C$76/100*SIN($C333*$AA$191*PI()/180)","v":0},{"$f":"Harmonischen!$C$77/100*SIN($C333*$AB$191*PI()/180)","v":0},null,0.80752169588751133]
[null,null,142,{"$f":"Harmonischen!$C$53/100*SIN(C334*PI()/180)","v":0.6156614753256584},{"$f":"Harmonischen!$C$54/100*SIN(C334*$E$191*PI()/180)","v":0},{"$f":"Harmonischen!$C$55/100*SIN(C334*$F$191*PI()/180)","v":0.18270909152852019},{"$f":"Harmonischen!$C$56/100*SIN(C334*$G$191*PI()/180)","v":0},{"$f":"Harmonischen!$C$57/100*SIN(C334*$H$191*PI()/180)","v":0},{"$f":"Harmonischen!$C$58/100*SIN(C334*$I$191*PI()/180)","v":0},{"$f":"Harmonischen!$C$59/100*SIN(C334*$J$191*PI()/180)","v":0},{"$f":"Harmonischen!$C$60/100*SIN(C334*$K$191*PI()/180)","v":0},{"$f":"Harmonischen!$C$61/100*SIN(C334*$L$191*PI()/180)","v":0},{"$f":"Harmonischen!$C$62/100*SIN(C334*$M$191*PI()/180)","v":0},{"$f":"Harmonischen!$C$63/100*SIN($C334*$N$191*PI()/180)","v":0},{"$f":"Harmonischen!$C$64/100*SIN($C334*$O$191*PI()/180)","v":0},{"$f":"Harmonischen!$C$65/100*SIN($C334*$P$191*PI()/180)","v":0},{"$f":"Harmonischen!$C$66/100*SIN($C334*$Q$191*PI()/180)","v":0},{"$f":"Harmonischen!$C$67/100*SIN($C334*$R$191*PI()/180)","v":0},{"$f":"Harmonischen!$C$68/100*SIN($C334*$S$191*PI()/180)","v":0},{"$f":"Harmonischen!$C$69/100*SIN($C334*$T$191*PI()/180)","v":0},{"$f":"Harmonischen!$C$70/100*SIN($C334*$U$191*PI()/180)","v":0},{"$f":"Harmonischen!$C$71/100*SIN($C334*$V$191*PI()/180)","v":0},{"$f":"Harmonischen!$C$72/100*SIN($C334*$W$191*PI()/180)","v":0},{"$f":"Harmonischen!$C$73/100*SIN($C334*$X$191*PI()/180)","v":0},{"$f":"Harmonischen!$C$74/100*SIN($C334*$Y$191*PI()/180)","v":0},{"$f":"Harmonischen!$C$75/100*SIN($C334*$Z$191*PI()/180)","v":0},{"$f":"Harmonischen!$C$76/100*SIN($C334*$AA$191*PI()/180)","v":0},{"$f":"Harmonischen!$C$77/100*SIN($C334*$AB$191*PI()/180)","v":0},null,0.79837056685417862]
[null,null,143,{"$f":"Harmonischen!$C$53/100*SIN(C335*PI()/180)","v":0.60181502315204816},{"$f":"Harmonischen!$C$54/100*SIN(C335*$E$191*PI()/180)","v":0},{"$f":"Harmonischen!$C$55/100*SIN(C335*$F$191*PI()/180)","v":0.18671608529944039},{"$f":"Harmonischen!$C$56/100*SIN(C335*$G$191*PI()/180)","v":0},{"$f":"Harmonischen!$C$57/100*SIN(C335*$H$191*PI()/180)","v":0},{"$f":"Harmonischen!$C$58/100*SIN(C335*$I$191*PI()/180)","v":0},{"$f":"Harmonischen!$C$59/100*SIN(C335*$J$191*PI()/180)","v":0},{"$f":"Harmonischen!$C$60/100*SIN(C335*$K$191*PI()/180)","v":0},{"$f":"Harmonischen!$C$61/100*SIN(C335*$L$191*PI()/180)","v":0},{"$f":"Harmonischen!$C$62/100*SIN(C335*$M$191*PI()/180)","v":0},{"$f":"Harmonischen!$C$63/100*SIN($C335*$N$191*PI()/180)","v":0},{"$f":"Harmonischen!$C$64/100*SIN($C335*$O$191*PI()/180)","v":0},{"$f":"Harmonischen!$C$65/100*SIN($C335*$P$191*PI()/180)","v":0},{"$f":"Harmonischen!$C$66/100*SIN($C335*$Q$191*PI()/180)","v":0},{"$f":"Harmonischen!$C$67/100*SIN($C335*$R$191*PI()/180)","v":0},{"$f":"Harmonischen!$C$68/100*SIN($C335*$S$191*PI()/180)","v":0},{"$f":"Harmonischen!$C$69/100*SIN($C335*$T$191*PI()/180)","v":0},{"$f":"Harmonischen!$C$70/100*SIN($C335*$U$191*PI()/180)","v":0},{"$f":"Harmonischen!$C$71/100*SIN($C335*$V$191*PI()/180)","v":0},{"$f":"Harmonischen!$C$72/100*SIN($C335*$W$191*PI()/180)","v":0},{"$f":"Harmonischen!$C$73/100*SIN($C335*$X$191*PI()/180)","v":0},{"$f":"Harmonischen!$C$74/100*SIN($C335*$Y$191*PI()/180)","v":0},{"$f":"Harmonischen!$C$75/100*SIN($C335*$Z$191*PI()/180)","v":0},{"$f":"Harmonischen!$C$76/100*SIN($C335*$AA$191*PI()/180)","v":0},{"$f":"Harmonischen!$C$77/100*SIN($C335*$AB$191*PI()/180)","v":0},null,0.78853110845148855]
[null,null,144,{"$f":"Harmonischen!$C$53/100*SIN(C336*PI()/180)","v":0.58778525229247325},{"$f":"Harmonischen!$C$54/100*SIN(C336*$E$191*PI()/180)","v":0},{"$f":"Harmonischen!$C$55/100*SIN(C336*$F$191*PI()/180)","v":0.19021130325903071},{"$f":"Harmonischen!$C$56/100*SIN(C336*$G$191*PI()/180)","v":0},{"$f":"Harmonischen!$C$57/100*SIN(C336*$H$191*PI()/180)","v":0},{"$f":"Harmonischen!$C$58/100*SIN(C336*$I$191*PI()/180)","v":0},{"$f":"Harmonischen!$C$59/100*SIN(C336*$J$191*PI()/180)","v":0},{"$f":"Harmonischen!$C$60/100*SIN(C336*$K$191*PI()/180)","v":0},{"$f":"Harmonischen!$C$61/100*SIN(C336*$L$191*PI()/180)","v":0},{"$f":"Harmonischen!$C$62/100*SIN(C336*$M$191*PI()/180)","v":0},{"$f":"Harmonischen!$C$63/100*SIN($C336*$N$191*PI()/180)","v":0},{"$f":"Harmonischen!$C$64/100*SIN($C336*$O$191*PI()/180)","v":0},{"$f":"Harmonischen!$C$65/100*SIN($C336*$P$191*PI()/180)","v":0},{"$f":"Harmonischen!$C$66/100*SIN($C336*$Q$191*PI()/180)","v":0},{"$f":"Harmonischen!$C$67/100*SIN($C336*$R$191*PI()/180)","v":0},{"$f":"Harmonischen!$C$68/100*SIN($C336*$S$191*PI()/180)","v":0},{"$f":"Harmonischen!$C$69/100*SIN($C336*$T$191*PI()/180)","v":0},{"$f":"Harmonischen!$C$70/100*SIN($C336*$U$191*PI()/180)","v":0},{"$f":"Harmonischen!$C$71/100*SIN($C336*$V$191*PI()/180)","v":0},{"$f":"Harmonischen!$C$72/100*SIN($C336*$W$191*PI()/180)","v":0},{"$f":"Harmonischen!$C$73/100*SIN($C336*$X$191*PI()/180)","v":0},{"$f":"Harmonischen!$C$74/100*SIN($C336*$Y$191*PI()/180)","v":0},{"$f":"Harmonischen!$C$75/100*SIN($C336*$Z$191*PI()/180)","v":0},{"$f":"Harmonischen!$C$76/100*SIN($C336*$AA$191*PI()/180)","v":0},{"$f":"Harmonischen!$C$77/100*SIN($C336*$AB$191*PI()/180)","v":0},null,0.77799655555150393]
[null,null,145,{"$f":"Harmonischen!$C$53/100*SIN(C337*PI()/180)","v":0.57357643635104638},{"$f":"Harmonischen!$C$54/100*SIN(C337*$E$191*PI()/180)","v":0},{"$f":"Harmonischen!$C$55/100*SIN(C337*$F$191*PI()/180)","v":0.19318516525781368},{"$f":"Harmonischen!$C$56/100*SIN(C337*$G$191*PI()/180)","v":0},{"$f":"Harmonischen!$C$57/100*SIN(C337*$H$191*PI()/180)","v":0},{"$f":"Harmonischen!$C$58/100*SIN(C337*$I$191*PI()/180)","v":0},{"$f":"Harmonischen!$C$59/100*SIN(C337*$J$191*PI()/180)","v":0},{"$f":"Harmonischen!$C$60/100*SIN(C337*$K$191*PI()/180)","v":0},{"$f":"Harmonischen!$C$61/100*SIN(C337*$L$191*PI()/180)","v":0},{"$f":"Harmonischen!$C$62/100*SIN(C337*$M$191*PI()/180)","v":0},{"$f":"Harmonischen!$C$63/100*SIN($C337*$N$191*PI()/180)","v":0},{"$f":"Harmonischen!$C$64/100*SIN($C337*$O$191*PI()/180)","v":0},{"$f":"Harmonischen!$C$65/100*SIN($C337*$P$191*PI()/180)","v":0},{"$f":"Harmonischen!$C$66/100*SIN($C337*$Q$191*PI()/180)","v":0},{"$f":"Harmonischen!$C$67/100*SIN($C337*$R$191*PI()/180)","v":0},{"$f":"Harmonischen!$C$68/100*SIN($C337*$S$191*PI()/180)","v":0},{"$f":"Harmonischen!$C$69/100*SIN($C337*$T$191*PI()/180)","v":0},{"$f":"Harmonischen!$C$70/100*SIN($C337*$U$191*PI()/180)","v":0},{"$f":"Harmonischen!$C$71/100*SIN($C337*$V$191*PI()/180)","v":0},{"$f":"Harmonischen!$C$72/100*SIN($C337*$W$191*PI()/180)","v":0},{"$f":"Harmonischen!$C$73/100*SIN($C337*$X$191*PI()/180)","v":0},{"$f":"Harmonischen!$C$74/100*SIN($C337*$Y$191*PI()/180)","v":0},{"$f":"Harmonischen!$C$75/100*SIN($C337*$Z$191*PI()/180)","v":0},{"$f":"Harmonischen!$C$76/100*SIN($C337*$AA$191*PI()/180)","v":0},{"$f":"Harmonischen!$C$77/100*SIN($C337*$AB$191*PI()/180)","v":0},null,0.76676160160886009]
[null,null,146,{"$f":"Harmonischen!$C$53/100*SIN(C338*PI()/180)","v":0.5591929034707469},{"$f":"Harmonischen!$C$54/100*SIN(C338*$E$191*PI()/180)","v":0},{"$f":"Harmonischen!$C$55/100*SIN(C338*$F$191*PI()/180)","v":0.19562952014676116},{"$f":"Harmonischen!$C$56/100*SIN(C338*$G$191*PI()/180)","v":0},{"$f":"Harmonischen!$C$57/100*SIN(C338*$H$191*PI()/180)","v":0},{"$f":"Harmonischen!$C$58/100*SIN(C338*$I$191*PI()/180)","v":0},{"$f":"Harmonischen!$C$59/100*SIN(C338*$J$191*PI()/180)","v":0},{"$f":"Harmonischen!$C$60/100*SIN(C338*$K$191*PI()/180)","v":0},{"$f":"Harmonischen!$C$61/100*SIN(C338*$L$191*PI()/180)","v":0},{"$f":"Harmonischen!$C$62/100*SIN(C338*$M$191*PI()/180)","v":0},{"$f":"Harmonischen!$C$63/100*SIN($C338*$N$191*PI()/180)","v":0},{"$f":"Harmonischen!$C$64/100*SIN($C338*$O$191*PI()/180)","v":0},{"$f":"Harmonischen!$C$65/100*SIN($C338*$P$191*PI()/180)","v":0},{"$f":"Harmonischen!$C$66/100*SIN($C338*$Q$191*PI()/180)","v":0},{"$f":"Harmonischen!$C$67/100*SIN($C338*$R$191*PI()/180)","v":0},{"$f":"Harmonischen!$C$68/100*SIN($C338*$S$191*PI()/180)","v":0},{"$f":"Harmonischen!$C$69/100*SIN($C338*$T$191*PI()/180)","v":0},{"$f":"Harmonischen!$C$70/100*SIN($C338*$U$191*PI()/180)","v":0},{"$f":"Harmonischen!$C$71/100*SIN($C338*$V$191*PI()/180)","v":0},{"$f":"Harmonischen!$C$72/100*SIN($C338*$W$191*PI()/180)","v":0},{"$f":"Harmonischen!$C$73/100*SIN($C338*$X$191*PI()/180)","v":0},{"$f":"Harmonischen!$C$74/100*SIN($C338*$Y$191*PI()/180)","v":0},{"$f":"Harmonischen!$C$75/100*SIN($C338*$Z$191*PI()/180)","v":0},{"$f":"Harmonischen!$C$76/100*SIN($C338*$AA$191*PI()/180)","v":0},{"$f":"Harmonischen!$C$77/100*SIN($C338*$AB$191*PI()/180)","v":0},null,0.75482242361750806]
[null,null,147,{"$f":"Harmonischen!$C$53/100*SIN(C339*PI()/180)","v":0.54463903501502697},{"$f":"Harmonischen!$C$54/100*SIN(C339*$E$191*PI()/180)","v":0},{"$f":"Harmonischen!$C$55/100*SIN(C339*$F$191*PI()/180)","v":0.19753766811902754},{"$f":"Harmonischen!$C$56/100*SIN(C339*$G$191*PI()/180)","v":0},{"$f":"Harmonischen!$C$57/100*SIN(C339*$H$191*PI()/180)","v":0},{"$f":"Harmonischen!$C$58/100*SIN(C339*$I$191*PI()/180)","v":0},{"$f":"Harmonischen!$C$59/100*SIN(C339*$J$191*PI()/180)","v":0},{"$f":"Harmonischen!$C$60/100*SIN(C339*$K$191*PI()/180)","v":0},{"$f":"Harmonischen!$C$61/100*SIN(C339*$L$191*PI()/180)","v":0},{"$f":"Harmonischen!$C$62/100*SIN(C339*$M$191*PI()/180)","v":0},{"$f":"Harmonischen!$C$63/100*SIN($C339*$N$191*PI()/180)","v":0},{"$f":"Harmonischen!$C$64/100*SIN($C339*$O$191*PI()/180)","v":0},{"$f":"Harmonischen!$C$65/100*SIN($C339*$P$191*PI()/180)","v":0},{"$f":"Harmonischen!$C$66/100*SIN($C339*$Q$191*PI()/180)","v":0},{"$f":"Harmonischen!$C$67/100*SIN($C339*$R$191*PI()/180)","v":0},{"$f":"Harmonischen!$C$68/100*SIN($C339*$S$191*PI()/180)","v":0},{"$f":"Harmonischen!$C$69/100*SIN($C339*$T$191*PI()/180)","v":0},{"$f":"Harmonischen!$C$70/100*SIN($C339*$U$191*PI()/180)","v":0},{"$f":"Harmonischen!$C$71/100*SIN($C339*$V$191*PI()/180)","v":0},{"$f":"Harmonischen!$C$72/100*SIN($C339*$W$191*PI()/180)","v":0},{"$f":"Harmonischen!$C$73/100*SIN($C339*$X$191*PI()/180)","v":0},{"$f":"Harmonischen!$C$74/100*SIN($C339*$Y$191*PI()/180)","v":0},{"$f":"Harmonischen!$C$75/100*SIN($C339*$Z$191*PI()/180)","v":0},{"$f":"Harmonischen!$C$76/100*SIN($C339*$AA$191*PI()/180)","v":0},{"$f":"Harmonischen!$C$77/100*SIN($C339*$AB$191*PI()/180)","v":0},null,0.74217670313405448]
[null,null,148,{"$f":"Harmonischen!$C$53/100*SIN(C340*PI()/180)","v":0.5299192642332049},{"$f":"Harmonischen!$C$54/100*SIN(C340*$E$191*PI()/180)","v":0},{"$f":"Harmonischen!$C$55/100*SIN(C340*$F$191*PI()/180)","v":0.19890437907365466},{"$f":"Harmonischen!$C$56/100*SIN(C340*$G$191*PI()/180)","v":0},{"$f":"Harmonischen!$C$57/100*SIN(C340*$H$191*PI()/180)","v":0},{"$f":"Harmonischen!$C$58/100*SIN(C340*$I$191*PI()/180)","v":0},{"$f":"Harmonischen!$C$59/100*SIN(C340*$J$191*PI()/180)","v":0},{"$f":"Harmonischen!$C$60/100*SIN(C340*$K$191*PI()/180)","v":0},{"$f":"Harmonischen!$C$61/100*SIN(C340*$L$191*PI()/180)","v":0},{"$f":"Harmonischen!$C$62/100*SIN(C340*$M$191*PI()/180)","v":0},{"$f":"Harmonischen!$C$63/100*SIN($C340*$N$191*PI()/180)","v":0},{"$f":"Harmonischen!$C$64/100*SIN($C340*$O$191*PI()/180)","v":0},{"$f":"Harmonischen!$C$65/100*SIN($C340*$P$191*PI()/180)","v":0},{"$f":"Harmonischen!$C$66/100*SIN($C340*$Q$191*PI()/180)","v":0},{"$f":"Harmonischen!$C$67/100*SIN($C340*$R$191*PI()/180)","v":0},{"$f":"Harmonischen!$C$68/100*SIN($C340*$S$191*PI()/180)","v":0},{"$f":"Harmonischen!$C$69/100*SIN($C340*$T$191*PI()/180)","v":0},{"$f":"Harmonischen!$C$70/100*SIN($C340*$U$191*PI()/180)","v":0},{"$f":"Harmonischen!$C$71/100*SIN($C340*$V$191*PI()/180)","v":0},{"$f":"Harmonischen!$C$72/100*SIN($C340*$W$191*PI()/180)","v":0},{"$f":"Harmonischen!$C$73/100*SIN($C340*$X$191*PI()/180)","v":0},{"$f":"Harmonischen!$C$74/100*SIN($C340*$Y$191*PI()/180)","v":0},{"$f":"Harmonischen!$C$75/100*SIN($C340*$Z$191*PI()/180)","v":0},{"$f":"Harmonischen!$C$76/100*SIN($C340*$AA$191*PI()/180)","v":0},{"$f":"Harmonischen!$C$77/100*SIN($C340*$AB$191*PI()/180)","v":0},null,0.72882364330685956]
[null,null,149,{"$f":"Harmonischen!$C$53/100*SIN(C341*PI()/180)","v":0.51503807491005438},{"$f":"Harmonischen!$C$54/100*SIN(C341*$E$191*PI()/180)","v":0},{"$f":"Harmonischen!$C$55/100*SIN(C341*$F$191*PI()/180)","v":0.19972590695091477},{"$f":"Harmonischen!$C$56/100*SIN(C341*$G$191*PI()/180)","v":0},{"$f":"Harmonischen!$C$57/100*SIN(C341*$H$191*PI()/180)","v":0},{"$f":"Harmonischen!$C$58/100*SIN(C341*$I$191*PI()/180)","v":0},{"$f":"Harmonischen!$C$59/100*SIN(C341*$J$191*PI()/180)","v":0},{"$f":"Harmonischen!$C$60/100*SIN(C341*$K$191*PI()/180)","v":0},{"$f":"Harmonischen!$C$61/100*SIN(C341*$L$191*PI()/180)","v":0},{"$f":"Harmonischen!$C$62/100*SIN(C341*$M$191*PI()/180)","v":0},{"$f":"Harmonischen!$C$63/100*SIN($C341*$N$191*PI()/180)","v":0},{"$f":"Harmonischen!$C$64/100*SIN($C341*$O$191*PI()/180)","v":0},{"$f":"Harmonischen!$C$65/100*SIN($C341*$P$191*PI()/180)","v":0},{"$f":"Harmonischen!$C$66/100*SIN($C341*$Q$191*PI()/180)","v":0},{"$f":"Harmonischen!$C$67/100*SIN($C341*$R$191*PI()/180)","v":0},{"$f":"Harmonischen!$C$68/100*SIN($C341*$S$191*PI()/180)","v":0},{"$f":"Harmonischen!$C$69/100*SIN($C341*$T$191*PI()/180)","v":0},{"$f":"Harmonischen!$C$70/100*SIN($C341*$U$191*PI()/180)","v":0},{"$f":"Harmonischen!$C$71/100*SIN($C341*$V$191*PI()/180)","v":0},{"$f":"Harmonischen!$C$72/100*SIN($C341*$W$191*PI()/180)","v":0},{"$f":"Harmonischen!$C$73/100*SIN($C341*$X$191*PI()/180)","v":0},{"$f":"Harmonischen!$C$74/100*SIN($C341*$Y$191*PI()/180)","v":0},{"$f":"Harmonischen!$C$75/100*SIN($C341*$Z$191*PI()/180)","v":0},{"$f":"Harmonischen!$C$76/100*SIN($C341*$AA$191*PI()/180)","v":0},{"$f":"Harmonischen!$C$77/100*SIN($C341*$AB$191*PI()/180)","v":0},null,0.71476398186096912]
[null,null,150,{"$f":"Harmonischen!$C$53/100*SIN(C342*PI()/180)","v":0.49999999999999994},{"$f":"Harmonischen!$C$54/100*SIN(C342*$E$191*PI()/180)","v":0},{"$f":"Harmonischen!$C$55/100*SIN(C342*$F$191*PI()/180)","v":0.2},{"$f":"Harmonischen!$C$56/100*SIN(C342*$G$191*PI()/180)","v":0},{"$f":"Harmonischen!$C$57/100*SIN(C342*$H$191*PI()/180)","v":0},{"$f":"Harmonischen!$C$58/100*SIN(C342*$I$191*PI()/180)","v":0},{"$f":"Harmonischen!$C$59/100*SIN(C342*$J$191*PI()/180)","v":0},{"$f":"Harmonischen!$C$60/100*SIN(C342*$K$191*PI()/180)","v":0},{"$f":"Harmonischen!$C$61/100*SIN(C342*$L$191*PI()/180)","v":0},{"$f":"Harmonischen!$C$62/100*SIN(C342*$M$191*PI()/180)","v":0},{"$f":"Harmonischen!$C$63/100*SIN($C342*$N$191*PI()/180)","v":0},{"$f":"Harmonischen!$C$64/100*SIN($C342*$O$191*PI()/180)","v":0},{"$f":"Harmonischen!$C$65/100*SIN($C342*$P$191*PI()/180)","v":0},{"$f":"Harmonischen!$C$66/100*SIN($C342*$Q$191*PI()/180)","v":0},{"$f":"Harmonischen!$C$67/100*SIN($C342*$R$191*PI()/180)","v":0},{"$f":"Harmonischen!$C$68/100*SIN($C342*$S$191*PI()/180)","v":0},{"$f":"Harmonischen!$C$69/100*SIN($C342*$T$191*PI()/180)","v":0},{"$f":"Harmonischen!$C$70/100*SIN($C342*$U$191*PI()/180)","v":0},{"$f":"Harmonischen!$C$71/100*SIN($C342*$V$191*PI()/180)","v":0},{"$f":"Harmonischen!$C$72/100*SIN($C342*$W$191*PI()/180)","v":0},{"$f":"Harmonischen!$C$73/100*SIN($C342*$X$191*PI()/180)","v":0},{"$f":"Harmonischen!$C$74/100*SIN($C342*$Y$191*PI()/180)","v":0},{"$f":"Harmonischen!$C$75/100*SIN($C342*$Z$191*PI()/180)","v":0},{"$f":"Harmonischen!$C$76/100*SIN($C342*$AA$191*PI()/180)","v":0},{"$f":"Harmonischen!$C$77/100*SIN($C342*$AB$191*PI()/180)","v":0},null,0.7]
[null,null,151,{"$f":"Harmonischen!$C$53/100*SIN(C343*PI()/180)","v":0.48480962024633717},{"$f":"Harmonischen!$C$54/100*SIN(C343*$E$191*PI()/180)","v":0},{"$f":"Harmonischen!$C$55/100*SIN(C343*$F$191*PI()/180)","v":0.19972590695091477},{"$f":"Harmonischen!$C$56/100*SIN(C343*$G$191*PI()/180)","v":0},{"$f":"Harmonischen!$C$57/100*SIN(C343*$H$191*PI()/180)","v":0},{"$f":"Harmonischen!$C$58/100*SIN(C343*$I$191*PI()/180)","v":0},{"$f":"Harmonischen!$C$59/100*SIN(C343*$J$191*PI()/180)","v":0},{"$f":"Harmonischen!$C$60/100*SIN(C343*$K$191*PI()/180)","v":0},{"$f":"Harmonischen!$C$61/100*SIN(C343*$L$191*PI()/180)","v":0},{"$f":"Harmonischen!$C$62/100*SIN(C343*$M$191*PI()/180)","v":0},{"$f":"Harmonischen!$C$63/100*SIN($C343*$N$191*PI()/180)","v":0},{"$f":"Harmonischen!$C$64/100*SIN($C343*$O$191*PI()/180)","v":0},{"$f":"Harmonischen!$C$65/100*SIN($C343*$P$191*PI()/180)","v":0},{"$f":"Harmonischen!$C$66/100*SIN($C343*$Q$191*PI()/180)","v":0},{"$f":"Harmonischen!$C$67/100*SIN($C343*$R$191*PI()/180)","v":0},{"$f":"Harmonischen!$C$68/100*SIN($C343*$S$191*PI()/180)","v":0},{"$f":"Harmonischen!$C$69/100*SIN($C343*$T$191*PI()/180)","v":0},{"$f":"Harmonischen!$C$70/100*SIN($C343*$U$191*PI()/180)","v":0},{"$f":"Harmonischen!$C$71/100*SIN($C343*$V$191*PI()/180)","v":0},{"$f":"Harmonischen!$C$72/100*SIN($C343*$W$191*PI()/180)","v":0},{"$f":"Harmonischen!$C$73/100*SIN($C343*$X$191*PI()/180)","v":0},{"$f":"Harmonischen!$C$74/100*SIN($C343*$Y$191*PI()/180)","v":0},{"$f":"Harmonischen!$C$75/100*SIN($C343*$Z$191*PI()/180)","v":0},{"$f":"Harmonischen!$C$76/100*SIN($C343*$AA$191*PI()/180)","v":0},{"$f":"Harmonischen!$C$77/100*SIN($C343*$AB$191*PI()/180)","v":0},null,0.68453552719725197]
[null,null,152,{"$f":"Harmonischen!$C$53/100*SIN(C344*PI()/180)","v":0.46947156278589108},{"$f":"Harmonischen!$C$54/100*SIN(C344*$E$191*PI()/180)","v":0},{"$f":"Harmonischen!$C$55/100*SIN(C344*$F$191*PI()/180)","v":0.19890437907365469},{"$f":"Harmonischen!$C$56/100*SIN(C344*$G$191*PI()/180)","v":0},{"$f":"Harmonischen!$C$57/100*SIN(C344*$H$191*PI()/180)","v":0},{"$f":"Harmonischen!$C$58/100*SIN(C344*$I$191*PI()/180)","v":0},{"$f":"Harmonischen!$C$59/100*SIN(C344*$J$191*PI()/180)","v":0},{"$f":"Harmonischen!$C$60/100*SIN(C344*$K$191*PI()/180)","v":0},{"$f":"Harmonischen!$C$61/100*SIN(C344*$L$191*PI()/180)","v":0},{"$f":"Harmonischen!$C$62/100*SIN(C344*$M$191*PI()/180)","v":0},{"$f":"Harmonischen!$C$63/100*SIN($C344*$N$191*PI()/180)","v":0},{"$f":"Harmonischen!$C$64/100*SIN($C344*$O$191*PI()/180)","v":0},{"$f":"Harmonischen!$C$65/100*SIN($C344*$P$191*PI()/180)","v":0},{"$f":"Harmonischen!$C$66/100*SIN($C344*$Q$191*PI()/180)","v":0},{"$f":"Harmonischen!$C$67/100*SIN($C344*$R$191*PI()/180)","v":0},{"$f":"Harmonischen!$C$68/100*SIN($C344*$S$191*PI()/180)","v":0},{"$f":"Harmonischen!$C$69/100*SIN($C344*$T$191*PI()/180)","v":0},{"$f":"Harmonischen!$C$70/100*SIN($C344*$U$191*PI()/180)","v":0},{"$f":"Harmonischen!$C$71/100*SIN($C344*$V$191*PI()/180)","v":0},{"$f":"Harmonischen!$C$72/100*SIN($C344*$W$191*PI()/180)","v":0},{"$f":"Harmonischen!$C$73/100*SIN($C344*$X$191*PI()/180)","v":0},{"$f":"Harmonischen!$C$74/100*SIN($C344*$Y$191*PI()/180)","v":0},{"$f":"Harmonischen!$C$75/100*SIN($C344*$Z$191*PI()/180)","v":0},{"$f":"Harmonischen!$C$76/100*SIN($C344*$AA$191*PI()/180)","v":0},{"$f":"Harmonischen!$C$77/100*SIN($C344*$AB$191*PI()/180)","v":0},null,0.66837594185954574]
[null,null,153,{"$f":"Harmonischen!$C$53/100*SIN(C345*PI()/180)","v":0.45399049973954686},{"$f":"Harmonischen!$C$54/100*SIN(C345*$E$191*PI()/180)","v":0},{"$f":"Harmonischen!$C$55/100*SIN(C345*$F$191*PI()/180)","v":0.19753766811902759},{"$f":"Harmonischen!$C$56/100*SIN(C345*$G$191*PI()/180)","v":0},{"$f":"Harmonischen!$C$57/100*SIN(C345*$H$191*PI()/180)","v":0},{"$f":"Harmonischen!$C$58/100*SIN(C345*$I$191*PI()/180)","v":0},{"$f":"Harmonischen!$C$59/100*SIN(C345*$J$191*PI()/180)","v":0},{"$f":"Harmonischen!$C$60/100*SIN(C345*$K$191*PI()/180)","v":0},{"$f":"Harmonischen!$C$61/100*SIN(C345*$L$191*PI()/180)","v":0},{"$f":"Harmonischen!$C$62/100*SIN(C345*$M$191*PI()/180)","v":0},{"$f":"Harmonischen!$C$63/100*SIN($C345*$N$191*PI()/180)","v":0},{"$f":"Harmonischen!$C$64/100*SIN($C345*$O$191*PI()/180)","v":0},{"$f":"Harmonischen!$C$65/100*SIN($C345*$P$191*PI()/180)","v":0},{"$f":"Harmonischen!$C$66/100*SIN($C345*$Q$191*PI()/180)","v":0},{"$f":"Harmonischen!$C$67/100*SIN($C345*$R$191*PI()/180)","v":0},{"$f":"Harmonischen!$C$68/100*SIN($C345*$S$191*PI()/180)","v":0},{"$f":"Harmonischen!$C$69/100*SIN($C345*$T$191*PI()/180)","v":0},{"$f":"Harmonischen!$C$70/100*SIN($C345*$U$191*PI()/180)","v":0},{"$f":"Harmonischen!$C$71/100*SIN($C345*$V$191*PI()/180)","v":0},{"$f":"Harmonischen!$C$72/100*SIN($C345*$W$191*PI()/180)","v":0},{"$f":"Harmonischen!$C$73/100*SIN($C345*$X$191*PI()/180)","v":0},{"$f":"Harmonischen!$C$74/100*SIN($C345*$Y$191*PI()/180)","v":0},{"$f":"Harmonischen!$C$75/100*SIN($C345*$Z$191*PI()/180)","v":0},{"$f":"Harmonischen!$C$76/100*SIN($C345*$AA$191*PI()/180)","v":0},{"$f":"Harmonischen!$C$77/100*SIN($C345*$AB$191*PI()/180)","v":0},null,0.65152816785857448]
[null,null,154,{"$f":"Harmonischen!$C$53/100*SIN(C346*PI()/180)","v":0.43837114678907729},{"$f":"Harmonischen!$C$54/100*SIN(C346*$E$191*PI()/180)","v":0},{"$f":"Harmonischen!$C$55/100*SIN(C346*$F$191*PI()/180)","v":0.1956295201467611},{"$f":"Harmonischen!$C$56/100*SIN(C346*$G$191*PI()/180)","v":0},{"$f":"Harmonischen!$C$57/100*SIN(C346*$H$191*PI()/180)","v":0},{"$f":"Harmonischen!$C$58/100*SIN(C346*$I$191*PI()/180)","v":0},{"$f":"Harmonischen!$C$59/100*SIN(C346*$J$191*PI()/180)","v":0},{"$f":"Harmonischen!$C$60/100*SIN(C346*$K$191*PI()/180)","v":0},{"$f":"Harmonischen!$C$61/100*SIN(C346*$L$191*PI()/180)","v":0},{"$f":"Harmonischen!$C$62/100*SIN(C346*$M$191*PI()/180)","v":0},{"$f":"Harmonischen!$C$63/100*SIN($C346*$N$191*PI()/180)","v":0},{"$f":"Harmonischen!$C$64/100*SIN($C346*$O$191*PI()/180)","v":0},{"$f":"Harmonischen!$C$65/100*SIN($C346*$P$191*PI()/180)","v":0},{"$f":"Harmonischen!$C$66/100*SIN($C346*$Q$191*PI()/180)","v":0},{"$f":"Harmonischen!$C$67/100*SIN($C346*$R$191*PI()/180)","v":0},{"$f":"Harmonischen!$C$68/100*SIN($C346*$S$191*PI()/180)","v":0},{"$f":"Harmonischen!$C$69/100*SIN($C346*$T$191*PI()/180)","v":0},{"$f":"Harmonischen!$C$70/100*SIN($C346*$U$191*PI()/180)","v":0},{"$f":"Harmonischen!$C$71/100*SIN($C346*$V$191*PI()/180)","v":0},{"$f":"Harmonischen!$C$72/100*SIN($C346*$W$191*PI()/180)","v":0},{"$f":"Harmonischen!$C$73/100*SIN($C346*$X$191*PI()/180)","v":0},{"$f":"Harmonischen!$C$74/100*SIN($C346*$Y$191*PI()/180)","v":0},{"$f":"Harmonischen!$C$75/100*SIN($C346*$Z$191*PI()/180)","v":0},{"$f":"Harmonischen!$C$76/100*SIN($C346*$AA$191*PI()/180)","v":0},{"$f":"Harmonischen!$C$77/100*SIN($C346*$AB$191*PI()/180)","v":0},null,0.63400066693583845]
[null,null,155,{"$f":"Harmonischen!$C$53/100*SIN(C347*PI()/180)","v":0.4226182617406995},{"$f":"Harmonischen!$C$54/100*SIN(C347*$E$191*PI()/180)","v":0},{"$f":"Harmonischen!$C$55/100*SIN(C347*$F$191*PI()/180)","v":0.19318516525781371},{"$f":"Harmonischen!$C$56/100*SIN(C347*$G$191*PI()/180)","v":0},{"$f":"Harmonischen!$C$57/100*SIN(C347*$H$191*PI()/180)","v":0},{"$f":"Harmonischen!$C$58/100*SIN(C347*$I$191*PI()/180)","v":0},{"$f":"Harmonischen!$C$59/100*SIN(C347*$J$191*PI()/180)","v":0},{"$f":"Harmonischen!$C$60/100*SIN(C347*$K$191*PI()/180)","v":0},{"$f":"Harmonischen!$C$61/100*SIN(C347*$L$191*PI()/180)","v":0},{"$f":"Harmonischen!$C$62/100*SIN(C347*$M$191*PI()/180)","v":0},{"$f":"Harmonischen!$C$63/100*SIN($C347*$N$191*PI()/180)","v":0},{"$f":"Harmonischen!$C$64/100*SIN($C347*$O$191*PI()/180)","v":0},{"$f":"Harmonischen!$C$65/100*SIN($C347*$P$191*PI()/180)","v":0},{"$f":"Harmonischen!$C$66/100*SIN($C347*$Q$191*PI()/180)","v":0},{"$f":"Harmonischen!$C$67/100*SIN($C347*$R$191*PI()/180)","v":0},{"$f":"Harmonischen!$C$68/100*SIN($C347*$S$191*PI()/180)","v":0},{"$f":"Harmonischen!$C$69/100*SIN($C347*$T$191*PI()/180)","v":0},{"$f":"Harmonischen!$C$70/100*SIN($C347*$U$191*PI()/180)","v":0},{"$f":"Harmonischen!$C$71/100*SIN($C347*$V$191*PI()/180)","v":0},{"$f":"Harmonischen!$C$72/100*SIN($C347*$W$191*PI()/180)","v":0},{"$f":"Harmonischen!$C$73/100*SIN($C347*$X$191*PI()/180)","v":0},{"$f":"Harmonischen!$C$74/100*SIN($C347*$Y$191*PI()/180)","v":0},{"$f":"Harmonischen!$C$75/100*SIN($C347*$Z$191*PI()/180)","v":0},{"$f":"Harmonischen!$C$76/100*SIN($C347*$AA$191*PI()/180)","v":0},{"$f":"Harmonischen!$C$77/100*SIN($C347*$AB$191*PI()/180)","v":0},null,0.6158034269985132]
[null,null,156,{"$f":"Harmonischen!$C$53/100*SIN(C348*PI()/180)","v":0.40673664307580043},{"$f":"Harmonischen!$C$54/100*SIN(C348*$E$191*PI()/180)","v":0},{"$f":"Harmonischen!$C$55/100*SIN(C348*$F$191*PI()/180)","v":0.19021130325903074},{"$f":"Harmonischen!$C$56/100*SIN(C348*$G$191*PI()/180)","v":0},{"$f":"Harmonischen!$C$57/100*SIN(C348*$H$191*PI()/180)","v":0},{"$f":"Harmonischen!$C$58/100*SIN(C348*$I$191*PI()/180)","v":0},{"$f":"Harmonischen!$C$59/100*SIN(C348*$J$191*PI()/180)","v":0},{"$f":"Harmonischen!$C$60/100*SIN(C348*$K$191*PI()/180)","v":0},{"$f":"Harmonischen!$C$61/100*SIN(C348*$L$191*PI()/180)","v":0},{"$f":"Harmonischen!$C$62/100*SIN(C348*$M$191*PI()/180)","v":0},{"$f":"Harmonischen!$C$63/100*SIN($C348*$N$191*PI()/180)","v":0},{"$f":"Harmonischen!$C$64/100*SIN($C348*$O$191*PI()/180)","v":0},{"$f":"Harmonischen!$C$65/100*SIN($C348*$P$191*PI()/180)","v":0},{"$f":"Harmonischen!$C$66/100*SIN($C348*$Q$191*PI()/180)","v":0},{"$f":"Harmonischen!$C$67/100*SIN($C348*$R$191*PI()/180)","v":0},{"$f":"Harmonischen!$C$68/100*SIN($C348*$S$191*PI()/180)","v":0},{"$f":"Harmonischen!$C$69/100*SIN($C348*$T$191*PI()/180)","v":0},{"$f":"Harmonischen!$C$70/100*SIN($C348*$U$191*PI()/180)","v":0},{"$f":"Harmonischen!$C$71/100*SIN($C348*$V$191*PI()/180)","v":0},{"$f":"Harmonischen!$C$72/100*SIN($C348*$W$191*PI()/180)","v":0},{"$f":"Harmonischen!$C$73/100*SIN($C348*$X$191*PI()/180)","v":0},{"$f":"Harmonischen!$C$74/100*SIN($C348*$Y$191*PI()/180)","v":0},{"$f":"Harmonischen!$C$75/100*SIN($C348*$Z$191*PI()/180)","v":0},{"$f":"Harmonischen!$C$76/100*SIN($C348*$AA$191*PI()/180)","v":0},{"$f":"Harmonischen!$C$77/100*SIN($C348*$AB$191*PI()/180)","v":0},null,0.59694794633483117]
[null,null,157,{"$f":"Harmonischen!$C$53/100*SIN(C349*PI()/180)","v":0.39073112848927416},{"$f":"Harmonischen!$C$54/100*SIN(C349*$E$191*PI()/180)","v":0},{"$f":"Harmonischen!$C$55/100*SIN(C349*$F$191*PI()/180)","v":0.18671608529944037},{"$f":"Harmonischen!$C$56/100*SIN(C349*$G$191*PI()/180)","v":0},{"$f":"Harmonischen!$C$57/100*SIN(C349*$H$191*PI()/180)","v":0},{"$f":"Harmonischen!$C$58/100*SIN(C349*$I$191*PI()/180)","v":0},{"$f":"Harmonischen!$C$59/100*SIN(C349*$J$191*PI()/180)","v":0},{"$f":"Harmonischen!$C$60/100*SIN(C349*$K$191*PI()/180)","v":0},{"$f":"Harmonischen!$C$61/100*SIN(C349*$L$191*PI()/180)","v":0},{"$f":"Harmonischen!$C$62/100*SIN(C349*$M$191*PI()/180)","v":0},{"$f":"Harmonischen!$C$63/100*SIN($C349*$N$191*PI()/180)","v":0},{"$f":"Harmonischen!$C$64/100*SIN($C349*$O$191*PI()/180)","v":0},{"$f":"Harmonischen!$C$65/100*SIN($C349*$P$191*PI()/180)","v":0},{"$f":"Harmonischen!$C$66/100*SIN($C349*$Q$191*PI()/180)","v":0},{"$f":"Harmonischen!$C$67/100*SIN($C349*$R$191*PI()/180)","v":0},{"$f":"Harmonischen!$C$68/100*SIN($C349*$S$191*PI()/180)","v":0},{"$f":"Harmonischen!$C$69/100*SIN($C349*$T$191*PI()/180)","v":0},{"$f":"Harmonischen!$C$70/100*SIN($C349*$U$191*PI()/180)","v":0},{"$f":"Harmonischen!$C$71/100*SIN($C349*$V$191*PI()/180)","v":0},{"$f":"Harmonischen!$C$72/100*SIN($C349*$W$191*PI()/180)","v":0},{"$f":"Harmonischen!$C$73/100*SIN($C349*$X$191*PI()/180)","v":0},{"$f":"Harmonischen!$C$74/100*SIN($C349*$Y$191*PI()/180)","v":0},{"$f":"Harmonischen!$C$75/100*SIN($C349*$Z$191*PI()/180)","v":0},{"$f":"Harmonischen!$C$76/100*SIN($C349*$AA$191*PI()/180)","v":0},{"$f":"Harmonischen!$C$77/100*SIN($C349*$AB$191*PI()/180)","v":0},null,0.57744721378871455]
[null,null,158,{"$f":"Harmonischen!$C$53/100*SIN(C350*PI()/180)","v":0.37460659341591224},{"$f":"Harmonischen!$C$54/100*SIN(C350*$E$191*PI()/180)","v":0},{"$f":"Harmonischen!$C$55/100*SIN(C350*$F$191*PI()/180)","v":0.18270909152852016},{"$f":"Harmonischen!$C$56/100*SIN(C350*$G$191*PI()/180)","v":0},{"$f":"Harmonischen!$C$57/100*SIN(C350*$H$191*PI()/180)","v":0},{"$f":"Harmonischen!$C$58/100*SIN(C350*$I$191*PI()/180)","v":0},{"$f":"Harmonischen!$C$59/100*SIN(C350*$J$191*PI()/180)","v":0},{"$f":"Harmonischen!$C$60/100*SIN(C350*$K$191*PI()/180)","v":0},{"$f":"Harmonischen!$C$61/100*SIN(C350*$L$191*PI()/180)","v":0},{"$f":"Harmonischen!$C$62/100*SIN(C350*$M$191*PI()/180)","v":0},{"$f":"Harmonischen!$C$63/100*SIN($C350*$N$191*PI()/180)","v":0},{"$f":"Harmonischen!$C$64/100*SIN($C350*$O$191*PI()/180)","v":0},{"$f":"Harmonischen!$C$65/100*SIN($C350*$P$191*PI()/180)","v":0},{"$f":"Harmonischen!$C$66/100*SIN($C350*$Q$191*PI()/180)","v":0},{"$f":"Harmonischen!$C$67/100*SIN($C350*$R$191*PI()/180)","v":0},{"$f":"Harmonischen!$C$68/100*SIN($C350*$S$191*PI()/180)","v":0},{"$f":"Harmonischen!$C$69/100*SIN($C350*$T$191*PI()/180)","v":0},{"$f":"Harmonischen!$C$70/100*SIN($C350*$U$191*PI()/180)","v":0},{"$f":"Harmonischen!$C$71/100*SIN($C350*$V$191*PI()/180)","v":0},{"$f":"Harmonischen!$C$72/100*SIN($C350*$W$191*PI()/180)","v":0},{"$f":"Harmonischen!$C$73/100*SIN($C350*$X$191*PI()/180)","v":0},{"$f":"Harmonischen!$C$74/100*SIN($C350*$Y$191*PI()/180)","v":0},{"$f":"Harmonischen!$C$75/100*SIN($C350*$Z$191*PI()/180)","v":0},{"$f":"Harmonischen!$C$76/100*SIN($C350*$AA$191*PI()/180)","v":0},{"$f":"Harmonischen!$C$77/100*SIN($C350*$AB$191*PI()/180)","v":0},null,0.5573156849444324]
[null,null,159,{"$f":"Harmonischen!$C$53/100*SIN(C351*PI()/180)","v":0.35836794954530021},{"$f":"Harmonischen!$C$54/100*SIN(C351*$E$191*PI()/180)","v":0},{"$f":"Harmonischen!$C$55/100*SIN(C351*$F$191*PI()/180)","v":0.17820130483767352},{"$f":"Harmonischen!$C$56/100*SIN(C351*$G$191*PI()/180)","v":0},{"$f":"Harmonischen!$C$57/100*SIN(C351*$H$191*PI()/180)","v":0},{"$f":"Harmonischen!$C$58/100*SIN(C351*$I$191*PI()/180)","v":0},{"$f":"Harmonischen!$C$59/100*SIN(C351*$J$191*PI()/180)","v":0},{"$f":"Harmonischen!$C$60/100*SIN(C351*$K$191*PI()/180)","v":0},{"$f":"Harmonischen!$C$61/100*SIN(C351*$L$191*PI()/180)","v":0},{"$f":"Harmonischen!$C$62/100*SIN(C351*$M$191*PI()/180)","v":0},{"$f":"Harmonischen!$C$63/100*SIN($C351*$N$191*PI()/180)","v":0},{"$f":"Harmonischen!$C$64/100*SIN($C351*$O$191*PI()/180)","v":0},{"$f":"Harmonischen!$C$65/100*SIN($C351*$P$191*PI()/180)","v":0},{"$f":"Harmonischen!$C$66/100*SIN($C351*$Q$191*PI()/180)","v":0},{"$f":"Harmonischen!$C$67/100*SIN($C351*$R$191*PI()/180)","v":0},{"$f":"Harmonischen!$C$68/100*SIN($C351*$S$191*PI()/180)","v":0},{"$f":"Harmonischen!$C$69/100*SIN($C351*$T$191*PI()/180)","v":0},{"$f":"Harmonischen!$C$70/100*SIN($C351*$U$191*PI()/180)","v":0},{"$f":"Harmonischen!$C$71/100*SIN($C351*$V$191*PI()/180)","v":0},{"$f":"Harmonischen!$C$72/100*SIN($C351*$W$191*PI()/180)","v":0},{"$f":"Harmonischen!$C$73/100*SIN($C351*$X$191*PI()/180)","v":0},{"$f":"Harmonischen!$C$74/100*SIN($C351*$Y$191*PI()/180)","v":0},{"$f":"Harmonischen!$C$75/100*SIN($C351*$Z$191*PI()/180)","v":0},{"$f":"Harmonischen!$C$76/100*SIN($C351*$AA$191*PI()/180)","v":0},{"$f":"Harmonischen!$C$77/100*SIN($C351*$AB$191*PI()/180)","v":0},null,0.53656925438297376]
[null,null,160,{"$f":"Harmonischen!$C$53/100*SIN(C352*PI()/180)","v":0.34202014332566888},{"$f":"Harmonischen!$C$54/100*SIN(C352*$E$191*PI()/180)","v":0},{"$f":"Harmonischen!$C$55/100*SIN(C352*$F$191*PI()/180)","v":0.17320508075688784},{"$f":"Harmonischen!$C$56/100*SIN(C352*$G$191*PI()/180)","v":0},{"$f":"Harmonischen!$C$57/100*SIN(C352*$H$191*PI()/180)","v":0},{"$f":"Harmonischen!$C$58/100*SIN(C352*$I$191*PI()/180)","v":0},{"$f":"Harmonischen!$C$59/100*SIN(C352*$J$191*PI()/180)","v":0},{"$f":"Harmonischen!$C$60/100*SIN(C352*$K$191*PI()/180)","v":0},{"$f":"Harmonischen!$C$61/100*SIN(C352*$L$191*PI()/180)","v":0},{"$f":"Harmonischen!$C$62/100*SIN(C352*$M$191*PI()/180)","v":0},{"$f":"Harmonischen!$C$63/100*SIN($C352*$N$191*PI()/180)","v":0},{"$f":"Harmonischen!$C$64/100*SIN($C352*$O$191*PI()/180)","v":0},{"$f":"Harmonischen!$C$65/100*SIN($C352*$P$191*PI()/180)","v":0},{"$f":"Harmonischen!$C$66/100*SIN($C352*$Q$191*PI()/180)","v":0},{"$f":"Harmonischen!$C$67/100*SIN($C352*$R$191*PI()/180)","v":0},{"$f":"Harmonischen!$C$68/100*SIN($C352*$S$191*PI()/180)","v":0},{"$f":"Harmonischen!$C$69/100*SIN($C352*$T$191*PI()/180)","v":0},{"$f":"Harmonischen!$C$70/100*SIN($C352*$U$191*PI()/180)","v":0},{"$f":"Harmonischen!$C$71/100*SIN($C352*$V$191*PI()/180)","v":0},{"$f":"Harmonischen!$C$72/100*SIN($C352*$W$191*PI()/180)","v":0},{"$f":"Harmonischen!$C$73/100*SIN($C352*$X$191*PI()/180)","v":0},{"$f":"Harmonischen!$C$74/100*SIN($C352*$Y$191*PI()/180)","v":0},{"$f":"Harmonischen!$C$75/100*SIN($C352*$Z$191*PI()/180)","v":0},{"$f":"Harmonischen!$C$76/100*SIN($C352*$AA$191*PI()/180)","v":0},{"$f":"Harmonischen!$C$77/100*SIN($C352*$AB$191*PI()/180)","v":0},null,0.51522522408255678]
[null,null,161,{"$f":"Harmonischen!$C$53/100*SIN(C353*PI()/180)","v":0.32556815445715703},{"$f":"Harmonischen!$C$54/100*SIN(C353*$E$191*PI()/180)","v":0},{"$f":"Harmonischen!$C$55/100*SIN(C353*$F$191*PI()/180)","v":0.16773411358908488},{"$f":"Harmonischen!$C$56/100*SIN(C353*$G$191*PI()/180)","v":0},{"$f":"Harmonischen!$C$57/100*SIN(C353*$H$191*PI()/180)","v":0},{"$f":"Harmonischen!$C$58/100*SIN(C353*$I$191*PI()/180)","v":0},{"$f":"Harmonischen!$C$59/100*SIN(C353*$J$191*PI()/180)","v":0},{"$f":"Harmonischen!$C$60/100*SIN(C353*$K$191*PI()/180)","v":0},{"$f":"Harmonischen!$C$61/100*SIN(C353*$L$191*PI()/180)","v":0},{"$f":"Harmonischen!$C$62/100*SIN(C353*$M$191*PI()/180)","v":0},{"$f":"Harmonischen!$C$63/100*SIN($C353*$N$191*PI()/180)","v":0},{"$f":"Harmonischen!$C$64/100*SIN($C353*$O$191*PI()/180)","v":0},{"$f":"Harmonischen!$C$65/100*SIN($C353*$P$191*PI()/180)","v":0},{"$f":"Harmonischen!$C$66/100*SIN($C353*$Q$191*PI()/180)","v":0},{"$f":"Harmonischen!$C$67/100*SIN($C353*$R$191*PI()/180)","v":0},{"$f":"Harmonischen!$C$68/100*SIN($C353*$S$191*PI()/180)","v":0},{"$f":"Harmonischen!$C$69/100*SIN($C353*$T$191*PI()/180)","v":0},{"$f":"Harmonischen!$C$70/100*SIN($C353*$U$191*PI()/180)","v":0},{"$f":"Harmonischen!$C$71/100*SIN($C353*$V$191*PI()/180)","v":0},{"$f":"Harmonischen!$C$72/100*SIN($C353*$W$191*PI()/180)","v":0},{"$f":"Harmonischen!$C$73/100*SIN($C353*$X$191*PI()/180)","v":0},{"$f":"Harmonischen!$C$74/100*SIN($C353*$Y$191*PI()/180)","v":0},{"$f":"Harmonischen!$C$75/100*SIN($C353*$Z$191*PI()/180)","v":0},{"$f":"Harmonischen!$C$76/100*SIN($C353*$AA$191*PI()/180)","v":0},{"$f":"Harmonischen!$C$77/100*SIN($C353*$AB$191*PI()/180)","v":0},null,0.49330226804624189]
[null,null,162,{"$f":"Harmonischen!$C$53/100*SIN(C354*PI()/180)","v":0.30901699437494751},{"$f":"Harmonischen!$C$54/100*SIN(C354*$E$191*PI()/180)","v":0},{"$f":"Harmonischen!$C$55/100*SIN(C354*$F$191*PI()/180)","v":0.16180339887498954},{"$f":"Harmonischen!$C$56/100*SIN(C354*$G$191*PI()/180)","v":0},{"$f":"Harmonischen!$C$57/100*SIN(C354*$H$191*PI()/180)","v":0},{"$f":"Harmonischen!$C$58/100*SIN(C354*$I$191*PI()/180)","v":0},{"$f":"Harmonischen!$C$59/100*SIN(C354*$J$191*PI()/180)","v":0},{"$f":"Harmonischen!$C$60/100*SIN(C354*$K$191*PI()/180)","v":0},{"$f":"Harmonischen!$C$61/100*SIN(C354*$L$191*PI()/180)","v":0},{"$f":"Harmonischen!$C$62/100*SIN(C354*$M$191*PI()/180)","v":0},{"$f":"Harmonischen!$C$63/100*SIN($C354*$N$191*PI()/180)","v":0},{"$f":"Harmonischen!$C$64/100*SIN($C354*$O$191*PI()/180)","v":0},{"$f":"Harmonischen!$C$65/100*SIN($C354*$P$191*PI()/180)","v":0},{"$f":"Harmonischen!$C$66/100*SIN($C354*$Q$191*PI()/180)","v":0},{"$f":"Harmonischen!$C$67/100*SIN($C354*$R$191*PI()/180)","v":0},{"$f":"Harmonischen!$C$68/100*SIN($C354*$S$191*PI()/180)","v":0},{"$f":"Harmonischen!$C$69/100*SIN($C354*$T$191*PI()/180)","v":0},{"$f":"Harmonischen!$C$70/100*SIN($C354*$U$191*PI()/180)","v":0},{"$f":"Harmonischen!$C$71/100*SIN($C354*$V$191*PI()/180)","v":0},{"$f":"Harmonischen!$C$72/100*SIN($C354*$W$191*PI()/180)","v":0},{"$f":"Harmonischen!$C$73/100*SIN($C354*$X$191*PI()/180)","v":0},{"$f":"Harmonischen!$C$74/100*SIN($C354*$Y$191*PI()/180)","v":0},{"$f":"Harmonischen!$C$75/100*SIN($C354*$Z$191*PI()/180)","v":0},{"$f":"Harmonischen!$C$76/100*SIN($C354*$AA$191*PI()/180)","v":0},{"$f":"Harmonischen!$C$77/100*SIN($C354*$AB$191*PI()/180)","v":0},null,0.47082039324993707]
[null,null,163,{"$f":"Harmonischen!$C$53/100*SIN(C355*PI()/180)","v":0.29237170472273705},{"$f":"Harmonischen!$C$54/100*SIN(C355*$E$191*PI()/180)","v":0},{"$f":"Harmonischen!$C$55/100*SIN(C355*$F$191*PI()/180)","v":0.15542919229139418},{"$f":"Harmonischen!$C$56/100*SIN(C355*$G$191*PI()/180)","v":0},{"$f":"Harmonischen!$C$57/100*SIN(C355*$H$191*PI()/180)","v":0},{"$f":"Harmonischen!$C$58/100*SIN(C355*$I$191*PI()/180)","v":0},{"$f":"Harmonischen!$C$59/100*SIN(C355*$J$191*PI()/180)","v":0},{"$f":"Harmonischen!$C$60/100*SIN(C355*$K$191*PI()/180)","v":0},{"$f":"Harmonischen!$C$61/100*SIN(C355*$L$191*PI()/180)","v":0},{"$f":"Harmonischen!$C$62/100*SIN(C355*$M$191*PI()/180)","v":0},{"$f":"Harmonischen!$C$63/100*SIN($C355*$N$191*PI()/180)","v":0},{"$f":"Harmonischen!$C$64/100*SIN($C355*$O$191*PI()/180)","v":0},{"$f":"Harmonischen!$C$65/100*SIN($C355*$P$191*PI()/180)","v":0},{"$f":"Harmonischen!$C$66/100*SIN($C355*$Q$191*PI()/180)","v":0},{"$f":"Harmonischen!$C$67/100*SIN($C355*$R$191*PI()/180)","v":0},{"$f":"Harmonischen!$C$68/100*SIN($C355*$S$191*PI()/180)","v":0},{"$f":"Harmonischen!$C$69/100*SIN($C355*$T$191*PI()/180)","v":0},{"$f":"Harmonischen!$C$70/100*SIN($C355*$U$191*PI()/180)","v":0},{"$f":"Harmonischen!$C$71/100*SIN($C355*$V$191*PI()/180)","v":0},{"$f":"Harmonischen!$C$72/100*SIN($C355*$W$191*PI()/180)","v":0},{"$f":"Harmonischen!$C$73/100*SIN($C355*$X$191*PI()/180)","v":0},{"$f":"Harmonischen!$C$74/100*SIN($C355*$Y$191*PI()/180)","v":0},{"$f":"Harmonischen!$C$75/100*SIN($C355*$Z$191*PI()/180)","v":0},{"$f":"Harmonischen!$C$76/100*SIN($C355*$AA$191*PI()/180)","v":0},{"$f":"Harmonischen!$C$77/100*SIN($C355*$AB$191*PI()/180)","v":0},null,0.44780089701413123]
[null,null,164,{"$f":"Harmonischen!$C$53/100*SIN(C356*PI()/180)","v":0.27563735581699966},{"$f":"Harmonischen!$C$54/100*SIN(C356*$E$191*PI()/180)","v":0},{"$f":"Harmonischen!$C$55/100*SIN(C356*$F$191*PI()/180)","v":0.14862896509547882},{"$f":"Harmonischen!$C$56/100*SIN(C356*$G$191*PI()/180)","v":0},{"$f":"Harmonischen!$C$57/100*SIN(C356*$H$191*PI()/180)","v":0},{"$f":"Harmonischen!$C$58/100*SIN(C356*$I$191*PI()/180)","v":0},{"$f":"Harmonischen!$C$59/100*SIN(C356*$J$191*PI()/180)","v":0},{"$f":"Harmonischen!$C$60/100*SIN(C356*$K$191*PI()/180)","v":0},{"$f":"Harmonischen!$C$61/100*SIN(C356*$L$191*PI()/180)","v":0},{"$f":"Harmonischen!$C$62/100*SIN(C356*$M$191*PI()/180)","v":0},{"$f":"Harmonischen!$C$63/100*SIN($C356*$N$191*PI()/180)","v":0},{"$f":"Harmonischen!$C$64/100*SIN($C356*$O$191*PI()/180)","v":0},{"$f":"Harmonischen!$C$65/100*SIN($C356*$P$191*PI()/180)","v":0},{"$f":"Harmonischen!$C$66/100*SIN($C356*$Q$191*PI()/180)","v":0},{"$f":"Harmonischen!$C$67/100*SIN($C356*$R$191*PI()/180)","v":0},{"$f":"Harmonischen!$C$68/100*SIN($C356*$S$191*PI()/180)","v":0},{"$f":"Harmonischen!$C$69/100*SIN($C356*$T$191*PI()/180)","v":0},{"$f":"Harmonischen!$C$70/100*SIN($C356*$U$191*PI()/180)","v":0},{"$f":"Harmonischen!$C$71/100*SIN($C356*$V$191*PI()/180)","v":0},{"$f":"Harmonischen!$C$72/100*SIN($C356*$W$191*PI()/180)","v":0},{"$f":"Harmonischen!$C$73/100*SIN($C356*$X$191*PI()/180)","v":0},{"$f":"Harmonischen!$C$74/100*SIN($C356*$Y$191*PI()/180)","v":0},{"$f":"Harmonischen!$C$75/100*SIN($C356*$Z$191*PI()/180)","v":0},{"$f":"Harmonischen!$C$76/100*SIN($C356*$AA$191*PI()/180)","v":0},{"$f":"Harmonischen!$C$77/100*SIN($C356*$AB$191*PI()/180)","v":0},null,0.42426632091247851]
[null,null,165,{"$f":"Harmonischen!$C$53/100*SIN(C357*PI()/180)","v":0.25881904510252102},{"$f":"Harmonischen!$C$54/100*SIN(C357*$E$191*PI()/180)","v":0},{"$f":"Harmonischen!$C$55/100*SIN(C357*$F$191*PI()/180)","v":0.14142135623730942},{"$f":"Harmonischen!$C$56/100*SIN(C357*$G$191*PI()/180)","v":0},{"$f":"Harmonischen!$C$57/100*SIN(C357*$H$191*PI()/180)","v":0},{"$f":"Harmonischen!$C$58/100*SIN(C357*$I$191*PI()/180)","v":0},{"$f":"Harmonischen!$C$59/100*SIN(C357*$J$191*PI()/180)","v":0},{"$f":"Harmonischen!$C$60/100*SIN(C357*$K$191*PI()/180)","v":0},{"$f":"Harmonischen!$C$61/100*SIN(C357*$L$191*PI()/180)","v":0},{"$f":"Harmonischen!$C$62/100*SIN(C357*$M$191*PI()/180)","v":0},{"$f":"Harmonischen!$C$63/100*SIN($C357*$N$191*PI()/180)","v":0},{"$f":"Harmonischen!$C$64/100*SIN($C357*$O$191*PI()/180)","v":0},{"$f":"Harmonischen!$C$65/100*SIN($C357*$P$191*PI()/180)","v":0},{"$f":"Harmonischen!$C$66/100*SIN($C357*$Q$191*PI()/180)","v":0},{"$f":"Harmonischen!$C$67/100*SIN($C357*$R$191*PI()/180)","v":0},{"$f":"Harmonischen!$C$68/100*SIN($C357*$S$191*PI()/180)","v":0},{"$f":"Harmonischen!$C$69/100*SIN($C357*$T$191*PI()/180)","v":0},{"$f":"Harmonischen!$C$70/100*SIN($C357*$U$191*PI()/180)","v":0},{"$f":"Harmonischen!$C$71/100*SIN($C357*$V$191*PI()/180)","v":0},{"$f":"Harmonischen!$C$72/100*SIN($C357*$W$191*PI()/180)","v":0},{"$f":"Harmonischen!$C$73/100*SIN($C357*$X$191*PI()/180)","v":0},{"$f":"Harmonischen!$C$74/100*SIN($C357*$Y$191*PI()/180)","v":0},{"$f":"Harmonischen!$C$75/100*SIN($C357*$Z$191*PI()/180)","v":0},{"$f":"Harmonischen!$C$76/100*SIN($C357*$AA$191*PI()/180)","v":0},{"$f":"Harmonischen!$C$77/100*SIN($C357*$AB$191*PI()/180)","v":0},null,0.40024040133983041]
[null,null,166,{"$f":"Harmonischen!$C$53/100*SIN(C358*PI()/180)","v":0.24192189559966773},{"$f":"Harmonischen!$C$54/100*SIN(C358*$E$191*PI()/180)","v":0},{"$f":"Harmonischen!$C$55/100*SIN(C358*$F$191*PI()/180)","v":0.13382612127177179},{"$f":"Harmonischen!$C$56/100*SIN(C358*$G$191*PI()/180)","v":0},{"$f":"Harmonischen!$C$57/100*SIN(C358*$H$191*PI()/180)","v":0},{"$f":"Harmonischen!$C$58/100*SIN(C358*$I$191*PI()/180)","v":0},{"$f":"Harmonischen!$C$59/100*SIN(C358*$J$191*PI()/180)","v":0},{"$f":"Harmonischen!$C$60/100*SIN(C358*$K$191*PI()/180)","v":0},{"$f":"Harmonischen!$C$61/100*SIN(C358*$L$191*PI()/180)","v":0},{"$f":"Harmonischen!$C$62/100*SIN(C358*$M$191*PI()/180)","v":0},{"$f":"Harmonischen!$C$63/100*SIN($C358*$N$191*PI()/180)","v":0},{"$f":"Harmonischen!$C$64/100*SIN($C358*$O$191*PI()/180)","v":0},{"$f":"Harmonischen!$C$65/100*SIN($C358*$P$191*PI()/180)","v":0},{"$f":"Harmonischen!$C$66/100*SIN($C358*$Q$191*PI()/180)","v":0},{"$f":"Harmonischen!$C$67/100*SIN($C358*$R$191*PI()/180)","v":0},{"$f":"Harmonischen!$C$68/100*SIN($C358*$S$191*PI()/180)","v":0},{"$f":"Harmonischen!$C$69/100*SIN($C358*$T$191*PI()/180)","v":0},{"$f":"Harmonischen!$C$70/100*SIN($C358*$U$191*PI()/180)","v":0},{"$f":"Harmonischen!$C$71/100*SIN($C358*$V$191*PI()/180)","v":0},{"$f":"Harmonischen!$C$72/100*SIN($C358*$W$191*PI()/180)","v":0},{"$f":"Harmonischen!$C$73/100*SIN($C358*$X$191*PI()/180)","v":0},{"$f":"Harmonischen!$C$74/100*SIN($C358*$Y$191*PI()/180)","v":0},{"$f":"Harmonischen!$C$75/100*SIN($C358*$Z$191*PI()/180)","v":0},{"$f":"Harmonischen!$C$76/100*SIN($C358*$AA$191*PI()/180)","v":0},{"$f":"Harmonischen!$C$77/100*SIN($C358*$AB$191*PI()/180)","v":0},null,0.37574801687143955]
[null,null,167,{"$f":"Harmonischen!$C$53/100*SIN(C359*PI()/180)","v":0.22495105434386478},{"$f":"Harmonischen!$C$54/100*SIN(C359*$E$191*PI()/180)","v":0},{"$f":"Harmonischen!$C$55/100*SIN(C359*$F$191*PI()/180)","v":0.12586407820996759},{"$f":"Harmonischen!$C$56/100*SIN(C359*$G$191*PI()/180)","v":0},{"$f":"Harmonischen!$C$57/100*SIN(C359*$H$191*PI()/180)","v":0},{"$f":"Harmonischen!$C$58/100*SIN(C359*$I$191*PI()/180)","v":0},{"$f":"Harmonischen!$C$59/100*SIN(C359*$J$191*PI()/180)","v":0},{"$f":"Harmonischen!$C$60/100*SIN(C359*$K$191*PI()/180)","v":0},{"$f":"Harmonischen!$C$61/100*SIN(C359*$L$191*PI()/180)","v":0},{"$f":"Harmonischen!$C$62/100*SIN(C359*$M$191*PI()/180)","v":0},{"$f":"Harmonischen!$C$63/100*SIN($C359*$N$191*PI()/180)","v":0},{"$f":"Harmonischen!$C$64/100*SIN($C359*$O$191*PI()/180)","v":0},{"$f":"Harmonischen!$C$65/100*SIN($C359*$P$191*PI()/180)","v":0},{"$f":"Harmonischen!$C$66/100*SIN($C359*$Q$191*PI()/180)","v":0},{"$f":"Harmonischen!$C$67/100*SIN($C359*$R$191*PI()/180)","v":0},{"$f":"Harmonischen!$C$68/100*SIN($C359*$S$191*PI()/180)","v":0},{"$f":"Harmonischen!$C$69/100*SIN($C359*$T$191*PI()/180)","v":0},{"$f":"Harmonischen!$C$70/100*SIN($C359*$U$191*PI()/180)","v":0},{"$f":"Harmonischen!$C$71/100*SIN($C359*$V$191*PI()/180)","v":0},{"$f":"Harmonischen!$C$72/100*SIN($C359*$W$191*PI()/180)","v":0},{"$f":"Harmonischen!$C$73/100*SIN($C359*$X$191*PI()/180)","v":0},{"$f":"Harmonischen!$C$74/100*SIN($C359*$Y$191*PI()/180)","v":0},{"$f":"Harmonischen!$C$75/100*SIN($C359*$Z$191*PI()/180)","v":0},{"$f":"Harmonischen!$C$76/100*SIN($C359*$AA$191*PI()/180)","v":0},{"$f":"Harmonischen!$C$77/100*SIN($C359*$AB$191*PI()/180)","v":0},null,0.35081513255383234]
[null,null,168,{"$f":"Harmonischen!$C$53/100*SIN(C360*PI()/180)","v":0.20791169081775931},{"$f":"Harmonischen!$C$54/100*SIN(C360*$E$191*PI()/180)","v":0},{"$f":"Harmonischen!$C$55/100*SIN(C360*$F$191*PI()/180)","v":0.11755705045849468},{"$f":"Harmonischen!$C$56/100*SIN(C360*$G$191*PI()/180)","v":0},{"$f":"Harmonischen!$C$57/100*SIN(C360*$H$191*PI()/180)","v":0},{"$f":"Harmonischen!$C$58/100*SIN(C360*$I$191*PI()/180)","v":0},{"$f":"Harmonischen!$C$59/100*SIN(C360*$J$191*PI()/180)","v":0},{"$f":"Harmonischen!$C$60/100*SIN(C360*$K$191*PI()/180)","v":0},{"$f":"Harmonischen!$C$61/100*SIN(C360*$L$191*PI()/180)","v":0},{"$f":"Harmonischen!$C$62/100*SIN(C360*$M$191*PI()/180)","v":0},{"$f":"Harmonischen!$C$63/100*SIN($C360*$N$191*PI()/180)","v":0},{"$f":"Harmonischen!$C$64/100*SIN($C360*$O$191*PI()/180)","v":0},{"$f":"Harmonischen!$C$65/100*SIN($C360*$P$191*PI()/180)","v":0},{"$f":"Harmonischen!$C$66/100*SIN($C360*$Q$191*PI()/180)","v":0},{"$f":"Harmonischen!$C$67/100*SIN($C360*$R$191*PI()/180)","v":0},{"$f":"Harmonischen!$C$68/100*SIN($C360*$S$191*PI()/180)","v":0},{"$f":"Harmonischen!$C$69/100*SIN($C360*$T$191*PI()/180)","v":0},{"$f":"Harmonischen!$C$70/100*SIN($C360*$U$191*PI()/180)","v":0},{"$f":"Harmonischen!$C$71/100*SIN($C360*$V$191*PI()/180)","v":0},{"$f":"Harmonischen!$C$72/100*SIN($C360*$W$191*PI()/180)","v":0},{"$f":"Harmonischen!$C$73/100*SIN($C360*$X$191*PI()/180)","v":0},{"$f":"Harmonischen!$C$74/100*SIN($C360*$Y$191*PI()/180)","v":0},{"$f":"Harmonischen!$C$75/100*SIN($C360*$Z$191*PI()/180)","v":0},{"$f":"Harmonischen!$C$76/100*SIN($C360*$AA$191*PI()/180)","v":0},{"$f":"Harmonischen!$C$77/100*SIN($C360*$AB$191*PI()/180)","v":0},null,0.32546874127625403]
[null,null,169,{"$f":"Harmonischen!$C$53/100*SIN(C361*PI()/180)","v":0.19080899537654497},{"$f":"Harmonischen!$C$54/100*SIN(C361*$E$191*PI()/180)","v":0},{"$f":"Harmonischen!$C$55/100*SIN(C361*$F$191*PI()/180)","v":0.10892780700300542},{"$f":"Harmonischen!$C$56/100*SIN(C361*$G$191*PI()/180)","v":0},{"$f":"Harmonischen!$C$57/100*SIN(C361*$H$191*PI()/180)","v":0},{"$f":"Harmonischen!$C$58/100*SIN(C361*$I$191*PI()/180)","v":0},{"$f":"Harmonischen!$C$59/100*SIN(C361*$J$191*PI()/180)","v":0},{"$f":"Harmonischen!$C$60/100*SIN(C361*$K$191*PI()/180)","v":0},{"$f":"Harmonischen!$C$61/100*SIN(C361*$L$191*PI()/180)","v":0},{"$f":"Harmonischen!$C$62/100*SIN(C361*$M$191*PI()/180)","v":0},{"$f":"Harmonischen!$C$63/100*SIN($C361*$N$191*PI()/180)","v":0},{"$f":"Harmonischen!$C$64/100*SIN($C361*$O$191*PI()/180)","v":0},{"$f":"Harmonischen!$C$65/100*SIN($C361*$P$191*PI()/180)","v":0},{"$f":"Harmonischen!$C$66/100*SIN($C361*$Q$191*PI()/180)","v":0},{"$f":"Harmonischen!$C$67/100*SIN($C361*$R$191*PI()/180)","v":0},{"$f":"Harmonischen!$C$68/100*SIN($C361*$S$191*PI()/180)","v":0},{"$f":"Harmonischen!$C$69/100*SIN($C361*$T$191*PI()/180)","v":0},{"$f":"Harmonischen!$C$70/100*SIN($C361*$U$191*PI()/180)","v":0},{"$f":"Harmonischen!$C$71/100*SIN($C361*$V$191*PI()/180)","v":0},{"$f":"Harmonischen!$C$72/100*SIN($C361*$W$191*PI()/180)","v":0},{"$f":"Harmonischen!$C$73/100*SIN($C361*$X$191*PI()/180)","v":0},{"$f":"Harmonischen!$C$74/100*SIN($C361*$Y$191*PI()/180)","v":0},{"$f":"Harmonischen!$C$75/100*SIN($C361*$Z$191*PI()/180)","v":0},{"$f":"Harmonischen!$C$76/100*SIN($C361*$AA$191*PI()/180)","v":0},{"$f":"Harmonischen!$C$77/100*SIN($C361*$AB$191*PI()/180)","v":0},null,0.29973680237955036]
[null,null,170,{"$f":"Harmonischen!$C$53/100*SIN(C362*PI()/180)","v":0.17364817766693028},{"$f":"Harmonischen!$C$54/100*SIN(C362*$E$191*PI()/180)","v":0},{"$f":"Harmonischen!$C$55/100*SIN(C362*$F$191*PI()/180)","v":9.9999999999999964E-2},{"$f":"Harmonischen!$C$56/100*SIN(C362*$G$191*PI()/180)","v":0},{"$f":"Harmonischen!$C$57/100*SIN(C362*$H$191*PI()/180)","v":0},{"$f":"Harmonischen!$C$58/100*SIN(C362*$I$191*PI()/180)","v":0},{"$f":"Harmonischen!$C$59/100*SIN(C362*$J$191*PI()/180)","v":0},{"$f":"Harmonischen!$C$60/100*SIN(C362*$K$191*PI()/180)","v":0},{"$f":"Harmonischen!$C$61/100*SIN(C362*$L$191*PI()/180)","v":0},{"$f":"Harmonischen!$C$62/100*SIN(C362*$M$191*PI()/180)","v":0},{"$f":"Harmonischen!$C$63/100*SIN($C362*$N$191*PI()/180)","v":0},{"$f":"Harmonischen!$C$64/100*SIN($C362*$O$191*PI()/180)","v":0},{"$f":"Harmonischen!$C$65/100*SIN($C362*$P$191*PI()/180)","v":0},{"$f":"Harmonischen!$C$66/100*SIN($C362*$Q$191*PI()/180)","v":0},{"$f":"Harmonischen!$C$67/100*SIN($C362*$R$191*PI()/180)","v":0},{"$f":"Harmonischen!$C$68/100*SIN($C362*$S$191*PI()/180)","v":0},{"$f":"Harmonischen!$C$69/100*SIN($C362*$T$191*PI()/180)","v":0},{"$f":"Harmonischen!$C$70/100*SIN($C362*$U$191*PI()/180)","v":0},{"$f":"Harmonischen!$C$71/100*SIN($C362*$V$191*PI()/180)","v":0},{"$f":"Harmonischen!$C$72/100*SIN($C362*$W$191*PI()/180)","v":0},{"$f":"Harmonischen!$C$73/100*SIN($C362*$X$191*PI()/180)","v":0},{"$f":"Harmonischen!$C$74/100*SIN($C362*$Y$191*PI()/180)","v":0},{"$f":"Harmonischen!$C$75/100*SIN($C362*$Z$191*PI()/180)","v":0},{"$f":"Harmonischen!$C$76/100*SIN($C362*$AA$191*PI()/180)","v":0},{"$f":"Harmonischen!$C$77/100*SIN($C362*$AB$191*PI()/180)","v":0},null,0.27364817766693023]
[null,null,171,{"$f":"Harmonischen!$C$53/100*SIN(C363*PI()/180)","v":0.15643446504023098},{"$f":"Harmonischen!$C$54/100*SIN(C363*$E$191*PI()/180)","v":0},{"$f":"Harmonischen!$C$55/100*SIN(C363*$F$191*PI()/180)","v":9.0798099947909272E-2},{"$f":"Harmonischen!$C$56/100*SIN(C363*$G$191*PI()/180)","v":0},{"$f":"Harmonischen!$C$57/100*SIN(C363*$H$191*PI()/180)","v":0},{"$f":"Harmonischen!$C$58/100*SIN(C363*$I$191*PI()/180)","v":0},{"$f":"Harmonischen!$C$59/100*SIN(C363*$J$191*PI()/180)","v":0},{"$f":"Harmonischen!$C$60/100*SIN(C363*$K$191*PI()/180)","v":0},{"$f":"Harmonischen!$C$61/100*SIN(C363*$L$191*PI()/180)","v":0},{"$f":"Harmonischen!$C$62/100*SIN(C363*$M$191*PI()/180)","v":0},{"$f":"Harmonischen!$C$63/100*SIN($C363*$N$191*PI()/180)","v":0},{"$f":"Harmonischen!$C$64/100*SIN($C363*$O$191*PI()/180)","v":0},{"$f":"Harmonischen!$C$65/100*SIN($C363*$P$191*PI()/180)","v":0},{"$f":"Harmonischen!$C$66/100*SIN($C363*$Q$191*PI()/180)","v":0},{"$f":"Harmonischen!$C$67/100*SIN($C363*$R$191*PI()/180)","v":0},{"$f":"Harmonischen!$C$68/100*SIN($C363*$S$191*PI()/180)","v":0},{"$f":"Harmonischen!$C$69/100*SIN($C363*$T$191*PI()/180)","v":0},{"$f":"Harmonischen!$C$70/100*SIN($C363*$U$191*PI()/180)","v":0},{"$f":"Harmonischen!$C$71/100*SIN($C363*$V$191*PI()/180)","v":0},{"$f":"Harmonischen!$C$72/100*SIN($C363*$W$191*PI()/180)","v":0},{"$f":"Harmonischen!$C$73/100*SIN($C363*$X$191*PI()/180)","v":0},{"$f":"Harmonischen!$C$74/100*SIN($C363*$Y$191*PI()/180)","v":0},{"$f":"Harmonischen!$C$75/100*SIN($C363*$Z$191*PI()/180)","v":0},{"$f":"Harmonischen!$C$76/100*SIN($C363*$AA$191*PI()/180)","v":0},{"$f":"Harmonischen!$C$77/100*SIN($C363*$AB$191*PI()/180)","v":0},null,0.24723256498814025]
[null,null,172,{"$f":"Harmonischen!$C$53/100*SIN(C364*PI()/180)","v":0.13917310096006574},{"$f":"Harmonischen!$C$54/100*SIN(C364*$E$191*PI()/180)","v":0},{"$f":"Harmonischen!$C$55/100*SIN(C364*$F$191*PI()/180)","v":8.1347328615160225E-2},{"$f":"Harmonischen!$C$56/100*SIN(C364*$G$191*PI()/180)","v":0},{"$f":"Harmonischen!$C$57/100*SIN(C364*$H$191*PI()/180)","v":0},{"$f":"Harmonischen!$C$58/100*SIN(C364*$I$191*PI()/180)","v":0},{"$f":"Harmonischen!$C$59/100*SIN(C364*$J$191*PI()/180)","v":0},{"$f":"Harmonischen!$C$60/100*SIN(C364*$K$191*PI()/180)","v":0},{"$f":"Harmonischen!$C$61/100*SIN(C364*$L$191*PI()/180)","v":0},{"$f":"Harmonischen!$C$62/100*SIN(C364*$M$191*PI()/180)","v":0},{"$f":"Harmonischen!$C$63/100*SIN($C364*$N$191*PI()/180)","v":0},{"$f":"Harmonischen!$C$64/100*SIN($C364*$O$191*PI()/180)","v":0},{"$f":"Harmonischen!$C$65/100*SIN($C364*$P$191*PI()/180)","v":0},{"$f":"Harmonischen!$C$66/100*SIN($C364*$Q$191*PI()/180)","v":0},{"$f":"Harmonischen!$C$67/100*SIN($C364*$R$191*PI()/180)","v":0},{"$f":"Harmonischen!$C$68/100*SIN($C364*$S$191*PI()/180)","v":0},{"$f":"Harmonischen!$C$69/100*SIN($C364*$T$191*PI()/180)","v":0},{"$f":"Harmonischen!$C$70/100*SIN($C364*$U$191*PI()/180)","v":0},{"$f":"Harmonischen!$C$71/100*SIN($C364*$V$191*PI()/180)","v":0},{"$f":"Harmonischen!$C$72/100*SIN($C364*$W$191*PI()/180)","v":0},{"$f":"Harmonischen!$C$73/100*SIN($C364*$X$191*PI()/180)","v":0},{"$f":"Harmonischen!$C$74/100*SIN($C364*$Y$191*PI()/180)","v":0},{"$f":"Harmonischen!$C$75/100*SIN($C364*$Z$191*PI()/180)","v":0},{"$f":"Harmonischen!$C$76/100*SIN($C364*$AA$191*PI()/180)","v":0},{"$f":"Harmonischen!$C$77/100*SIN($C364*$AB$191*PI()/180)","v":0},null,0.22052042957522597]
[null,null,173,{"$f":"Harmonischen!$C$53/100*SIN(C365*PI()/180)","v":0.12186934340514755},{"$f":"Harmonischen!$C$54/100*SIN(C365*$E$191*PI()/180)","v":0},{"$f":"Harmonischen!$C$55/100*SIN(C365*$F$191*PI()/180)","v":7.1673589909060184E-2},{"$f":"Harmonischen!$C$56/100*SIN(C365*$G$191*PI()/180)","v":0},{"$f":"Harmonischen!$C$57/100*SIN(C365*$H$191*PI()/180)","v":0},{"$f":"Harmonischen!$C$58/100*SIN(C365*$I$191*PI()/180)","v":0},{"$f":"Harmonischen!$C$59/100*SIN(C365*$J$191*PI()/180)","v":0},{"$f":"Harmonischen!$C$60/100*SIN(C365*$K$191*PI()/180)","v":0},{"$f":"Harmonischen!$C$61/100*SIN(C365*$L$191*PI()/180)","v":0},{"$f":"Harmonischen!$C$62/100*SIN(C365*$M$191*PI()/180)","v":0},{"$f":"Harmonischen!$C$63/100*SIN($C365*$N$191*PI()/180)","v":0},{"$f":"Harmonischen!$C$64/100*SIN($C365*$O$191*PI()/180)","v":0},{"$f":"Harmonischen!$C$65/100*SIN($C365*$P$191*PI()/180)","v":0},{"$f":"Harmonischen!$C$66/100*SIN($C365*$Q$191*PI()/180)","v":0},{"$f":"Harmonischen!$C$67/100*SIN($C365*$R$191*PI()/180)","v":0},{"$f":"Harmonischen!$C$68/100*SIN($C365*$S$191*PI()/180)","v":0},{"$f":"Harmonischen!$C$69/100*SIN($C365*$T$191*PI()/180)","v":0},{"$f":"Harmonischen!$C$70/100*SIN($C365*$U$191*PI()/180)","v":0},{"$f":"Harmonischen!$C$71/100*SIN($C365*$V$191*PI()/180)","v":0},{"$f":"Harmonischen!$C$72/100*SIN($C365*$W$191*PI()/180)","v":0},{"$f":"Harmonischen!$C$73/100*SIN($C365*$X$191*PI()/180)","v":0},{"$f":"Harmonischen!$C$74/100*SIN($C365*$Y$191*PI()/180)","v":0},{"$f":"Harmonischen!$C$75/100*SIN($C365*$Z$191*PI()/180)","v":0},{"$f":"Harmonischen!$C$76/100*SIN($C365*$AA$191*PI()/180)","v":0},{"$f":"Harmonischen!$C$77/100*SIN($C365*$AB$191*PI()/180)","v":0},null,0.19354293331420774]
[null,null,174,{"$f":"Harmonischen!$C$53/100*SIN(C366*PI()/180)","v":0.10452846326765373},{"$f":"Harmonischen!$C$54/100*SIN(C366*$E$191*PI()/180)","v":0},{"$f":"Harmonischen!$C$55/100*SIN(C366*$F$191*PI()/180)","v":6.1803398874989562E-2},{"$f":"Harmonischen!$C$56/100*SIN(C366*$G$191*PI()/180)","v":0},{"$f":"Harmonischen!$C$57/100*SIN(C366*$H$191*PI()/180)","v":0},{"$f":"Harmonischen!$C$58/100*SIN(C366*$I$191*PI()/180)","v":0},{"$f":"Harmonischen!$C$59/100*SIN(C366*$J$191*PI()/180)","v":0},{"$f":"Harmonischen!$C$60/100*SIN(C366*$K$191*PI()/180)","v":0},{"$f":"Harmonischen!$C$61/100*SIN(C366*$L$191*PI()/180)","v":0},{"$f":"Harmonischen!$C$62/100*SIN(C366*$M$191*PI()/180)","v":0},{"$f":"Harmonischen!$C$63/100*SIN($C366*$N$191*PI()/180)","v":0},{"$f":"Harmonischen!$C$64/100*SIN($C366*$O$191*PI()/180)","v":0},{"$f":"Harmonischen!$C$65/100*SIN($C366*$P$191*PI()/180)","v":0},{"$f":"Harmonischen!$C$66/100*SIN($C366*$Q$191*PI()/180)","v":0},{"$f":"Harmonischen!$C$67/100*SIN($C366*$R$191*PI()/180)","v":0},{"$f":"Harmonischen!$C$68/100*SIN($C366*$S$191*PI()/180)","v":0},{"$f":"Harmonischen!$C$69/100*SIN($C366*$T$191*PI()/180)","v":0},{"$f":"Harmonischen!$C$70/100*SIN($C366*$U$191*PI()/180)","v":0},{"$f":"Harmonischen!$C$71/100*SIN($C366*$V$191*PI()/180)","v":0},{"$f":"Harmonischen!$C$72/100*SIN($C366*$W$191*PI()/180)","v":0},{"$f":"Harmonischen!$C$73/100*SIN($C366*$X$191*PI()/180)","v":0},{"$f":"Harmonischen!$C$74/100*SIN($C366*$Y$191*PI()/180)","v":0},{"$f":"Harmonischen!$C$75/100*SIN($C366*$Z$191*PI()/180)","v":0},{"$f":"Harmonischen!$C$76/100*SIN($C366*$AA$191*PI()/180)","v":0},{"$f":"Harmonischen!$C$77/100*SIN($C366*$AB$191*PI()/180)","v":0},null,0.16633186214264328]
[null,null,175,{"$f":"Harmonischen!$C$53/100*SIN(C367*PI()/180)","v":8.7155742747658638E-2},{"$f":"Harmonischen!$C$54/100*SIN(C367*$E$191*PI()/180)","v":0},{"$f":"Harmonischen!$C$55/100*SIN(C367*$F$191*PI()/180)","v":5.1763809020504162E-2},{"$f":"Harmonischen!$C$56/100*SIN(C367*$G$191*PI()/180)","v":0},{"$f":"Harmonischen!$C$57/100*SIN(C367*$H$191*PI()/180)","v":0},{"$f":"Harmonischen!$C$58/100*SIN(C367*$I$191*PI()/180)","v":0},{"$f":"Harmonischen!$C$59/100*SIN(C367*$J$191*PI()/180)","v":0},{"$f":"Harmonischen!$C$60/100*SIN(C367*$K$191*PI()/180)","v":0},{"$f":"Harmonischen!$C$61/100*SIN(C367*$L$191*PI()/180)","v":0},{"$f":"Harmonischen!$C$62/100*SIN(C367*$M$191*PI()/180)","v":0},{"$f":"Harmonischen!$C$63/100*SIN($C367*$N$191*PI()/180)","v":0},{"$f":"Harmonischen!$C$64/100*SIN($C367*$O$191*PI()/180)","v":0},{"$f":"Harmonischen!$C$65/100*SIN($C367*$P$191*PI()/180)","v":0},{"$f":"Harmonischen!$C$66/100*SIN($C367*$Q$191*PI()/180)","v":0},{"$f":"Harmonischen!$C$67/100*SIN($C367*$R$191*PI()/180)","v":0},{"$f":"Harmonischen!$C$68/100*SIN($C367*$S$191*PI()/180)","v":0},{"$f":"Harmonischen!$C$69/100*SIN($C367*$T$191*PI()/180)","v":0},{"$f":"Harmonischen!$C$70/100*SIN($C367*$U$191*PI()/180)","v":0},{"$f":"Harmonischen!$C$71/100*SIN($C367*$V$191*PI()/180)","v":0},{"$f":"Harmonischen!$C$72/100*SIN($C367*$W$191*PI()/180)","v":0},{"$f":"Harmonischen!$C$73/100*SIN($C367*$X$191*PI()/180)","v":0},{"$f":"Harmonischen!$C$74/100*SIN($C367*$Y$191*PI()/180)","v":0},{"$f":"Harmonischen!$C$75/100*SIN($C367*$Z$191*PI()/180)","v":0},{"$f":"Harmonischen!$C$76/100*SIN($C367*$AA$191*PI()/180)","v":0},{"$f":"Harmonischen!$C$77/100*SIN($C367*$AB$191*PI()/180)","v":0},null,0.13891955176816279]
[null,null,176,{"$f":"Harmonischen!$C$53/100*SIN(C368*PI()/180)","v":6.9756473744125524E-2},{"$f":"Harmonischen!$C$54/100*SIN(C368*$E$191*PI()/180)","v":0},{"$f":"Harmonischen!$C$55/100*SIN(C368*$F$191*PI()/180)","v":4.1582338163551828E-2},{"$f":"Harmonischen!$C$56/100*SIN(C368*$G$191*PI()/180)","v":0},{"$f":"Harmonischen!$C$57/100*SIN(C368*$H$191*PI()/180)","v":0},{"$f":"Harmonischen!$C$58/100*SIN(C368*$I$191*PI()/180)","v":0},{"$f":"Harmonischen!$C$59/100*SIN(C368*$J$191*PI()/180)","v":0},{"$f":"Harmonischen!$C$60/100*SIN(C368*$K$191*PI()/180)","v":0},{"$f":"Harmonischen!$C$61/100*SIN(C368*$L$191*PI()/180)","v":0},{"$f":"Harmonischen!$C$62/100*SIN(C368*$M$191*PI()/180)","v":0},{"$f":"Harmonischen!$C$63/100*SIN($C368*$N$191*PI()/180)","v":0},{"$f":"Harmonischen!$C$64/100*SIN($C368*$O$191*PI()/180)","v":0},{"$f":"Harmonischen!$C$65/100*SIN($C368*$P$191*PI()/180)","v":0},{"$f":"Harmonischen!$C$66/100*SIN($C368*$Q$191*PI()/180)","v":0},{"$f":"Harmonischen!$C$67/100*SIN($C368*$R$191*PI()/180)","v":0},{"$f":"Harmonischen!$C$68/100*SIN($C368*$S$191*PI()/180)","v":0},{"$f":"Harmonischen!$C$69/100*SIN($C368*$T$191*PI()/180)","v":0},{"$f":"Harmonischen!$C$70/100*SIN($C368*$U$191*PI()/180)","v":0},{"$f":"Harmonischen!$C$71/100*SIN($C368*$V$191*PI()/180)","v":0},{"$f":"Harmonischen!$C$72/100*SIN($C368*$W$191*PI()/180)","v":0},{"$f":"Harmonischen!$C$73/100*SIN($C368*$X$191*PI()/180)","v":0},{"$f":"Harmonischen!$C$74/100*SIN($C368*$Y$191*PI()/180)","v":0},{"$f":"Harmonischen!$C$75/100*SIN($C368*$Z$191*PI()/180)","v":0},{"$f":"Harmonischen!$C$76/100*SIN($C368*$AA$191*PI()/180)","v":0},{"$f":"Harmonischen!$C$77/100*SIN($C368*$AB$191*PI()/180)","v":0},null,0.11133881190767736]
[null,null,177,{"$f":"Harmonischen!$C$53/100*SIN(C369*PI()/180)","v":5.2335956242943807E-2},{"$f":"Harmonischen!$C$54/100*SIN(C369*$E$191*PI()/180)","v":0},{"$f":"Harmonischen!$C$55/100*SIN(C369*$F$191*PI()/180)","v":3.1286893008046421E-2},{"$f":"Harmonischen!$C$56/100*SIN(C369*$G$191*PI()/180)","v":0},{"$f":"Harmonischen!$C$57/100*SIN(C369*$H$191*PI()/180)","v":0},{"$f":"Harmonischen!$C$58/100*SIN(C369*$I$191*PI()/180)","v":0},{"$f":"Harmonischen!$C$59/100*SIN(C369*$J$191*PI()/180)","v":0},{"$f":"Harmonischen!$C$60/100*SIN(C369*$K$191*PI()/180)","v":0},{"$f":"Harmonischen!$C$61/100*SIN(C369*$L$191*PI()/180)","v":0},{"$f":"Harmonischen!$C$62/100*SIN(C369*$M$191*PI()/180)","v":0},{"$f":"Harmonischen!$C$63/100*SIN($C369*$N$191*PI()/180)","v":0},{"$f":"Harmonischen!$C$64/100*SIN($C369*$O$191*PI()/180)","v":0},{"$f":"Harmonischen!$C$65/100*SIN($C369*$P$191*PI()/180)","v":0},{"$f":"Harmonischen!$C$66/100*SIN($C369*$Q$191*PI()/180)","v":0},{"$f":"Harmonischen!$C$67/100*SIN($C369*$R$191*PI()/180)","v":0},{"$f":"Harmonischen!$C$68/100*SIN($C369*$S$191*PI()/180)","v":0},{"$f":"Harmonischen!$C$69/100*SIN($C369*$T$191*PI()/180)","v":0},{"$f":"Harmonischen!$C$70/100*SIN($C369*$U$191*PI()/180)","v":0},{"$f":"Harmonischen!$C$71/100*SIN($C369*$V$191*PI()/180)","v":0},{"$f":"Harmonischen!$C$72/100*SIN($C369*$W$191*PI()/180)","v":0},{"$f":"Harmonischen!$C$73/100*SIN($C369*$X$191*PI()/180)","v":0},{"$f":"Harmonischen!$C$74/100*SIN($C369*$Y$191*PI()/180)","v":0},{"$f":"Harmonischen!$C$75/100*SIN($C369*$Z$191*PI()/180)","v":0},{"$f":"Harmonischen!$C$76/100*SIN($C369*$AA$191*PI()/180)","v":0},{"$f":"Harmonischen!$C$77/100*SIN($C369*$AB$191*PI()/180)","v":0},null,8.3622849250990228E-2]
[null,null,178,{"$f":"Harmonischen!$C$53/100*SIN(C370*PI()/180)","v":3.4899496702500699E-2},{"$f":"Harmonischen!$C$54/100*SIN(C370*$E$191*PI()/180)","v":0},{"$f":"Harmonischen!$C$55/100*SIN(C370*$F$191*PI()/180)","v":2.0905692653530886E-2},{"$f":"Harmonischen!$C$56/100*SIN(C370*$G$191*PI()/180)","v":0},{"$f":"Harmonischen!$C$57/100*SIN(C370*$H$191*PI()/180)","v":0},{"$f":"Harmonischen!$C$58/100*SIN(C370*$I$191*PI()/180)","v":0},{"$f":"Harmonischen!$C$59/100*SIN(C370*$J$191*PI()/180)","v":0},{"$f":"Harmonischen!$C$60/100*SIN(C370*$K$191*PI()/180)","v":0},{"$f":"Harmonischen!$C$61/100*SIN(C370*$L$191*PI()/180)","v":0},{"$f":"Harmonischen!$C$62/100*SIN(C370*$M$191*PI()/180)","v":0},{"$f":"Harmonischen!$C$63/100*SIN($C370*$N$191*PI()/180)","v":0},{"$f":"Harmonischen!$C$64/100*SIN($C370*$O$191*PI()/180)","v":0},{"$f":"Harmonischen!$C$65/100*SIN($C370*$P$191*PI()/180)","v":0},{"$f":"Harmonischen!$C$66/100*SIN($C370*$Q$191*PI()/180)","v":0},{"$f":"Harmonischen!$C$67/100*SIN($C370*$R$191*PI()/180)","v":0},{"$f":"Harmonischen!$C$68/100*SIN($C370*$S$191*PI()/180)","v":0},{"$f":"Harmonischen!$C$69/100*SIN($C370*$T$191*PI()/180)","v":0},{"$f":"Harmonischen!$C$70/100*SIN($C370*$U$191*PI()/180)","v":0},{"$f":"Harmonischen!$C$71/100*SIN($C370*$V$191*PI()/180)","v":0},{"$f":"Harmonischen!$C$72/100*SIN($C370*$W$191*PI()/180)","v":0},{"$f":"Harmonischen!$C$73/100*SIN($C370*$X$191*PI()/180)","v":0},{"$f":"Harmonischen!$C$74/100*SIN($C370*$Y$191*PI()/180)","v":0},{"$f":"Harmonischen!$C$75/100*SIN($C370*$Z$191*PI()/180)","v":0},{"$f":"Harmonischen!$C$76/100*SIN($C370*$AA$191*PI()/180)","v":0},{"$f":"Harmonischen!$C$77/100*SIN($C370*$AB$191*PI()/180)","v":0},null,5.5805189356031584E-2]
[null,null,179,{"$f":"Harmonischen!$C$53/100*SIN(C371*PI()/180)","v":1.7452406437283439E-2},{"$f":"Harmonischen!$C$54/100*SIN(C371*$E$191*PI()/180)","v":0},{"$f":"Harmonischen!$C$55/100*SIN(C371*$F$191*PI()/180)","v":1.04671912485889E-2},{"$f":"Harmonischen!$C$56/100*SIN(C371*$G$191*PI()/180)","v":0},{"$f":"Harmonischen!$C$57/100*SIN(C371*$H$191*PI()/180)","v":0},{"$f":"Harmonischen!$C$58/100*SIN(C371*$I$191*PI()/180)","v":0},{"$f":"Harmonischen!$C$59/100*SIN(C371*$J$191*PI()/180)","v":0},{"$f":"Harmonischen!$C$60/100*SIN(C371*$K$191*PI()/180)","v":0},{"$f":"Harmonischen!$C$61/100*SIN(C371*$L$191*PI()/180)","v":0},{"$f":"Harmonischen!$C$62/100*SIN(C371*$M$191*PI()/180)","v":0},{"$f":"Harmonischen!$C$63/100*SIN($C371*$N$191*PI()/180)","v":0},{"$f":"Harmonischen!$C$64/100*SIN($C371*$O$191*PI()/180)","v":0},{"$f":"Harmonischen!$C$65/100*SIN($C371*$P$191*PI()/180)","v":0},{"$f":"Harmonischen!$C$66/100*SIN($C371*$Q$191*PI()/180)","v":0},{"$f":"Harmonischen!$C$67/100*SIN($C371*$R$191*PI()/180)","v":0},{"$f":"Harmonischen!$C$68/100*SIN($C371*$S$191*PI()/180)","v":0},{"$f":"Harmonischen!$C$69/100*SIN($C371*$T$191*PI()/180)","v":0},{"$f":"Harmonischen!$C$70/100*SIN($C371*$U$191*PI()/180)","v":0},{"$f":"Harmonischen!$C$71/100*SIN($C371*$V$191*PI()/180)","v":0},{"$f":"Harmonischen!$C$72/100*SIN($C371*$W$191*PI()/180)","v":0},{"$f":"Harmonischen!$C$73/100*SIN($C371*$X$191*PI()/180)","v":0},{"$f":"Harmonischen!$C$74/100*SIN($C371*$Y$191*PI()/180)","v":0},{"$f":"Harmonischen!$C$75/100*SIN($C371*$Z$191*PI()/180)","v":0},{"$f":"Harmonischen!$C$76/100*SIN($C371*$AA$191*PI()/180)","v":0},{"$f":"Harmonischen!$C$77/100*SIN($C371*$AB$191*PI()/180)","v":0},null,2.7919597685872339E-2]
[null,null,180,{"$f":"Harmonischen!$C$53/100*SIN(C372*PI()/180)","v":1.22514845490862E-16},{"$f":"Harmonischen!$C$54/100*SIN(C372*$E$191*PI()/180)","v":0},{"$f":"Harmonischen!$C$55/100*SIN(C372*$F$191*PI()/180)","v":7.3508907294517201E-17},{"$f":"Harmonischen!$C$56/100*SIN(C372*$G$191*PI()/180)","v":0},{"$f":"Harmonischen!$C$57/100*SIN(C372*$H$191*PI()/180)","v":0},{"$f":"Harmonischen!$C$58/100*SIN(C372*$I$191*PI()/180)","v":0},{"$f":"Harmonischen!$C$59/100*SIN(C372*$J$191*PI()/180)","v":0},{"$f":"Harmonischen!$C$60/100*SIN(C372*$K$191*PI()/180)","v":0},{"$f":"Harmonischen!$C$61/100*SIN(C372*$L$191*PI()/180)","v":0},{"$f":"Harmonischen!$C$62/100*SIN(C372*$M$191*PI()/180)","v":0},{"$f":"Harmonischen!$C$63/100*SIN($C372*$N$191*PI()/180)","v":0},{"$f":"Harmonischen!$C$64/100*SIN($C372*$O$191*PI()/180)","v":0},{"$f":"Harmonischen!$C$65/100*SIN($C372*$P$191*PI()/180)","v":0},{"$f":"Harmonischen!$C$66/100*SIN($C372*$Q$191*PI()/180)","v":0},{"$f":"Harmonischen!$C$67/100*SIN($C372*$R$191*PI()/180)","v":0},{"$f":"Harmonischen!$C$68/100*SIN($C372*$S$191*PI()/180)","v":0},{"$f":"Harmonischen!$C$69/100*SIN($C372*$T$191*PI()/180)","v":0},{"$f":"Harmonischen!$C$70/100*SIN($C372*$U$191*PI()/180)","v":0},{"$f":"Harmonischen!$C$71/100*SIN($C372*$V$191*PI()/180)","v":0},{"$f":"Harmonischen!$C$72/100*SIN($C372*$W$191*PI()/180)","v":0},{"$f":"Harmonischen!$C$73/100*SIN($C372*$X$191*PI()/180)","v":0},{"$f":"Harmonischen!$C$74/100*SIN($C372*$Y$191*PI()/180)","v":0},{"$f":"Harmonischen!$C$75/100*SIN($C372*$Z$191*PI()/180)","v":0},{"$f":"Harmonischen!$C$76/100*SIN($C372*$AA$191*PI()/180)","v":0},{"$f":"Harmonischen!$C$77/100*SIN($C372*$AB$191*PI()/180)","v":0},null,1.960237527853792E-16]
[null,null,181,{"$f":"Harmonischen!$C$53/100*SIN(C373*PI()/180)","v":-1.7452406437283192E-2},{"$f":"Harmonischen!$C$54/100*SIN(C373*$E$191*PI()/180)","v":0},{"$f":"Harmonischen!$C$55/100*SIN(C373*$F$191*PI()/180)","v":-1.0467191248588753E-2},{"$f":"Harmonischen!$C$56/100*SIN(C373*$G$191*PI()/180)","v":0},{"$f":"Harmonischen!$C$57/100*SIN(C373*$H$191*PI()/180)","v":0},{"$f":"Harmonischen!$C$58/100*SIN(C373*$I$191*PI()/180)","v":0},{"$f":"Harmonischen!$C$59/100*SIN(C373*$J$191*PI()/180)","v":0},{"$f":"Harmonischen!$C$60/100*SIN(C373*$K$191*PI()/180)","v":0},{"$f":"Harmonischen!$C$61/100*SIN(C373*$L$191*PI()/180)","v":0},{"$f":"Harmonischen!$C$62/100*SIN(C373*$M$191*PI()/180)","v":0},{"$f":"Harmonischen!$C$63/100*SIN($C373*$N$191*PI()/180)","v":0},{"$f":"Harmonischen!$C$64/100*SIN($C373*$O$191*PI()/180)","v":0},{"$f":"Harmonischen!$C$65/100*SIN($C373*$P$191*PI()/180)","v":0},{"$f":"Harmonischen!$C$66/100*SIN($C373*$Q$191*PI()/180)","v":0},{"$f":"Harmonischen!$C$67/100*SIN($C373*$R$191*PI()/180)","v":0},{"$f":"Harmonischen!$C$68/100*SIN($C373*$S$191*PI()/180)","v":0},{"$f":"Harmonischen!$C$69/100*SIN($C373*$T$191*PI()/180)","v":0},{"$f":"Harmonischen!$C$70/100*SIN($C373*$U$191*PI()/180)","v":0},{"$f":"Harmonischen!$C$71/100*SIN($C373*$V$191*PI()/180)","v":0},{"$f":"Harmonischen!$C$72/100*SIN($C373*$W$191*PI()/180)","v":0},{"$f":"Harmonischen!$C$73/100*SIN($C373*$X$191*PI()/180)","v":0},{"$f":"Harmonischen!$C$74/100*SIN($C373*$Y$191*PI()/180)","v":0},{"$f":"Harmonischen!$C$75/100*SIN($C373*$Z$191*PI()/180)","v":0},{"$f":"Harmonischen!$C$76/100*SIN($C373*$AA$191*PI()/180)","v":0},{"$f":"Harmonischen!$C$77/100*SIN($C373*$AB$191*PI()/180)","v":0},null,-2.7919597685871947E-2]
[null,null,182,{"$f":"Harmonischen!$C$53/100*SIN(C374*PI()/180)","v":-3.48994967025009E-2},{"$f":"Harmonischen!$C$54/100*SIN(C374*$E$191*PI()/180)","v":0},{"$f":"Harmonischen!$C$55/100*SIN(C374*$F$191*PI()/180)","v":-2.090569265353074E-2},{"$f":"Harmonischen!$C$56/100*SIN(C374*$G$191*PI()/180)","v":0},{"$f":"Harmonischen!$C$57/100*SIN(C374*$H$191*PI()/180)","v":0},{"$f":"Harmonischen!$C$58/100*SIN(C374*$I$191*PI()/180)","v":0},{"$f":"Harmonischen!$C$59/100*SIN(C374*$J$191*PI()/180)","v":0},{"$f":"Harmonischen!$C$60/100*SIN(C374*$K$191*PI()/180)","v":0},{"$f":"Harmonischen!$C$61/100*SIN(C374*$L$191*PI()/180)","v":0},{"$f":"Harmonischen!$C$62/100*SIN(C374*$M$191*PI()/180)","v":0},{"$f":"Harmonischen!$C$63/100*SIN($C374*$N$191*PI()/180)","v":0},{"$f":"Harmonischen!$C$64/100*SIN($C374*$O$191*PI()/180)","v":0},{"$f":"Harmonischen!$C$65/100*SIN($C374*$P$191*PI()/180)","v":0},{"$f":"Harmonischen!$C$66/100*SIN($C374*$Q$191*PI()/180)","v":0},{"$f":"Harmonischen!$C$67/100*SIN($C374*$R$191*PI()/180)","v":0},{"$f":"Harmonischen!$C$68/100*SIN($C374*$S$191*PI()/180)","v":0},{"$f":"Harmonischen!$C$69/100*SIN($C374*$T$191*PI()/180)","v":0},{"$f":"Harmonischen!$C$70/100*SIN($C374*$U$191*PI()/180)","v":0},{"$f":"Harmonischen!$C$71/100*SIN($C374*$V$191*PI()/180)","v":0},{"$f":"Harmonischen!$C$72/100*SIN($C374*$W$191*PI()/180)","v":0},{"$f":"Harmonischen!$C$73/100*SIN($C374*$X$191*PI()/180)","v":0},{"$f":"Harmonischen!$C$74/100*SIN($C374*$Y$191*PI()/180)","v":0},{"$f":"Harmonischen!$C$75/100*SIN($C374*$Z$191*PI()/180)","v":0},{"$f":"Harmonischen!$C$76/100*SIN($C374*$AA$191*PI()/180)","v":0},{"$f":"Harmonischen!$C$77/100*SIN($C374*$AB$191*PI()/180)","v":0},null,-5.580518935603164E-2]
[null,null,183,{"$f":"Harmonischen!$C$53/100*SIN(C375*PI()/180)","v":-5.2335956242943557E-2},{"$f":"Harmonischen!$C$54/100*SIN(C375*$E$191*PI()/180)","v":0},{"$f":"Harmonischen!$C$55/100*SIN(C375*$F$191*PI()/180)","v":-3.1286893008045928E-2},{"$f":"Harmonischen!$C$56/100*SIN(C375*$G$191*PI()/180)","v":0},{"$f":"Harmonischen!$C$57/100*SIN(C375*$H$191*PI()/180)","v":0},{"$f":"Harmonischen!$C$58/100*SIN(C375*$I$191*PI()/180)","v":0},{"$f":"Harmonischen!$C$59/100*SIN(C375*$J$191*PI()/180)","v":0},{"$f":"Harmonischen!$C$60/100*SIN(C375*$K$191*PI()/180)","v":0},{"$f":"Harmonischen!$C$61/100*SIN(C375*$L$191*PI()/180)","v":0},{"$f":"Harmonischen!$C$62/100*SIN(C375*$M$191*PI()/180)","v":0},{"$f":"Harmonischen!$C$63/100*SIN($C375*$N$191*PI()/180)","v":0},{"$f":"Harmonischen!$C$64/100*SIN($C375*$O$191*PI()/180)","v":0},{"$f":"Harmonischen!$C$65/100*SIN($C375*$P$191*PI()/180)","v":0},{"$f":"Harmonischen!$C$66/100*SIN($C375*$Q$191*PI()/180)","v":0},{"$f":"Harmonischen!$C$67/100*SIN($C375*$R$191*PI()/180)","v":0},{"$f":"Harmonischen!$C$68/100*SIN($C375*$S$191*PI()/180)","v":0},{"$f":"Harmonischen!$C$69/100*SIN($C375*$T$191*PI()/180)","v":0},{"$f":"Harmonischen!$C$70/100*SIN($C375*$U$191*PI()/180)","v":0},{"$f":"Harmonischen!$C$71/100*SIN($C375*$V$191*PI()/180)","v":0},{"$f":"Harmonischen!$C$72/100*SIN($C375*$W$191*PI()/180)","v":0},{"$f":"Harmonischen!$C$73/100*SIN($C375*$X$191*PI()/180)","v":0},{"$f":"Harmonischen!$C$74/100*SIN($C375*$Y$191*PI()/180)","v":0},{"$f":"Harmonischen!$C$75/100*SIN($C375*$Z$191*PI()/180)","v":0},{"$f":"Harmonischen!$C$76/100*SIN($C375*$AA$191*PI()/180)","v":0},{"$f":"Harmonischen!$C$77/100*SIN($C375*$AB$191*PI()/180)","v":0},null,-8.3622849250989478E-2]
[null,null,184,{"$f":"Harmonischen!$C$53/100*SIN(C376*PI()/180)","v":-6.9756473744124831E-2},{"$f":"Harmonischen!$C$54/100*SIN(C376*$E$191*PI()/180)","v":0},{"$f":"Harmonischen!$C$55/100*SIN(C376*$F$191*PI()/180)","v":-4.1582338163551683E-2},{"$f":"Harmonischen!$C$56/100*SIN(C376*$G$191*PI()/180)","v":0},{"$f":"Harmonischen!$C$57/100*SIN(C376*$H$191*PI()/180)","v":0},{"$f":"Harmonischen!$C$58/100*SIN(C376*$I$191*PI()/180)","v":0},{"$f":"Harmonischen!$C$59/100*SIN(C376*$J$191*PI()/180)","v":0},{"$f":"Harmonischen!$C$60/100*SIN(C376*$K$191*PI()/180)","v":0},{"$f":"Harmonischen!$C$61/100*SIN(C376*$L$191*PI()/180)","v":0},{"$f":"Harmonischen!$C$62/100*SIN(C376*$M$191*PI()/180)","v":0},{"$f":"Harmonischen!$C$63/100*SIN($C376*$N$191*PI()/180)","v":0},{"$f":"Harmonischen!$C$64/100*SIN($C376*$O$191*PI()/180)","v":0},{"$f":"Harmonischen!$C$65/100*SIN($C376*$P$191*PI()/180)","v":0},{"$f":"Harmonischen!$C$66/100*SIN($C376*$Q$191*PI()/180)","v":0},{"$f":"Harmonischen!$C$67/100*SIN($C376*$R$191*PI()/180)","v":0},{"$f":"Harmonischen!$C$68/100*SIN($C376*$S$191*PI()/180)","v":0},{"$f":"Harmonischen!$C$69/100*SIN($C376*$T$191*PI()/180)","v":0},{"$f":"Harmonischen!$C$70/100*SIN($C376*$U$191*PI()/180)","v":0},{"$f":"Harmonischen!$C$71/100*SIN($C376*$V$191*PI()/180)","v":0},{"$f":"Harmonischen!$C$72/100*SIN($C376*$W$191*PI()/180)","v":0},{"$f":"Harmonischen!$C$73/100*SIN($C376*$X$191*PI()/180)","v":0},{"$f":"Harmonischen!$C$74/100*SIN($C376*$Y$191*PI()/180)","v":0},{"$f":"Harmonischen!$C$75/100*SIN($C376*$Z$191*PI()/180)","v":0},{"$f":"Harmonischen!$C$76/100*SIN($C376*$AA$191*PI()/180)","v":0},{"$f":"Harmonischen!$C$77/100*SIN($C376*$AB$191*PI()/180)","v":0},null,-0.11133881190767651]
[null,null,185,{"$f":"Harmonischen!$C$53/100*SIN(C377*PI()/180)","v":-8.7155742747657944E-2},{"$f":"Harmonischen!$C$54/100*SIN(C377*$E$191*PI()/180)","v":0},{"$f":"Harmonischen!$C$55/100*SIN(C377*$F$191*PI()/180)","v":-5.176380902050437E-2},{"$f":"Harmonischen!$C$56/100*SIN(C377*$G$191*PI()/180)","v":0},{"$f":"Harmonischen!$C$57/100*SIN(C377*$H$191*PI()/180)","v":0},{"$f":"Harmonischen!$C$58/100*SIN(C377*$I$191*PI()/180)","v":0},{"$f":"Harmonischen!$C$59/100*SIN(C377*$J$191*PI()/180)","v":0},{"$f":"Harmonischen!$C$60/100*SIN(C377*$K$191*PI()/180)","v":0},{"$f":"Harmonischen!$C$61/100*SIN(C377*$L$191*PI()/180)","v":0},{"$f":"Harmonischen!$C$62/100*SIN(C377*$M$191*PI()/180)","v":0},{"$f":"Harmonischen!$C$63/100*SIN($C377*$N$191*PI()/180)","v":0},{"$f":"Harmonischen!$C$64/100*SIN($C377*$O$191*PI()/180)","v":0},{"$f":"Harmonischen!$C$65/100*SIN($C377*$P$191*PI()/180)","v":0},{"$f":"Harmonischen!$C$66/100*SIN($C377*$Q$191*PI()/180)","v":0},{"$f":"Harmonischen!$C$67/100*SIN($C377*$R$191*PI()/180)","v":0},{"$f":"Harmonischen!$C$68/100*SIN($C377*$S$191*PI()/180)","v":0},{"$f":"Harmonischen!$C$69/100*SIN($C377*$T$191*PI()/180)","v":0},{"$f":"Harmonischen!$C$70/100*SIN($C377*$U$191*PI()/180)","v":0},{"$f":"Harmonischen!$C$71/100*SIN($C377*$V$191*PI()/180)","v":0},{"$f":"Harmonischen!$C$72/100*SIN($C377*$W$191*PI()/180)","v":0},{"$f":"Harmonischen!$C$73/100*SIN($C377*$X$191*PI()/180)","v":0},{"$f":"Harmonischen!$C$74/100*SIN($C377*$Y$191*PI()/180)","v":0},{"$f":"Harmonischen!$C$75/100*SIN($C377*$Z$191*PI()/180)","v":0},{"$f":"Harmonischen!$C$76/100*SIN($C377*$AA$191*PI()/180)","v":0},{"$f":"Harmonischen!$C$77/100*SIN($C377*$AB$191*PI()/180)","v":0},null,-0.13891955176816231]
[null,null,186,{"$f":"Harmonischen!$C$53/100*SIN(C378*PI()/180)","v":-0.10452846326765305},{"$f":"Harmonischen!$C$54/100*SIN(C378*$E$191*PI()/180)","v":0},{"$f":"Harmonischen!$C$55/100*SIN(C378*$F$191*PI()/180)","v":-6.1803398874989417E-2},{"$f":"Harmonischen!$C$56/100*SIN(C378*$G$191*PI()/180)","v":0},{"$f":"Harmonischen!$C$57/100*SIN(C378*$H$191*PI()/180)","v":0},{"$f":"Harmonischen!$C$58/100*SIN(C378*$I$191*PI()/180)","v":0},{"$f":"Harmonischen!$C$59/100*SIN(C378*$J$191*PI()/180)","v":0},{"$f":"Harmonischen!$C$60/100*SIN(C378*$K$191*PI()/180)","v":0},{"$f":"Harmonischen!$C$61/100*SIN(C378*$L$191*PI()/180)","v":0},{"$f":"Harmonischen!$C$62/100*SIN(C378*$M$191*PI()/180)","v":0},{"$f":"Harmonischen!$C$63/100*SIN($C378*$N$191*PI()/180)","v":0},{"$f":"Harmonischen!$C$64/100*SIN($C378*$O$191*PI()/180)","v":0},{"$f":"Harmonischen!$C$65/100*SIN($C378*$P$191*PI()/180)","v":0},{"$f":"Harmonischen!$C$66/100*SIN($C378*$Q$191*PI()/180)","v":0},{"$f":"Harmonischen!$C$67/100*SIN($C378*$R$191*PI()/180)","v":0},{"$f":"Harmonischen!$C$68/100*SIN($C378*$S$191*PI()/180)","v":0},{"$f":"Harmonischen!$C$69/100*SIN($C378*$T$191*PI()/180)","v":0},{"$f":"Harmonischen!$C$70/100*SIN($C378*$U$191*PI()/180)","v":0},{"$f":"Harmonischen!$C$71/100*SIN($C378*$V$191*PI()/180)","v":0},{"$f":"Harmonischen!$C$72/100*SIN($C378*$W$191*PI()/180)","v":0},{"$f":"Harmonischen!$C$73/100*SIN($C378*$X$191*PI()/180)","v":0},{"$f":"Harmonischen!$C$74/100*SIN($C378*$Y$191*PI()/180)","v":0},{"$f":"Harmonischen!$C$75/100*SIN($C378*$Z$191*PI()/180)","v":0},{"$f":"Harmonischen!$C$76/100*SIN($C378*$AA$191*PI()/180)","v":0},{"$f":"Harmonischen!$C$77/100*SIN($C378*$AB$191*PI()/180)","v":0},null,-0.16633186214264248]
[null,null,187,{"$f":"Harmonischen!$C$53/100*SIN(C379*PI()/180)","v":-0.12186934340514774},{"$f":"Harmonischen!$C$54/100*SIN(C379*$E$191*PI()/180)","v":0},{"$f":"Harmonischen!$C$55/100*SIN(C379*$F$191*PI()/180)","v":-7.1673589909060045E-2},{"$f":"Harmonischen!$C$56/100*SIN(C379*$G$191*PI()/180)","v":0},{"$f":"Harmonischen!$C$57/100*SIN(C379*$H$191*PI()/180)","v":0},{"$f":"Harmonischen!$C$58/100*SIN(C379*$I$191*PI()/180)","v":0},{"$f":"Harmonischen!$C$59/100*SIN(C379*$J$191*PI()/180)","v":0},{"$f":"Harmonischen!$C$60/100*SIN(C379*$K$191*PI()/180)","v":0},{"$f":"Harmonischen!$C$61/100*SIN(C379*$L$191*PI()/180)","v":0},{"$f":"Harmonischen!$C$62/100*SIN(C379*$M$191*PI()/180)","v":0},{"$f":"Harmonischen!$C$63/100*SIN($C379*$N$191*PI()/180)","v":0},{"$f":"Harmonischen!$C$64/100*SIN($C379*$O$191*PI()/180)","v":0},{"$f":"Harmonischen!$C$65/100*SIN($C379*$P$191*PI()/180)","v":0},{"$f":"Harmonischen!$C$66/100*SIN($C379*$Q$191*PI()/180)","v":0},{"$f":"Harmonischen!$C$67/100*SIN($C379*$R$191*PI()/180)","v":0},{"$f":"Harmonischen!$C$68/100*SIN($C379*$S$191*PI()/180)","v":0},{"$f":"Harmonischen!$C$69/100*SIN($C379*$T$191*PI()/180)","v":0},{"$f":"Harmonischen!$C$70/100*SIN($C379*$U$191*PI()/180)","v":0},{"$f":"Harmonischen!$C$71/100*SIN($C379*$V$191*PI()/180)","v":0},{"$f":"Harmonischen!$C$72/100*SIN($C379*$W$191*PI()/180)","v":0},{"$f":"Harmonischen!$C$73/100*SIN($C379*$X$191*PI()/180)","v":0},{"$f":"Harmonischen!$C$74/100*SIN($C379*$Y$191*PI()/180)","v":0},{"$f":"Harmonischen!$C$75/100*SIN($C379*$Z$191*PI()/180)","v":0},{"$f":"Harmonischen!$C$76/100*SIN($C379*$AA$191*PI()/180)","v":0},{"$f":"Harmonischen!$C$77/100*SIN($C379*$AB$191*PI()/180)","v":0},null,-0.1935429333142078]
[null,null,188,{"$f":"Harmonischen!$C$53/100*SIN(C380*PI()/180)","v":-0.13917310096006552},{"$f":"Harmonischen!$C$54/100*SIN(C380*$E$191*PI()/180)","v":0},{"$f":"Harmonischen!$C$55/100*SIN(C380*$F$191*PI()/180)","v":-8.1347328615159753E-2},{"$f":"Harmonischen!$C$56/100*SIN(C380*$G$191*PI()/180)","v":0},{"$f":"Harmonischen!$C$57/100*SIN(C380*$H$191*PI()/180)","v":0},{"$f":"Harmonischen!$C$58/100*SIN(C380*$I$191*PI()/180)","v":0},{"$f":"Harmonischen!$C$59/100*SIN(C380*$J$191*PI()/180)","v":0},{"$f":"Harmonischen!$C$60/100*SIN(C380*$K$191*PI()/180)","v":0},{"$f":"Harmonischen!$C$61/100*SIN(C380*$L$191*PI()/180)","v":0},{"$f":"Harmonischen!$C$62/100*SIN(C380*$M$191*PI()/180)","v":0},{"$f":"Harmonischen!$C$63/100*SIN($C380*$N$191*PI()/180)","v":0},{"$f":"Harmonischen!$C$64/100*SIN($C380*$O$191*PI()/180)","v":0},{"$f":"Harmonischen!$C$65/100*SIN($C380*$P$191*PI()/180)","v":0},{"$f":"Harmonischen!$C$66/100*SIN($C380*$Q$191*PI()/180)","v":0},{"$f":"Harmonischen!$C$67/100*SIN($C380*$R$191*PI()/180)","v":0},{"$f":"Harmonischen!$C$68/100*SIN($C380*$S$191*PI()/180)","v":0},{"$f":"Harmonischen!$C$69/100*SIN($C380*$T$191*PI()/180)","v":0},{"$f":"Harmonischen!$C$70/100*SIN($C380*$U$191*PI()/180)","v":0},{"$f":"Harmonischen!$C$71/100*SIN($C380*$V$191*PI()/180)","v":0},{"$f":"Harmonischen!$C$72/100*SIN($C380*$W$191*PI()/180)","v":0},{"$f":"Harmonischen!$C$73/100*SIN($C380*$X$191*PI()/180)","v":0},{"$f":"Harmonischen!$C$74/100*SIN($C380*$Y$191*PI()/180)","v":0},{"$f":"Harmonischen!$C$75/100*SIN($C380*$Z$191*PI()/180)","v":0},{"$f":"Harmonischen!$C$76/100*SIN($C380*$AA$191*PI()/180)","v":0},{"$f":"Harmonischen!$C$77/100*SIN($C380*$AB$191*PI()/180)","v":0},null,-0.22052042957522527]
[null,null,189,{"$f":"Harmonischen!$C$53/100*SIN(C381*PI()/180)","v":-0.15643446504023073},{"$f":"Harmonischen!$C$54/100*SIN(C381*$E$191*PI()/180)","v":0},{"$f":"Harmonischen!$C$55/100*SIN(C381*$F$191*PI()/180)","v":-9.0798099947909133E-2},{"$f":"Harmonischen!$C$56/100*SIN(C381*$G$191*PI()/180)","v":0},{"$f":"Harmonischen!$C$57/100*SIN(C381*$H$191*PI()/180)","v":0},{"$f":"Harmonischen!$C$58/100*SIN(C381*$I$191*PI()/180)","v":0},{"$f":"Harmonischen!$C$59/100*SIN(C381*$J$191*PI()/180)","v":0},{"$f":"Harmonischen!$C$60/100*SIN(C381*$K$191*PI()/180)","v":0},{"$f":"Harmonischen!$C$61/100*SIN(C381*$L$191*PI()/180)","v":0},{"$f":"Harmonischen!$C$62/100*SIN(C381*$M$191*PI()/180)","v":0},{"$f":"Harmonischen!$C$63/100*SIN($C381*$N$191*PI()/180)","v":0},{"$f":"Harmonischen!$C$64/100*SIN($C381*$O$191*PI()/180)","v":0},{"$f":"Harmonischen!$C$65/100*SIN($C381*$P$191*PI()/180)","v":0},{"$f":"Harmonischen!$C$66/100*SIN($C381*$Q$191*PI()/180)","v":0},{"$f":"Harmonischen!$C$67/100*SIN($C381*$R$191*PI()/180)","v":0},{"$f":"Harmonischen!$C$68/100*SIN($C381*$S$191*PI()/180)","v":0},{"$f":"Harmonischen!$C$69/100*SIN($C381*$T$191*PI()/180)","v":0},{"$f":"Harmonischen!$C$70/100*SIN($C381*$U$191*PI()/180)","v":0},{"$f":"Harmonischen!$C$71/100*SIN($C381*$V$191*PI()/180)","v":0},{"$f":"Harmonischen!$C$72/100*SIN($C381*$W$191*PI()/180)","v":0},{"$f":"Harmonischen!$C$73/100*SIN($C381*$X$191*PI()/180)","v":0},{"$f":"Harmonischen!$C$74/100*SIN($C381*$Y$191*PI()/180)","v":0},{"$f":"Harmonischen!$C$75/100*SIN($C381*$Z$191*PI()/180)","v":0},{"$f":"Harmonischen!$C$76/100*SIN($C381*$AA$191*PI()/180)","v":0},{"$f":"Harmonischen!$C$77/100*SIN($C381*$AB$191*PI()/180)","v":0},null,-0.24723256498813986]
[null,null,190,{"$f":"Harmonischen!$C$53/100*SIN(C382*PI()/180)","v":-0.17364817766693047},{"$f":"Harmonischen!$C$54/100*SIN(C382*$E$191*PI()/180)","v":0},{"$f":"Harmonischen!$C$55/100*SIN(C382*$F$191*PI()/180)","v":-0.10000000000000014},{"$f":"Harmonischen!$C$56/100*SIN(C382*$G$191*PI()/180)","v":0},{"$f":"Harmonischen!$C$57/100*SIN(C382*$H$191*PI()/180)","v":0},{"$f":"Harmonischen!$C$58/100*SIN(C382*$I$191*PI()/180)","v":0},{"$f":"Harmonischen!$C$59/100*SIN(C382*$J$191*PI()/180)","v":0},{"$f":"Harmonischen!$C$60/100*SIN(C382*$K$191*PI()/180)","v":0},{"$f":"Harmonischen!$C$61/100*SIN(C382*$L$191*PI()/180)","v":0},{"$f":"Harmonischen!$C$62/100*SIN(C382*$M$191*PI()/180)","v":0},{"$f":"Harmonischen!$C$63/100*SIN($C382*$N$191*PI()/180)","v":0},{"$f":"Harmonischen!$C$64/100*SIN($C382*$O$191*PI()/180)","v":0},{"$f":"Harmonischen!$C$65/100*SIN($C382*$P$191*PI()/180)","v":0},{"$f":"Harmonischen!$C$66/100*SIN($C382*$Q$191*PI()/180)","v":0},{"$f":"Harmonischen!$C$67/100*SIN($C382*$R$191*PI()/180)","v":0},{"$f":"Harmonischen!$C$68/100*SIN($C382*$S$191*PI()/180)","v":0},{"$f":"Harmonischen!$C$69/100*SIN($C382*$T$191*PI()/180)","v":0},{"$f":"Harmonischen!$C$70/100*SIN($C382*$U$191*PI()/180)","v":0},{"$f":"Harmonischen!$C$71/100*SIN($C382*$V$191*PI()/180)","v":0},{"$f":"Harmonischen!$C$72/100*SIN($C382*$W$191*PI()/180)","v":0},{"$f":"Harmonischen!$C$73/100*SIN($C382*$X$191*PI()/180)","v":0},{"$f":"Harmonischen!$C$74/100*SIN($C382*$Y$191*PI()/180)","v":0},{"$f":"Harmonischen!$C$75/100*SIN($C382*$Z$191*PI()/180)","v":0},{"$f":"Harmonischen!$C$76/100*SIN($C382*$AA$191*PI()/180)","v":0},{"$f":"Harmonischen!$C$77/100*SIN($C382*$AB$191*PI()/180)","v":0},null,-0.27364817766693061]
[null,null,191,{"$f":"Harmonischen!$C$53/100*SIN(C383*PI()/180)","v":-0.19080899537654472},{"$f":"Harmonischen!$C$54/100*SIN(C383*$E$191*PI()/180)","v":0},{"$f":"Harmonischen!$C$55/100*SIN(C383*$F$191*PI()/180)","v":-0.10892780700300531},{"$f":"Harmonischen!$C$56/100*SIN(C383*$G$191*PI()/180)","v":0},{"$f":"Harmonischen!$C$57/100*SIN(C383*$H$191*PI()/180)","v":0},{"$f":"Harmonischen!$C$58/100*SIN(C383*$I$191*PI()/180)","v":0},{"$f":"Harmonischen!$C$59/100*SIN(C383*$J$191*PI()/180)","v":0},{"$f":"Harmonischen!$C$60/100*SIN(C383*$K$191*PI()/180)","v":0},{"$f":"Harmonischen!$C$61/100*SIN(C383*$L$191*PI()/180)","v":0},{"$f":"Harmonischen!$C$62/100*SIN(C383*$M$191*PI()/180)","v":0},{"$f":"Harmonischen!$C$63/100*SIN($C383*$N$191*PI()/180)","v":0},{"$f":"Harmonischen!$C$64/100*SIN($C383*$O$191*PI()/180)","v":0},{"$f":"Harmonischen!$C$65/100*SIN($C383*$P$191*PI()/180)","v":0},{"$f":"Harmonischen!$C$66/100*SIN($C383*$Q$191*PI()/180)","v":0},{"$f":"Harmonischen!$C$67/100*SIN($C383*$R$191*PI()/180)","v":0},{"$f":"Harmonischen!$C$68/100*SIN($C383*$S$191*PI()/180)","v":0},{"$f":"Harmonischen!$C$69/100*SIN($C383*$T$191*PI()/180)","v":0},{"$f":"Harmonischen!$C$70/100*SIN($C383*$U$191*PI()/180)","v":0},{"$f":"Harmonischen!$C$71/100*SIN($C383*$V$191*PI()/180)","v":0},{"$f":"Harmonischen!$C$72/100*SIN($C383*$W$191*PI()/180)","v":0},{"$f":"Harmonischen!$C$73/100*SIN($C383*$X$191*PI()/180)","v":0},{"$f":"Harmonischen!$C$74/100*SIN($C383*$Y$191*PI()/180)","v":0},{"$f":"Harmonischen!$C$75/100*SIN($C383*$Z$191*PI()/180)","v":0},{"$f":"Harmonischen!$C$76/100*SIN($C383*$AA$191*PI()/180)","v":0},{"$f":"Harmonischen!$C$77/100*SIN($C383*$AB$191*PI()/180)","v":0},null,-0.29973680237955003]
[null,null,192,{"$f":"Harmonischen!$C$53/100*SIN(C384*PI()/180)","v":-0.20791169081775907},{"$f":"Harmonischen!$C$54/100*SIN(C384*$E$191*PI()/180)","v":0},{"$f":"Harmonischen!$C$55/100*SIN(C384*$F$191*PI()/180)","v":-0.11755705045849457},{"$f":"Harmonischen!$C$56/100*SIN(C384*$G$191*PI()/180)","v":0},{"$f":"Harmonischen!$C$57/100*SIN(C384*$H$191*PI()/180)","v":0},{"$f":"Harmonischen!$C$58/100*SIN(C384*$I$191*PI()/180)","v":0},{"$f":"Harmonischen!$C$59/100*SIN(C384*$J$191*PI()/180)","v":0},{"$f":"Harmonischen!$C$60/100*SIN(C384*$K$191*PI()/180)","v":0},{"$f":"Harmonischen!$C$61/100*SIN(C384*$L$191*PI()/180)","v":0},{"$f":"Harmonischen!$C$62/100*SIN(C384*$M$191*PI()/180)","v":0},{"$f":"Harmonischen!$C$63/100*SIN($C384*$N$191*PI()/180)","v":0},{"$f":"Harmonischen!$C$64/100*SIN($C384*$O$191*PI()/180)","v":0},{"$f":"Harmonischen!$C$65/100*SIN($C384*$P$191*PI()/180)","v":0},{"$f":"Harmonischen!$C$66/100*SIN($C384*$Q$191*PI()/180)","v":0},{"$f":"Harmonischen!$C$67/100*SIN($C384*$R$191*PI()/180)","v":0},{"$f":"Harmonischen!$C$68/100*SIN($C384*$S$191*PI()/180)","v":0},{"$f":"Harmonischen!$C$69/100*SIN($C384*$T$191*PI()/180)","v":0},{"$f":"Harmonischen!$C$70/100*SIN($C384*$U$191*PI()/180)","v":0},{"$f":"Harmonischen!$C$71/100*SIN($C384*$V$191*PI()/180)","v":0},{"$f":"Harmonischen!$C$72/100*SIN($C384*$W$191*PI()/180)","v":0},{"$f":"Harmonischen!$C$73/100*SIN($C384*$X$191*PI()/180)","v":0},{"$f":"Harmonischen!$C$74/100*SIN($C384*$Y$191*PI()/180)","v":0},{"$f":"Harmonischen!$C$75/100*SIN($C384*$Z$191*PI()/180)","v":0},{"$f":"Harmonischen!$C$76/100*SIN($C384*$AA$191*PI()/180)","v":0},{"$f":"Harmonischen!$C$77/100*SIN($C384*$AB$191*PI()/180)","v":0},null,{"$f":"SUM(D384:AB384)","v":-0.32546874127625364}]
[null,null,193,{"$f":"Harmonischen!$C$53/100*SIN(C385*PI()/180)","v":-0.22495105434386498},{"$f":"Harmonischen!$C$54/100*SIN(C385*$E$191*PI()/180)","v":0},{"$f":"Harmonischen!$C$55/100*SIN(C385*$F$191*PI()/180)","v":-0.12586407820996748},{"$f":"Harmonischen!$C$56/100*SIN(C385*$G$191*PI()/180)","v":0},{"$f":"Harmonischen!$C$57/100*SIN(C385*$H$191*PI()/180)","v":0},{"$f":"Harmonischen!$C$58/100*SIN(C385*$I$191*PI()/180)","v":0},{"$f":"Harmonischen!$C$59/100*SIN(C385*$J$191*PI()/180)","v":0},{"$f":"Harmonischen!$C$60/100*SIN(C385*$K$191*PI()/180)","v":0},{"$f":"Harmonischen!$C$61/100*SIN(C385*$L$191*PI()/180)","v":0},{"$f":"Harmonischen!$C$62/100*SIN(C385*$M$191*PI()/180)","v":0},{"$f":"Harmonischen!$C$63/100*SIN($C385*$N$191*PI()/180)","v":0},{"$f":"Harmonischen!$C$64/100*SIN($C385*$O$191*PI()/180)","v":0},{"$f":"Harmonischen!$C$65/100*SIN($C385*$P$191*PI()/180)","v":0},{"$f":"Harmonischen!$C$66/100*SIN($C385*$Q$191*PI()/180)","v":0},{"$f":"Harmonischen!$C$67/100*SIN($C385*$R$191*PI()/180)","v":0},{"$f":"Harmonischen!$C$68/100*SIN($C385*$S$191*PI()/180)","v":0},{"$f":"Harmonischen!$C$69/100*SIN($C385*$T$191*PI()/180)","v":0},{"$f":"Harmonischen!$C$70/100*SIN($C385*$U$191*PI()/180)","v":0},{"$f":"Harmonischen!$C$71/100*SIN($C385*$V$191*PI()/180)","v":0},{"$f":"Harmonischen!$C$72/100*SIN($C385*$W$191*PI()/180)","v":0},{"$f":"Harmonischen!$C$73/100*SIN($C385*$X$191*PI()/180)","v":0},{"$f":"Harmonischen!$C$74/100*SIN($C385*$Y$191*PI()/180)","v":0},{"$f":"Harmonischen!$C$75/100*SIN($C385*$Z$191*PI()/180)","v":0},{"$f":"Harmonischen!$C$76/100*SIN($C385*$AA$191*PI()/180)","v":0},{"$f":"Harmonischen!$C$77/100*SIN($C385*$AB$191*PI()/180)","v":0},null,-0.35081513255383245]
[null,null,194,{"$f":"Harmonischen!$C$53/100*SIN(C386*PI()/180)","v":-0.24192189559966751},{"$f":"Harmonischen!$C$54/100*SIN(C386*$E$191*PI()/180)","v":0},{"$f":"Harmonischen!$C$55/100*SIN(C386*$F$191*PI()/180)","v":-0.1338261212717714},{"$f":"Harmonischen!$C$56/100*SIN(C386*$G$191*PI()/180)","v":0},{"$f":"Harmonischen!$C$57/100*SIN(C386*$H$191*PI()/180)","v":0},{"$f":"Harmonischen!$C$58/100*SIN(C386*$I$191*PI()/180)","v":0},{"$f":"Harmonischen!$C$59/100*SIN(C386*$J$191*PI()/180)","v":0},{"$f":"Harmonischen!$C$60/100*SIN(C386*$K$191*PI()/180)","v":0},{"$f":"Harmonischen!$C$61/100*SIN(C386*$L$191*PI()/180)","v":0},{"$f":"Harmonischen!$C$62/100*SIN(C386*$M$191*PI()/180)","v":0},{"$f":"Harmonischen!$C$63/100*SIN($C386*$N$191*PI()/180)","v":0},{"$f":"Harmonischen!$C$64/100*SIN($C386*$O$191*PI()/180)","v":0},{"$f":"Harmonischen!$C$65/100*SIN($C386*$P$191*PI()/180)","v":0},{"$f":"Harmonischen!$C$66/100*SIN($C386*$Q$191*PI()/180)","v":0},{"$f":"Harmonischen!$C$67/100*SIN($C386*$R$191*PI()/180)","v":0},{"$f":"Harmonischen!$C$68/100*SIN($C386*$S$191*PI()/180)","v":0},{"$f":"Harmonischen!$C$69/100*SIN($C386*$T$191*PI()/180)","v":0},{"$f":"Harmonischen!$C$70/100*SIN($C386*$U$191*PI()/180)","v":0},{"$f":"Harmonischen!$C$71/100*SIN($C386*$V$191*PI()/180)","v":0},{"$f":"Harmonischen!$C$72/100*SIN($C386*$W$191*PI()/180)","v":0},{"$f":"Harmonischen!$C$73/100*SIN($C386*$X$191*PI()/180)","v":0},{"$f":"Harmonischen!$C$74/100*SIN($C386*$Y$191*PI()/180)","v":0},{"$f":"Harmonischen!$C$75/100*SIN($C386*$Z$191*PI()/180)","v":0},{"$f":"Harmonischen!$C$76/100*SIN($C386*$AA$191*PI()/180)","v":0},{"$f":"Harmonischen!$C$77/100*SIN($C386*$AB$191*PI()/180)","v":0},null,-0.37574801687143888]
[null,null,195,{"$f":"Harmonischen!$C$53/100*SIN(C387*PI()/180)","v":-0.25881904510252035},{"$f":"Harmonischen!$C$54/100*SIN(C387*$E$191*PI()/180)","v":0},{"$f":"Harmonischen!$C$55/100*SIN(C387*$F$191*PI()/180)","v":-0.14142135623730959},{"$f":"Harmonischen!$C$56/100*SIN(C387*$G$191*PI()/180)","v":0},{"$f":"Harmonischen!$C$57/100*SIN(C387*$H$191*PI()/180)","v":0},{"$f":"Harmonischen!$C$58/100*SIN(C387*$I$191*PI()/180)","v":0},{"$f":"Harmonischen!$C$59/100*SIN(C387*$J$191*PI()/180)","v":0},{"$f":"Harmonischen!$C$60/100*SIN(C387*$K$191*PI()/180)","v":0},{"$f":"Harmonischen!$C$61/100*SIN(C387*$L$191*PI()/180)","v":0},{"$f":"Harmonischen!$C$62/100*SIN(C387*$M$191*PI()/180)","v":0},{"$f":"Harmonischen!$C$63/100*SIN($C387*$N$191*PI()/180)","v":0},{"$f":"Harmonischen!$C$64/100*SIN($C387*$O$191*PI()/180)","v":0},{"$f":"Harmonischen!$C$65/100*SIN($C387*$P$191*PI()/180)","v":0},{"$f":"Harmonischen!$C$66/100*SIN($C387*$Q$191*PI()/180)","v":0},{"$f":"Harmonischen!$C$67/100*SIN($C387*$R$191*PI()/180)","v":0},{"$f":"Harmonischen!$C$68/100*SIN($C387*$S$191*PI()/180)","v":0},{"$f":"Harmonischen!$C$69/100*SIN($C387*$T$191*PI()/180)","v":0},{"$f":"Harmonischen!$C$70/100*SIN($C387*$U$191*PI()/180)","v":0},{"$f":"Harmonischen!$C$71/100*SIN($C387*$V$191*PI()/180)","v":0},{"$f":"Harmonischen!$C$72/100*SIN($C387*$W$191*PI()/180)","v":0},{"$f":"Harmonischen!$C$73/100*SIN($C387*$X$191*PI()/180)","v":0},{"$f":"Harmonischen!$C$74/100*SIN($C387*$Y$191*PI()/180)","v":0},{"$f":"Harmonischen!$C$75/100*SIN($C387*$Z$191*PI()/180)","v":0},{"$f":"Harmonischen!$C$76/100*SIN($C387*$AA$191*PI()/180)","v":0},{"$f":"Harmonischen!$C$77/100*SIN($C387*$AB$191*PI()/180)","v":0},null,-0.40024040133982997]
[null,null,196,{"$f":"Harmonischen!$C$53/100*SIN(C388*PI()/180)","v":-0.275637355816999},{"$f":"Harmonischen!$C$54/100*SIN(C388*$E$191*PI()/180)","v":0},{"$f":"Harmonischen!$C$55/100*SIN(C388*$F$191*PI()/180)","v":-0.14862896509547896},{"$f":"Harmonischen!$C$56/100*SIN(C388*$G$191*PI()/180)","v":0},{"$f":"Harmonischen!$C$57/100*SIN(C388*$H$191*PI()/180)","v":0},{"$f":"Harmonischen!$C$58/100*SIN(C388*$I$191*PI()/180)","v":0},{"$f":"Harmonischen!$C$59/100*SIN(C388*$J$191*PI()/180)","v":0},{"$f":"Harmonischen!$C$60/100*SIN(C388*$K$191*PI()/180)","v":0},{"$f":"Harmonischen!$C$61/100*SIN(C388*$L$191*PI()/180)","v":0},{"$f":"Harmonischen!$C$62/100*SIN(C388*$M$191*PI()/180)","v":0},{"$f":"Harmonischen!$C$63/100*SIN($C388*$N$191*PI()/180)","v":0},{"$f":"Harmonischen!$C$64/100*SIN($C388*$O$191*PI()/180)","v":0},{"$f":"Harmonischen!$C$65/100*SIN($C388*$P$191*PI()/180)","v":0},{"$f":"Harmonischen!$C$66/100*SIN($C388*$Q$191*PI()/180)","v":0},{"$f":"Harmonischen!$C$67/100*SIN($C388*$R$191*PI()/180)","v":0},{"$f":"Harmonischen!$C$68/100*SIN($C388*$S$191*PI()/180)","v":0},{"$f":"Harmonischen!$C$69/100*SIN($C388*$T$191*PI()/180)","v":0},{"$f":"Harmonischen!$C$70/100*SIN($C388*$U$191*PI()/180)","v":0},{"$f":"Harmonischen!$C$71/100*SIN($C388*$V$191*PI()/180)","v":0},{"$f":"Harmonischen!$C$72/100*SIN($C388*$W$191*PI()/180)","v":0},{"$f":"Harmonischen!$C$73/100*SIN($C388*$X$191*PI()/180)","v":0},{"$f":"Harmonischen!$C$74/100*SIN($C388*$Y$191*PI()/180)","v":0},{"$f":"Harmonischen!$C$75/100*SIN($C388*$Z$191*PI()/180)","v":0},{"$f":"Harmonischen!$C$76/100*SIN($C388*$AA$191*PI()/180)","v":0},{"$f":"Harmonischen!$C$77/100*SIN($C388*$AB$191*PI()/180)","v":0},null,-0.42426632091247796]
[null,null,197,{"$f":"Harmonischen!$C$53/100*SIN(C389*PI()/180)","v":-0.29237170472273638},{"$f":"Harmonischen!$C$54/100*SIN(C389*$E$191*PI()/180)","v":0},{"$f":"Harmonischen!$C$55/100*SIN(C389*$F$191*PI()/180)","v":-0.1554291922913941},{"$f":"Harmonischen!$C$56/100*SIN(C389*$G$191*PI()/180)","v":0},{"$f":"Harmonischen!$C$57/100*SIN(C389*$H$191*PI()/180)","v":0},{"$f":"Harmonischen!$C$58/100*SIN(C389*$I$191*PI()/180)","v":0},{"$f":"Harmonischen!$C$59/100*SIN(C389*$J$191*PI()/180)","v":0},{"$f":"Harmonischen!$C$60/100*SIN(C389*$K$191*PI()/180)","v":0},{"$f":"Harmonischen!$C$61/100*SIN(C389*$L$191*PI()/180)","v":0},{"$f":"Harmonischen!$C$62/100*SIN(C389*$M$191*PI()/180)","v":0},{"$f":"Harmonischen!$C$63/100*SIN($C389*$N$191*PI()/180)","v":0},{"$f":"Harmonischen!$C$64/100*SIN($C389*$O$191*PI()/180)","v":0},{"$f":"Harmonischen!$C$65/100*SIN($C389*$P$191*PI()/180)","v":0},{"$f":"Harmonischen!$C$66/100*SIN($C389*$Q$191*PI()/180)","v":0},{"$f":"Harmonischen!$C$67/100*SIN($C389*$R$191*PI()/180)","v":0},{"$f":"Harmonischen!$C$68/100*SIN($C389*$S$191*PI()/180)","v":0},{"$f":"Harmonischen!$C$69/100*SIN($C389*$T$191*PI()/180)","v":0},{"$f":"Harmonischen!$C$70/100*SIN($C389*$U$191*PI()/180)","v":0},{"$f":"Harmonischen!$C$71/100*SIN($C389*$V$191*PI()/180)","v":0},{"$f":"Harmonischen!$C$72/100*SIN($C389*$W$191*PI()/180)","v":0},{"$f":"Harmonischen!$C$73/100*SIN($C389*$X$191*PI()/180)","v":0},{"$f":"Harmonischen!$C$74/100*SIN($C389*$Y$191*PI()/180)","v":0},{"$f":"Harmonischen!$C$75/100*SIN($C389*$Z$191*PI()/180)","v":0},{"$f":"Harmonischen!$C$76/100*SIN($C389*$AA$191*PI()/180)","v":0},{"$f":"Harmonischen!$C$77/100*SIN($C389*$AB$191*PI()/180)","v":0},null,-0.44780089701413051]
[null,null,198,{"$f":"Harmonischen!$C$53/100*SIN(C390*PI()/180)","v":-0.30901699437494773},{"$f":"Harmonischen!$C$54/100*SIN(C390*$E$191*PI()/180)","v":0},{"$f":"Harmonischen!$C$55/100*SIN(C390*$F$191*PI()/180)","v":-0.16180339887498946},{"$f":"Harmonischen!$C$56/100*SIN(C390*$G$191*PI()/180)","v":0},{"$f":"Harmonischen!$C$57/100*SIN(C390*$H$191*PI()/180)","v":0},{"$f":"Harmonischen!$C$58/100*SIN(C390*$I$191*PI()/180)","v":0},{"$f":"Harmonischen!$C$59/100*SIN(C390*$J$191*PI()/180)","v":0},{"$f":"Harmonischen!$C$60/100*SIN(C390*$K$191*PI()/180)","v":0},{"$f":"Harmonischen!$C$61/100*SIN(C390*$L$191*PI()/180)","v":0},{"$f":"Harmonischen!$C$62/100*SIN(C390*$M$191*PI()/180)","v":0},{"$f":"Harmonischen!$C$63/100*SIN($C390*$N$191*PI()/180)","v":0},{"$f":"Harmonischen!$C$64/100*SIN($C390*$O$191*PI()/180)","v":0},{"$f":"Harmonischen!$C$65/100*SIN($C390*$P$191*PI()/180)","v":0},{"$f":"Harmonischen!$C$66/100*SIN($C390*$Q$191*PI()/180)","v":0},{"$f":"Harmonischen!$C$67/100*SIN($C390*$R$191*PI()/180)","v":0},{"$f":"Harmonischen!$C$68/100*SIN($C390*$S$191*PI()/180)","v":0},{"$f":"Harmonischen!$C$69/100*SIN($C390*$T$191*PI()/180)","v":0},{"$f":"Harmonischen!$C$70/100*SIN($C390*$U$191*PI()/180)","v":0},{"$f":"Harmonischen!$C$71/100*SIN($C390*$V$191*PI()/180)","v":0},{"$f":"Harmonischen!$C$72/100*SIN($C390*$W$191*PI()/180)","v":0},{"$f":"Harmonischen!$C$73/100*SIN($C390*$X$191*PI()/180)","v":0},{"$f":"Harmonischen!$C$74/100*SIN($C390*$Y$191*PI()/180)","v":0},{"$f":"Harmonischen!$C$75/100*SIN($C390*$Z$191*PI()/180)","v":0},{"$f":"Harmonischen!$C$76/100*SIN($C390*$AA$191*PI()/180)","v":0},{"$f":"Harmonischen!$C$77/100*SIN($C390*$AB$191*PI()/180)","v":0},null,-0.47082039324993719]
[null,null,199,{"$f":"Harmonischen!$C$53/100*SIN(C391*PI()/180)","v":-0.32556815445715676},{"$f":"Harmonischen!$C$54/100*SIN(C391*$E$191*PI()/180)","v":0},{"$f":"Harmonischen!$C$55/100*SIN(C391*$F$191*PI()/180)","v":-0.16773411358908463},{"$f":"Harmonischen!$C$56/100*SIN(C391*$G$191*PI()/180)","v":0},{"$f":"Harmonischen!$C$57/100*SIN(C391*$H$191*PI()/180)","v":0},{"$f":"Harmonischen!$C$58/100*SIN(C391*$I$191*PI()/180)","v":0},{"$f":"Harmonischen!$C$59/100*SIN(C391*$J$191*PI()/180)","v":0},{"$f":"Harmonischen!$C$60/100*SIN(C391*$K$191*PI()/180)","v":0},{"$f":"Harmonischen!$C$61/100*SIN(C391*$L$191*PI()/180)","v":0},{"$f":"Harmonischen!$C$62/100*SIN(C391*$M$191*PI()/180)","v":0},{"$f":"Harmonischen!$C$63/100*SIN($C391*$N$191*PI()/180)","v":0},{"$f":"Harmonischen!$C$64/100*SIN($C391*$O$191*PI()/180)","v":0},{"$f":"Harmonischen!$C$65/100*SIN($C391*$P$191*PI()/180)","v":0},{"$f":"Harmonischen!$C$66/100*SIN($C391*$Q$191*PI()/180)","v":0},{"$f":"Harmonischen!$C$67/100*SIN($C391*$R$191*PI()/180)","v":0},{"$f":"Harmonischen!$C$68/100*SIN($C391*$S$191*PI()/180)","v":0},{"$f":"Harmonischen!$C$69/100*SIN($C391*$T$191*PI()/180)","v":0},{"$f":"Harmonischen!$C$70/100*SIN($C391*$U$191*PI()/180)","v":0},{"$f":"Harmonischen!$C$71/100*SIN($C391*$V$191*PI()/180)","v":0},{"$f":"Harmonischen!$C$72/100*SIN($C391*$W$191*PI()/180)","v":0},{"$f":"Harmonischen!$C$73/100*SIN($C391*$X$191*PI()/180)","v":0},{"$f":"Harmonischen!$C$74/100*SIN($C391*$Y$191*PI()/180)","v":0},{"$f":"Harmonischen!$C$75/100*SIN($C391*$Z$191*PI()/180)","v":0},{"$f":"Harmonischen!$C$76/100*SIN($C391*$AA$191*PI()/180)","v":0},{"$f":"Harmonischen!$C$77/100*SIN($C391*$AB$191*PI()/180)","v":0},null,-0.49330226804624139]
[null,null,200,{"$f":"Harmonischen!$C$53/100*SIN(C392*PI()/180)","v":-0.34202014332566866},{"$f":"Harmonischen!$C$54/100*SIN(C392*$E$191*PI()/180)","v":0},{"$f":"Harmonischen!$C$55/100*SIN(C392*$F$191*PI()/180)","v":-0.17320508075688776},{"$f":"Harmonischen!$C$56/100*SIN(C392*$G$191*PI()/180)","v":0},{"$f":"Harmonischen!$C$57/100*SIN(C392*$H$191*PI()/180)","v":0},{"$f":"Harmonischen!$C$58/100*SIN(C392*$I$191*PI()/180)","v":0},{"$f":"Harmonischen!$C$59/100*SIN(C392*$J$191*PI()/180)","v":0},{"$f":"Harmonischen!$C$60/100*SIN(C392*$K$191*PI()/180)","v":0},{"$f":"Harmonischen!$C$61/100*SIN(C392*$L$191*PI()/180)","v":0},{"$f":"Harmonischen!$C$62/100*SIN(C392*$M$191*PI()/180)","v":0},{"$f":"Harmonischen!$C$63/100*SIN($C392*$N$191*PI()/180)","v":0},{"$f":"Harmonischen!$C$64/100*SIN($C392*$O$191*PI()/180)","v":0},{"$f":"Harmonischen!$C$65/100*SIN($C392*$P$191*PI()/180)","v":0},{"$f":"Harmonischen!$C$66/100*SIN($C392*$Q$191*PI()/180)","v":0},{"$f":"Harmonischen!$C$67/100*SIN($C392*$R$191*PI()/180)","v":0},{"$f":"Harmonischen!$C$68/100*SIN($C392*$S$191*PI()/180)","v":0},{"$f":"Harmonischen!$C$69/100*SIN($C392*$T$191*PI()/180)","v":0},{"$f":"Harmonischen!$C$70/100*SIN($C392*$U$191*PI()/180)","v":0},{"$f":"Harmonischen!$C$71/100*SIN($C392*$V$191*PI()/180)","v":0},{"$f":"Harmonischen!$C$72/100*SIN($C392*$W$191*PI()/180)","v":0},{"$f":"Harmonischen!$C$73/100*SIN($C392*$X$191*PI()/180)","v":0},{"$f":"Harmonischen!$C$74/100*SIN($C392*$Y$191*PI()/180)","v":0},{"$f":"Harmonischen!$C$75/100*SIN($C392*$Z$191*PI()/180)","v":0},{"$f":"Harmonischen!$C$76/100*SIN($C392*$AA$191*PI()/180)","v":0},{"$f":"Harmonischen!$C$77/100*SIN($C392*$AB$191*PI()/180)","v":0},null,-0.51522522408255644]
[null,null,201,{"$f":"Harmonischen!$C$53/100*SIN(C393*PI()/180)","v":-0.35836794954530043},{"$f":"Harmonischen!$C$54/100*SIN(C393*$E$191*PI()/180)","v":0},{"$f":"Harmonischen!$C$55/100*SIN(C393*$F$191*PI()/180)","v":-0.17820130483767363},{"$f":"Harmonischen!$C$56/100*SIN(C393*$G$191*PI()/180)","v":0},{"$f":"Harmonischen!$C$57/100*SIN(C393*$H$191*PI()/180)","v":0},{"$f":"Harmonischen!$C$58/100*SIN(C393*$I$191*PI()/180)","v":0},{"$f":"Harmonischen!$C$59/100*SIN(C393*$J$191*PI()/180)","v":0},{"$f":"Harmonischen!$C$60/100*SIN(C393*$K$191*PI()/180)","v":0},{"$f":"Harmonischen!$C$61/100*SIN(C393*$L$191*PI()/180)","v":0},{"$f":"Harmonischen!$C$62/100*SIN(C393*$M$191*PI()/180)","v":0},{"$f":"Harmonischen!$C$63/100*SIN($C393*$N$191*PI()/180)","v":0},{"$f":"Harmonischen!$C$64/100*SIN($C393*$O$191*PI()/180)","v":0},{"$f":"Harmonischen!$C$65/100*SIN($C393*$P$191*PI()/180)","v":0},{"$f":"Harmonischen!$C$66/100*SIN($C393*$Q$191*PI()/180)","v":0},{"$f":"Harmonischen!$C$67/100*SIN($C393*$R$191*PI()/180)","v":0},{"$f":"Harmonischen!$C$68/100*SIN($C393*$S$191*PI()/180)","v":0},{"$f":"Harmonischen!$C$69/100*SIN($C393*$T$191*PI()/180)","v":0},{"$f":"Harmonischen!$C$70/100*SIN($C393*$U$191*PI()/180)","v":0},{"$f":"Harmonischen!$C$71/100*SIN($C393*$V$191*PI()/180)","v":0},{"$f":"Harmonischen!$C$72/100*SIN($C393*$W$191*PI()/180)","v":0},{"$f":"Harmonischen!$C$73/100*SIN($C393*$X$191*PI()/180)","v":0},{"$f":"Harmonischen!$C$74/100*SIN($C393*$Y$191*PI()/180)","v":0},{"$f":"Harmonischen!$C$75/100*SIN($C393*$Z$191*PI()/180)","v":0},{"$f":"Harmonischen!$C$76/100*SIN($C393*$AA$191*PI()/180)","v":0},{"$f":"Harmonischen!$C$77/100*SIN($C393*$AB$191*PI()/180)","v":0},null,-0.53656925438297409]
[null,null,202,{"$f":"Harmonischen!$C$53/100*SIN(C394*PI()/180)","v":-0.37460659341591201},{"$f":"Harmonischen!$C$54/100*SIN(C394*$E$191*PI()/180)","v":0},{"$f":"Harmonischen!$C$55/100*SIN(C394*$F$191*PI()/180)","v":-0.18270909152852011},{"$f":"Harmonischen!$C$56/100*SIN(C394*$G$191*PI()/180)","v":0},{"$f":"Harmonischen!$C$57/100*SIN(C394*$H$191*PI()/180)","v":0},{"$f":"Harmonischen!$C$58/100*SIN(C394*$I$191*PI()/180)","v":0},{"$f":"Harmonischen!$C$59/100*SIN(C394*$J$191*PI()/180)","v":0},{"$f":"Harmonischen!$C$60/100*SIN(C394*$K$191*PI()/180)","v":0},{"$f":"Harmonischen!$C$61/100*SIN(C394*$L$191*PI()/180)","v":0},{"$f":"Harmonischen!$C$62/100*SIN(C394*$M$191*PI()/180)","v":0},{"$f":"Harmonischen!$C$63/100*SIN($C394*$N$191*PI()/180)","v":0},{"$f":"Harmonischen!$C$64/100*SIN($C394*$O$191*PI()/180)","v":0},{"$f":"Harmonischen!$C$65/100*SIN($C394*$P$191*PI()/180)","v":0},{"$f":"Harmonischen!$C$66/100*SIN($C394*$Q$191*PI()/180)","v":0},{"$f":"Harmonischen!$C$67/100*SIN($C394*$R$191*PI()/180)","v":0},{"$f":"Harmonischen!$C$68/100*SIN($C394*$S$191*PI()/180)","v":0},{"$f":"Harmonischen!$C$69/100*SIN($C394*$T$191*PI()/180)","v":0},{"$f":"Harmonischen!$C$70/100*SIN($C394*$U$191*PI()/180)","v":0},{"$f":"Harmonischen!$C$71/100*SIN($C394*$V$191*PI()/180)","v":0},{"$f":"Harmonischen!$C$72/100*SIN($C394*$W$191*PI()/180)","v":0},{"$f":"Harmonischen!$C$73/100*SIN($C394*$X$191*PI()/180)","v":0},{"$f":"Harmonischen!$C$74/100*SIN($C394*$Y$191*PI()/180)","v":0},{"$f":"Harmonischen!$C$75/100*SIN($C394*$Z$191*PI()/180)","v":0},{"$f":"Harmonischen!$C$76/100*SIN($C394*$AA$191*PI()/180)","v":0},{"$f":"Harmonischen!$C$77/100*SIN($C394*$AB$191*PI()/180)","v":0},null,-0.55731568494443207]
[null,null,203,{"$f":"Harmonischen!$C$53/100*SIN(C395*PI()/180)","v":-0.39073112848927355},{"$f":"Harmonischen!$C$54/100*SIN(C395*$E$191*PI()/180)","v":0},{"$f":"Harmonischen!$C$55/100*SIN(C395*$F$191*PI()/180)","v":-0.18671608529944031},{"$f":"Harmonischen!$C$56/100*SIN(C395*$G$191*PI()/180)","v":0},{"$f":"Harmonischen!$C$57/100*SIN(C395*$H$191*PI()/180)","v":0},{"$f":"Harmonischen!$C$58/100*SIN(C395*$I$191*PI()/180)","v":0},{"$f":"Harmonischen!$C$59/100*SIN(C395*$J$191*PI()/180)","v":0},{"$f":"Harmonischen!$C$60/100*SIN(C395*$K$191*PI()/180)","v":0},{"$f":"Harmonischen!$C$61/100*SIN(C395*$L$191*PI()/180)","v":0},{"$f":"Harmonischen!$C$62/100*SIN(C395*$M$191*PI()/180)","v":0},{"$f":"Harmonischen!$C$63/100*SIN($C395*$N$191*PI()/180)","v":0},{"$f":"Harmonischen!$C$64/100*SIN($C395*$O$191*PI()/180)","v":0},{"$f":"Harmonischen!$C$65/100*SIN($C395*$P$191*PI()/180)","v":0},{"$f":"Harmonischen!$C$66/100*SIN($C395*$Q$191*PI()/180)","v":0},{"$f":"Harmonischen!$C$67/100*SIN($C395*$R$191*PI()/180)","v":0},{"$f":"Harmonischen!$C$68/100*SIN($C395*$S$191*PI()/180)","v":0},{"$f":"Harmonischen!$C$69/100*SIN($C395*$T$191*PI()/180)","v":0},{"$f":"Harmonischen!$C$70/100*SIN($C395*$U$191*PI()/180)","v":0},{"$f":"Harmonischen!$C$71/100*SIN($C395*$V$191*PI()/180)","v":0},{"$f":"Harmonischen!$C$72/100*SIN($C395*$W$191*PI()/180)","v":0},{"$f":"Harmonischen!$C$73/100*SIN($C395*$X$191*PI()/180)","v":0},{"$f":"Harmonischen!$C$74/100*SIN($C395*$Y$191*PI()/180)","v":0},{"$f":"Harmonischen!$C$75/100*SIN($C395*$Z$191*PI()/180)","v":0},{"$f":"Harmonischen!$C$76/100*SIN($C395*$AA$191*PI()/180)","v":0},{"$f":"Harmonischen!$C$77/100*SIN($C395*$AB$191*PI()/180)","v":0},null,-0.57744721378871389]
[null,null,204,{"$f":"Harmonischen!$C$53/100*SIN(C396*PI()/180)","v":-0.40673664307579982},{"$f":"Harmonischen!$C$54/100*SIN(C396*$E$191*PI()/180)","v":0},{"$f":"Harmonischen!$C$55/100*SIN(C396*$F$191*PI()/180)","v":-0.19021130325903068},{"$f":"Harmonischen!$C$56/100*SIN(C396*$G$191*PI()/180)","v":0},{"$f":"Harmonischen!$C$57/100*SIN(C396*$H$191*PI()/180)","v":0},{"$f":"Harmonischen!$C$58/100*SIN(C396*$I$191*PI()/180)","v":0},{"$f":"Harmonischen!$C$59/100*SIN(C396*$J$191*PI()/180)","v":0},{"$f":"Harmonischen!$C$60/100*SIN(C396*$K$191*PI()/180)","v":0},{"$f":"Harmonischen!$C$61/100*SIN(C396*$L$191*PI()/180)","v":0},{"$f":"Harmonischen!$C$62/100*SIN(C396*$M$191*PI()/180)","v":0},{"$f":"Harmonischen!$C$63/100*SIN($C396*$N$191*PI()/180)","v":0},{"$f":"Harmonischen!$C$64/100*SIN($C396*$O$191*PI()/180)","v":0},{"$f":"Harmonischen!$C$65/100*SIN($C396*$P$191*PI()/180)","v":0},{"$f":"Harmonischen!$C$66/100*SIN($C396*$Q$191*PI()/180)","v":0},{"$f":"Harmonischen!$C$67/100*SIN($C396*$R$191*PI()/180)","v":0},{"$f":"Harmonischen!$C$68/100*SIN($C396*$S$191*PI()/180)","v":0},{"$f":"Harmonischen!$C$69/100*SIN($C396*$T$191*PI()/180)","v":0},{"$f":"Harmonischen!$C$70/100*SIN($C396*$U$191*PI()/180)","v":0},{"$f":"Harmonischen!$C$71/100*SIN($C396*$V$191*PI()/180)","v":0},{"$f":"Harmonischen!$C$72/100*SIN($C396*$W$191*PI()/180)","v":0},{"$f":"Harmonischen!$C$73/100*SIN($C396*$X$191*PI()/180)","v":0},{"$f":"Harmonischen!$C$74/100*SIN($C396*$Y$191*PI()/180)","v":0},{"$f":"Harmonischen!$C$75/100*SIN($C396*$Z$191*PI()/180)","v":0},{"$f":"Harmonischen!$C$76/100*SIN($C396*$AA$191*PI()/180)","v":0},{"$f":"Harmonischen!$C$77/100*SIN($C396*$AB$191*PI()/180)","v":0},null,-0.5969479463348305]
[null,null,205,{"$f":"Harmonischen!$C$53/100*SIN(C397*PI()/180)","v":-0.42261826174069927},{"$f":"Harmonischen!$C$54/100*SIN(C397*$E$191*PI()/180)","v":0},{"$f":"Harmonischen!$C$55/100*SIN(C397*$F$191*PI()/180)","v":-0.19318516525781365},{"$f":"Harmonischen!$C$56/100*SIN(C397*$G$191*PI()/180)","v":0},{"$f":"Harmonischen!$C$57/100*SIN(C397*$H$191*PI()/180)","v":0},{"$f":"Harmonischen!$C$58/100*SIN(C397*$I$191*PI()/180)","v":0},{"$f":"Harmonischen!$C$59/100*SIN(C397*$J$191*PI()/180)","v":0},{"$f":"Harmonischen!$C$60/100*SIN(C397*$K$191*PI()/180)","v":0},{"$f":"Harmonischen!$C$61/100*SIN(C397*$L$191*PI()/180)","v":0},{"$f":"Harmonischen!$C$62/100*SIN(C397*$M$191*PI()/180)","v":0},{"$f":"Harmonischen!$C$63/100*SIN($C397*$N$191*PI()/180)","v":0},{"$f":"Harmonischen!$C$64/100*SIN($C397*$O$191*PI()/180)","v":0},{"$f":"Harmonischen!$C$65/100*SIN($C397*$P$191*PI()/180)","v":0},{"$f":"Harmonischen!$C$66/100*SIN($C397*$Q$191*PI()/180)","v":0},{"$f":"Harmonischen!$C$67/100*SIN($C397*$R$191*PI()/180)","v":0},{"$f":"Harmonischen!$C$68/100*SIN($C397*$S$191*PI()/180)","v":0},{"$f":"Harmonischen!$C$69/100*SIN($C397*$T$191*PI()/180)","v":0},{"$f":"Harmonischen!$C$70/100*SIN($C397*$U$191*PI()/180)","v":0},{"$f":"Harmonischen!$C$71/100*SIN($C397*$V$191*PI()/180)","v":0},{"$f":"Harmonischen!$C$72/100*SIN($C397*$W$191*PI()/180)","v":0},{"$f":"Harmonischen!$C$73/100*SIN($C397*$X$191*PI()/180)","v":0},{"$f":"Harmonischen!$C$74/100*SIN($C397*$Y$191*PI()/180)","v":0},{"$f":"Harmonischen!$C$75/100*SIN($C397*$Z$191*PI()/180)","v":0},{"$f":"Harmonischen!$C$76/100*SIN($C397*$AA$191*PI()/180)","v":0},{"$f":"Harmonischen!$C$77/100*SIN($C397*$AB$191*PI()/180)","v":0},null,-0.61580342699851287]
[null,null,206,{"$f":"Harmonischen!$C$53/100*SIN(C398*PI()/180)","v":-0.43837114678907707},{"$f":"Harmonischen!$C$54/100*SIN(C398*$E$191*PI()/180)","v":0},{"$f":"Harmonischen!$C$55/100*SIN(C398*$F$191*PI()/180)","v":-0.19562952014676116},{"$f":"Harmonischen!$C$56/100*SIN(C398*$G$191*PI()/180)","v":0},{"$f":"Harmonischen!$C$57/100*SIN(C398*$H$191*PI()/180)","v":0},{"$f":"Harmonischen!$C$58/100*SIN(C398*$I$191*PI()/180)","v":0},{"$f":"Harmonischen!$C$59/100*SIN(C398*$J$191*PI()/180)","v":0},{"$f":"Harmonischen!$C$60/100*SIN(C398*$K$191*PI()/180)","v":0},{"$f":"Harmonischen!$C$61/100*SIN(C398*$L$191*PI()/180)","v":0},{"$f":"Harmonischen!$C$62/100*SIN(C398*$M$191*PI()/180)","v":0},{"$f":"Harmonischen!$C$63/100*SIN($C398*$N$191*PI()/180)","v":0},{"$f":"Harmonischen!$C$64/100*SIN($C398*$O$191*PI()/180)","v":0},{"$f":"Harmonischen!$C$65/100*SIN($C398*$P$191*PI()/180)","v":0},{"$f":"Harmonischen!$C$66/100*SIN($C398*$Q$191*PI()/180)","v":0},{"$f":"Harmonischen!$C$67/100*SIN($C398*$R$191*PI()/180)","v":0},{"$f":"Harmonischen!$C$68/100*SIN($C398*$S$191*PI()/180)","v":0},{"$f":"Harmonischen!$C$69/100*SIN($C398*$T$191*PI()/180)","v":0},{"$f":"Harmonischen!$C$70/100*SIN($C398*$U$191*PI()/180)","v":0},{"$f":"Harmonischen!$C$71/100*SIN($C398*$V$191*PI()/180)","v":0},{"$f":"Harmonischen!$C$72/100*SIN($C398*$W$191*PI()/180)","v":0},{"$f":"Harmonischen!$C$73/100*SIN($C398*$X$191*PI()/180)","v":0},{"$f":"Harmonischen!$C$74/100*SIN($C398*$Y$191*PI()/180)","v":0},{"$f":"Harmonischen!$C$75/100*SIN($C398*$Z$191*PI()/180)","v":0},{"$f":"Harmonischen!$C$76/100*SIN($C398*$AA$191*PI()/180)","v":0},{"$f":"Harmonischen!$C$77/100*SIN($C398*$AB$191*PI()/180)","v":0},null,-0.63400066693583823]
[null,null,207,{"$f":"Harmonischen!$C$53/100*SIN(C399*PI()/180)","v":-0.45399049973954625},{"$f":"Harmonischen!$C$54/100*SIN(C399*$E$191*PI()/180)","v":0},{"$f":"Harmonischen!$C$55/100*SIN(C399*$F$191*PI()/180)","v":-0.19753766811902757},{"$f":"Harmonischen!$C$56/100*SIN(C399*$G$191*PI()/180)","v":0},{"$f":"Harmonischen!$C$57/100*SIN(C399*$H$191*PI()/180)","v":0},{"$f":"Harmonischen!$C$58/100*SIN(C399*$I$191*PI()/180)","v":0},{"$f":"Harmonischen!$C$59/100*SIN(C399*$J$191*PI()/180)","v":0},{"$f":"Harmonischen!$C$60/100*SIN(C399*$K$191*PI()/180)","v":0},{"$f":"Harmonischen!$C$61/100*SIN(C399*$L$191*PI()/180)","v":0},{"$f":"Harmonischen!$C$62/100*SIN(C399*$M$191*PI()/180)","v":0},{"$f":"Harmonischen!$C$63/100*SIN($C399*$N$191*PI()/180)","v":0},{"$f":"Harmonischen!$C$64/100*SIN($C399*$O$191*PI()/180)","v":0},{"$f":"Harmonischen!$C$65/100*SIN($C399*$P$191*PI()/180)","v":0},{"$f":"Harmonischen!$C$66/100*SIN($C399*$Q$191*PI()/180)","v":0},{"$f":"Harmonischen!$C$67/100*SIN($C399*$R$191*PI()/180)","v":0},{"$f":"Harmonischen!$C$68/100*SIN($C399*$S$191*PI()/180)","v":0},{"$f":"Harmonischen!$C$69/100*SIN($C399*$T$191*PI()/180)","v":0},{"$f":"Harmonischen!$C$70/100*SIN($C399*$U$191*PI()/180)","v":0},{"$f":"Harmonischen!$C$71/100*SIN($C399*$V$191*PI()/180)","v":0},{"$f":"Harmonischen!$C$72/100*SIN($C399*$W$191*PI()/180)","v":0},{"$f":"Harmonischen!$C$73/100*SIN($C399*$X$191*PI()/180)","v":0},{"$f":"Harmonischen!$C$74/100*SIN($C399*$Y$191*PI()/180)","v":0},{"$f":"Harmonischen!$C$75/100*SIN($C399*$Z$191*PI()/180)","v":0},{"$f":"Harmonischen!$C$76/100*SIN($C399*$AA$191*PI()/180)","v":0},{"$f":"Harmonischen!$C$77/100*SIN($C399*$AB$191*PI()/180)","v":0},null,-0.65152816785857381]
[null,null,208,{"$f":"Harmonischen!$C$53/100*SIN(C400*PI()/180)","v":-0.46947156278589086},{"$f":"Harmonischen!$C$54/100*SIN(C400*$E$191*PI()/180)","v":0},{"$f":"Harmonischen!$C$55/100*SIN(C400*$F$191*PI()/180)","v":-0.19890437907365466},{"$f":"Harmonischen!$C$56/100*SIN(C400*$G$191*PI()/180)","v":0},{"$f":"Harmonischen!$C$57/100*SIN(C400*$H$191*PI()/180)","v":0},{"$f":"Harmonischen!$C$58/100*SIN(C400*$I$191*PI()/180)","v":0},{"$f":"Harmonischen!$C$59/100*SIN(C400*$J$191*PI()/180)","v":0},{"$f":"Harmonischen!$C$60/100*SIN(C400*$K$191*PI()/180)","v":0},{"$f":"Harmonischen!$C$61/100*SIN(C400*$L$191*PI()/180)","v":0},{"$f":"Harmonischen!$C$62/100*SIN(C400*$M$191*PI()/180)","v":0},{"$f":"Harmonischen!$C$63/100*SIN($C400*$N$191*PI()/180)","v":0},{"$f":"Harmonischen!$C$64/100*SIN($C400*$O$191*PI()/180)","v":0},{"$f":"Harmonischen!$C$65/100*SIN($C400*$P$191*PI()/180)","v":0},{"$f":"Harmonischen!$C$66/100*SIN($C400*$Q$191*PI()/180)","v":0},{"$f":"Harmonischen!$C$67/100*SIN($C400*$R$191*PI()/180)","v":0},{"$f":"Harmonischen!$C$68/100*SIN($C400*$S$191*PI()/180)","v":0},{"$f":"Harmonischen!$C$69/100*SIN($C400*$T$191*PI()/180)","v":0},{"$f":"Harmonischen!$C$70/100*SIN($C400*$U$191*PI()/180)","v":0},{"$f":"Harmonischen!$C$71/100*SIN($C400*$V$191*PI()/180)","v":0},{"$f":"Harmonischen!$C$72/100*SIN($C400*$W$191*PI()/180)","v":0},{"$f":"Harmonischen!$C$73/100*SIN($C400*$X$191*PI()/180)","v":0},{"$f":"Harmonischen!$C$74/100*SIN($C400*$Y$191*PI()/180)","v":0},{"$f":"Harmonischen!$C$75/100*SIN($C400*$Z$191*PI()/180)","v":0},{"$f":"Harmonischen!$C$76/100*SIN($C400*$AA$191*PI()/180)","v":0},{"$f":"Harmonischen!$C$77/100*SIN($C400*$AB$191*PI()/180)","v":0},null,-0.66837594185954552]
[null,null,209,{"$f":"Harmonischen!$C$53/100*SIN(C401*PI()/180)","v":-0.48480962024633695},{"$f":"Harmonischen!$C$54/100*SIN(C401*$E$191*PI()/180)","v":0},{"$f":"Harmonischen!$C$55/100*SIN(C401*$F$191*PI()/180)","v":-0.19972590695091477},{"$f":"Harmonischen!$C$56/100*SIN(C401*$G$191*PI()/180)","v":0},{"$f":"Harmonischen!$C$57/100*SIN(C401*$H$191*PI()/180)","v":0},{"$f":"Harmonischen!$C$58/100*SIN(C401*$I$191*PI()/180)","v":0},{"$f":"Harmonischen!$C$59/100*SIN(C401*$J$191*PI()/180)","v":0},{"$f":"Harmonischen!$C$60/100*SIN(C401*$K$191*PI()/180)","v":0},{"$f":"Harmonischen!$C$61/100*SIN(C401*$L$191*PI()/180)","v":0},{"$f":"Harmonischen!$C$62/100*SIN(C401*$M$191*PI()/180)","v":0},{"$f":"Harmonischen!$C$63/100*SIN($C401*$N$191*PI()/180)","v":0},{"$f":"Harmonischen!$C$64/100*SIN($C401*$O$191*PI()/180)","v":0},{"$f":"Harmonischen!$C$65/100*SIN($C401*$P$191*PI()/180)","v":0},{"$f":"Harmonischen!$C$66/100*SIN($C401*$Q$191*PI()/180)","v":0},{"$f":"Harmonischen!$C$67/100*SIN($C401*$R$191*PI()/180)","v":0},{"$f":"Harmonischen!$C$68/100*SIN($C401*$S$191*PI()/180)","v":0},{"$f":"Harmonischen!$C$69/100*SIN($C401*$T$191*PI()/180)","v":0},{"$f":"Harmonischen!$C$70/100*SIN($C401*$U$191*PI()/180)","v":0},{"$f":"Harmonischen!$C$71/100*SIN($C401*$V$191*PI()/180)","v":0},{"$f":"Harmonischen!$C$72/100*SIN($C401*$W$191*PI()/180)","v":0},{"$f":"Harmonischen!$C$73/100*SIN($C401*$X$191*PI()/180)","v":0},{"$f":"Harmonischen!$C$74/100*SIN($C401*$Y$191*PI()/180)","v":0},{"$f":"Harmonischen!$C$75/100*SIN($C401*$Z$191*PI()/180)","v":0},{"$f":"Harmonischen!$C$76/100*SIN($C401*$AA$191*PI()/180)","v":0},{"$f":"Harmonischen!$C$77/100*SIN($C401*$AB$191*PI()/180)","v":0},null,-0.68453552719725175]
[null,null,210,{"$f":"Harmonischen!$C$53/100*SIN(C402*PI()/180)","v":-0.50000000000000011},{"$f":"Harmonischen!$C$54/100*SIN(C402*$E$191*PI()/180)","v":0},{"$f":"Harmonischen!$C$55/100*SIN(C402*$F$191*PI()/180)","v":-0.2},{"$f":"Harmonischen!$C$56/100*SIN(C402*$G$191*PI()/180)","v":0},{"$f":"Harmonischen!$C$57/100*SIN(C402*$H$191*PI()/180)","v":0},{"$f":"Harmonischen!$C$58/100*SIN(C402*$I$191*PI()/180)","v":0},{"$f":"Harmonischen!$C$59/100*SIN(C402*$J$191*PI()/180)","v":0},{"$f":"Harmonischen!$C$60/100*SIN(C402*$K$191*PI()/180)","v":0},{"$f":"Harmonischen!$C$61/100*SIN(C402*$L$191*PI()/180)","v":0},{"$f":"Harmonischen!$C$62/100*SIN(C402*$M$191*PI()/180)","v":0},{"$f":"Harmonischen!$C$63/100*SIN($C402*$N$191*PI()/180)","v":0},{"$f":"Harmonischen!$C$64/100*SIN($C402*$O$191*PI()/180)","v":0},{"$f":"Harmonischen!$C$65/100*SIN($C402*$P$191*PI()/180)","v":0},{"$f":"Harmonischen!$C$66/100*SIN($C402*$Q$191*PI()/180)","v":0},{"$f":"Harmonischen!$C$67/100*SIN($C402*$R$191*PI()/180)","v":0},{"$f":"Harmonischen!$C$68/100*SIN($C402*$S$191*PI()/180)","v":0},{"$f":"Harmonischen!$C$69/100*SIN($C402*$T$191*PI()/180)","v":0},{"$f":"Harmonischen!$C$70/100*SIN($C402*$U$191*PI()/180)","v":0},{"$f":"Harmonischen!$C$71/100*SIN($C402*$V$191*PI()/180)","v":0},{"$f":"Harmonischen!$C$72/100*SIN($C402*$W$191*PI()/180)","v":0},{"$f":"Harmonischen!$C$73/100*SIN($C402*$X$191*PI()/180)","v":0},{"$f":"Harmonischen!$C$74/100*SIN($C402*$Y$191*PI()/180)","v":0},{"$f":"Harmonischen!$C$75/100*SIN($C402*$Z$191*PI()/180)","v":0},{"$f":"Harmonischen!$C$76/100*SIN($C402*$AA$191*PI()/180)","v":0},{"$f":"Harmonischen!$C$77/100*SIN($C402*$AB$191*PI()/180)","v":0},null,-0.70000000000000018]
[null,null,211,{"$f":"Harmonischen!$C$53/100*SIN(C403*PI()/180)","v":-0.51503807491005416},{"$f":"Harmonischen!$C$54/100*SIN(C403*$E$191*PI()/180)","v":0},{"$f":"Harmonischen!$C$55/100*SIN(C403*$F$191*PI()/180)","v":-0.19972590695091477},{"$f":"Harmonischen!$C$56/100*SIN(C403*$G$191*PI()/180)","v":0},{"$f":"Harmonischen!$C$57/100*SIN(C403*$H$191*PI()/180)","v":0},{"$f":"Harmonischen!$C$58/100*SIN(C403*$I$191*PI()/180)","v":0},{"$f":"Harmonischen!$C$59/100*SIN(C403*$J$191*PI()/180)","v":0},{"$f":"Harmonischen!$C$60/100*SIN(C403*$K$191*PI()/180)","v":0},{"$f":"Harmonischen!$C$61/100*SIN(C403*$L$191*PI()/180)","v":0},{"$f":"Harmonischen!$C$62/100*SIN(C403*$M$191*PI()/180)","v":0},{"$f":"Harmonischen!$C$63/100*SIN($C403*$N$191*PI()/180)","v":0},{"$f":"Harmonischen!$C$64/100*SIN($C403*$O$191*PI()/180)","v":0},{"$f":"Harmonischen!$C$65/100*SIN($C403*$P$191*PI()/180)","v":0},{"$f":"Harmonischen!$C$66/100*SIN($C403*$Q$191*PI()/180)","v":0},{"$f":"Harmonischen!$C$67/100*SIN($C403*$R$191*PI()/180)","v":0},{"$f":"Harmonischen!$C$68/100*SIN($C403*$S$191*PI()/180)","v":0},{"$f":"Harmonischen!$C$69/100*SIN($C403*$T$191*PI()/180)","v":0},{"$f":"Harmonischen!$C$70/100*SIN($C403*$U$191*PI()/180)","v":0},{"$f":"Harmonischen!$C$71/100*SIN($C403*$V$191*PI()/180)","v":0},{"$f":"Harmonischen!$C$72/100*SIN($C403*$W$191*PI()/180)","v":0},{"$f":"Harmonischen!$C$73/100*SIN($C403*$X$191*PI()/180)","v":0},{"$f":"Harmonischen!$C$74/100*SIN($C403*$Y$191*PI()/180)","v":0},{"$f":"Harmonischen!$C$75/100*SIN($C403*$Z$191*PI()/180)","v":0},{"$f":"Harmonischen!$C$76/100*SIN($C403*$AA$191*PI()/180)","v":0},{"$f":"Harmonischen!$C$77/100*SIN($C403*$AB$191*PI()/180)","v":0},null,-0.7147639818609689]
[null,null,212,{"$f":"Harmonischen!$C$53/100*SIN(C404*PI()/180)","v":-0.52991926423320479},{"$f":"Harmonischen!$C$54/100*SIN(C404*$E$191*PI()/180)","v":0},{"$f":"Harmonischen!$C$55/100*SIN(C404*$F$191*PI()/180)","v":-0.19890437907365466},{"$f":"Harmonischen!$C$56/100*SIN(C404*$G$191*PI()/180)","v":0},{"$f":"Harmonischen!$C$57/100*SIN(C404*$H$191*PI()/180)","v":0},{"$f":"Harmonischen!$C$58/100*SIN(C404*$I$191*PI()/180)","v":0},{"$f":"Harmonischen!$C$59/100*SIN(C404*$J$191*PI()/180)","v":0},{"$f":"Harmonischen!$C$60/100*SIN(C404*$K$191*PI()/180)","v":0},{"$f":"Harmonischen!$C$61/100*SIN(C404*$L$191*PI()/180)","v":0},{"$f":"Harmonischen!$C$62/100*SIN(C404*$M$191*PI()/180)","v":0},{"$f":"Harmonischen!$C$63/100*SIN($C404*$N$191*PI()/180)","v":0},{"$f":"Harmonischen!$C$64/100*SIN($C404*$O$191*PI()/180)","v":0},{"$f":"Harmonischen!$C$65/100*SIN($C404*$P$191*PI()/180)","v":0},{"$f":"Harmonischen!$C$66/100*SIN($C404*$Q$191*PI()/180)","v":0},{"$f":"Harmonischen!$C$67/100*SIN($C404*$R$191*PI()/180)","v":0},{"$f":"Harmonischen!$C$68/100*SIN($C404*$S$191*PI()/180)","v":0},{"$f":"Harmonischen!$C$69/100*SIN($C404*$T$191*PI()/180)","v":0},{"$f":"Harmonischen!$C$70/100*SIN($C404*$U$191*PI()/180)","v":0},{"$f":"Harmonischen!$C$71/100*SIN($C404*$V$191*PI()/180)","v":0},{"$f":"Harmonischen!$C$72/100*SIN($C404*$W$191*PI()/180)","v":0},{"$f":"Harmonischen!$C$73/100*SIN($C404*$X$191*PI()/180)","v":0},{"$f":"Harmonischen!$C$74/100*SIN($C404*$Y$191*PI()/180)","v":0},{"$f":"Harmonischen!$C$75/100*SIN($C404*$Z$191*PI()/180)","v":0},{"$f":"Harmonischen!$C$76/100*SIN($C404*$AA$191*PI()/180)","v":0},{"$f":"Harmonischen!$C$77/100*SIN($C404*$AB$191*PI()/180)","v":0},null,-0.72882364330685945]
[null,null,213,{"$f":"Harmonischen!$C$53/100*SIN(C405*PI()/180)","v":-0.54463903501502708},{"$f":"Harmonischen!$C$54/100*SIN(C405*$E$191*PI()/180)","v":0},{"$f":"Harmonischen!$C$55/100*SIN(C405*$F$191*PI()/180)","v":-0.19753766811902759},{"$f":"Harmonischen!$C$56/100*SIN(C405*$G$191*PI()/180)","v":0},{"$f":"Harmonischen!$C$57/100*SIN(C405*$H$191*PI()/180)","v":0},{"$f":"Harmonischen!$C$58/100*SIN(C405*$I$191*PI()/180)","v":0},{"$f":"Harmonischen!$C$59/100*SIN(C405*$J$191*PI()/180)","v":0},{"$f":"Harmonischen!$C$60/100*SIN(C405*$K$191*PI()/180)","v":0},{"$f":"Harmonischen!$C$61/100*SIN(C405*$L$191*PI()/180)","v":0},{"$f":"Harmonischen!$C$62/100*SIN(C405*$M$191*PI()/180)","v":0},{"$f":"Harmonischen!$C$63/100*SIN($C405*$N$191*PI()/180)","v":0},{"$f":"Harmonischen!$C$64/100*SIN($C405*$O$191*PI()/180)","v":0},{"$f":"Harmonischen!$C$65/100*SIN($C405*$P$191*PI()/180)","v":0},{"$f":"Harmonischen!$C$66/100*SIN($C405*$Q$191*PI()/180)","v":0},{"$f":"Harmonischen!$C$67/100*SIN($C405*$R$191*PI()/180)","v":0},{"$f":"Harmonischen!$C$68/100*SIN($C405*$S$191*PI()/180)","v":0},{"$f":"Harmonischen!$C$69/100*SIN($C405*$T$191*PI()/180)","v":0},{"$f":"Harmonischen!$C$70/100*SIN($C405*$U$191*PI()/180)","v":0},{"$f":"Harmonischen!$C$71/100*SIN($C405*$V$191*PI()/180)","v":0},{"$f":"Harmonischen!$C$72/100*SIN($C405*$W$191*PI()/180)","v":0},{"$f":"Harmonischen!$C$73/100*SIN($C405*$X$191*PI()/180)","v":0},{"$f":"Harmonischen!$C$74/100*SIN($C405*$Y$191*PI()/180)","v":0},{"$f":"Harmonischen!$C$75/100*SIN($C405*$Z$191*PI()/180)","v":0},{"$f":"Harmonischen!$C$76/100*SIN($C405*$AA$191*PI()/180)","v":0},{"$f":"Harmonischen!$C$77/100*SIN($C405*$AB$191*PI()/180)","v":0},null,-0.7421767031340547]
[null,null,214,{"$f":"Harmonischen!$C$53/100*SIN(C406*PI()/180)","v":-0.55919290347074668},{"$f":"Harmonischen!$C$54/100*SIN(C406*$E$191*PI()/180)","v":0},{"$f":"Harmonischen!$C$55/100*SIN(C406*$F$191*PI()/180)","v":-0.19562952014676116},{"$f":"Harmonischen!$C$56/100*SIN(C406*$G$191*PI()/180)","v":0},{"$f":"Harmonischen!$C$57/100*SIN(C406*$H$191*PI()/180)","v":0},{"$f":"Harmonischen!$C$58/100*SIN(C406*$I$191*PI()/180)","v":0},{"$f":"Harmonischen!$C$59/100*SIN(C406*$J$191*PI()/180)","v":0},{"$f":"Harmonischen!$C$60/100*SIN(C406*$K$191*PI()/180)","v":0},{"$f":"Harmonischen!$C$61/100*SIN(C406*$L$191*PI()/180)","v":0},{"$f":"Harmonischen!$C$62/100*SIN(C406*$M$191*PI()/180)","v":0},{"$f":"Harmonischen!$C$63/100*SIN($C406*$N$191*PI()/180)","v":0},{"$f":"Harmonischen!$C$64/100*SIN($C406*$O$191*PI()/180)","v":0},{"$f":"Harmonischen!$C$65/100*SIN($C406*$P$191*PI()/180)","v":0},{"$f":"Harmonischen!$C$66/100*SIN($C406*$Q$191*PI()/180)","v":0},{"$f":"Harmonischen!$C$67/100*SIN($C406*$R$191*PI()/180)","v":0},{"$f":"Harmonischen!$C$68/100*SIN($C406*$S$191*PI()/180)","v":0},{"$f":"Harmonischen!$C$69/100*SIN($C406*$T$191*PI()/180)","v":0},{"$f":"Harmonischen!$C$70/100*SIN($C406*$U$191*PI()/180)","v":0},{"$f":"Harmonischen!$C$71/100*SIN($C406*$V$191*PI()/180)","v":0},{"$f":"Harmonischen!$C$72/100*SIN($C406*$W$191*PI()/180)","v":0},{"$f":"Harmonischen!$C$73/100*SIN($C406*$X$191*PI()/180)","v":0},{"$f":"Harmonischen!$C$74/100*SIN($C406*$Y$191*PI()/180)","v":0},{"$f":"Harmonischen!$C$75/100*SIN($C406*$Z$191*PI()/180)","v":0},{"$f":"Harmonischen!$C$76/100*SIN($C406*$AA$191*PI()/180)","v":0},{"$f":"Harmonischen!$C$77/100*SIN($C406*$AB$191*PI()/180)","v":0},null,-0.75482242361750784]
[null,null,215,{"$f":"Harmonischen!$C$53/100*SIN(C407*PI()/180)","v":-0.57357643635104583},{"$f":"Harmonischen!$C$54/100*SIN(C407*$E$191*PI()/180)","v":0},{"$f":"Harmonischen!$C$55/100*SIN(C407*$F$191*PI()/180)","v":-0.19318516525781371},{"$f":"Harmonischen!$C$56/100*SIN(C407*$G$191*PI()/180)","v":0},{"$f":"Harmonischen!$C$57/100*SIN(C407*$H$191*PI()/180)","v":0},{"$f":"Harmonischen!$C$58/100*SIN(C407*$I$191*PI()/180)","v":0},{"$f":"Harmonischen!$C$59/100*SIN(C407*$J$191*PI()/180)","v":0},{"$f":"Harmonischen!$C$60/100*SIN(C407*$K$191*PI()/180)","v":0},{"$f":"Harmonischen!$C$61/100*SIN(C407*$L$191*PI()/180)","v":0},{"$f":"Harmonischen!$C$62/100*SIN(C407*$M$191*PI()/180)","v":0},{"$f":"Harmonischen!$C$63/100*SIN($C407*$N$191*PI()/180)","v":0},{"$f":"Harmonischen!$C$64/100*SIN($C407*$O$191*PI()/180)","v":0},{"$f":"Harmonischen!$C$65/100*SIN($C407*$P$191*PI()/180)","v":0},{"$f":"Harmonischen!$C$66/100*SIN($C407*$Q$191*PI()/180)","v":0},{"$f":"Harmonischen!$C$67/100*SIN($C407*$R$191*PI()/180)","v":0},{"$f":"Harmonischen!$C$68/100*SIN($C407*$S$191*PI()/180)","v":0},{"$f":"Harmonischen!$C$69/100*SIN($C407*$T$191*PI()/180)","v":0},{"$f":"Harmonischen!$C$70/100*SIN($C407*$U$191*PI()/180)","v":0},{"$f":"Harmonischen!$C$71/100*SIN($C407*$V$191*PI()/180)","v":0},{"$f":"Harmonischen!$C$72/100*SIN($C407*$W$191*PI()/180)","v":0},{"$f":"Harmonischen!$C$73/100*SIN($C407*$X$191*PI()/180)","v":0},{"$f":"Harmonischen!$C$74/100*SIN($C407*$Y$191*PI()/180)","v":0},{"$f":"Harmonischen!$C$75/100*SIN($C407*$Z$191*PI()/180)","v":0},{"$f":"Harmonischen!$C$76/100*SIN($C407*$AA$191*PI()/180)","v":0},{"$f":"Harmonischen!$C$77/100*SIN($C407*$AB$191*PI()/180)","v":0},null,-0.76676160160885953]
[null,null,216,{"$f":"Harmonischen!$C$53/100*SIN(C408*PI()/180)","v":-0.58778525229247303},{"$f":"Harmonischen!$C$54/100*SIN(C408*$E$191*PI()/180)","v":0},{"$f":"Harmonischen!$C$55/100*SIN(C408*$F$191*PI()/180)","v":-0.19021130325903077},{"$f":"Harmonischen!$C$56/100*SIN(C408*$G$191*PI()/180)","v":0},{"$f":"Harmonischen!$C$57/100*SIN(C408*$H$191*PI()/180)","v":0},{"$f":"Harmonischen!$C$58/100*SIN(C408*$I$191*PI()/180)","v":0},{"$f":"Harmonischen!$C$59/100*SIN(C408*$J$191*PI()/180)","v":0},{"$f":"Harmonischen!$C$60/100*SIN(C408*$K$191*PI()/180)","v":0},{"$f":"Harmonischen!$C$61/100*SIN(C408*$L$191*PI()/180)","v":0},{"$f":"Harmonischen!$C$62/100*SIN(C408*$M$191*PI()/180)","v":0},{"$f":"Harmonischen!$C$63/100*SIN($C408*$N$191*PI()/180)","v":0},{"$f":"Harmonischen!$C$64/100*SIN($C408*$O$191*PI()/180)","v":0},{"$f":"Harmonischen!$C$65/100*SIN($C408*$P$191*PI()/180)","v":0},{"$f":"Harmonischen!$C$66/100*SIN($C408*$Q$191*PI()/180)","v":0},{"$f":"Harmonischen!$C$67/100*SIN($C408*$R$191*PI()/180)","v":0},{"$f":"Harmonischen!$C$68/100*SIN($C408*$S$191*PI()/180)","v":0},{"$f":"Harmonischen!$C$69/100*SIN($C408*$T$191*PI()/180)","v":0},{"$f":"Harmonischen!$C$70/100*SIN($C408*$U$191*PI()/180)","v":0},{"$f":"Harmonischen!$C$71/100*SIN($C408*$V$191*PI()/180)","v":0},{"$f":"Harmonischen!$C$72/100*SIN($C408*$W$191*PI()/180)","v":0},{"$f":"Harmonischen!$C$73/100*SIN($C408*$X$191*PI()/180)","v":0},{"$f":"Harmonischen!$C$74/100*SIN($C408*$Y$191*PI()/180)","v":0},{"$f":"Harmonischen!$C$75/100*SIN($C408*$Z$191*PI()/180)","v":0},{"$f":"Harmonischen!$C$76/100*SIN($C408*$AA$191*PI()/180)","v":0},{"$f":"Harmonischen!$C$77/100*SIN($C408*$AB$191*PI()/180)","v":0},null,-0.77799655555150382]
[null,null,217,{"$f":"Harmonischen!$C$53/100*SIN(C409*PI()/180)","v":-0.60181502315204805},{"$f":"Harmonischen!$C$54/100*SIN(C409*$E$191*PI()/180)","v":0},{"$f":"Harmonischen!$C$55/100*SIN(C409*$F$191*PI()/180)","v":-0.18671608529944039},{"$f":"Harmonischen!$C$56/100*SIN(C409*$G$191*PI()/180)","v":0},{"$f":"Harmonischen!$C$57/100*SIN(C409*$H$191*PI()/180)","v":0},{"$f":"Harmonischen!$C$58/100*SIN(C409*$I$191*PI()/180)","v":0},{"$f":"Harmonischen!$C$59/100*SIN(C409*$J$191*PI()/180)","v":0},{"$f":"Harmonischen!$C$60/100*SIN(C409*$K$191*PI()/180)","v":0},{"$f":"Harmonischen!$C$61/100*SIN(C409*$L$191*PI()/180)","v":0},{"$f":"Harmonischen!$C$62/100*SIN(C409*$M$191*PI()/180)","v":0},{"$f":"Harmonischen!$C$63/100*SIN($C409*$N$191*PI()/180)","v":0},{"$f":"Harmonischen!$C$64/100*SIN($C409*$O$191*PI()/180)","v":0},{"$f":"Harmonischen!$C$65/100*SIN($C409*$P$191*PI()/180)","v":0},{"$f":"Harmonischen!$C$66/100*SIN($C409*$Q$191*PI()/180)","v":0},{"$f":"Harmonischen!$C$67/100*SIN($C409*$R$191*PI()/180)","v":0},{"$f":"Harmonischen!$C$68/100*SIN($C409*$S$191*PI()/180)","v":0},{"$f":"Harmonischen!$C$69/100*SIN($C409*$T$191*PI()/180)","v":0},{"$f":"Harmonischen!$C$70/100*SIN($C409*$U$191*PI()/180)","v":0},{"$f":"Harmonischen!$C$71/100*SIN($C409*$V$191*PI()/180)","v":0},{"$f":"Harmonischen!$C$72/100*SIN($C409*$W$191*PI()/180)","v":0},{"$f":"Harmonischen!$C$73/100*SIN($C409*$X$191*PI()/180)","v":0},{"$f":"Harmonischen!$C$74/100*SIN($C409*$Y$191*PI()/180)","v":0},{"$f":"Harmonischen!$C$75/100*SIN($C409*$Z$191*PI()/180)","v":0},{"$f":"Harmonischen!$C$76/100*SIN($C409*$AA$191*PI()/180)","v":0},{"$f":"Harmonischen!$C$77/100*SIN($C409*$AB$191*PI()/180)","v":0},null,-0.78853110845148844]
[null,null,218,{"$f":"Harmonischen!$C$53/100*SIN(C410*PI()/180)","v":-0.61566147532565785},{"$f":"Harmonischen!$C$54/100*SIN(C410*$E$191*PI()/180)","v":0},{"$f":"Harmonischen!$C$55/100*SIN(C410*$F$191*PI()/180)","v":-0.18270909152852019},{"$f":"Harmonischen!$C$56/100*SIN(C410*$G$191*PI()/180)","v":0},{"$f":"Harmonischen!$C$57/100*SIN(C410*$H$191*PI()/180)","v":0},{"$f":"Harmonischen!$C$58/100*SIN(C410*$I$191*PI()/180)","v":0},{"$f":"Harmonischen!$C$59/100*SIN(C410*$J$191*PI()/180)","v":0},{"$f":"Harmonischen!$C$60/100*SIN(C410*$K$191*PI()/180)","v":0},{"$f":"Harmonischen!$C$61/100*SIN(C410*$L$191*PI()/180)","v":0},{"$f":"Harmonischen!$C$62/100*SIN(C410*$M$191*PI()/180)","v":0},{"$f":"Harmonischen!$C$63/100*SIN($C410*$N$191*PI()/180)","v":0},{"$f":"Harmonischen!$C$64/100*SIN($C410*$O$191*PI()/180)","v":0},{"$f":"Harmonischen!$C$65/100*SIN($C410*$P$191*PI()/180)","v":0},{"$f":"Harmonischen!$C$66/100*SIN($C410*$Q$191*PI()/180)","v":0},{"$f":"Harmonischen!$C$67/100*SIN($C410*$R$191*PI()/180)","v":0},{"$f":"Harmonischen!$C$68/100*SIN($C410*$S$191*PI()/180)","v":0},{"$f":"Harmonischen!$C$69/100*SIN($C410*$T$191*PI()/180)","v":0},{"$f":"Harmonischen!$C$70/100*SIN($C410*$U$191*PI()/180)","v":0},{"$f":"Harmonischen!$C$71/100*SIN($C410*$V$191*PI()/180)","v":0},{"$f":"Harmonischen!$C$72/100*SIN($C410*$W$191*PI()/180)","v":0},{"$f":"Harmonischen!$C$73/100*SIN($C410*$X$191*PI()/180)","v":0},{"$f":"Harmonischen!$C$74/100*SIN($C410*$Y$191*PI()/180)","v":0},{"$f":"Harmonischen!$C$75/100*SIN($C410*$Z$191*PI()/180)","v":0},{"$f":"Harmonischen!$C$76/100*SIN($C410*$AA$191*PI()/180)","v":0},{"$f":"Harmonischen!$C$77/100*SIN($C410*$AB$191*PI()/180)","v":0},null,-0.79837056685417807]
[null,null,219,{"$f":"Harmonischen!$C$53/100*SIN(C411*PI()/180)","v":-0.62932039104983761},{"$f":"Harmonischen!$C$54/100*SIN(C411*$E$191*PI()/180)","v":0},{"$f":"Harmonischen!$C$55/100*SIN(C411*$F$191*PI()/180)","v":-0.17820130483767355},{"$f":"Harmonischen!$C$56/100*SIN(C411*$G$191*PI()/180)","v":0},{"$f":"Harmonischen!$C$57/100*SIN(C411*$H$191*PI()/180)","v":0},{"$f":"Harmonischen!$C$58/100*SIN(C411*$I$191*PI()/180)","v":0},{"$f":"Harmonischen!$C$59/100*SIN(C411*$J$191*PI()/180)","v":0},{"$f":"Harmonischen!$C$60/100*SIN(C411*$K$191*PI()/180)","v":0},{"$f":"Harmonischen!$C$61/100*SIN(C411*$L$191*PI()/180)","v":0},{"$f":"Harmonischen!$C$62/100*SIN(C411*$M$191*PI()/180)","v":0},{"$f":"Harmonischen!$C$63/100*SIN($C411*$N$191*PI()/180)","v":0},{"$f":"Harmonischen!$C$64/100*SIN($C411*$O$191*PI()/180)","v":0},{"$f":"Harmonischen!$C$65/100*SIN($C411*$P$191*PI()/180)","v":0},{"$f":"Harmonischen!$C$66/100*SIN($C411*$Q$191*PI()/180)","v":0},{"$f":"Harmonischen!$C$67/100*SIN($C411*$R$191*PI()/180)","v":0},{"$f":"Harmonischen!$C$68/100*SIN($C411*$S$191*PI()/180)","v":0},{"$f":"Harmonischen!$C$69/100*SIN($C411*$T$191*PI()/180)","v":0},{"$f":"Harmonischen!$C$70/100*SIN($C411*$U$191*PI()/180)","v":0},{"$f":"Harmonischen!$C$71/100*SIN($C411*$V$191*PI()/180)","v":0},{"$f":"Harmonischen!$C$72/100*SIN($C411*$W$191*PI()/180)","v":0},{"$f":"Harmonischen!$C$73/100*SIN($C411*$X$191*PI()/180)","v":0},{"$f":"Harmonischen!$C$74/100*SIN($C411*$Y$191*PI()/180)","v":0},{"$f":"Harmonischen!$C$75/100*SIN($C411*$Z$191*PI()/180)","v":0},{"$f":"Harmonischen!$C$76/100*SIN($C411*$AA$191*PI()/180)","v":0},{"$f":"Harmonischen!$C$77/100*SIN($C411*$AB$191*PI()/180)","v":0},null,-0.8075216958875111]
[null,null,220,{"$f":"Harmonischen!$C$53/100*SIN(C412*PI()/180)","v":-0.64278760968653925},{"$f":"Harmonischen!$C$54/100*SIN(C412*$E$191*PI()/180)","v":0},{"$f":"Harmonischen!$C$55/100*SIN(C412*$F$191*PI()/180)","v":-0.17320508075688784},{"$f":"Harmonischen!$C$56/100*SIN(C412*$G$191*PI()/180)","v":0},{"$f":"Harmonischen!$C$57/100*SIN(C412*$H$191*PI()/180)","v":0},{"$f":"Harmonischen!$C$58/100*SIN(C412*$I$191*PI()/180)","v":0},{"$f":"Harmonischen!$C$59/100*SIN(C412*$J$191*PI()/180)","v":0},{"$f":"Harmonischen!$C$60/100*SIN(C412*$K$191*PI()/180)","v":0},{"$f":"Harmonischen!$C$61/100*SIN(C412*$L$191*PI()/180)","v":0},{"$f":"Harmonischen!$C$62/100*SIN(C412*$M$191*PI()/180)","v":0},{"$f":"Harmonischen!$C$63/100*SIN($C412*$N$191*PI()/180)","v":0},{"$f":"Harmonischen!$C$64/100*SIN($C412*$O$191*PI()/180)","v":0},{"$f":"Harmonischen!$C$65/100*SIN($C412*$P$191*PI()/180)","v":0},{"$f":"Harmonischen!$C$66/100*SIN($C412*$Q$191*PI()/180)","v":0},{"$f":"Harmonischen!$C$67/100*SIN($C412*$R$191*PI()/180)","v":0},{"$f":"Harmonischen!$C$68/100*SIN($C412*$S$191*PI()/180)","v":0},{"$f":"Harmonischen!$C$69/100*SIN($C412*$T$191*PI()/180)","v":0},{"$f":"Harmonischen!$C$70/100*SIN($C412*$U$191*PI()/180)","v":0},{"$f":"Harmonischen!$C$71/100*SIN($C412*$V$191*PI()/180)","v":0},{"$f":"Harmonischen!$C$72/100*SIN($C412*$W$191*PI()/180)","v":0},{"$f":"Harmonischen!$C$73/100*SIN($C412*$X$191*PI()/180)","v":0},{"$f":"Harmonischen!$C$74/100*SIN($C412*$Y$191*PI()/180)","v":0},{"$f":"Harmonischen!$C$75/100*SIN($C412*$Z$191*PI()/180)","v":0},{"$f":"Harmonischen!$C$76/100*SIN($C412*$AA$191*PI()/180)","v":0},{"$f":"Harmonischen!$C$77/100*SIN($C412*$AB$191*PI()/180)","v":0},null,-0.81599269044342715]
[null,null,221,{"$f":"Harmonischen!$C$53/100*SIN(C413*PI()/180)","v":-0.65605902899050739},{"$f":"Harmonischen!$C$54/100*SIN(C413*$E$191*PI()/180)","v":0},{"$f":"Harmonischen!$C$55/100*SIN(C413*$F$191*PI()/180)","v":-0.16773411358908488},{"$f":"Harmonischen!$C$56/100*SIN(C413*$G$191*PI()/180)","v":0},{"$f":"Harmonischen!$C$57/100*SIN(C413*$H$191*PI()/180)","v":0},{"$f":"Harmonischen!$C$58/100*SIN(C413*$I$191*PI()/180)","v":0},{"$f":"Harmonischen!$C$59/100*SIN(C413*$J$191*PI()/180)","v":0},{"$f":"Harmonischen!$C$60/100*SIN(C413*$K$191*PI()/180)","v":0},{"$f":"Harmonischen!$C$61/100*SIN(C413*$L$191*PI()/180)","v":0},{"$f":"Harmonischen!$C$62/100*SIN(C413*$M$191*PI()/180)","v":0},{"$f":"Harmonischen!$C$63/100*SIN($C413*$N$191*PI()/180)","v":0},{"$f":"Harmonischen!$C$64/100*SIN($C413*$O$191*PI()/180)","v":0},{"$f":"Harmonischen!$C$65/100*SIN($C413*$P$191*PI()/180)","v":0},{"$f":"Harmonischen!$C$66/100*SIN($C413*$Q$191*PI()/180)","v":0},{"$f":"Harmonischen!$C$67/100*SIN($C413*$R$191*PI()/180)","v":0},{"$f":"Harmonischen!$C$68/100*SIN($C413*$S$191*PI()/180)","v":0},{"$f":"Harmonischen!$C$69/100*SIN($C413*$T$191*PI()/180)","v":0},{"$f":"Harmonischen!$C$70/100*SIN($C413*$U$191*PI()/180)","v":0},{"$f":"Harmonischen!$C$71/100*SIN($C413*$V$191*PI()/180)","v":0},{"$f":"Harmonischen!$C$72/100*SIN($C413*$W$191*PI()/180)","v":0},{"$f":"Harmonischen!$C$73/100*SIN($C413*$X$191*PI()/180)","v":0},{"$f":"Harmonischen!$C$74/100*SIN($C413*$Y$191*PI()/180)","v":0},{"$f":"Harmonischen!$C$75/100*SIN($C413*$Z$191*PI()/180)","v":0},{"$f":"Harmonischen!$C$76/100*SIN($C413*$AA$191*PI()/180)","v":0},{"$f":"Harmonischen!$C$77/100*SIN($C413*$AB$191*PI()/180)","v":0},null,-0.82379314257959224]
[null,null,222,{"$f":"Harmonischen!$C$53/100*SIN(C414*PI()/180)","v":-0.66913060635885824},{"$f":"Harmonischen!$C$54/100*SIN(C414*$E$191*PI()/180)","v":0},{"$f":"Harmonischen!$C$55/100*SIN(C414*$F$191*PI()/180)","v":-0.16180339887498954},{"$f":"Harmonischen!$C$56/100*SIN(C414*$G$191*PI()/180)","v":0},{"$f":"Harmonischen!$C$57/100*SIN(C414*$H$191*PI()/180)","v":0},{"$f":"Harmonischen!$C$58/100*SIN(C414*$I$191*PI()/180)","v":0},{"$f":"Harmonischen!$C$59/100*SIN(C414*$J$191*PI()/180)","v":0},{"$f":"Harmonischen!$C$60/100*SIN(C414*$K$191*PI()/180)","v":0},{"$f":"Harmonischen!$C$61/100*SIN(C414*$L$191*PI()/180)","v":0},{"$f":"Harmonischen!$C$62/100*SIN(C414*$M$191*PI()/180)","v":0},{"$f":"Harmonischen!$C$63/100*SIN($C414*$N$191*PI()/180)","v":0},{"$f":"Harmonischen!$C$64/100*SIN($C414*$O$191*PI()/180)","v":0},{"$f":"Harmonischen!$C$65/100*SIN($C414*$P$191*PI()/180)","v":0},{"$f":"Harmonischen!$C$66/100*SIN($C414*$Q$191*PI()/180)","v":0},{"$f":"Harmonischen!$C$67/100*SIN($C414*$R$191*PI()/180)","v":0},{"$f":"Harmonischen!$C$68/100*SIN($C414*$S$191*PI()/180)","v":0},{"$f":"Harmonischen!$C$69/100*SIN($C414*$T$191*PI()/180)","v":0},{"$f":"Harmonischen!$C$70/100*SIN($C414*$U$191*PI()/180)","v":0},{"$f":"Harmonischen!$C$71/100*SIN($C414*$V$191*PI()/180)","v":0},{"$f":"Harmonischen!$C$72/100*SIN($C414*$W$191*PI()/180)","v":0},{"$f":"Harmonischen!$C$73/100*SIN($C414*$X$191*PI()/180)","v":0},{"$f":"Harmonischen!$C$74/100*SIN($C414*$Y$191*PI()/180)","v":0},{"$f":"Harmonischen!$C$75/100*SIN($C414*$Z$191*PI()/180)","v":0},{"$f":"Harmonischen!$C$76/100*SIN($C414*$AA$191*PI()/180)","v":0},{"$f":"Harmonischen!$C$77/100*SIN($C414*$AB$191*PI()/180)","v":0},null,-0.83093400523384775]
[null,null,223,{"$f":"Harmonischen!$C$53/100*SIN(C415*PI()/180)","v":-0.68199836006249837},{"$f":"Harmonischen!$C$54/100*SIN(C415*$E$191*PI()/180)","v":0},{"$f":"Harmonischen!$C$55/100*SIN(C415*$F$191*PI()/180)","v":-0.15542919229139421},{"$f":"Harmonischen!$C$56/100*SIN(C415*$G$191*PI()/180)","v":0},{"$f":"Harmonischen!$C$57/100*SIN(C415*$H$191*PI()/180)","v":0},{"$f":"Harmonischen!$C$58/100*SIN(C415*$I$191*PI()/180)","v":0},{"$f":"Harmonischen!$C$59/100*SIN(C415*$J$191*PI()/180)","v":0},{"$f":"Harmonischen!$C$60/100*SIN(C415*$K$191*PI()/180)","v":0},{"$f":"Harmonischen!$C$61/100*SIN(C415*$L$191*PI()/180)","v":0},{"$f":"Harmonischen!$C$62/100*SIN(C415*$M$191*PI()/180)","v":0},{"$f":"Harmonischen!$C$63/100*SIN($C415*$N$191*PI()/180)","v":0},{"$f":"Harmonischen!$C$64/100*SIN($C415*$O$191*PI()/180)","v":0},{"$f":"Harmonischen!$C$65/100*SIN($C415*$P$191*PI()/180)","v":0},{"$f":"Harmonischen!$C$66/100*SIN($C415*$Q$191*PI()/180)","v":0},{"$f":"Harmonischen!$C$67/100*SIN($C415*$R$191*PI()/180)","v":0},{"$f":"Harmonischen!$C$68/100*SIN($C415*$S$191*PI()/180)","v":0},{"$f":"Harmonischen!$C$69/100*SIN($C415*$T$191*PI()/180)","v":0},{"$f":"Harmonischen!$C$70/100*SIN($C415*$U$191*PI()/180)","v":0},{"$f":"Harmonischen!$C$71/100*SIN($C415*$V$191*PI()/180)","v":0},{"$f":"Harmonischen!$C$72/100*SIN($C415*$W$191*PI()/180)","v":0},{"$f":"Harmonischen!$C$73/100*SIN($C415*$X$191*PI()/180)","v":0},{"$f":"Harmonischen!$C$74/100*SIN($C415*$Y$191*PI()/180)","v":0},{"$f":"Harmonischen!$C$75/100*SIN($C415*$Z$191*PI()/180)","v":0},{"$f":"Harmonischen!$C$76/100*SIN($C415*$AA$191*PI()/180)","v":0},{"$f":"Harmonischen!$C$77/100*SIN($C415*$AB$191*PI()/180)","v":0},null,-0.83742755235389255]
[null,null,224,{"$f":"Harmonischen!$C$53/100*SIN(C416*PI()/180)","v":-0.69465837045899737},{"$f":"Harmonischen!$C$54/100*SIN(C416*$E$191*PI()/180)","v":0},{"$f":"Harmonischen!$C$55/100*SIN(C416*$F$191*PI()/180)","v":-0.14862896509547882},{"$f":"Harmonischen!$C$56/100*SIN(C416*$G$191*PI()/180)","v":0},{"$f":"Harmonischen!$C$57/100*SIN(C416*$H$191*PI()/180)","v":0},{"$f":"Harmonischen!$C$58/100*SIN(C416*$I$191*PI()/180)","v":0},{"$f":"Harmonischen!$C$59/100*SIN(C416*$J$191*PI()/180)","v":0},{"$f":"Harmonischen!$C$60/100*SIN(C416*$K$191*PI()/180)","v":0},{"$f":"Harmonischen!$C$61/100*SIN(C416*$L$191*PI()/180)","v":0},{"$f":"Harmonischen!$C$62/100*SIN(C416*$M$191*PI()/180)","v":0},{"$f":"Harmonischen!$C$63/100*SIN($C416*$N$191*PI()/180)","v":0},{"$f":"Harmonischen!$C$64/100*SIN($C416*$O$191*PI()/180)","v":0},{"$f":"Harmonischen!$C$65/100*SIN($C416*$P$191*PI()/180)","v":0},{"$f":"Harmonischen!$C$66/100*SIN($C416*$Q$191*PI()/180)","v":0},{"$f":"Harmonischen!$C$67/100*SIN($C416*$R$191*PI()/180)","v":0},{"$f":"Harmonischen!$C$68/100*SIN($C416*$S$191*PI()/180)","v":0},{"$f":"Harmonischen!$C$69/100*SIN($C416*$T$191*PI()/180)","v":0},{"$f":"Harmonischen!$C$70/100*SIN($C416*$U$191*PI()/180)","v":0},{"$f":"Harmonischen!$C$71/100*SIN($C416*$V$191*PI()/180)","v":0},{"$f":"Harmonischen!$C$72/100*SIN($C416*$W$191*PI()/180)","v":0},{"$f":"Harmonischen!$C$73/100*SIN($C416*$X$191*PI()/180)","v":0},{"$f":"Harmonischen!$C$74/100*SIN($C416*$Y$191*PI()/180)","v":0},{"$f":"Harmonischen!$C$75/100*SIN($C416*$Z$191*PI()/180)","v":0},{"$f":"Harmonischen!$C$76/100*SIN($C416*$AA$191*PI()/180)","v":0},{"$f":"Harmonischen!$C$77/100*SIN($C416*$AB$191*PI()/180)","v":0},null,-0.84328733555447621]
[null,null,225,{"$f":"Harmonischen!$C$53/100*SIN(C417*PI()/180)","v":-0.70710678118654746},{"$f":"Harmonischen!$C$54/100*SIN(C417*$E$191*PI()/180)","v":0},{"$f":"Harmonischen!$C$55/100*SIN(C417*$F$191*PI()/180)","v":-0.14142135623730945},{"$f":"Harmonischen!$C$56/100*SIN(C417*$G$191*PI()/180)","v":0},{"$f":"Harmonischen!$C$57/100*SIN(C417*$H$191*PI()/180)","v":0},{"$f":"Harmonischen!$C$58/100*SIN(C417*$I$191*PI()/180)","v":0},{"$f":"Harmonischen!$C$59/100*SIN(C417*$J$191*PI()/180)","v":0},{"$f":"Harmonischen!$C$60/100*SIN(C417*$K$191*PI()/180)","v":0},{"$f":"Harmonischen!$C$61/100*SIN(C417*$L$191*PI()/180)","v":0},{"$f":"Harmonischen!$C$62/100*SIN(C417*$M$191*PI()/180)","v":0},{"$f":"Harmonischen!$C$63/100*SIN($C417*$N$191*PI()/180)","v":0},{"$f":"Harmonischen!$C$64/100*SIN($C417*$O$191*PI()/180)","v":0},{"$f":"Harmonischen!$C$65/100*SIN($C417*$P$191*PI()/180)","v":0},{"$f":"Harmonischen!$C$66/100*SIN($C417*$Q$191*PI()/180)","v":0},{"$f":"Harmonischen!$C$67/100*SIN($C417*$R$191*PI()/180)","v":0},{"$f":"Harmonischen!$C$68/100*SIN($C417*$S$191*PI()/180)","v":0},{"$f":"Harmonischen!$C$69/100*SIN($C417*$T$191*PI()/180)","v":0},{"$f":"Harmonischen!$C$70/100*SIN($C417*$U$191*PI()/180)","v":0},{"$f":"Harmonischen!$C$71/100*SIN($C417*$V$191*PI()/180)","v":0},{"$f":"Harmonischen!$C$72/100*SIN($C417*$W$191*PI()/180)","v":0},{"$f":"Harmonischen!$C$73/100*SIN($C417*$X$191*PI()/180)","v":0},{"$f":"Harmonischen!$C$74/100*SIN($C417*$Y$191*PI()/180)","v":0},{"$f":"Harmonischen!$C$75/100*SIN($C417*$Z$191*PI()/180)","v":0},{"$f":"Harmonischen!$C$76/100*SIN($C417*$AA$191*PI()/180)","v":0},{"$f":"Harmonischen!$C$77/100*SIN($C417*$AB$191*PI()/180)","v":0},null,-0.84852813742385691]
[null,null,226,{"$f":"Harmonischen!$C$53/100*SIN(C418*PI()/180)","v":-0.71933980033865086},{"$f":"Harmonischen!$C$54/100*SIN(C418*$E$191*PI()/180)","v":0},{"$f":"Harmonischen!$C$55/100*SIN(C418*$F$191*PI()/180)","v":-0.13382612127177182},{"$f":"Harmonischen!$C$56/100*SIN(C418*$G$191*PI()/180)","v":0},{"$f":"Harmonischen!$C$57/100*SIN(C418*$H$191*PI()/180)","v":0},{"$f":"Harmonischen!$C$58/100*SIN(C418*$I$191*PI()/180)","v":0},{"$f":"Harmonischen!$C$59/100*SIN(C418*$J$191*PI()/180)","v":0},{"$f":"Harmonischen!$C$60/100*SIN(C418*$K$191*PI()/180)","v":0},{"$f":"Harmonischen!$C$61/100*SIN(C418*$L$191*PI()/180)","v":0},{"$f":"Harmonischen!$C$62/100*SIN(C418*$M$191*PI()/180)","v":0},{"$f":"Harmonischen!$C$63/100*SIN($C418*$N$191*PI()/180)","v":0},{"$f":"Harmonischen!$C$64/100*SIN($C418*$O$191*PI()/180)","v":0},{"$f":"Harmonischen!$C$65/100*SIN($C418*$P$191*PI()/180)","v":0},{"$f":"Harmonischen!$C$66/100*SIN($C418*$Q$191*PI()/180)","v":0},{"$f":"Harmonischen!$C$67/100*SIN($C418*$R$191*PI()/180)","v":0},{"$f":"Harmonischen!$C$68/100*SIN($C418*$S$191*PI()/180)","v":0},{"$f":"Harmonischen!$C$69/100*SIN($C418*$T$191*PI()/180)","v":0},{"$f":"Harmonischen!$C$70/100*SIN($C418*$U$191*PI()/180)","v":0},{"$f":"Harmonischen!$C$71/100*SIN($C418*$V$191*PI()/180)","v":0},{"$f":"Harmonischen!$C$72/100*SIN($C418*$W$191*PI()/180)","v":0},{"$f":"Harmonischen!$C$73/100*SIN($C418*$X$191*PI()/180)","v":0},{"$f":"Harmonischen!$C$74/100*SIN($C418*$Y$191*PI()/180)","v":0},{"$f":"Harmonischen!$C$75/100*SIN($C418*$Z$191*PI()/180)","v":0},{"$f":"Harmonischen!$C$76/100*SIN($C418*$AA$191*PI()/180)","v":0},{"$f":"Harmonischen!$C$77/100*SIN($C418*$AB$191*PI()/180)","v":0},null,-0.85316592161042271]
[null,null,227,{"$f":"Harmonischen!$C$53/100*SIN(C419*PI()/180)","v":-0.73135370161917013},{"$f":"Harmonischen!$C$54/100*SIN(C419*$E$191*PI()/180)","v":0},{"$f":"Harmonischen!$C$55/100*SIN(C419*$F$191*PI()/180)","v":-0.12586407820996762},{"$f":"Harmonischen!$C$56/100*SIN(C419*$G$191*PI()/180)","v":0},{"$f":"Harmonischen!$C$57/100*SIN(C419*$H$191*PI()/180)","v":0},{"$f":"Harmonischen!$C$58/100*SIN(C419*$I$191*PI()/180)","v":0},{"$f":"Harmonischen!$C$59/100*SIN(C419*$J$191*PI()/180)","v":0},{"$f":"Harmonischen!$C$60/100*SIN(C419*$K$191*PI()/180)","v":0},{"$f":"Harmonischen!$C$61/100*SIN(C419*$L$191*PI()/180)","v":0},{"$f":"Harmonischen!$C$62/100*SIN(C419*$M$191*PI()/180)","v":0},{"$f":"Harmonischen!$C$63/100*SIN($C419*$N$191*PI()/180)","v":0},{"$f":"Harmonischen!$C$64/100*SIN($C419*$O$191*PI()/180)","v":0},{"$f":"Harmonischen!$C$65/100*SIN($C419*$P$191*PI()/180)","v":0},{"$f":"Harmonischen!$C$66/100*SIN($C419*$Q$191*PI()/180)","v":0},{"$f":"Harmonischen!$C$67/100*SIN($C419*$R$191*PI()/180)","v":0},{"$f":"Harmonischen!$C$68/100*SIN($C419*$S$191*PI()/180)","v":0},{"$f":"Harmonischen!$C$69/100*SIN($C419*$T$191*PI()/180)","v":0},{"$f":"Harmonischen!$C$70/100*SIN($C419*$U$191*PI()/180)","v":0},{"$f":"Harmonischen!$C$71/100*SIN($C419*$V$191*PI()/180)","v":0},{"$f":"Harmonischen!$C$72/100*SIN($C419*$W$191*PI()/180)","v":0},{"$f":"Harmonischen!$C$73/100*SIN($C419*$X$191*PI()/180)","v":0},{"$f":"Harmonischen!$C$74/100*SIN($C419*$Y$191*PI()/180)","v":0},{"$f":"Harmonischen!$C$75/100*SIN($C419*$Z$191*PI()/180)","v":0},{"$f":"Harmonischen!$C$76/100*SIN($C419*$AA$191*PI()/180)","v":0},{"$f":"Harmonischen!$C$77/100*SIN($C419*$AB$191*PI()/180)","v":0},null,-0.85721777982913772]
[null,null,228,{"$f":"Harmonischen!$C$53/100*SIN(C420*PI()/180)","v":-0.74314482547739402},{"$f":"Harmonischen!$C$54/100*SIN(C420*$E$191*PI()/180)","v":0},{"$f":"Harmonischen!$C$55/100*SIN(C420*$F$191*PI()/180)","v":-0.1175570504584947},{"$f":"Harmonischen!$C$56/100*SIN(C420*$G$191*PI()/180)","v":0},{"$f":"Harmonischen!$C$57/100*SIN(C420*$H$191*PI()/180)","v":0},{"$f":"Harmonischen!$C$58/100*SIN(C420*$I$191*PI()/180)","v":0},{"$f":"Harmonischen!$C$59/100*SIN(C420*$J$191*PI()/180)","v":0},{"$f":"Harmonischen!$C$60/100*SIN(C420*$K$191*PI()/180)","v":0},{"$f":"Harmonischen!$C$61/100*SIN(C420*$L$191*PI()/180)","v":0},{"$f":"Harmonischen!$C$62/100*SIN(C420*$M$191*PI()/180)","v":0},{"$f":"Harmonischen!$C$63/100*SIN($C420*$N$191*PI()/180)","v":0},{"$f":"Harmonischen!$C$64/100*SIN($C420*$O$191*PI()/180)","v":0},{"$f":"Harmonischen!$C$65/100*SIN($C420*$P$191*PI()/180)","v":0},{"$f":"Harmonischen!$C$66/100*SIN($C420*$Q$191*PI()/180)","v":0},{"$f":"Harmonischen!$C$67/100*SIN($C420*$R$191*PI()/180)","v":0},{"$f":"Harmonischen!$C$68/100*SIN($C420*$S$191*PI()/180)","v":0},{"$f":"Harmonischen!$C$69/100*SIN($C420*$T$191*PI()/180)","v":0},{"$f":"Harmonischen!$C$70/100*SIN($C420*$U$191*PI()/180)","v":0},{"$f":"Harmonischen!$C$71/100*SIN($C420*$V$191*PI()/180)","v":0},{"$f":"Harmonischen!$C$72/100*SIN($C420*$W$191*PI()/180)","v":0},{"$f":"Harmonischen!$C$73/100*SIN($C420*$X$191*PI()/180)","v":0},{"$f":"Harmonischen!$C$74/100*SIN($C420*$Y$191*PI()/180)","v":0},{"$f":"Harmonischen!$C$75/100*SIN($C420*$Z$191*PI()/180)","v":0},{"$f":"Harmonischen!$C$76/100*SIN($C420*$AA$191*PI()/180)","v":0},{"$f":"Harmonischen!$C$77/100*SIN($C420*$AB$191*PI()/180)","v":0},null,-0.86070187593588876]
[null,null,229,{"$f":"Harmonischen!$C$53/100*SIN(C421*PI()/180)","v":-0.75470958022277168},{"$f":"Harmonischen!$C$54/100*SIN(C421*$E$191*PI()/180)","v":0},{"$f":"Harmonischen!$C$55/100*SIN(C421*$F$191*PI()/180)","v":-0.10892780700300544},{"$f":"Harmonischen!$C$56/100*SIN(C421*$G$191*PI()/180)","v":0},{"$f":"Harmonischen!$C$57/100*SIN(C421*$H$191*PI()/180)","v":0},{"$f":"Harmonischen!$C$58/100*SIN(C421*$I$191*PI()/180)","v":0},{"$f":"Harmonischen!$C$59/100*SIN(C421*$J$191*PI()/180)","v":0},{"$f":"Harmonischen!$C$60/100*SIN(C421*$K$191*PI()/180)","v":0},{"$f":"Harmonischen!$C$61/100*SIN(C421*$L$191*PI()/180)","v":0},{"$f":"Harmonischen!$C$62/100*SIN(C421*$M$191*PI()/180)","v":0},{"$f":"Harmonischen!$C$63/100*SIN($C421*$N$191*PI()/180)","v":0},{"$f":"Harmonischen!$C$64/100*SIN($C421*$O$191*PI()/180)","v":0},{"$f":"Harmonischen!$C$65/100*SIN($C421*$P$191*PI()/180)","v":0},{"$f":"Harmonischen!$C$66/100*SIN($C421*$Q$191*PI()/180)","v":0},{"$f":"Harmonischen!$C$67/100*SIN($C421*$R$191*PI()/180)","v":0},{"$f":"Harmonischen!$C$68/100*SIN($C421*$S$191*PI()/180)","v":0},{"$f":"Harmonischen!$C$69/100*SIN($C421*$T$191*PI()/180)","v":0},{"$f":"Harmonischen!$C$70/100*SIN($C421*$U$191*PI()/180)","v":0},{"$f":"Harmonischen!$C$71/100*SIN($C421*$V$191*PI()/180)","v":0},{"$f":"Harmonischen!$C$72/100*SIN($C421*$W$191*PI()/180)","v":0},{"$f":"Harmonischen!$C$73/100*SIN($C421*$X$191*PI()/180)","v":0},{"$f":"Harmonischen!$C$74/100*SIN($C421*$Y$191*PI()/180)","v":0},{"$f":"Harmonischen!$C$75/100*SIN($C421*$Z$191*PI()/180)","v":0},{"$f":"Harmonischen!$C$76/100*SIN($C421*$AA$191*PI()/180)","v":0},{"$f":"Harmonischen!$C$77/100*SIN($C421*$AB$191*PI()/180)","v":0},null,-0.8636373872257771]
[null,null,230,{"$f":"Harmonischen!$C$53/100*SIN(C422*PI()/180)","v":-0.7660444431189779},{"$f":"Harmonischen!$C$54/100*SIN(C422*$E$191*PI()/180)","v":0},{"$f":"Harmonischen!$C$55/100*SIN(C422*$F$191*PI()/180)","v":-9.9999999999999978E-2},{"$f":"Harmonischen!$C$56/100*SIN(C422*$G$191*PI()/180)","v":0},{"$f":"Harmonischen!$C$57/100*SIN(C422*$H$191*PI()/180)","v":0},{"$f":"Harmonischen!$C$58/100*SIN(C422*$I$191*PI()/180)","v":0},{"$f":"Harmonischen!$C$59/100*SIN(C422*$J$191*PI()/180)","v":0},{"$f":"Harmonischen!$C$60/100*SIN(C422*$K$191*PI()/180)","v":0},{"$f":"Harmonischen!$C$61/100*SIN(C422*$L$191*PI()/180)","v":0},{"$f":"Harmonischen!$C$62/100*SIN(C422*$M$191*PI()/180)","v":0},{"$f":"Harmonischen!$C$63/100*SIN($C422*$N$191*PI()/180)","v":0},{"$f":"Harmonischen!$C$64/100*SIN($C422*$O$191*PI()/180)","v":0},{"$f":"Harmonischen!$C$65/100*SIN($C422*$P$191*PI()/180)","v":0},{"$f":"Harmonischen!$C$66/100*SIN($C422*$Q$191*PI()/180)","v":0},{"$f":"Harmonischen!$C$67/100*SIN($C422*$R$191*PI()/180)","v":0},{"$f":"Harmonischen!$C$68/100*SIN($C422*$S$191*PI()/180)","v":0},{"$f":"Harmonischen!$C$69/100*SIN($C422*$T$191*PI()/180)","v":0},{"$f":"Harmonischen!$C$70/100*SIN($C422*$U$191*PI()/180)","v":0},{"$f":"Harmonischen!$C$71/100*SIN($C422*$V$191*PI()/180)","v":0},{"$f":"Harmonischen!$C$72/100*SIN($C422*$W$191*PI()/180)","v":0},{"$f":"Harmonischen!$C$73/100*SIN($C422*$X$191*PI()/180)","v":0},{"$f":"Harmonischen!$C$74/100*SIN($C422*$Y$191*PI()/180)","v":0},{"$f":"Harmonischen!$C$75/100*SIN($C422*$Z$191*PI()/180)","v":0},{"$f":"Harmonischen!$C$76/100*SIN($C422*$AA$191*PI()/180)","v":0},{"$f":"Harmonischen!$C$77/100*SIN($C422*$AB$191*PI()/180)","v":0},null,-0.86604444311897788]
[null,null,231,{"$f":"Harmonischen!$C$53/100*SIN(C423*PI()/180)","v":-0.77714596145697112},{"$f":"Harmonischen!$C$54/100*SIN(C423*$E$191*PI()/180)","v":0},{"$f":"Harmonischen!$C$55/100*SIN(C423*$F$191*PI()/180)","v":-9.0798099947909605E-2},{"$f":"Harmonischen!$C$56/100*SIN(C423*$G$191*PI()/180)","v":0},{"$f":"Harmonischen!$C$57/100*SIN(C423*$H$191*PI()/180)","v":0},{"$f":"Harmonischen!$C$58/100*SIN(C423*$I$191*PI()/180)","v":0},{"$f":"Harmonischen!$C$59/100*SIN(C423*$J$191*PI()/180)","v":0},{"$f":"Harmonischen!$C$60/100*SIN(C423*$K$191*PI()/180)","v":0},{"$f":"Harmonischen!$C$61/100*SIN(C423*$L$191*PI()/180)","v":0},{"$f":"Harmonischen!$C$62/100*SIN(C423*$M$191*PI()/180)","v":0},{"$f":"Harmonischen!$C$63/100*SIN($C423*$N$191*PI()/180)","v":0},{"$f":"Harmonischen!$C$64/100*SIN($C423*$O$191*PI()/180)","v":0},{"$f":"Harmonischen!$C$65/100*SIN($C423*$P$191*PI()/180)","v":0},{"$f":"Harmonischen!$C$66/100*SIN($C423*$Q$191*PI()/180)","v":0},{"$f":"Harmonischen!$C$67/100*SIN($C423*$R$191*PI()/180)","v":0},{"$f":"Harmonischen!$C$68/100*SIN($C423*$S$191*PI()/180)","v":0},{"$f":"Harmonischen!$C$69/100*SIN($C423*$T$191*PI()/180)","v":0},{"$f":"Harmonischen!$C$70/100*SIN($C423*$U$191*PI()/180)","v":0},{"$f":"Harmonischen!$C$71/100*SIN($C423*$V$191*PI()/180)","v":0},{"$f":"Harmonischen!$C$72/100*SIN($C423*$W$191*PI()/180)","v":0},{"$f":"Harmonischen!$C$73/100*SIN($C423*$X$191*PI()/180)","v":0},{"$f":"Harmonischen!$C$74/100*SIN($C423*$Y$191*PI()/180)","v":0},{"$f":"Harmonischen!$C$75/100*SIN($C423*$Z$191*PI()/180)","v":0},{"$f":"Harmonischen!$C$76/100*SIN($C423*$AA$191*PI()/180)","v":0},{"$f":"Harmonischen!$C$77/100*SIN($C423*$AB$191*PI()/180)","v":0},null,-0.86794406140488078]
[null,null,232,{"$f":"Harmonischen!$C$53/100*SIN(C424*PI()/180)","v":-0.78801075360672213},{"$f":"Harmonischen!$C$54/100*SIN(C424*$E$191*PI()/180)","v":0},{"$f":"Harmonischen!$C$55/100*SIN(C424*$F$191*PI()/180)","v":-8.1347328615160253E-2},{"$f":"Harmonischen!$C$56/100*SIN(C424*$G$191*PI()/180)","v":0},{"$f":"Harmonischen!$C$57/100*SIN(C424*$H$191*PI()/180)","v":0},{"$f":"Harmonischen!$C$58/100*SIN(C424*$I$191*PI()/180)","v":0},{"$f":"Harmonischen!$C$59/100*SIN(C424*$J$191*PI()/180)","v":0},{"$f":"Harmonischen!$C$60/100*SIN(C424*$K$191*PI()/180)","v":0},{"$f":"Harmonischen!$C$61/100*SIN(C424*$L$191*PI()/180)","v":0},{"$f":"Harmonischen!$C$62/100*SIN(C424*$M$191*PI()/180)","v":0},{"$f":"Harmonischen!$C$63/100*SIN($C424*$N$191*PI()/180)","v":0},{"$f":"Harmonischen!$C$64/100*SIN($C424*$O$191*PI()/180)","v":0},{"$f":"Harmonischen!$C$65/100*SIN($C424*$P$191*PI()/180)","v":0},{"$f":"Harmonischen!$C$66/100*SIN($C424*$Q$191*PI()/180)","v":0},{"$f":"Harmonischen!$C$67/100*SIN($C424*$R$191*PI()/180)","v":0},{"$f":"Harmonischen!$C$68/100*SIN($C424*$S$191*PI()/180)","v":0},{"$f":"Harmonischen!$C$69/100*SIN($C424*$T$191*PI()/180)","v":0},{"$f":"Harmonischen!$C$70/100*SIN($C424*$U$191*PI()/180)","v":0},{"$f":"Harmonischen!$C$71/100*SIN($C424*$V$191*PI()/180)","v":0},{"$f":"Harmonischen!$C$72/100*SIN($C424*$W$191*PI()/180)","v":0},{"$f":"Harmonischen!$C$73/100*SIN($C424*$X$191*PI()/180)","v":0},{"$f":"Harmonischen!$C$74/100*SIN($C424*$Y$191*PI()/180)","v":0},{"$f":"Harmonischen!$C$75/100*SIN($C424*$Z$191*PI()/180)","v":0},{"$f":"Harmonischen!$C$76/100*SIN($C424*$AA$191*PI()/180)","v":0},{"$f":"Harmonischen!$C$77/100*SIN($C424*$AB$191*PI()/180)","v":0},null,-0.86935808222188238]
[null,null,233,{"$f":"Harmonischen!$C$53/100*SIN(C425*PI()/180)","v":-0.79863551004729283},{"$f":"Harmonischen!$C$54/100*SIN(C425*$E$191*PI()/180)","v":0},{"$f":"Harmonischen!$C$55/100*SIN(C425*$F$191*PI()/180)","v":-7.1673589909060198E-2},{"$f":"Harmonischen!$C$56/100*SIN(C425*$G$191*PI()/180)","v":0},{"$f":"Harmonischen!$C$57/100*SIN(C425*$H$191*PI()/180)","v":0},{"$f":"Harmonischen!$C$58/100*SIN(C425*$I$191*PI()/180)","v":0},{"$f":"Harmonischen!$C$59/100*SIN(C425*$J$191*PI()/180)","v":0},{"$f":"Harmonischen!$C$60/100*SIN(C425*$K$191*PI()/180)","v":0},{"$f":"Harmonischen!$C$61/100*SIN(C425*$L$191*PI()/180)","v":0},{"$f":"Harmonischen!$C$62/100*SIN(C425*$M$191*PI()/180)","v":0},{"$f":"Harmonischen!$C$63/100*SIN($C425*$N$191*PI()/180)","v":0},{"$f":"Harmonischen!$C$64/100*SIN($C425*$O$191*PI()/180)","v":0},{"$f":"Harmonischen!$C$65/100*SIN($C425*$P$191*PI()/180)","v":0},{"$f":"Harmonischen!$C$66/100*SIN($C425*$Q$191*PI()/180)","v":0},{"$f":"Harmonischen!$C$67/100*SIN($C425*$R$191*PI()/180)","v":0},{"$f":"Harmonischen!$C$68/100*SIN($C425*$S$191*PI()/180)","v":0},{"$f":"Harmonischen!$C$69/100*SIN($C425*$T$191*PI()/180)","v":0},{"$f":"Harmonischen!$C$70/100*SIN($C425*$U$191*PI()/180)","v":0},{"$f":"Harmonischen!$C$71/100*SIN($C425*$V$191*PI()/180)","v":0},{"$f":"Harmonischen!$C$72/100*SIN($C425*$W$191*PI()/180)","v":0},{"$f":"Harmonischen!$C$73/100*SIN($C425*$X$191*PI()/180)","v":0},{"$f":"Harmonischen!$C$74/100*SIN($C425*$Y$191*PI()/180)","v":0},{"$f":"Harmonischen!$C$75/100*SIN($C425*$Z$191*PI()/180)","v":0},{"$f":"Harmonischen!$C$76/100*SIN($C425*$AA$191*PI()/180)","v":0},{"$f":"Harmonischen!$C$77/100*SIN($C425*$AB$191*PI()/180)","v":0},null,-0.87030909995635297]
[null,null,234,{"$f":"Harmonischen!$C$53/100*SIN(C426*PI()/180)","v":-0.80901699437494734},{"$f":"Harmonischen!$C$54/100*SIN(C426*$E$191*PI()/180)","v":0},{"$f":"Harmonischen!$C$55/100*SIN(C426*$F$191*PI()/180)","v":-6.1803398874989583E-2},{"$f":"Harmonischen!$C$56/100*SIN(C426*$G$191*PI()/180)","v":0},{"$f":"Harmonischen!$C$57/100*SIN(C426*$H$191*PI()/180)","v":0},{"$f":"Harmonischen!$C$58/100*SIN(C426*$I$191*PI()/180)","v":0},{"$f":"Harmonischen!$C$59/100*SIN(C426*$J$191*PI()/180)","v":0},{"$f":"Harmonischen!$C$60/100*SIN(C426*$K$191*PI()/180)","v":0},{"$f":"Harmonischen!$C$61/100*SIN(C426*$L$191*PI()/180)","v":0},{"$f":"Harmonischen!$C$62/100*SIN(C426*$M$191*PI()/180)","v":0},{"$f":"Harmonischen!$C$63/100*SIN($C426*$N$191*PI()/180)","v":0},{"$f":"Harmonischen!$C$64/100*SIN($C426*$O$191*PI()/180)","v":0},{"$f":"Harmonischen!$C$65/100*SIN($C426*$P$191*PI()/180)","v":0},{"$f":"Harmonischen!$C$66/100*SIN($C426*$Q$191*PI()/180)","v":0},{"$f":"Harmonischen!$C$67/100*SIN($C426*$R$191*PI()/180)","v":0},{"$f":"Harmonischen!$C$68/100*SIN($C426*$S$191*PI()/180)","v":0},{"$f":"Harmonischen!$C$69/100*SIN($C426*$T$191*PI()/180)","v":0},{"$f":"Harmonischen!$C$70/100*SIN($C426*$U$191*PI()/180)","v":0},{"$f":"Harmonischen!$C$71/100*SIN($C426*$V$191*PI()/180)","v":0},{"$f":"Harmonischen!$C$72/100*SIN($C426*$W$191*PI()/180)","v":0},{"$f":"Harmonischen!$C$73/100*SIN($C426*$X$191*PI()/180)","v":0},{"$f":"Harmonischen!$C$74/100*SIN($C426*$Y$191*PI()/180)","v":0},{"$f":"Harmonischen!$C$75/100*SIN($C426*$Z$191*PI()/180)","v":0},{"$f":"Harmonischen!$C$76/100*SIN($C426*$AA$191*PI()/180)","v":0},{"$f":"Harmonischen!$C$77/100*SIN($C426*$AB$191*PI()/180)","v":0},null,-0.87082039324993687]
[null,null,235,{"$f":"Harmonischen!$C$53/100*SIN(C427*PI()/180)","v":-0.81915204428899158},{"$f":"Harmonischen!$C$54/100*SIN(C427*$E$191*PI()/180)","v":0},{"$f":"Harmonischen!$C$55/100*SIN(C427*$F$191*PI()/180)","v":-5.1763809020504196E-2},{"$f":"Harmonischen!$C$56/100*SIN(C427*$G$191*PI()/180)","v":0},{"$f":"Harmonischen!$C$57/100*SIN(C427*$H$191*PI()/180)","v":0},{"$f":"Harmonischen!$C$58/100*SIN(C427*$I$191*PI()/180)","v":0},{"$f":"Harmonischen!$C$59/100*SIN(C427*$J$191*PI()/180)","v":0},{"$f":"Harmonischen!$C$60/100*SIN(C427*$K$191*PI()/180)","v":0},{"$f":"Harmonischen!$C$61/100*SIN(C427*$L$191*PI()/180)","v":0},{"$f":"Harmonischen!$C$62/100*SIN(C427*$M$191*PI()/180)","v":0},{"$f":"Harmonischen!$C$63/100*SIN($C427*$N$191*PI()/180)","v":0},{"$f":"Harmonischen!$C$64/100*SIN($C427*$O$191*PI()/180)","v":0},{"$f":"Harmonischen!$C$65/100*SIN($C427*$P$191*PI()/180)","v":0},{"$f":"Harmonischen!$C$66/100*SIN($C427*$Q$191*PI()/180)","v":0},{"$f":"Harmonischen!$C$67/100*SIN($C427*$R$191*PI()/180)","v":0},{"$f":"Harmonischen!$C$68/100*SIN($C427*$S$191*PI()/180)","v":0},{"$f":"Harmonischen!$C$69/100*SIN($C427*$T$191*PI()/180)","v":0},{"$f":"Harmonischen!$C$70/100*SIN($C427*$U$191*PI()/180)","v":0},{"$f":"Harmonischen!$C$71/100*SIN($C427*$V$191*PI()/180)","v":0},{"$f":"Harmonischen!$C$72/100*SIN($C427*$W$191*PI()/180)","v":0},{"$f":"Harmonischen!$C$73/100*SIN($C427*$X$191*PI()/180)","v":0},{"$f":"Harmonischen!$C$74/100*SIN($C427*$Y$191*PI()/180)","v":0},{"$f":"Harmonischen!$C$75/100*SIN($C427*$Z$191*PI()/180)","v":0},{"$f":"Harmonischen!$C$76/100*SIN($C427*$AA$191*PI()/180)","v":0},{"$f":"Harmonischen!$C$77/100*SIN($C427*$AB$191*PI()/180)","v":0},null,-0.87091585330949572]
[null,null,236,{"$f":"Harmonischen!$C$53/100*SIN(C428*PI()/180)","v":-0.8290375725550414},{"$f":"Harmonischen!$C$54/100*SIN(C428*$E$191*PI()/180)","v":0},{"$f":"Harmonischen!$C$55/100*SIN(C428*$F$191*PI()/180)","v":-4.1582338163551849E-2},{"$f":"Harmonischen!$C$56/100*SIN(C428*$G$191*PI()/180)","v":0},{"$f":"Harmonischen!$C$57/100*SIN(C428*$H$191*PI()/180)","v":0},{"$f":"Harmonischen!$C$58/100*SIN(C428*$I$191*PI()/180)","v":0},{"$f":"Harmonischen!$C$59/100*SIN(C428*$J$191*PI()/180)","v":0},{"$f":"Harmonischen!$C$60/100*SIN(C428*$K$191*PI()/180)","v":0},{"$f":"Harmonischen!$C$61/100*SIN(C428*$L$191*PI()/180)","v":0},{"$f":"Harmonischen!$C$62/100*SIN(C428*$M$191*PI()/180)","v":0},{"$f":"Harmonischen!$C$63/100*SIN($C428*$N$191*PI()/180)","v":0},{"$f":"Harmonischen!$C$64/100*SIN($C428*$O$191*PI()/180)","v":0},{"$f":"Harmonischen!$C$65/100*SIN($C428*$P$191*PI()/180)","v":0},{"$f":"Harmonischen!$C$66/100*SIN($C428*$Q$191*PI()/180)","v":0},{"$f":"Harmonischen!$C$67/100*SIN($C428*$R$191*PI()/180)","v":0},{"$f":"Harmonischen!$C$68/100*SIN($C428*$S$191*PI()/180)","v":0},{"$f":"Harmonischen!$C$69/100*SIN($C428*$T$191*PI()/180)","v":0},{"$f":"Harmonischen!$C$70/100*SIN($C428*$U$191*PI()/180)","v":0},{"$f":"Harmonischen!$C$71/100*SIN($C428*$V$191*PI()/180)","v":0},{"$f":"Harmonischen!$C$72/100*SIN($C428*$W$191*PI()/180)","v":0},{"$f":"Harmonischen!$C$73/100*SIN($C428*$X$191*PI()/180)","v":0},{"$f":"Harmonischen!$C$74/100*SIN($C428*$Y$191*PI()/180)","v":0},{"$f":"Harmonischen!$C$75/100*SIN($C428*$Z$191*PI()/180)","v":0},{"$f":"Harmonischen!$C$76/100*SIN($C428*$AA$191*PI()/180)","v":0},{"$f":"Harmonischen!$C$77/100*SIN($C428*$AB$191*PI()/180)","v":0},null,-0.87061991071859324]
[null,null,237,{"$f":"Harmonischen!$C$53/100*SIN(C429*PI()/180)","v":-0.83867056794542405},{"$f":"Harmonischen!$C$54/100*SIN(C429*$E$191*PI()/180)","v":0},{"$f":"Harmonischen!$C$55/100*SIN(C429*$F$191*PI()/180)","v":-3.1286893008046449E-2},{"$f":"Harmonischen!$C$56/100*SIN(C429*$G$191*PI()/180)","v":0},{"$f":"Harmonischen!$C$57/100*SIN(C429*$H$191*PI()/180)","v":0},{"$f":"Harmonischen!$C$58/100*SIN(C429*$I$191*PI()/180)","v":0},{"$f":"Harmonischen!$C$59/100*SIN(C429*$J$191*PI()/180)","v":0},{"$f":"Harmonischen!$C$60/100*SIN(C429*$K$191*PI()/180)","v":0},{"$f":"Harmonischen!$C$61/100*SIN(C429*$L$191*PI()/180)","v":0},{"$f":"Harmonischen!$C$62/100*SIN(C429*$M$191*PI()/180)","v":0},{"$f":"Harmonischen!$C$63/100*SIN($C429*$N$191*PI()/180)","v":0},{"$f":"Harmonischen!$C$64/100*SIN($C429*$O$191*PI()/180)","v":0},{"$f":"Harmonischen!$C$65/100*SIN($C429*$P$191*PI()/180)","v":0},{"$f":"Harmonischen!$C$66/100*SIN($C429*$Q$191*PI()/180)","v":0},{"$f":"Harmonischen!$C$67/100*SIN($C429*$R$191*PI()/180)","v":0},{"$f":"Harmonischen!$C$68/100*SIN($C429*$S$191*PI()/180)","v":0},{"$f":"Harmonischen!$C$69/100*SIN($C429*$T$191*PI()/180)","v":0},{"$f":"Harmonischen!$C$70/100*SIN($C429*$U$191*PI()/180)","v":0},{"$f":"Harmonischen!$C$71/100*SIN($C429*$V$191*PI()/180)","v":0},{"$f":"Harmonischen!$C$72/100*SIN($C429*$W$191*PI()/180)","v":0},{"$f":"Harmonischen!$C$73/100*SIN($C429*$X$191*PI()/180)","v":0},{"$f":"Harmonischen!$C$74/100*SIN($C429*$Y$191*PI()/180)","v":0},{"$f":"Harmonischen!$C$75/100*SIN($C429*$Z$191*PI()/180)","v":0},{"$f":"Harmonischen!$C$76/100*SIN($C429*$AA$191*PI()/180)","v":0},{"$f":"Harmonischen!$C$77/100*SIN($C429*$AB$191*PI()/180)","v":0},null,-0.86995746095347048]
[null,null,238,{"$f":"Harmonischen!$C$53/100*SIN(C430*PI()/180)","v":-0.84804809615642596},{"$f":"Harmonischen!$C$54/100*SIN(C430*$E$191*PI()/180)","v":0},{"$f":"Harmonischen!$C$55/100*SIN(C430*$F$191*PI()/180)","v":-2.090569265353091E-2},{"$f":"Harmonischen!$C$56/100*SIN(C430*$G$191*PI()/180)","v":0},{"$f":"Harmonischen!$C$57/100*SIN(C430*$H$191*PI()/180)","v":0},{"$f":"Harmonischen!$C$58/100*SIN(C430*$I$191*PI()/180)","v":0},{"$f":"Harmonischen!$C$59/100*SIN(C430*$J$191*PI()/180)","v":0},{"$f":"Harmonischen!$C$60/100*SIN(C430*$K$191*PI()/180)","v":0},{"$f":"Harmonischen!$C$61/100*SIN(C430*$L$191*PI()/180)","v":0},{"$f":"Harmonischen!$C$62/100*SIN(C430*$M$191*PI()/180)","v":0},{"$f":"Harmonischen!$C$63/100*SIN($C430*$N$191*PI()/180)","v":0},{"$f":"Harmonischen!$C$64/100*SIN($C430*$O$191*PI()/180)","v":0},{"$f":"Harmonischen!$C$65/100*SIN($C430*$P$191*PI()/180)","v":0},{"$f":"Harmonischen!$C$66/100*SIN($C430*$Q$191*PI()/180)","v":0},{"$f":"Harmonischen!$C$67/100*SIN($C430*$R$191*PI()/180)","v":0},{"$f":"Harmonischen!$C$68/100*SIN($C430*$S$191*PI()/180)","v":0},{"$f":"Harmonischen!$C$69/100*SIN($C430*$T$191*PI()/180)","v":0},{"$f":"Harmonischen!$C$70/100*SIN($C430*$U$191*PI()/180)","v":0},{"$f":"Harmonischen!$C$71/100*SIN($C430*$V$191*PI()/180)","v":0},{"$f":"Harmonischen!$C$72/100*SIN($C430*$W$191*PI()/180)","v":0},{"$f":"Harmonischen!$C$73/100*SIN($C430*$X$191*PI()/180)","v":0},{"$f":"Harmonischen!$C$74/100*SIN($C430*$Y$191*PI()/180)","v":0},{"$f":"Harmonischen!$C$75/100*SIN($C430*$Z$191*PI()/180)","v":0},{"$f":"Harmonischen!$C$76/100*SIN($C430*$AA$191*PI()/180)","v":0},{"$f":"Harmonischen!$C$77/100*SIN($C430*$AB$191*PI()/180)","v":0},null,-0.86895378880995688]
[null,null,239,{"$f":"Harmonischen!$C$53/100*SIN(C431*PI()/180)","v":-0.85716730070211211},{"$f":"Harmonischen!$C$54/100*SIN(C431*$E$191*PI()/180)","v":0},{"$f":"Harmonischen!$C$55/100*SIN(C431*$F$191*PI()/180)","v":-1.0467191248588924E-2},{"$f":"Harmonischen!$C$56/100*SIN(C431*$G$191*PI()/180)","v":0},{"$f":"Harmonischen!$C$57/100*SIN(C431*$H$191*PI()/180)","v":0},{"$f":"Harmonischen!$C$58/100*SIN(C431*$I$191*PI()/180)","v":0},{"$f":"Harmonischen!$C$59/100*SIN(C431*$J$191*PI()/180)","v":0},{"$f":"Harmonischen!$C$60/100*SIN(C431*$K$191*PI()/180)","v":0},{"$f":"Harmonischen!$C$61/100*SIN(C431*$L$191*PI()/180)","v":0},{"$f":"Harmonischen!$C$62/100*SIN(C431*$M$191*PI()/180)","v":0},{"$f":"Harmonischen!$C$63/100*SIN($C431*$N$191*PI()/180)","v":0},{"$f":"Harmonischen!$C$64/100*SIN($C431*$O$191*PI()/180)","v":0},{"$f":"Harmonischen!$C$65/100*SIN($C431*$P$191*PI()/180)","v":0},{"$f":"Harmonischen!$C$66/100*SIN($C431*$Q$191*PI()/180)","v":0},{"$f":"Harmonischen!$C$67/100*SIN($C431*$R$191*PI()/180)","v":0},{"$f":"Harmonischen!$C$68/100*SIN($C431*$S$191*PI()/180)","v":0},{"$f":"Harmonischen!$C$69/100*SIN($C431*$T$191*PI()/180)","v":0},{"$f":"Harmonischen!$C$70/100*SIN($C431*$U$191*PI()/180)","v":0},{"$f":"Harmonischen!$C$71/100*SIN($C431*$V$191*PI()/180)","v":0},{"$f":"Harmonischen!$C$72/100*SIN($C431*$W$191*PI()/180)","v":0},{"$f":"Harmonischen!$C$73/100*SIN($C431*$X$191*PI()/180)","v":0},{"$f":"Harmonischen!$C$74/100*SIN($C431*$Y$191*PI()/180)","v":0},{"$f":"Harmonischen!$C$75/100*SIN($C431*$Z$191*PI()/180)","v":0},{"$f":"Harmonischen!$C$76/100*SIN($C431*$AA$191*PI()/180)","v":0},{"$f":"Harmonischen!$C$77/100*SIN($C431*$AB$191*PI()/180)","v":0},null,-0.86763449195070108]
[null,null,240,{"$f":"Harmonischen!$C$53/100*SIN(C432*PI()/180)","v":-0.86602540378443837},{"$f":"Harmonischen!$C$54/100*SIN(C432*$E$191*PI()/180)","v":0},{"$f":"Harmonischen!$C$55/100*SIN(C432*$F$191*PI()/180)","v":-9.8011876392689601E-17},{"$f":"Harmonischen!$C$56/100*SIN(C432*$G$191*PI()/180)","v":0},{"$f":"Harmonischen!$C$57/100*SIN(C432*$H$191*PI()/180)","v":0},{"$f":"Harmonischen!$C$58/100*SIN(C432*$I$191*PI()/180)","v":0},{"$f":"Harmonischen!$C$59/100*SIN(C432*$J$191*PI()/180)","v":0},{"$f":"Harmonischen!$C$60/100*SIN(C432*$K$191*PI()/180)","v":0},{"$f":"Harmonischen!$C$61/100*SIN(C432*$L$191*PI()/180)","v":0},{"$f":"Harmonischen!$C$62/100*SIN(C432*$M$191*PI()/180)","v":0},{"$f":"Harmonischen!$C$63/100*SIN($C432*$N$191*PI()/180)","v":0},{"$f":"Harmonischen!$C$64/100*SIN($C432*$O$191*PI()/180)","v":0},{"$f":"Harmonischen!$C$65/100*SIN($C432*$P$191*PI()/180)","v":0},{"$f":"Harmonischen!$C$66/100*SIN($C432*$Q$191*PI()/180)","v":0},{"$f":"Harmonischen!$C$67/100*SIN($C432*$R$191*PI()/180)","v":0},{"$f":"Harmonischen!$C$68/100*SIN($C432*$S$191*PI()/180)","v":0},{"$f":"Harmonischen!$C$69/100*SIN($C432*$T$191*PI()/180)","v":0},{"$f":"Harmonischen!$C$70/100*SIN($C432*$U$191*PI()/180)","v":0},{"$f":"Harmonischen!$C$71/100*SIN($C432*$V$191*PI()/180)","v":0},{"$f":"Harmonischen!$C$72/100*SIN($C432*$W$191*PI()/180)","v":0},{"$f":"Harmonischen!$C$73/100*SIN($C432*$X$191*PI()/180)","v":0},{"$f":"Harmonischen!$C$74/100*SIN($C432*$Y$191*PI()/180)","v":0},{"$f":"Harmonischen!$C$75/100*SIN($C432*$Z$191*PI()/180)","v":0},{"$f":"Harmonischen!$C$76/100*SIN($C432*$AA$191*PI()/180)","v":0},{"$f":"Harmonischen!$C$77/100*SIN($C432*$AB$191*PI()/180)","v":0},null,-0.86602540378443849]
[null,null,241,{"$f":"Harmonischen!$C$53/100*SIN(C433*PI()/180)","v":-0.87461970713939596},{"$f":"Harmonischen!$C$54/100*SIN(C433*$E$191*PI()/180)","v":0},{"$f":"Harmonischen!$C$55/100*SIN(C433*$F$191*PI()/180)","v":1.0467191248588728E-2},{"$f":"Harmonischen!$C$56/100*SIN(C433*$G$191*PI()/180)","v":0},{"$f":"Harmonischen!$C$57/100*SIN(C433*$H$191*PI()/180)","v":0},{"$f":"Harmonischen!$C$58/100*SIN(C433*$I$191*PI()/180)","v":0},{"$f":"Harmonischen!$C$59/100*SIN(C433*$J$191*PI()/180)","v":0},{"$f":"Harmonischen!$C$60/100*SIN(C433*$K$191*PI()/180)","v":0},{"$f":"Harmonischen!$C$61/100*SIN(C433*$L$191*PI()/180)","v":0},{"$f":"Harmonischen!$C$62/100*SIN(C433*$M$191*PI()/180)","v":0},{"$f":"Harmonischen!$C$63/100*SIN($C433*$N$191*PI()/180)","v":0},{"$f":"Harmonischen!$C$64/100*SIN($C433*$O$191*PI()/180)","v":0},{"$f":"Harmonischen!$C$65/100*SIN($C433*$P$191*PI()/180)","v":0},{"$f":"Harmonischen!$C$66/100*SIN($C433*$Q$191*PI()/180)","v":0},{"$f":"Harmonischen!$C$67/100*SIN($C433*$R$191*PI()/180)","v":0},{"$f":"Harmonischen!$C$68/100*SIN($C433*$S$191*PI()/180)","v":0},{"$f":"Harmonischen!$C$69/100*SIN($C433*$T$191*PI()/180)","v":0},{"$f":"Harmonischen!$C$70/100*SIN($C433*$U$191*PI()/180)","v":0},{"$f":"Harmonischen!$C$71/100*SIN($C433*$V$191*PI()/180)","v":0},{"$f":"Harmonischen!$C$72/100*SIN($C433*$W$191*PI()/180)","v":0},{"$f":"Harmonischen!$C$73/100*SIN($C433*$X$191*PI()/180)","v":0},{"$f":"Harmonischen!$C$74/100*SIN($C433*$Y$191*PI()/180)","v":0},{"$f":"Harmonischen!$C$75/100*SIN($C433*$Z$191*PI()/180)","v":0},{"$f":"Harmonischen!$C$76/100*SIN($C433*$AA$191*PI()/180)","v":0},{"$f":"Harmonischen!$C$77/100*SIN($C433*$AB$191*PI()/180)","v":0},null,-0.86415251589080722]
[null,null,242,{"$f":"Harmonischen!$C$53/100*SIN(C434*PI()/180)","v":-0.88294759285892699},{"$f":"Harmonischen!$C$54/100*SIN(C434*$E$191*PI()/180)","v":0},{"$f":"Harmonischen!$C$55/100*SIN(C434*$F$191*PI()/180)","v":2.0905692653530716E-2},{"$f":"Harmonischen!$C$56/100*SIN(C434*$G$191*PI()/180)","v":0},{"$f":"Harmonischen!$C$57/100*SIN(C434*$H$191*PI()/180)","v":0},{"$f":"Harmonischen!$C$58/100*SIN(C434*$I$191*PI()/180)","v":0},{"$f":"Harmonischen!$C$59/100*SIN(C434*$J$191*PI()/180)","v":0},{"$f":"Harmonischen!$C$60/100*SIN(C434*$K$191*PI()/180)","v":0},{"$f":"Harmonischen!$C$61/100*SIN(C434*$L$191*PI()/180)","v":0},{"$f":"Harmonischen!$C$62/100*SIN(C434*$M$191*PI()/180)","v":0},{"$f":"Harmonischen!$C$63/100*SIN($C434*$N$191*PI()/180)","v":0},{"$f":"Harmonischen!$C$64/100*SIN($C434*$O$191*PI()/180)","v":0},{"$f":"Harmonischen!$C$65/100*SIN($C434*$P$191*PI()/180)","v":0},{"$f":"Harmonischen!$C$66/100*SIN($C434*$Q$191*PI()/180)","v":0},{"$f":"Harmonischen!$C$67/100*SIN($C434*$R$191*PI()/180)","v":0},{"$f":"Harmonischen!$C$68/100*SIN($C434*$S$191*PI()/180)","v":0},{"$f":"Harmonischen!$C$69/100*SIN($C434*$T$191*PI()/180)","v":0},{"$f":"Harmonischen!$C$70/100*SIN($C434*$U$191*PI()/180)","v":0},{"$f":"Harmonischen!$C$71/100*SIN($C434*$V$191*PI()/180)","v":0},{"$f":"Harmonischen!$C$72/100*SIN($C434*$W$191*PI()/180)","v":0},{"$f":"Harmonischen!$C$73/100*SIN($C434*$X$191*PI()/180)","v":0},{"$f":"Harmonischen!$C$74/100*SIN($C434*$Y$191*PI()/180)","v":0},{"$f":"Harmonischen!$C$75/100*SIN($C434*$Z$191*PI()/180)","v":0},{"$f":"Harmonischen!$C$76/100*SIN($C434*$AA$191*PI()/180)","v":0},{"$f":"Harmonischen!$C$77/100*SIN($C434*$AB$191*PI()/180)","v":0},null,-0.86204190020539628]
[null,null,243,{"$f":"Harmonischen!$C$53/100*SIN(C435*PI()/180)","v":-0.89100652418836779},{"$f":"Harmonischen!$C$54/100*SIN(C435*$E$191*PI()/180)","v":0},{"$f":"Harmonischen!$C$55/100*SIN(C435*$F$191*PI()/180)","v":3.12868930080459E-2},{"$f":"Harmonischen!$C$56/100*SIN(C435*$G$191*PI()/180)","v":0},{"$f":"Harmonischen!$C$57/100*SIN(C435*$H$191*PI()/180)","v":0},{"$f":"Harmonischen!$C$58/100*SIN(C435*$I$191*PI()/180)","v":0},{"$f":"Harmonischen!$C$59/100*SIN(C435*$J$191*PI()/180)","v":0},{"$f":"Harmonischen!$C$60/100*SIN(C435*$K$191*PI()/180)","v":0},{"$f":"Harmonischen!$C$61/100*SIN(C435*$L$191*PI()/180)","v":0},{"$f":"Harmonischen!$C$62/100*SIN(C435*$M$191*PI()/180)","v":0},{"$f":"Harmonischen!$C$63/100*SIN($C435*$N$191*PI()/180)","v":0},{"$f":"Harmonischen!$C$64/100*SIN($C435*$O$191*PI()/180)","v":0},{"$f":"Harmonischen!$C$65/100*SIN($C435*$P$191*PI()/180)","v":0},{"$f":"Harmonischen!$C$66/100*SIN($C435*$Q$191*PI()/180)","v":0},{"$f":"Harmonischen!$C$67/100*SIN($C435*$R$191*PI()/180)","v":0},{"$f":"Harmonischen!$C$68/100*SIN($C435*$S$191*PI()/180)","v":0},{"$f":"Harmonischen!$C$69/100*SIN($C435*$T$191*PI()/180)","v":0},{"$f":"Harmonischen!$C$70/100*SIN($C435*$U$191*PI()/180)","v":0},{"$f":"Harmonischen!$C$71/100*SIN($C435*$V$191*PI()/180)","v":0},{"$f":"Harmonischen!$C$72/100*SIN($C435*$W$191*PI()/180)","v":0},{"$f":"Harmonischen!$C$73/100*SIN($C435*$X$191*PI()/180)","v":0},{"$f":"Harmonischen!$C$74/100*SIN($C435*$Y$191*PI()/180)","v":0},{"$f":"Harmonischen!$C$75/100*SIN($C435*$Z$191*PI()/180)","v":0},{"$f":"Harmonischen!$C$76/100*SIN($C435*$AA$191*PI()/180)","v":0},{"$f":"Harmonischen!$C$77/100*SIN($C435*$AB$191*PI()/180)","v":0},null,-0.85971963118032191]
[null,null,244,{"$f":"Harmonischen!$C$53/100*SIN(C436*PI()/180)","v":-0.89879404629916682},{"$f":"Harmonischen!$C$54/100*SIN(C436*$E$191*PI()/180)","v":0},{"$f":"Harmonischen!$C$55/100*SIN(C436*$F$191*PI()/180)","v":4.1582338163551655E-2},{"$f":"Harmonischen!$C$56/100*SIN(C436*$G$191*PI()/180)","v":0},{"$f":"Harmonischen!$C$57/100*SIN(C436*$H$191*PI()/180)","v":0},{"$f":"Harmonischen!$C$58/100*SIN(C436*$I$191*PI()/180)","v":0},{"$f":"Harmonischen!$C$59/100*SIN(C436*$J$191*PI()/180)","v":0},{"$f":"Harmonischen!$C$60/100*SIN(C436*$K$191*PI()/180)","v":0},{"$f":"Harmonischen!$C$61/100*SIN(C436*$L$191*PI()/180)","v":0},{"$f":"Harmonischen!$C$62/100*SIN(C436*$M$191*PI()/180)","v":0},{"$f":"Harmonischen!$C$63/100*SIN($C436*$N$191*PI()/180)","v":0},{"$f":"Harmonischen!$C$64/100*SIN($C436*$O$191*PI()/180)","v":0},{"$f":"Harmonischen!$C$65/100*SIN($C436*$P$191*PI()/180)","v":0},{"$f":"Harmonischen!$C$66/100*SIN($C436*$Q$191*PI()/180)","v":0},{"$f":"Harmonischen!$C$67/100*SIN($C436*$R$191*PI()/180)","v":0},{"$f":"Harmonischen!$C$68/100*SIN($C436*$S$191*PI()/180)","v":0},{"$f":"Harmonischen!$C$69/100*SIN($C436*$T$191*PI()/180)","v":0},{"$f":"Harmonischen!$C$70/100*SIN($C436*$U$191*PI()/180)","v":0},{"$f":"Harmonischen!$C$71/100*SIN($C436*$V$191*PI()/180)","v":0},{"$f":"Harmonischen!$C$72/100*SIN($C436*$W$191*PI()/180)","v":0},{"$f":"Harmonischen!$C$73/100*SIN($C436*$X$191*PI()/180)","v":0},{"$f":"Harmonischen!$C$74/100*SIN($C436*$Y$191*PI()/180)","v":0},{"$f":"Harmonischen!$C$75/100*SIN($C436*$Z$191*PI()/180)","v":0},{"$f":"Harmonischen!$C$76/100*SIN($C436*$AA$191*PI()/180)","v":0},{"$f":"Harmonischen!$C$77/100*SIN($C436*$AB$191*PI()/180)","v":0},null,-0.8572117081356152]
[null,null,245,{"$f":"Harmonischen!$C$53/100*SIN(C437*PI()/180)","v":-0.90630778703664971},{"$f":"Harmonischen!$C$54/100*SIN(C437*$E$191*PI()/180)","v":0},{"$f":"Harmonischen!$C$55/100*SIN(C437*$F$191*PI()/180)","v":5.1763809020504009E-2},{"$f":"Harmonischen!$C$56/100*SIN(C437*$G$191*PI()/180)","v":0},{"$f":"Harmonischen!$C$57/100*SIN(C437*$H$191*PI()/180)","v":0},{"$f":"Harmonischen!$C$58/100*SIN(C437*$I$191*PI()/180)","v":0},{"$f":"Harmonischen!$C$59/100*SIN(C437*$J$191*PI()/180)","v":0},{"$f":"Harmonischen!$C$60/100*SIN(C437*$K$191*PI()/180)","v":0},{"$f":"Harmonischen!$C$61/100*SIN(C437*$L$191*PI()/180)","v":0},{"$f":"Harmonischen!$C$62/100*SIN(C437*$M$191*PI()/180)","v":0},{"$f":"Harmonischen!$C$63/100*SIN($C437*$N$191*PI()/180)","v":0},{"$f":"Harmonischen!$C$64/100*SIN($C437*$O$191*PI()/180)","v":0},{"$f":"Harmonischen!$C$65/100*SIN($C437*$P$191*PI()/180)","v":0},{"$f":"Harmonischen!$C$66/100*SIN($C437*$Q$191*PI()/180)","v":0},{"$f":"Harmonischen!$C$67/100*SIN($C437*$R$191*PI()/180)","v":0},{"$f":"Harmonischen!$C$68/100*SIN($C437*$S$191*PI()/180)","v":0},{"$f":"Harmonischen!$C$69/100*SIN($C437*$T$191*PI()/180)","v":0},{"$f":"Harmonischen!$C$70/100*SIN($C437*$U$191*PI()/180)","v":0},{"$f":"Harmonischen!$C$71/100*SIN($C437*$V$191*PI()/180)","v":0},{"$f":"Harmonischen!$C$72/100*SIN($C437*$W$191*PI()/180)","v":0},{"$f":"Harmonischen!$C$73/100*SIN($C437*$X$191*PI()/180)","v":0},{"$f":"Harmonischen!$C$74/100*SIN($C437*$Y$191*PI()/180)","v":0},{"$f":"Harmonischen!$C$75/100*SIN($C437*$Z$191*PI()/180)","v":0},{"$f":"Harmonischen!$C$76/100*SIN($C437*$AA$191*PI()/180)","v":0},{"$f":"Harmonischen!$C$77/100*SIN($C437*$AB$191*PI()/180)","v":0},null,-0.85454397801614568]
[null,null,246,{"$f":"Harmonischen!$C$53/100*SIN(C438*PI()/180)","v":-0.91354545764260098},{"$f":"Harmonischen!$C$54/100*SIN(C438*$E$191*PI()/180)","v":0},{"$f":"Harmonischen!$C$55/100*SIN(C438*$F$191*PI()/180)","v":6.1803398874989396E-2},{"$f":"Harmonischen!$C$56/100*SIN(C438*$G$191*PI()/180)","v":0},{"$f":"Harmonischen!$C$57/100*SIN(C438*$H$191*PI()/180)","v":0},{"$f":"Harmonischen!$C$58/100*SIN(C438*$I$191*PI()/180)","v":0},{"$f":"Harmonischen!$C$59/100*SIN(C438*$J$191*PI()/180)","v":0},{"$f":"Harmonischen!$C$60/100*SIN(C438*$K$191*PI()/180)","v":0},{"$f":"Harmonischen!$C$61/100*SIN(C438*$L$191*PI()/180)","v":0},{"$f":"Harmonischen!$C$62/100*SIN(C438*$M$191*PI()/180)","v":0},{"$f":"Harmonischen!$C$63/100*SIN($C438*$N$191*PI()/180)","v":0},{"$f":"Harmonischen!$C$64/100*SIN($C438*$O$191*PI()/180)","v":0},{"$f":"Harmonischen!$C$65/100*SIN($C438*$P$191*PI()/180)","v":0},{"$f":"Harmonischen!$C$66/100*SIN($C438*$Q$191*PI()/180)","v":0},{"$f":"Harmonischen!$C$67/100*SIN($C438*$R$191*PI()/180)","v":0},{"$f":"Harmonischen!$C$68/100*SIN($C438*$S$191*PI()/180)","v":0},{"$f":"Harmonischen!$C$69/100*SIN($C438*$T$191*PI()/180)","v":0},{"$f":"Harmonischen!$C$70/100*SIN($C438*$U$191*PI()/180)","v":0},{"$f":"Harmonischen!$C$71/100*SIN($C438*$V$191*PI()/180)","v":0},{"$f":"Harmonischen!$C$72/100*SIN($C438*$W$191*PI()/180)","v":0},{"$f":"Harmonischen!$C$73/100*SIN($C438*$X$191*PI()/180)","v":0},{"$f":"Harmonischen!$C$74/100*SIN($C438*$Y$191*PI()/180)","v":0},{"$f":"Harmonischen!$C$75/100*SIN($C438*$Z$191*PI()/180)","v":0},{"$f":"Harmonischen!$C$76/100*SIN($C438*$AA$191*PI()/180)","v":0},{"$f":"Harmonischen!$C$77/100*SIN($C438*$AB$191*PI()/180)","v":0},null,-0.85174205876761155]
[null,null,247,{"$f":"Harmonischen!$C$53/100*SIN(C439*PI()/180)","v":-0.92050485345244026},{"$f":"Harmonischen!$C$54/100*SIN(C439*$E$191*PI()/180)","v":0},{"$f":"Harmonischen!$C$55/100*SIN(C439*$F$191*PI()/180)","v":7.1673589909060018E-2},{"$f":"Harmonischen!$C$56/100*SIN(C439*$G$191*PI()/180)","v":0},{"$f":"Harmonischen!$C$57/100*SIN(C439*$H$191*PI()/180)","v":0},{"$f":"Harmonischen!$C$58/100*SIN(C439*$I$191*PI()/180)","v":0},{"$f":"Harmonischen!$C$59/100*SIN(C439*$J$191*PI()/180)","v":0},{"$f":"Harmonischen!$C$60/100*SIN(C439*$K$191*PI()/180)","v":0},{"$f":"Harmonischen!$C$61/100*SIN(C439*$L$191*PI()/180)","v":0},{"$f":"Harmonischen!$C$62/100*SIN(C439*$M$191*PI()/180)","v":0},{"$f":"Harmonischen!$C$63/100*SIN($C439*$N$191*PI()/180)","v":0},{"$f":"Harmonischen!$C$64/100*SIN($C439*$O$191*PI()/180)","v":0},{"$f":"Harmonischen!$C$65/100*SIN($C439*$P$191*PI()/180)","v":0},{"$f":"Harmonischen!$C$66/100*SIN($C439*$Q$191*PI()/180)","v":0},{"$f":"Harmonischen!$C$67/100*SIN($C439*$R$191*PI()/180)","v":0},{"$f":"Harmonischen!$C$68/100*SIN($C439*$S$191*PI()/180)","v":0},{"$f":"Harmonischen!$C$69/100*SIN($C439*$T$191*PI()/180)","v":0},{"$f":"Harmonischen!$C$70/100*SIN($C439*$U$191*PI()/180)","v":0},{"$f":"Harmonischen!$C$71/100*SIN($C439*$V$191*PI()/180)","v":0},{"$f":"Harmonischen!$C$72/100*SIN($C439*$W$191*PI()/180)","v":0},{"$f":"Harmonischen!$C$73/100*SIN($C439*$X$191*PI()/180)","v":0},{"$f":"Harmonischen!$C$74/100*SIN($C439*$Y$191*PI()/180)","v":0},{"$f":"Harmonischen!$C$75/100*SIN($C439*$Z$191*PI()/180)","v":0},{"$f":"Harmonischen!$C$76/100*SIN($C439*$AA$191*PI()/180)","v":0},{"$f":"Harmonischen!$C$77/100*SIN($C439*$AB$191*PI()/180)","v":0},null,-0.84883126354338023]
[null,null,248,{"$f":"Harmonischen!$C$53/100*SIN(C440*PI()/180)","v":-0.92718385456678731},{"$f":"Harmonischen!$C$54/100*SIN(C440*$E$191*PI()/180)","v":0},{"$f":"Harmonischen!$C$55/100*SIN(C440*$F$191*PI()/180)","v":8.1347328615159739E-2},{"$f":"Harmonischen!$C$56/100*SIN(C440*$G$191*PI()/180)","v":0},{"$f":"Harmonischen!$C$57/100*SIN(C440*$H$191*PI()/180)","v":0},{"$f":"Harmonischen!$C$58/100*SIN(C440*$I$191*PI()/180)","v":0},{"$f":"Harmonischen!$C$59/100*SIN(C440*$J$191*PI()/180)","v":0},{"$f":"Harmonischen!$C$60/100*SIN(C440*$K$191*PI()/180)","v":0},{"$f":"Harmonischen!$C$61/100*SIN(C440*$L$191*PI()/180)","v":0},{"$f":"Harmonischen!$C$62/100*SIN(C440*$M$191*PI()/180)","v":0},{"$f":"Harmonischen!$C$63/100*SIN($C440*$N$191*PI()/180)","v":0},{"$f":"Harmonischen!$C$64/100*SIN($C440*$O$191*PI()/180)","v":0},{"$f":"Harmonischen!$C$65/100*SIN($C440*$P$191*PI()/180)","v":0},{"$f":"Harmonischen!$C$66/100*SIN($C440*$Q$191*PI()/180)","v":0},{"$f":"Harmonischen!$C$67/100*SIN($C440*$R$191*PI()/180)","v":0},{"$f":"Harmonischen!$C$68/100*SIN($C440*$S$191*PI()/180)","v":0},{"$f":"Harmonischen!$C$69/100*SIN($C440*$T$191*PI()/180)","v":0},{"$f":"Harmonischen!$C$70/100*SIN($C440*$U$191*PI()/180)","v":0},{"$f":"Harmonischen!$C$71/100*SIN($C440*$V$191*PI()/180)","v":0},{"$f":"Harmonischen!$C$72/100*SIN($C440*$W$191*PI()/180)","v":0},{"$f":"Harmonischen!$C$73/100*SIN($C440*$X$191*PI()/180)","v":0},{"$f":"Harmonischen!$C$74/100*SIN($C440*$Y$191*PI()/180)","v":0},{"$f":"Harmonischen!$C$75/100*SIN($C440*$Z$191*PI()/180)","v":0},{"$f":"Harmonischen!$C$76/100*SIN($C440*$AA$191*PI()/180)","v":0},{"$f":"Harmonischen!$C$77/100*SIN($C440*$AB$191*PI()/180)","v":0},null,-0.84583652595162762]
[null,null,249,{"$f":"Harmonischen!$C$53/100*SIN(C441*PI()/180)","v":-0.93358042649720163},{"$f":"Harmonischen!$C$54/100*SIN(C441*$E$191*PI()/180)","v":0},{"$f":"Harmonischen!$C$55/100*SIN(C441*$F$191*PI()/180)","v":9.0798099947909106E-2},{"$f":"Harmonischen!$C$56/100*SIN(C441*$G$191*PI()/180)","v":0},{"$f":"Harmonischen!$C$57/100*SIN(C441*$H$191*PI()/180)","v":0},{"$f":"Harmonischen!$C$58/100*SIN(C441*$I$191*PI()/180)","v":0},{"$f":"Harmonischen!$C$59/100*SIN(C441*$J$191*PI()/180)","v":0},{"$f":"Harmonischen!$C$60/100*SIN(C441*$K$191*PI()/180)","v":0},{"$f":"Harmonischen!$C$61/100*SIN(C441*$L$191*PI()/180)","v":0},{"$f":"Harmonischen!$C$62/100*SIN(C441*$M$191*PI()/180)","v":0},{"$f":"Harmonischen!$C$63/100*SIN($C441*$N$191*PI()/180)","v":0},{"$f":"Harmonischen!$C$64/100*SIN($C441*$O$191*PI()/180)","v":0},{"$f":"Harmonischen!$C$65/100*SIN($C441*$P$191*PI()/180)","v":0},{"$f":"Harmonischen!$C$66/100*SIN($C441*$Q$191*PI()/180)","v":0},{"$f":"Harmonischen!$C$67/100*SIN($C441*$R$191*PI()/180)","v":0},{"$f":"Harmonischen!$C$68/100*SIN($C441*$S$191*PI()/180)","v":0},{"$f":"Harmonischen!$C$69/100*SIN($C441*$T$191*PI()/180)","v":0},{"$f":"Harmonischen!$C$70/100*SIN($C441*$U$191*PI()/180)","v":0},{"$f":"Harmonischen!$C$71/100*SIN($C441*$V$191*PI()/180)","v":0},{"$f":"Harmonischen!$C$72/100*SIN($C441*$W$191*PI()/180)","v":0},{"$f":"Harmonischen!$C$73/100*SIN($C441*$X$191*PI()/180)","v":0},{"$f":"Harmonischen!$C$74/100*SIN($C441*$Y$191*PI()/180)","v":0},{"$f":"Harmonischen!$C$75/100*SIN($C441*$Z$191*PI()/180)","v":0},{"$f":"Harmonischen!$C$76/100*SIN($C441*$AA$191*PI()/180)","v":0},{"$f":"Harmonischen!$C$77/100*SIN($C441*$AB$191*PI()/180)","v":0},null,-0.84278232654929253]
[null,null,250,{"$f":"Harmonischen!$C$53/100*SIN(C442*PI()/180)","v":-0.93969262078590821},{"$f":"Harmonischen!$C$54/100*SIN(C442*$E$191*PI()/180)","v":0},{"$f":"Harmonischen!$C$55/100*SIN(C442*$F$191*PI()/180)","v":9.9999999999999811E-2},{"$f":"Harmonischen!$C$56/100*SIN(C442*$G$191*PI()/180)","v":0},{"$f":"Harmonischen!$C$57/100*SIN(C442*$H$191*PI()/180)","v":0},{"$f":"Harmonischen!$C$58/100*SIN(C442*$I$191*PI()/180)","v":0},{"$f":"Harmonischen!$C$59/100*SIN(C442*$J$191*PI()/180)","v":0},{"$f":"Harmonischen!$C$60/100*SIN(C442*$K$191*PI()/180)","v":0},{"$f":"Harmonischen!$C$61/100*SIN(C442*$L$191*PI()/180)","v":0},{"$f":"Harmonischen!$C$62/100*SIN(C442*$M$191*PI()/180)","v":0},{"$f":"Harmonischen!$C$63/100*SIN($C442*$N$191*PI()/180)","v":0},{"$f":"Harmonischen!$C$64/100*SIN($C442*$O$191*PI()/180)","v":0},{"$f":"Harmonischen!$C$65/100*SIN($C442*$P$191*PI()/180)","v":0},{"$f":"Harmonischen!$C$66/100*SIN($C442*$Q$191*PI()/180)","v":0},{"$f":"Harmonischen!$C$67/100*SIN($C442*$R$191*PI()/180)","v":0},{"$f":"Harmonischen!$C$68/100*SIN($C442*$S$191*PI()/180)","v":0},{"$f":"Harmonischen!$C$69/100*SIN($C442*$T$191*PI()/180)","v":0},{"$f":"Harmonischen!$C$70/100*SIN($C442*$U$191*PI()/180)","v":0},{"$f":"Harmonischen!$C$71/100*SIN($C442*$V$191*PI()/180)","v":0},{"$f":"Harmonischen!$C$72/100*SIN($C442*$W$191*PI()/180)","v":0},{"$f":"Harmonischen!$C$73/100*SIN($C442*$X$191*PI()/180)","v":0},{"$f":"Harmonischen!$C$74/100*SIN($C442*$Y$191*PI()/180)","v":0},{"$f":"Harmonischen!$C$75/100*SIN($C442*$Z$191*PI()/180)","v":0},{"$f":"Harmonischen!$C$76/100*SIN($C442*$AA$191*PI()/180)","v":0},{"$f":"Harmonischen!$C$77/100*SIN($C442*$AB$191*PI()/180)","v":0},null,-0.83969262078590834]
[null,null,251,{"$f":"Harmonischen!$C$53/100*SIN(C443*PI()/180)","v":-0.94551857559931685},{"$f":"Harmonischen!$C$54/100*SIN(C443*$E$191*PI()/180)","v":0},{"$f":"Harmonischen!$C$55/100*SIN(C443*$F$191*PI()/180)","v":0.10892780700300529},{"$f":"Harmonischen!$C$56/100*SIN(C443*$G$191*PI()/180)","v":0},{"$f":"Harmonischen!$C$57/100*SIN(C443*$H$191*PI()/180)","v":0},{"$f":"Harmonischen!$C$58/100*SIN(C443*$I$191*PI()/180)","v":0},{"$f":"Harmonischen!$C$59/100*SIN(C443*$J$191*PI()/180)","v":0},{"$f":"Harmonischen!$C$60/100*SIN(C443*$K$191*PI()/180)","v":0},{"$f":"Harmonischen!$C$61/100*SIN(C443*$L$191*PI()/180)","v":0},{"$f":"Harmonischen!$C$62/100*SIN(C443*$M$191*PI()/180)","v":0},{"$f":"Harmonischen!$C$63/100*SIN($C443*$N$191*PI()/180)","v":0},{"$f":"Harmonischen!$C$64/100*SIN($C443*$O$191*PI()/180)","v":0},{"$f":"Harmonischen!$C$65/100*SIN($C443*$P$191*PI()/180)","v":0},{"$f":"Harmonischen!$C$66/100*SIN($C443*$Q$191*PI()/180)","v":0},{"$f":"Harmonischen!$C$67/100*SIN($C443*$R$191*PI()/180)","v":0},{"$f":"Harmonischen!$C$68/100*SIN($C443*$S$191*PI()/180)","v":0},{"$f":"Harmonischen!$C$69/100*SIN($C443*$T$191*PI()/180)","v":0},{"$f":"Harmonischen!$C$70/100*SIN($C443*$U$191*PI()/180)","v":0},{"$f":"Harmonischen!$C$71/100*SIN($C443*$V$191*PI()/180)","v":0},{"$f":"Harmonischen!$C$72/100*SIN($C443*$W$191*PI()/180)","v":0},{"$f":"Harmonischen!$C$73/100*SIN($C443*$X$191*PI()/180)","v":0},{"$f":"Harmonischen!$C$74/100*SIN($C443*$Y$191*PI()/180)","v":0},{"$f":"Harmonischen!$C$75/100*SIN($C443*$Z$191*PI()/180)","v":0},{"$f":"Harmonischen!$C$76/100*SIN($C443*$AA$191*PI()/180)","v":0},{"$f":"Harmonischen!$C$77/100*SIN($C443*$AB$191*PI()/180)","v":0},null,-0.83659076859631154]
[null,null,252,{"$f":"Harmonischen!$C$53/100*SIN(C444*PI()/180)","v":-0.95105651629515353},{"$f":"Harmonischen!$C$54/100*SIN(C444*$E$191*PI()/180)","v":0},{"$f":"Harmonischen!$C$55/100*SIN(C444*$F$191*PI()/180)","v":0.11755705045849454},{"$f":"Harmonischen!$C$56/100*SIN(C444*$G$191*PI()/180)","v":0},{"$f":"Harmonischen!$C$57/100*SIN(C444*$H$191*PI()/180)","v":0},{"$f":"Harmonischen!$C$58/100*SIN(C444*$I$191*PI()/180)","v":0},{"$f":"Harmonischen!$C$59/100*SIN(C444*$J$191*PI()/180)","v":0},{"$f":"Harmonischen!$C$60/100*SIN(C444*$K$191*PI()/180)","v":0},{"$f":"Harmonischen!$C$61/100*SIN(C444*$L$191*PI()/180)","v":0},{"$f":"Harmonischen!$C$62/100*SIN(C444*$M$191*PI()/180)","v":0},{"$f":"Harmonischen!$C$63/100*SIN($C444*$N$191*PI()/180)","v":0},{"$f":"Harmonischen!$C$64/100*SIN($C444*$O$191*PI()/180)","v":0},{"$f":"Harmonischen!$C$65/100*SIN($C444*$P$191*PI()/180)","v":0},{"$f":"Harmonischen!$C$66/100*SIN($C444*$Q$191*PI()/180)","v":0},{"$f":"Harmonischen!$C$67/100*SIN($C444*$R$191*PI()/180)","v":0},{"$f":"Harmonischen!$C$68/100*SIN($C444*$S$191*PI()/180)","v":0},{"$f":"Harmonischen!$C$69/100*SIN($C444*$T$191*PI()/180)","v":0},{"$f":"Harmonischen!$C$70/100*SIN($C444*$U$191*PI()/180)","v":0},{"$f":"Harmonischen!$C$71/100*SIN($C444*$V$191*PI()/180)","v":0},{"$f":"Harmonischen!$C$72/100*SIN($C444*$W$191*PI()/180)","v":0},{"$f":"Harmonischen!$C$73/100*SIN($C444*$X$191*PI()/180)","v":0},{"$f":"Harmonischen!$C$74/100*SIN($C444*$Y$191*PI()/180)","v":0},{"$f":"Harmonischen!$C$75/100*SIN($C444*$Z$191*PI()/180)","v":0},{"$f":"Harmonischen!$C$76/100*SIN($C444*$AA$191*PI()/180)","v":0},{"$f":"Harmonischen!$C$77/100*SIN($C444*$AB$191*PI()/180)","v":0},null,-0.83349946583665901]
[null,null,253,{"$f":"Harmonischen!$C$53/100*SIN(C445*PI()/180)","v":-0.95630475596303532},{"$f":"Harmonischen!$C$54/100*SIN(C445*$E$191*PI()/180)","v":0},{"$f":"Harmonischen!$C$55/100*SIN(C445*$F$191*PI()/180)","v":0.12586407820996745},{"$f":"Harmonischen!$C$56/100*SIN(C445*$G$191*PI()/180)","v":0},{"$f":"Harmonischen!$C$57/100*SIN(C445*$H$191*PI()/180)","v":0},{"$f":"Harmonischen!$C$58/100*SIN(C445*$I$191*PI()/180)","v":0},{"$f":"Harmonischen!$C$59/100*SIN(C445*$J$191*PI()/180)","v":0},{"$f":"Harmonischen!$C$60/100*SIN(C445*$K$191*PI()/180)","v":0},{"$f":"Harmonischen!$C$61/100*SIN(C445*$L$191*PI()/180)","v":0},{"$f":"Harmonischen!$C$62/100*SIN(C445*$M$191*PI()/180)","v":0},{"$f":"Harmonischen!$C$63/100*SIN($C445*$N$191*PI()/180)","v":0},{"$f":"Harmonischen!$C$64/100*SIN($C445*$O$191*PI()/180)","v":0},{"$f":"Harmonischen!$C$65/100*SIN($C445*$P$191*PI()/180)","v":0},{"$f":"Harmonischen!$C$66/100*SIN($C445*$Q$191*PI()/180)","v":0},{"$f":"Harmonischen!$C$67/100*SIN($C445*$R$191*PI()/180)","v":0},{"$f":"Harmonischen!$C$68/100*SIN($C445*$S$191*PI()/180)","v":0},{"$f":"Harmonischen!$C$69/100*SIN($C445*$T$191*PI()/180)","v":0},{"$f":"Harmonischen!$C$70/100*SIN($C445*$U$191*PI()/180)","v":0},{"$f":"Harmonischen!$C$71/100*SIN($C445*$V$191*PI()/180)","v":0},{"$f":"Harmonischen!$C$72/100*SIN($C445*$W$191*PI()/180)","v":0},{"$f":"Harmonischen!$C$73/100*SIN($C445*$X$191*PI()/180)","v":0},{"$f":"Harmonischen!$C$74/100*SIN($C445*$Y$191*PI()/180)","v":0},{"$f":"Harmonischen!$C$75/100*SIN($C445*$Z$191*PI()/180)","v":0},{"$f":"Harmonischen!$C$76/100*SIN($C445*$AA$191*PI()/180)","v":0},{"$f":"Harmonischen!$C$77/100*SIN($C445*$AB$191*PI()/180)","v":0},null,-0.83044067775306785]
[null,null,254,{"$f":"Harmonischen!$C$53/100*SIN(C446*PI()/180)","v":-0.96126169593831901},{"$f":"Harmonischen!$C$54/100*SIN(C446*$E$191*PI()/180)","v":0},{"$f":"Harmonischen!$C$55/100*SIN(C446*$F$191*PI()/180)","v":0.13382612127177138},{"$f":"Harmonischen!$C$56/100*SIN(C446*$G$191*PI()/180)","v":0},{"$f":"Harmonischen!$C$57/100*SIN(C446*$H$191*PI()/180)","v":0},{"$f":"Harmonischen!$C$58/100*SIN(C446*$I$191*PI()/180)","v":0},{"$f":"Harmonischen!$C$59/100*SIN(C446*$J$191*PI()/180)","v":0},{"$f":"Harmonischen!$C$60/100*SIN(C446*$K$191*PI()/180)","v":0},{"$f":"Harmonischen!$C$61/100*SIN(C446*$L$191*PI()/180)","v":0},{"$f":"Harmonischen!$C$62/100*SIN(C446*$M$191*PI()/180)","v":0},{"$f":"Harmonischen!$C$63/100*SIN($C446*$N$191*PI()/180)","v":0},{"$f":"Harmonischen!$C$64/100*SIN($C446*$O$191*PI()/180)","v":0},{"$f":"Harmonischen!$C$65/100*SIN($C446*$P$191*PI()/180)","v":0},{"$f":"Harmonischen!$C$66/100*SIN($C446*$Q$191*PI()/180)","v":0},{"$f":"Harmonischen!$C$67/100*SIN($C446*$R$191*PI()/180)","v":0},{"$f":"Harmonischen!$C$68/100*SIN($C446*$S$191*PI()/180)","v":0},{"$f":"Harmonischen!$C$69/100*SIN($C446*$T$191*PI()/180)","v":0},{"$f":"Harmonischen!$C$70/100*SIN($C446*$U$191*PI()/180)","v":0},{"$f":"Harmonischen!$C$71/100*SIN($C446*$V$191*PI()/180)","v":0},{"$f":"Harmonischen!$C$72/100*SIN($C446*$W$191*PI()/180)","v":0},{"$f":"Harmonischen!$C$73/100*SIN($C446*$X$191*PI()/180)","v":0},{"$f":"Harmonischen!$C$74/100*SIN($C446*$Y$191*PI()/180)","v":0},{"$f":"Harmonischen!$C$75/100*SIN($C446*$Z$191*PI()/180)","v":0},{"$f":"Harmonischen!$C$76/100*SIN($C446*$AA$191*PI()/180)","v":0},{"$f":"Harmonischen!$C$77/100*SIN($C446*$AB$191*PI()/180)","v":0},null,-0.8274355746665476]
[null,null,255,{"$f":"Harmonischen!$C$53/100*SIN(C447*PI()/180)","v":-0.96592582628906831},{"$f":"Harmonischen!$C$54/100*SIN(C447*$E$191*PI()/180)","v":0},{"$f":"Harmonischen!$C$55/100*SIN(C447*$F$191*PI()/180)","v":0.14142135623730931},{"$f":"Harmonischen!$C$56/100*SIN(C447*$G$191*PI()/180)","v":0},{"$f":"Harmonischen!$C$57/100*SIN(C447*$H$191*PI()/180)","v":0},{"$f":"Harmonischen!$C$58/100*SIN(C447*$I$191*PI()/180)","v":0},{"$f":"Harmonischen!$C$59/100*SIN(C447*$J$191*PI()/180)","v":0},{"$f":"Harmonischen!$C$60/100*SIN(C447*$K$191*PI()/180)","v":0},{"$f":"Harmonischen!$C$61/100*SIN(C447*$L$191*PI()/180)","v":0},{"$f":"Harmonischen!$C$62/100*SIN(C447*$M$191*PI()/180)","v":0},{"$f":"Harmonischen!$C$63/100*SIN($C447*$N$191*PI()/180)","v":0},{"$f":"Harmonischen!$C$64/100*SIN($C447*$O$191*PI()/180)","v":0},{"$f":"Harmonischen!$C$65/100*SIN($C447*$P$191*PI()/180)","v":0},{"$f":"Harmonischen!$C$66/100*SIN($C447*$Q$191*PI()/180)","v":0},{"$f":"Harmonischen!$C$67/100*SIN($C447*$R$191*PI()/180)","v":0},{"$f":"Harmonischen!$C$68/100*SIN($C447*$S$191*PI()/180)","v":0},{"$f":"Harmonischen!$C$69/100*SIN($C447*$T$191*PI()/180)","v":0},{"$f":"Harmonischen!$C$70/100*SIN($C447*$U$191*PI()/180)","v":0},{"$f":"Harmonischen!$C$71/100*SIN($C447*$V$191*PI()/180)","v":0},{"$f":"Harmonischen!$C$72/100*SIN($C447*$W$191*PI()/180)","v":0},{"$f":"Harmonischen!$C$73/100*SIN($C447*$X$191*PI()/180)","v":0},{"$f":"Harmonischen!$C$74/100*SIN($C447*$Y$191*PI()/180)","v":0},{"$f":"Harmonischen!$C$75/100*SIN($C447*$Z$191*PI()/180)","v":0},{"$f":"Harmonischen!$C$76/100*SIN($C447*$AA$191*PI()/180)","v":0},{"$f":"Harmonischen!$C$77/100*SIN($C447*$AB$191*PI()/180)","v":0},null,-0.82450447005175898]
[null,null,256,{"$f":"Harmonischen!$C$53/100*SIN(C448*PI()/180)","v":-0.97029572627599647},{"$f":"Harmonischen!$C$54/100*SIN(C448*$E$191*PI()/180)","v":0},{"$f":"Harmonischen!$C$55/100*SIN(C448*$F$191*PI()/180)","v":0.14862896509547871},{"$f":"Harmonischen!$C$56/100*SIN(C448*$G$191*PI()/180)","v":0},{"$f":"Harmonischen!$C$57/100*SIN(C448*$H$191*PI()/180)","v":0},{"$f":"Harmonischen!$C$58/100*SIN(C448*$I$191*PI()/180)","v":0},{"$f":"Harmonischen!$C$59/100*SIN(C448*$J$191*PI()/180)","v":0},{"$f":"Harmonischen!$C$60/100*SIN(C448*$K$191*PI()/180)","v":0},{"$f":"Harmonischen!$C$61/100*SIN(C448*$L$191*PI()/180)","v":0},{"$f":"Harmonischen!$C$62/100*SIN(C448*$M$191*PI()/180)","v":0},{"$f":"Harmonischen!$C$63/100*SIN($C448*$N$191*PI()/180)","v":0},{"$f":"Harmonischen!$C$64/100*SIN($C448*$O$191*PI()/180)","v":0},{"$f":"Harmonischen!$C$65/100*SIN($C448*$P$191*PI()/180)","v":0},{"$f":"Harmonischen!$C$66/100*SIN($C448*$Q$191*PI()/180)","v":0},{"$f":"Harmonischen!$C$67/100*SIN($C448*$R$191*PI()/180)","v":0},{"$f":"Harmonischen!$C$68/100*SIN($C448*$S$191*PI()/180)","v":0},{"$f":"Harmonischen!$C$69/100*SIN($C448*$T$191*PI()/180)","v":0},{"$f":"Harmonischen!$C$70/100*SIN($C448*$U$191*PI()/180)","v":0},{"$f":"Harmonischen!$C$71/100*SIN($C448*$V$191*PI()/180)","v":0},{"$f":"Harmonischen!$C$72/100*SIN($C448*$W$191*PI()/180)","v":0},{"$f":"Harmonischen!$C$73/100*SIN($C448*$X$191*PI()/180)","v":0},{"$f":"Harmonischen!$C$74/100*SIN($C448*$Y$191*PI()/180)","v":0},{"$f":"Harmonischen!$C$75/100*SIN($C448*$Z$191*PI()/180)","v":0},{"$f":"Harmonischen!$C$76/100*SIN($C448*$AA$191*PI()/180)","v":0},{"$f":"Harmonischen!$C$77/100*SIN($C448*$AB$191*PI()/180)","v":0},null,{"$f":"SUM(D448:AB448)","v":-0.82166676118051774}]
[null,null,257,{"$f":"Harmonischen!$C$53/100*SIN(C449*PI()/180)","v":-0.97437006478523513},{"$f":"Harmonischen!$C$54/100*SIN(C449*$E$191*PI()/180)","v":0},{"$f":"Harmonischen!$C$55/100*SIN(C449*$F$191*PI()/180)","v":0.15542919229139407},{"$f":"Harmonischen!$C$56/100*SIN(C449*$G$191*PI()/180)","v":0},{"$f":"Harmonischen!$C$57/100*SIN(C449*$H$191*PI()/180)","v":0},{"$f":"Harmonischen!$C$58/100*SIN(C449*$I$191*PI()/180)","v":0},{"$f":"Harmonischen!$C$59/100*SIN(C449*$J$191*PI()/180)","v":0},{"$f":"Harmonischen!$C$60/100*SIN(C449*$K$191*PI()/180)","v":0},{"$f":"Harmonischen!$C$61/100*SIN(C449*$L$191*PI()/180)","v":0},{"$f":"Harmonischen!$C$62/100*SIN(C449*$M$191*PI()/180)","v":0},{"$f":"Harmonischen!$C$63/100*SIN($C449*$N$191*PI()/180)","v":0},{"$f":"Harmonischen!$C$64/100*SIN($C449*$O$191*PI()/180)","v":0},{"$f":"Harmonischen!$C$65/100*SIN($C449*$P$191*PI()/180)","v":0},{"$f":"Harmonischen!$C$66/100*SIN($C449*$Q$191*PI()/180)","v":0},{"$f":"Harmonischen!$C$67/100*SIN($C449*$R$191*PI()/180)","v":0},{"$f":"Harmonischen!$C$68/100*SIN($C449*$S$191*PI()/180)","v":0},{"$f":"Harmonischen!$C$69/100*SIN($C449*$T$191*PI()/180)","v":0},{"$f":"Harmonischen!$C$70/100*SIN($C449*$U$191*PI()/180)","v":0},{"$f":"Harmonischen!$C$71/100*SIN($C449*$V$191*PI()/180)","v":0},{"$f":"Harmonischen!$C$72/100*SIN($C449*$W$191*PI()/180)","v":0},{"$f":"Harmonischen!$C$73/100*SIN($C449*$X$191*PI()/180)","v":0},{"$f":"Harmonischen!$C$74/100*SIN($C449*$Y$191*PI()/180)","v":0},{"$f":"Harmonischen!$C$75/100*SIN($C449*$Z$191*PI()/180)","v":0},{"$f":"Harmonischen!$C$76/100*SIN($C449*$AA$191*PI()/180)","v":0},{"$f":"Harmonischen!$C$77/100*SIN($C449*$AB$191*PI()/180)","v":0},null,-0.81894087249384107]
[null,null,258,{"$f":"Harmonischen!$C$53/100*SIN(C450*PI()/180)","v":-0.97814760073380558},{"$f":"Harmonischen!$C$54/100*SIN(C450*$E$191*PI()/180)","v":0},{"$f":"Harmonischen!$C$55/100*SIN(C450*$F$191*PI()/180)","v":0.16180339887498962},{"$f":"Harmonischen!$C$56/100*SIN(C450*$G$191*PI()/180)","v":0},{"$f":"Harmonischen!$C$57/100*SIN(C450*$H$191*PI()/180)","v":0},{"$f":"Harmonischen!$C$58/100*SIN(C450*$I$191*PI()/180)","v":0},{"$f":"Harmonischen!$C$59/100*SIN(C450*$J$191*PI()/180)","v":0},{"$f":"Harmonischen!$C$60/100*SIN(C450*$K$191*PI()/180)","v":0},{"$f":"Harmonischen!$C$61/100*SIN(C450*$L$191*PI()/180)","v":0},{"$f":"Harmonischen!$C$62/100*SIN(C450*$M$191*PI()/180)","v":0},{"$f":"Harmonischen!$C$63/100*SIN($C450*$N$191*PI()/180)","v":0},{"$f":"Harmonischen!$C$64/100*SIN($C450*$O$191*PI()/180)","v":0},{"$f":"Harmonischen!$C$65/100*SIN($C450*$P$191*PI()/180)","v":0},{"$f":"Harmonischen!$C$66/100*SIN($C450*$Q$191*PI()/180)","v":0},{"$f":"Harmonischen!$C$67/100*SIN($C450*$R$191*PI()/180)","v":0},{"$f":"Harmonischen!$C$68/100*SIN($C450*$S$191*PI()/180)","v":0},{"$f":"Harmonischen!$C$69/100*SIN($C450*$T$191*PI()/180)","v":0},{"$f":"Harmonischen!$C$70/100*SIN($C450*$U$191*PI()/180)","v":0},{"$f":"Harmonischen!$C$71/100*SIN($C450*$V$191*PI()/180)","v":0},{"$f":"Harmonischen!$C$72/100*SIN($C450*$W$191*PI()/180)","v":0},{"$f":"Harmonischen!$C$73/100*SIN($C450*$X$191*PI()/180)","v":0},{"$f":"Harmonischen!$C$74/100*SIN($C450*$Y$191*PI()/180)","v":0},{"$f":"Harmonischen!$C$75/100*SIN($C450*$Z$191*PI()/180)","v":0},{"$f":"Harmonischen!$C$76/100*SIN($C450*$AA$191*PI()/180)","v":0},{"$f":"Harmonischen!$C$77/100*SIN($C450*$AB$191*PI()/180)","v":0},null,-0.81634420185881595]
[null,null,259,{"$f":"Harmonischen!$C$53/100*SIN(C451*PI()/180)","v":-0.98162718344766386},{"$f":"Harmonischen!$C$54/100*SIN(C451*$E$191*PI()/180)","v":0},{"$f":"Harmonischen!$C$55/100*SIN(C451*$F$191*PI()/180)","v":0.1677341135890846},{"$f":"Harmonischen!$C$56/100*SIN(C451*$G$191*PI()/180)","v":0},{"$f":"Harmonischen!$C$57/100*SIN(C451*$H$191*PI()/180)","v":0},{"$f":"Harmonischen!$C$58/100*SIN(C451*$I$191*PI()/180)","v":0},{"$f":"Harmonischen!$C$59/100*SIN(C451*$J$191*PI()/180)","v":0},{"$f":"Harmonischen!$C$60/100*SIN(C451*$K$191*PI()/180)","v":0},{"$f":"Harmonischen!$C$61/100*SIN(C451*$L$191*PI()/180)","v":0},{"$f":"Harmonischen!$C$62/100*SIN(C451*$M$191*PI()/180)","v":0},{"$f":"Harmonischen!$C$63/100*SIN($C451*$N$191*PI()/180)","v":0},{"$f":"Harmonischen!$C$64/100*SIN($C451*$O$191*PI()/180)","v":0},{"$f":"Harmonischen!$C$65/100*SIN($C451*$P$191*PI()/180)","v":0},{"$f":"Harmonischen!$C$66/100*SIN($C451*$Q$191*PI()/180)","v":0},{"$f":"Harmonischen!$C$67/100*SIN($C451*$R$191*PI()/180)","v":0},{"$f":"Harmonischen!$C$68/100*SIN($C451*$S$191*PI()/180)","v":0},{"$f":"Harmonischen!$C$69/100*SIN($C451*$T$191*PI()/180)","v":0},{"$f":"Harmonischen!$C$70/100*SIN($C451*$U$191*PI()/180)","v":0},{"$f":"Harmonischen!$C$71/100*SIN($C451*$V$191*PI()/180)","v":0},{"$f":"Harmonischen!$C$72/100*SIN($C451*$W$191*PI()/180)","v":0},{"$f":"Harmonischen!$C$73/100*SIN($C451*$X$191*PI()/180)","v":0},{"$f":"Harmonischen!$C$74/100*SIN($C451*$Y$191*PI()/180)","v":0},{"$f":"Harmonischen!$C$75/100*SIN($C451*$Z$191*PI()/180)","v":0},{"$f":"Harmonischen!$C$76/100*SIN($C451*$AA$191*PI()/180)","v":0},{"$f":"Harmonischen!$C$77/100*SIN($C451*$AB$191*PI()/180)","v":0},null,-0.81389306985857923]
[null,null,260,{"$f":"Harmonischen!$C$53/100*SIN(C452*PI()/180)","v":-0.98480775301220802},{"$f":"Harmonischen!$C$54/100*SIN(C452*$E$191*PI()/180)","v":0},{"$f":"Harmonischen!$C$55/100*SIN(C452*$F$191*PI()/180)","v":0.17320508075688756},{"$f":"Harmonischen!$C$56/100*SIN(C452*$G$191*PI()/180)","v":0},{"$f":"Harmonischen!$C$57/100*SIN(C452*$H$191*PI()/180)","v":0},{"$f":"Harmonischen!$C$58/100*SIN(C452*$I$191*PI()/180)","v":0},{"$f":"Harmonischen!$C$59/100*SIN(C452*$J$191*PI()/180)","v":0},{"$f":"Harmonischen!$C$60/100*SIN(C452*$K$191*PI()/180)","v":0},{"$f":"Harmonischen!$C$61/100*SIN(C452*$L$191*PI()/180)","v":0},{"$f":"Harmonischen!$C$62/100*SIN(C452*$M$191*PI()/180)","v":0},{"$f":"Harmonischen!$C$63/100*SIN($C452*$N$191*PI()/180)","v":0},{"$f":"Harmonischen!$C$64/100*SIN($C452*$O$191*PI()/180)","v":0},{"$f":"Harmonischen!$C$65/100*SIN($C452*$P$191*PI()/180)","v":0},{"$f":"Harmonischen!$C$66/100*SIN($C452*$Q$191*PI()/180)","v":0},{"$f":"Harmonischen!$C$67/100*SIN($C452*$R$191*PI()/180)","v":0},{"$f":"Harmonischen!$C$68/100*SIN($C452*$S$191*PI()/180)","v":0},{"$f":"Harmonischen!$C$69/100*SIN($C452*$T$191*PI()/180)","v":0},{"$f":"Harmonischen!$C$70/100*SIN($C452*$U$191*PI()/180)","v":0},{"$f":"Harmonischen!$C$71/100*SIN($C452*$V$191*PI()/180)","v":0},{"$f":"Harmonischen!$C$72/100*SIN($C452*$W$191*PI()/180)","v":0},{"$f":"Harmonischen!$C$73/100*SIN($C452*$X$191*PI()/180)","v":0},{"$f":"Harmonischen!$C$74/100*SIN($C452*$Y$191*PI()/180)","v":0},{"$f":"Harmonischen!$C$75/100*SIN($C452*$Z$191*PI()/180)","v":0},{"$f":"Harmonischen!$C$76/100*SIN($C452*$AA$191*PI()/180)","v":0},{"$f":"Harmonischen!$C$77/100*SIN($C452*$AB$191*PI()/180)","v":0},null,-0.81160267225532046]
[null,null,261,{"$f":"Harmonischen!$C$53/100*SIN(C453*PI()/180)","v":-0.98768834059513766},{"$f":"Harmonischen!$C$54/100*SIN(C453*$E$191*PI()/180)","v":0},{"$f":"Harmonischen!$C$55/100*SIN(C453*$F$191*PI()/180)","v":0.17820130483767346},{"$f":"Harmonischen!$C$56/100*SIN(C453*$G$191*PI()/180)","v":0},{"$f":"Harmonischen!$C$57/100*SIN(C453*$H$191*PI()/180)","v":0},{"$f":"Harmonischen!$C$58/100*SIN(C453*$I$191*PI()/180)","v":0},{"$f":"Harmonischen!$C$59/100*SIN(C453*$J$191*PI()/180)","v":0},{"$f":"Harmonischen!$C$60/100*SIN(C453*$K$191*PI()/180)","v":0},{"$f":"Harmonischen!$C$61/100*SIN(C453*$L$191*PI()/180)","v":0},{"$f":"Harmonischen!$C$62/100*SIN(C453*$M$191*PI()/180)","v":0},{"$f":"Harmonischen!$C$63/100*SIN($C453*$N$191*PI()/180)","v":0},{"$f":"Harmonischen!$C$64/100*SIN($C453*$O$191*PI()/180)","v":0},{"$f":"Harmonischen!$C$65/100*SIN($C453*$P$191*PI()/180)","v":0},{"$f":"Harmonischen!$C$66/100*SIN($C453*$Q$191*PI()/180)","v":0},{"$f":"Harmonischen!$C$67/100*SIN($C453*$R$191*PI()/180)","v":0},{"$f":"Harmonischen!$C$68/100*SIN($C453*$S$191*PI()/180)","v":0},{"$f":"Harmonischen!$C$69/100*SIN($C453*$T$191*PI()/180)","v":0},{"$f":"Harmonischen!$C$70/100*SIN($C453*$U$191*PI()/180)","v":0},{"$f":"Harmonischen!$C$71/100*SIN($C453*$V$191*PI()/180)","v":0},{"$f":"Harmonischen!$C$72/100*SIN($C453*$W$191*PI()/180)","v":0},{"$f":"Harmonischen!$C$73/100*SIN($C453*$X$191*PI()/180)","v":0},{"$f":"Harmonischen!$C$74/100*SIN($C453*$Y$191*PI()/180)","v":0},{"$f":"Harmonischen!$C$75/100*SIN($C453*$Z$191*PI()/180)","v":0},{"$f":"Harmonischen!$C$76/100*SIN($C453*$AA$191*PI()/180)","v":0},{"$f":"Harmonischen!$C$77/100*SIN($C453*$AB$191*PI()/180)","v":0},null,-0.80948703575746417]
[null,null,262,{"$f":"Harmonischen!$C$53/100*SIN(C454*PI()/180)","v":-0.99026806874157036},{"$f":"Harmonischen!$C$54/100*SIN(C454*$E$191*PI()/180)","v":0},{"$f":"Harmonischen!$C$55/100*SIN(C454*$F$191*PI()/180)","v":0.18270909152852011},{"$f":"Harmonischen!$C$56/100*SIN(C454*$G$191*PI()/180)","v":0},{"$f":"Harmonischen!$C$57/100*SIN(C454*$H$191*PI()/180)","v":0},{"$f":"Harmonischen!$C$58/100*SIN(C454*$I$191*PI()/180)","v":0},{"$f":"Harmonischen!$C$59/100*SIN(C454*$J$191*PI()/180)","v":0},{"$f":"Harmonischen!$C$60/100*SIN(C454*$K$191*PI()/180)","v":0},{"$f":"Harmonischen!$C$61/100*SIN(C454*$L$191*PI()/180)","v":0},{"$f":"Harmonischen!$C$62/100*SIN(C454*$M$191*PI()/180)","v":0},{"$f":"Harmonischen!$C$63/100*SIN($C454*$N$191*PI()/180)","v":0},{"$f":"Harmonischen!$C$64/100*SIN($C454*$O$191*PI()/180)","v":0},{"$f":"Harmonischen!$C$65/100*SIN($C454*$P$191*PI()/180)","v":0},{"$f":"Harmonischen!$C$66/100*SIN($C454*$Q$191*PI()/180)","v":0},{"$f":"Harmonischen!$C$67/100*SIN($C454*$R$191*PI()/180)","v":0},{"$f":"Harmonischen!$C$68/100*SIN($C454*$S$191*PI()/180)","v":0},{"$f":"Harmonischen!$C$69/100*SIN($C454*$T$191*PI()/180)","v":0},{"$f":"Harmonischen!$C$70/100*SIN($C454*$U$191*PI()/180)","v":0},{"$f":"Harmonischen!$C$71/100*SIN($C454*$V$191*PI()/180)","v":0},{"$f":"Harmonischen!$C$72/100*SIN($C454*$W$191*PI()/180)","v":0},{"$f":"Harmonischen!$C$73/100*SIN($C454*$X$191*PI()/180)","v":0},{"$f":"Harmonischen!$C$74/100*SIN($C454*$Y$191*PI()/180)","v":0},{"$f":"Harmonischen!$C$75/100*SIN($C454*$Z$191*PI()/180)","v":0},{"$f":"Harmonischen!$C$76/100*SIN($C454*$AA$191*PI()/180)","v":0},{"$f":"Harmonischen!$C$77/100*SIN($C454*$AB$191*PI()/180)","v":0},null,-0.80755897721305026]
[null,null,263,{"$f":"Harmonischen!$C$53/100*SIN(C455*PI()/180)","v":-0.99254615164132209},{"$f":"Harmonischen!$C$54/100*SIN(C455*$E$191*PI()/180)","v":0},{"$f":"Harmonischen!$C$55/100*SIN(C455*$F$191*PI()/180)","v":0.18671608529944042},{"$f":"Harmonischen!$C$56/100*SIN(C455*$G$191*PI()/180)","v":0},{"$f":"Harmonischen!$C$57/100*SIN(C455*$H$191*PI()/180)","v":0},{"$f":"Harmonischen!$C$58/100*SIN(C455*$I$191*PI()/180)","v":0},{"$f":"Harmonischen!$C$59/100*SIN(C455*$J$191*PI()/180)","v":0},{"$f":"Harmonischen!$C$60/100*SIN(C455*$K$191*PI()/180)","v":0},{"$f":"Harmonischen!$C$61/100*SIN(C455*$L$191*PI()/180)","v":0},{"$f":"Harmonischen!$C$62/100*SIN(C455*$M$191*PI()/180)","v":0},{"$f":"Harmonischen!$C$63/100*SIN($C455*$N$191*PI()/180)","v":0},{"$f":"Harmonischen!$C$64/100*SIN($C455*$O$191*PI()/180)","v":0},{"$f":"Harmonischen!$C$65/100*SIN($C455*$P$191*PI()/180)","v":0},{"$f":"Harmonischen!$C$66/100*SIN($C455*$Q$191*PI()/180)","v":0},{"$f":"Harmonischen!$C$67/100*SIN($C455*$R$191*PI()/180)","v":0},{"$f":"Harmonischen!$C$68/100*SIN($C455*$S$191*PI()/180)","v":0},{"$f":"Harmonischen!$C$69/100*SIN($C455*$T$191*PI()/180)","v":0},{"$f":"Harmonischen!$C$70/100*SIN($C455*$U$191*PI()/180)","v":0},{"$f":"Harmonischen!$C$71/100*SIN($C455*$V$191*PI()/180)","v":0},{"$f":"Harmonischen!$C$72/100*SIN($C455*$W$191*PI()/180)","v":0},{"$f":"Harmonischen!$C$73/100*SIN($C455*$X$191*PI()/180)","v":0},{"$f":"Harmonischen!$C$74/100*SIN($C455*$Y$191*PI()/180)","v":0},{"$f":"Harmonischen!$C$75/100*SIN($C455*$Z$191*PI()/180)","v":0},{"$f":"Harmonischen!$C$76/100*SIN($C455*$AA$191*PI()/180)","v":0},{"$f":"Harmonischen!$C$77/100*SIN($C455*$AB$191*PI()/180)","v":0},null,-0.8058300663418817]
[null,null,264,{"$f":"Harmonischen!$C$53/100*SIN(C456*PI()/180)","v":-0.9945218953682734},{"$f":"Harmonischen!$C$54/100*SIN(C456*$E$191*PI()/180)","v":0},{"$f":"Harmonischen!$C$55/100*SIN(C456*$F$191*PI()/180)","v":0.1902113032590308},{"$f":"Harmonischen!$C$56/100*SIN(C456*$G$191*PI()/180)","v":0},{"$f":"Harmonischen!$C$57/100*SIN(C456*$H$191*PI()/180)","v":0},{"$f":"Harmonischen!$C$58/100*SIN(C456*$I$191*PI()/180)","v":0},{"$f":"Harmonischen!$C$59/100*SIN(C456*$J$191*PI()/180)","v":0},{"$f":"Harmonischen!$C$60/100*SIN(C456*$K$191*PI()/180)","v":0},{"$f":"Harmonischen!$C$61/100*SIN(C456*$L$191*PI()/180)","v":0},{"$f":"Harmonischen!$C$62/100*SIN(C456*$M$191*PI()/180)","v":0},{"$f":"Harmonischen!$C$63/100*SIN($C456*$N$191*PI()/180)","v":0},{"$f":"Harmonischen!$C$64/100*SIN($C456*$O$191*PI()/180)","v":0},{"$f":"Harmonischen!$C$65/100*SIN($C456*$P$191*PI()/180)","v":0},{"$f":"Harmonischen!$C$66/100*SIN($C456*$Q$191*PI()/180)","v":0},{"$f":"Harmonischen!$C$67/100*SIN($C456*$R$191*PI()/180)","v":0},{"$f":"Harmonischen!$C$68/100*SIN($C456*$S$191*PI()/180)","v":0},{"$f":"Harmonischen!$C$69/100*SIN($C456*$T$191*PI()/180)","v":0},{"$f":"Harmonischen!$C$70/100*SIN($C456*$U$191*PI()/180)","v":0},{"$f":"Harmonischen!$C$71/100*SIN($C456*$V$191*PI()/180)","v":0},{"$f":"Harmonischen!$C$72/100*SIN($C456*$W$191*PI()/180)","v":0},{"$f":"Harmonischen!$C$73/100*SIN($C456*$X$191*PI()/180)","v":0},{"$f":"Harmonischen!$C$74/100*SIN($C456*$Y$191*PI()/180)","v":0},{"$f":"Harmonischen!$C$75/100*SIN($C456*$Z$191*PI()/180)","v":0},{"$f":"Harmonischen!$C$76/100*SIN($C456*$AA$191*PI()/180)","v":0},{"$f":"Harmonischen!$C$77/100*SIN($C456*$AB$191*PI()/180)","v":0},null,-0.80431059210924261]
[null,null,265,{"$f":"Harmonischen!$C$53/100*SIN(C457*PI()/180)","v":-0.99619469809174555},{"$f":"Harmonischen!$C$54/100*SIN(C457*$E$191*PI()/180)","v":0},{"$f":"Harmonischen!$C$55/100*SIN(C457*$F$191*PI()/180)","v":0.19318516525781357},{"$f":"Harmonischen!$C$56/100*SIN(C457*$G$191*PI()/180)","v":0},{"$f":"Harmonischen!$C$57/100*SIN(C457*$H$191*PI()/180)","v":0},{"$f":"Harmonischen!$C$58/100*SIN(C457*$I$191*PI()/180)","v":0},{"$f":"Harmonischen!$C$59/100*SIN(C457*$J$191*PI()/180)","v":0},{"$f":"Harmonischen!$C$60/100*SIN(C457*$K$191*PI()/180)","v":0},{"$f":"Harmonischen!$C$61/100*SIN(C457*$L$191*PI()/180)","v":0},{"$f":"Harmonischen!$C$62/100*SIN(C457*$M$191*PI()/180)","v":0},{"$f":"Harmonischen!$C$63/100*SIN($C457*$N$191*PI()/180)","v":0},{"$f":"Harmonischen!$C$64/100*SIN($C457*$O$191*PI()/180)","v":0},{"$f":"Harmonischen!$C$65/100*SIN($C457*$P$191*PI()/180)","v":0},{"$f":"Harmonischen!$C$66/100*SIN($C457*$Q$191*PI()/180)","v":0},{"$f":"Harmonischen!$C$67/100*SIN($C457*$R$191*PI()/180)","v":0},{"$f":"Harmonischen!$C$68/100*SIN($C457*$S$191*PI()/180)","v":0},{"$f":"Harmonischen!$C$69/100*SIN($C457*$T$191*PI()/180)","v":0},{"$f":"Harmonischen!$C$70/100*SIN($C457*$U$191*PI()/180)","v":0},{"$f":"Harmonischen!$C$71/100*SIN($C457*$V$191*PI()/180)","v":0},{"$f":"Harmonischen!$C$72/100*SIN($C457*$W$191*PI()/180)","v":0},{"$f":"Harmonischen!$C$73/100*SIN($C457*$X$191*PI()/180)","v":0},{"$f":"Harmonischen!$C$74/100*SIN($C457*$Y$191*PI()/180)","v":0},{"$f":"Harmonischen!$C$75/100*SIN($C457*$Z$191*PI()/180)","v":0},{"$f":"Harmonischen!$C$76/100*SIN($C457*$AA$191*PI()/180)","v":0},{"$f":"Harmonischen!$C$77/100*SIN($C457*$AB$191*PI()/180)","v":0},null,-0.80300953283393195]
[null,null,266,{"$f":"Harmonischen!$C$53/100*SIN(C458*PI()/180)","v":-0.9975640502598242},{"$f":"Harmonischen!$C$54/100*SIN(C458*$E$191*PI()/180)","v":0},{"$f":"Harmonischen!$C$55/100*SIN(C458*$F$191*PI()/180)","v":0.19562952014676105},{"$f":"Harmonischen!$C$56/100*SIN(C458*$G$191*PI()/180)","v":0},{"$f":"Harmonischen!$C$57/100*SIN(C458*$H$191*PI()/180)","v":0},{"$f":"Harmonischen!$C$58/100*SIN(C458*$I$191*PI()/180)","v":0},{"$f":"Harmonischen!$C$59/100*SIN(C458*$J$191*PI()/180)","v":0},{"$f":"Harmonischen!$C$60/100*SIN(C458*$K$191*PI()/180)","v":0},{"$f":"Harmonischen!$C$61/100*SIN(C458*$L$191*PI()/180)","v":0},{"$f":"Harmonischen!$C$62/100*SIN(C458*$M$191*PI()/180)","v":0},{"$f":"Harmonischen!$C$63/100*SIN($C458*$N$191*PI()/180)","v":0},{"$f":"Harmonischen!$C$64/100*SIN($C458*$O$191*PI()/180)","v":0},{"$f":"Harmonischen!$C$65/100*SIN($C458*$P$191*PI()/180)","v":0},{"$f":"Harmonischen!$C$66/100*SIN($C458*$Q$191*PI()/180)","v":0},{"$f":"Harmonischen!$C$67/100*SIN($C458*$R$191*PI()/180)","v":0},{"$f":"Harmonischen!$C$68/100*SIN($C458*$S$191*PI()/180)","v":0},{"$f":"Harmonischen!$C$69/100*SIN($C458*$T$191*PI()/180)","v":0},{"$f":"Harmonischen!$C$70/100*SIN($C458*$U$191*PI()/180)","v":0},{"$f":"Harmonischen!$C$71/100*SIN($C458*$V$191*PI()/180)","v":0},{"$f":"Harmonischen!$C$72/100*SIN($C458*$W$191*PI()/180)","v":0},{"$f":"Harmonischen!$C$73/100*SIN($C458*$X$191*PI()/180)","v":0},{"$f":"Harmonischen!$C$74/100*SIN($C458*$Y$191*PI()/180)","v":0},{"$f":"Harmonischen!$C$75/100*SIN($C458*$Z$191*PI()/180)","v":0},{"$f":"Harmonischen!$C$76/100*SIN($C458*$AA$191*PI()/180)","v":0},{"$f":"Harmonischen!$C$77/100*SIN($C458*$AB$191*PI()/180)","v":0},null,-0.80193453011306315]
[null,null,267,{"$f":"Harmonischen!$C$53/100*SIN(C459*PI()/180)","v":-0.99862953475457383},{"$f":"Harmonischen!$C$54/100*SIN(C459*$E$191*PI()/180)","v":0},{"$f":"Harmonischen!$C$55/100*SIN(C459*$F$191*PI()/180)","v":0.19753766811902751},{"$f":"Harmonischen!$C$56/100*SIN(C459*$G$191*PI()/180)","v":0},{"$f":"Harmonischen!$C$57/100*SIN(C459*$H$191*PI()/180)","v":0},{"$f":"Harmonischen!$C$58/100*SIN(C459*$I$191*PI()/180)","v":0},{"$f":"Harmonischen!$C$59/100*SIN(C459*$J$191*PI()/180)","v":0},{"$f":"Harmonischen!$C$60/100*SIN(C459*$K$191*PI()/180)","v":0},{"$f":"Harmonischen!$C$61/100*SIN(C459*$L$191*PI()/180)","v":0},{"$f":"Harmonischen!$C$62/100*SIN(C459*$M$191*PI()/180)","v":0},{"$f":"Harmonischen!$C$63/100*SIN($C459*$N$191*PI()/180)","v":0},{"$f":"Harmonischen!$C$64/100*SIN($C459*$O$191*PI()/180)","v":0},{"$f":"Harmonischen!$C$65/100*SIN($C459*$P$191*PI()/180)","v":0},{"$f":"Harmonischen!$C$66/100*SIN($C459*$Q$191*PI()/180)","v":0},{"$f":"Harmonischen!$C$67/100*SIN($C459*$R$191*PI()/180)","v":0},{"$f":"Harmonischen!$C$68/100*SIN($C459*$S$191*PI()/180)","v":0},{"$f":"Harmonischen!$C$69/100*SIN($C459*$T$191*PI()/180)","v":0},{"$f":"Harmonischen!$C$70/100*SIN($C459*$U$191*PI()/180)","v":0},{"$f":"Harmonischen!$C$71/100*SIN($C459*$V$191*PI()/180)","v":0},{"$f":"Harmonischen!$C$72/100*SIN($C459*$W$191*PI()/180)","v":0},{"$f":"Harmonischen!$C$73/100*SIN($C459*$X$191*PI()/180)","v":0},{"$f":"Harmonischen!$C$74/100*SIN($C459*$Y$191*PI()/180)","v":0},{"$f":"Harmonischen!$C$75/100*SIN($C459*$Z$191*PI()/180)","v":0},{"$f":"Harmonischen!$C$76/100*SIN($C459*$AA$191*PI()/180)","v":0},{"$f":"Harmonischen!$C$77/100*SIN($C459*$AB$191*PI()/180)","v":0},null,-0.80109186663554632]
[null,null,268,{"$f":"Harmonischen!$C$53/100*SIN(C460*PI()/180)","v":-0.99939082701909565},{"$f":"Harmonischen!$C$54/100*SIN(C460*$E$191*PI()/180)","v":0},{"$f":"Harmonischen!$C$55/100*SIN(C460*$F$191*PI()/180)","v":0.19890437907365469},{"$f":"Harmonischen!$C$56/100*SIN(C460*$G$191*PI()/180)","v":0},{"$f":"Harmonischen!$C$57/100*SIN(C460*$H$191*PI()/180)","v":0},{"$f":"Harmonischen!$C$58/100*SIN(C460*$I$191*PI()/180)","v":0},{"$f":"Harmonischen!$C$59/100*SIN(C460*$J$191*PI()/180)","v":0},{"$f":"Harmonischen!$C$60/100*SIN(C460*$K$191*PI()/180)","v":0},{"$f":"Harmonischen!$C$61/100*SIN(C460*$L$191*PI()/180)","v":0},{"$f":"Harmonischen!$C$62/100*SIN(C460*$M$191*PI()/180)","v":0},{"$f":"Harmonischen!$C$63/100*SIN($C460*$N$191*PI()/180)","v":0},{"$f":"Harmonischen!$C$64/100*SIN($C460*$O$191*PI()/180)","v":0},{"$f":"Harmonischen!$C$65/100*SIN($C460*$P$191*PI()/180)","v":0},{"$f":"Harmonischen!$C$66/100*SIN($C460*$Q$191*PI()/180)","v":0},{"$f":"Harmonischen!$C$67/100*SIN($C460*$R$191*PI()/180)","v":0},{"$f":"Harmonischen!$C$68/100*SIN($C460*$S$191*PI()/180)","v":0},{"$f":"Harmonischen!$C$69/100*SIN($C460*$T$191*PI()/180)","v":0},{"$f":"Harmonischen!$C$70/100*SIN($C460*$U$191*PI()/180)","v":0},{"$f":"Harmonischen!$C$71/100*SIN($C460*$V$191*PI()/180)","v":0},{"$f":"Harmonischen!$C$72/100*SIN($C460*$W$191*PI()/180)","v":0},{"$f":"Harmonischen!$C$73/100*SIN($C460*$X$191*PI()/180)","v":0},{"$f":"Harmonischen!$C$74/100*SIN($C460*$Y$191*PI()/180)","v":0},{"$f":"Harmonischen!$C$75/100*SIN($C460*$Z$191*PI()/180)","v":0},{"$f":"Harmonischen!$C$76/100*SIN($C460*$AA$191*PI()/180)","v":0},{"$f":"Harmonischen!$C$77/100*SIN($C460*$AB$191*PI()/180)","v":0},null,-0.80048644794544099]
[null,null,269,{"$f":"Harmonischen!$C$53/100*SIN(C461*PI()/180)","v":-0.99984769515639127},{"$f":"Harmonischen!$C$54/100*SIN(C461*$E$191*PI()/180)","v":0},{"$f":"Harmonischen!$C$55/100*SIN(C461*$F$191*PI()/180)","v":0.1997259069509148},{"$f":"Harmonischen!$C$56/100*SIN(C461*$G$191*PI()/180)","v":0},{"$f":"Harmonischen!$C$57/100*SIN(C461*$H$191*PI()/180)","v":0},{"$f":"Harmonischen!$C$58/100*SIN(C461*$I$191*PI()/180)","v":0},{"$f":"Harmonischen!$C$59/100*SIN(C461*$J$191*PI()/180)","v":0},{"$f":"Harmonischen!$C$60/100*SIN(C461*$K$191*PI()/180)","v":0},{"$f":"Harmonischen!$C$61/100*SIN(C461*$L$191*PI()/180)","v":0},{"$f":"Harmonischen!$C$62/100*SIN(C461*$M$191*PI()/180)","v":0},{"$f":"Harmonischen!$C$63/100*SIN($C461*$N$191*PI()/180)","v":0},{"$f":"Harmonischen!$C$64/100*SIN($C461*$O$191*PI()/180)","v":0},{"$f":"Harmonischen!$C$65/100*SIN($C461*$P$191*PI()/180)","v":0},{"$f":"Harmonischen!$C$66/100*SIN($C461*$Q$191*PI()/180)","v":0},{"$f":"Harmonischen!$C$67/100*SIN($C461*$R$191*PI()/180)","v":0},{"$f":"Harmonischen!$C$68/100*SIN($C461*$S$191*PI()/180)","v":0},{"$f":"Harmonischen!$C$69/100*SIN($C461*$T$191*PI()/180)","v":0},{"$f":"Harmonischen!$C$70/100*SIN($C461*$U$191*PI()/180)","v":0},{"$f":"Harmonischen!$C$71/100*SIN($C461*$V$191*PI()/180)","v":0},{"$f":"Harmonischen!$C$72/100*SIN($C461*$W$191*PI()/180)","v":0},{"$f":"Harmonischen!$C$73/100*SIN($C461*$X$191*PI()/180)","v":0},{"$f":"Harmonischen!$C$74/100*SIN($C461*$Y$191*PI()/180)","v":0},{"$f":"Harmonischen!$C$75/100*SIN($C461*$Z$191*PI()/180)","v":0},{"$f":"Harmonischen!$C$76/100*SIN($C461*$AA$191*PI()/180)","v":0},{"$f":"Harmonischen!$C$77/100*SIN($C461*$AB$191*PI()/180)","v":0},null,-0.80012178820547653]
[null,null,270,{"$f":"Harmonischen!$C$53/100*SIN(C462*PI()/180)","v":-1},{"$f":"Harmonischen!$C$54/100*SIN(C462*$E$191*PI()/180)","v":0},{"$f":"Harmonischen!$C$55/100*SIN(C462*$F$191*PI()/180)","v":0.2},{"$f":"Harmonischen!$C$56/100*SIN(C462*$G$191*PI()/180)","v":0},{"$f":"Harmonischen!$C$57/100*SIN(C462*$H$191*PI()/180)","v":0},{"$f":"Harmonischen!$C$58/100*SIN(C462*$I$191*PI()/180)","v":0},{"$f":"Harmonischen!$C$59/100*SIN(C462*$J$191*PI()/180)","v":0},{"$f":"Harmonischen!$C$60/100*SIN(C462*$K$191*PI()/180)","v":0},{"$f":"Harmonischen!$C$61/100*SIN(C462*$L$191*PI()/180)","v":0},{"$f":"Harmonischen!$C$62/100*SIN(C462*$M$191*PI()/180)","v":0},{"$f":"Harmonischen!$C$63/100*SIN($C462*$N$191*PI()/180)","v":0},{"$f":"Harmonischen!$C$64/100*SIN($C462*$O$191*PI()/180)","v":0},{"$f":"Harmonischen!$C$65/100*SIN($C462*$P$191*PI()/180)","v":0},{"$f":"Harmonischen!$C$66/100*SIN($C462*$Q$191*PI()/180)","v":0},{"$f":"Harmonischen!$C$67/100*SIN($C462*$R$191*PI()/180)","v":0},{"$f":"Harmonischen!$C$68/100*SIN($C462*$S$191*PI()/180)","v":0},{"$f":"Harmonischen!$C$69/100*SIN($C462*$T$191*PI()/180)","v":0},{"$f":"Harmonischen!$C$70/100*SIN($C462*$U$191*PI()/180)","v":0},{"$f":"Harmonischen!$C$71/100*SIN($C462*$V$191*PI()/180)","v":0},{"$f":"Harmonischen!$C$72/100*SIN($C462*$W$191*PI()/180)","v":0},{"$f":"Harmonischen!$C$73/100*SIN($C462*$X$191*PI()/180)","v":0},{"$f":"Harmonischen!$C$74/100*SIN($C462*$Y$191*PI()/180)","v":0},{"$f":"Harmonischen!$C$75/100*SIN($C462*$Z$191*PI()/180)","v":0},{"$f":"Harmonischen!$C$76/100*SIN($C462*$AA$191*PI()/180)","v":0},{"$f":"Harmonischen!$C$77/100*SIN($C462*$AB$191*PI()/180)","v":0},null,-0.8]
[null,null,271,{"$f":"Harmonischen!$C$53/100*SIN(C463*PI()/180)","v":-0.99984769515639127},{"$f":"Harmonischen!$C$54/100*SIN(C463*$E$191*PI()/180)","v":0},{"$f":"Harmonischen!$C$55/100*SIN(C463*$F$191*PI()/180)","v":0.1997259069509148},{"$f":"Harmonischen!$C$56/100*SIN(C463*$G$191*PI()/180)","v":0},{"$f":"Harmonischen!$C$57/100*SIN(C463*$H$191*PI()/180)","v":0},{"$f":"Harmonischen!$C$58/100*SIN(C463*$I$191*PI()/180)","v":0},{"$f":"Harmonischen!$C$59/100*SIN(C463*$J$191*PI()/180)","v":0},{"$f":"Harmonischen!$C$60/100*SIN(C463*$K$191*PI()/180)","v":0},{"$f":"Harmonischen!$C$61/100*SIN(C463*$L$191*PI()/180)","v":0},{"$f":"Harmonischen!$C$62/100*SIN(C463*$M$191*PI()/180)","v":0},{"$f":"Harmonischen!$C$63/100*SIN($C463*$N$191*PI()/180)","v":0},{"$f":"Harmonischen!$C$64/100*SIN($C463*$O$191*PI()/180)","v":0},{"$f":"Harmonischen!$C$65/100*SIN($C463*$P$191*PI()/180)","v":0},{"$f":"Harmonischen!$C$66/100*SIN($C463*$Q$191*PI()/180)","v":0},{"$f":"Harmonischen!$C$67/100*SIN($C463*$R$191*PI()/180)","v":0},{"$f":"Harmonischen!$C$68/100*SIN($C463*$S$191*PI()/180)","v":0},{"$f":"Harmonischen!$C$69/100*SIN($C463*$T$191*PI()/180)","v":0},{"$f":"Harmonischen!$C$70/100*SIN($C463*$U$191*PI()/180)","v":0},{"$f":"Harmonischen!$C$71/100*SIN($C463*$V$191*PI()/180)","v":0},{"$f":"Harmonischen!$C$72/100*SIN($C463*$W$191*PI()/180)","v":0},{"$f":"Harmonischen!$C$73/100*SIN($C463*$X$191*PI()/180)","v":0},{"$f":"Harmonischen!$C$74/100*SIN($C463*$Y$191*PI()/180)","v":0},{"$f":"Harmonischen!$C$75/100*SIN($C463*$Z$191*PI()/180)","v":0},{"$f":"Harmonischen!$C$76/100*SIN($C463*$AA$191*PI()/180)","v":0},{"$f":"Harmonischen!$C$77/100*SIN($C463*$AB$191*PI()/180)","v":0},null,-0.80012178820547653]
[null,null,272,{"$f":"Harmonischen!$C$53/100*SIN(C464*PI()/180)","v":-0.99939082701909576},{"$f":"Harmonischen!$C$54/100*SIN(C464*$E$191*PI()/180)","v":0},{"$f":"Harmonischen!$C$55/100*SIN(C464*$F$191*PI()/180)","v":0.19890437907365471},{"$f":"Harmonischen!$C$56/100*SIN(C464*$G$191*PI()/180)","v":0},{"$f":"Harmonischen!$C$57/100*SIN(C464*$H$191*PI()/180)","v":0},{"$f":"Harmonischen!$C$58/100*SIN(C464*$I$191*PI()/180)","v":0},{"$f":"Harmonischen!$C$59/100*SIN(C464*$J$191*PI()/180)","v":0},{"$f":"Harmonischen!$C$60/100*SIN(C464*$K$191*PI()/180)","v":0},{"$f":"Harmonischen!$C$61/100*SIN(C464*$L$191*PI()/180)","v":0},{"$f":"Harmonischen!$C$62/100*SIN(C464*$M$191*PI()/180)","v":0},{"$f":"Harmonischen!$C$63/100*SIN($C464*$N$191*PI()/180)","v":0},{"$f":"Harmonischen!$C$64/100*SIN($C464*$O$191*PI()/180)","v":0},{"$f":"Harmonischen!$C$65/100*SIN($C464*$P$191*PI()/180)","v":0},{"$f":"Harmonischen!$C$66/100*SIN($C464*$Q$191*PI()/180)","v":0},{"$f":"Harmonischen!$C$67/100*SIN($C464*$R$191*PI()/180)","v":0},{"$f":"Harmonischen!$C$68/100*SIN($C464*$S$191*PI()/180)","v":0},{"$f":"Harmonischen!$C$69/100*SIN($C464*$T$191*PI()/180)","v":0},{"$f":"Harmonischen!$C$70/100*SIN($C464*$U$191*PI()/180)","v":0},{"$f":"Harmonischen!$C$71/100*SIN($C464*$V$191*PI()/180)","v":0},{"$f":"Harmonischen!$C$72/100*SIN($C464*$W$191*PI()/180)","v":0},{"$f":"Harmonischen!$C$73/100*SIN($C464*$X$191*PI()/180)","v":0},{"$f":"Harmonischen!$C$74/100*SIN($C464*$Y$191*PI()/180)","v":0},{"$f":"Harmonischen!$C$75/100*SIN($C464*$Z$191*PI()/180)","v":0},{"$f":"Harmonischen!$C$76/100*SIN($C464*$AA$191*PI()/180)","v":0},{"$f":"Harmonischen!$C$77/100*SIN($C464*$AB$191*PI()/180)","v":0},null,-0.80048644794544099]
[null,null,273,{"$f":"Harmonischen!$C$53/100*SIN(C465*PI()/180)","v":-0.99862953475457383},{"$f":"Harmonischen!$C$54/100*SIN(C465*$E$191*PI()/180)","v":0},{"$f":"Harmonischen!$C$55/100*SIN(C465*$F$191*PI()/180)","v":0.19753766811902754},{"$f":"Harmonischen!$C$56/100*SIN(C465*$G$191*PI()/180)","v":0},{"$f":"Harmonischen!$C$57/100*SIN(C465*$H$191*PI()/180)","v":0},{"$f":"Harmonischen!$C$58/100*SIN(C465*$I$191*PI()/180)","v":0},{"$f":"Harmonischen!$C$59/100*SIN(C465*$J$191*PI()/180)","v":0},{"$f":"Harmonischen!$C$60/100*SIN(C465*$K$191*PI()/180)","v":0},{"$f":"Harmonischen!$C$61/100*SIN(C465*$L$191*PI()/180)","v":0},{"$f":"Harmonischen!$C$62/100*SIN(C465*$M$191*PI()/180)","v":0},{"$f":"Harmonischen!$C$63/100*SIN($C465*$N$191*PI()/180)","v":0},{"$f":"Harmonischen!$C$64/100*SIN($C465*$O$191*PI()/180)","v":0},{"$f":"Harmonischen!$C$65/100*SIN($C465*$P$191*PI()/180)","v":0},{"$f":"Harmonischen!$C$66/100*SIN($C465*$Q$191*PI()/180)","v":0},{"$f":"Harmonischen!$C$67/100*SIN($C465*$R$191*PI()/180)","v":0},{"$f":"Harmonischen!$C$68/100*SIN($C465*$S$191*PI()/180)","v":0},{"$f":"Harmonischen!$C$69/100*SIN($C465*$T$191*PI()/180)","v":0},{"$f":"Harmonischen!$C$70/100*SIN($C465*$U$191*PI()/180)","v":0},{"$f":"Harmonischen!$C$71/100*SIN($C465*$V$191*PI()/180)","v":0},{"$f":"Harmonischen!$C$72/100*SIN($C465*$W$191*PI()/180)","v":0},{"$f":"Harmonischen!$C$73/100*SIN($C465*$X$191*PI()/180)","v":0},{"$f":"Harmonischen!$C$74/100*SIN($C465*$Y$191*PI()/180)","v":0},{"$f":"Harmonischen!$C$75/100*SIN($C465*$Z$191*PI()/180)","v":0},{"$f":"Harmonischen!$C$76/100*SIN($C465*$AA$191*PI()/180)","v":0},{"$f":"Harmonischen!$C$77/100*SIN($C465*$AB$191*PI()/180)","v":0},null,-0.80109186663554632]
[null,null,274,{"$f":"Harmonischen!$C$53/100*SIN(C466*PI()/180)","v":-0.99756405025982431},{"$f":"Harmonischen!$C$54/100*SIN(C466*$E$191*PI()/180)","v":0},{"$f":"Harmonischen!$C$55/100*SIN(C466*$F$191*PI()/180)","v":0.1956295201467611},{"$f":"Harmonischen!$C$56/100*SIN(C466*$G$191*PI()/180)","v":0},{"$f":"Harmonischen!$C$57/100*SIN(C466*$H$191*PI()/180)","v":0},{"$f":"Harmonischen!$C$58/100*SIN(C466*$I$191*PI()/180)","v":0},{"$f":"Harmonischen!$C$59/100*SIN(C466*$J$191*PI()/180)","v":0},{"$f":"Harmonischen!$C$60/100*SIN(C466*$K$191*PI()/180)","v":0},{"$f":"Harmonischen!$C$61/100*SIN(C466*$L$191*PI()/180)","v":0},{"$f":"Harmonischen!$C$62/100*SIN(C466*$M$191*PI()/180)","v":0},{"$f":"Harmonischen!$C$63/100*SIN($C466*$N$191*PI()/180)","v":0},{"$f":"Harmonischen!$C$64/100*SIN($C466*$O$191*PI()/180)","v":0},{"$f":"Harmonischen!$C$65/100*SIN($C466*$P$191*PI()/180)","v":0},{"$f":"Harmonischen!$C$66/100*SIN($C466*$Q$191*PI()/180)","v":0},{"$f":"Harmonischen!$C$67/100*SIN($C466*$R$191*PI()/180)","v":0},{"$f":"Harmonischen!$C$68/100*SIN($C466*$S$191*PI()/180)","v":0},{"$f":"Harmonischen!$C$69/100*SIN($C466*$T$191*PI()/180)","v":0},{"$f":"Harmonischen!$C$70/100*SIN($C466*$U$191*PI()/180)","v":0},{"$f":"Harmonischen!$C$71/100*SIN($C466*$V$191*PI()/180)","v":0},{"$f":"Harmonischen!$C$72/100*SIN($C466*$W$191*PI()/180)","v":0},{"$f":"Harmonischen!$C$73/100*SIN($C466*$X$191*PI()/180)","v":0},{"$f":"Harmonischen!$C$74/100*SIN($C466*$Y$191*PI()/180)","v":0},{"$f":"Harmonischen!$C$75/100*SIN($C466*$Z$191*PI()/180)","v":0},{"$f":"Harmonischen!$C$76/100*SIN($C466*$AA$191*PI()/180)","v":0},{"$f":"Harmonischen!$C$77/100*SIN($C466*$AB$191*PI()/180)","v":0},null,-0.80193453011306315]
[null,null,275,{"$f":"Harmonischen!$C$53/100*SIN(C467*PI()/180)","v":-0.99619469809174555},{"$f":"Harmonischen!$C$54/100*SIN(C467*$E$191*PI()/180)","v":0},{"$f":"Harmonischen!$C$55/100*SIN(C467*$F$191*PI()/180)","v":0.19318516525781362},{"$f":"Harmonischen!$C$56/100*SIN(C467*$G$191*PI()/180)","v":0},{"$f":"Harmonischen!$C$57/100*SIN(C467*$H$191*PI()/180)","v":0},{"$f":"Harmonischen!$C$58/100*SIN(C467*$I$191*PI()/180)","v":0},{"$f":"Harmonischen!$C$59/100*SIN(C467*$J$191*PI()/180)","v":0},{"$f":"Harmonischen!$C$60/100*SIN(C467*$K$191*PI()/180)","v":0},{"$f":"Harmonischen!$C$61/100*SIN(C467*$L$191*PI()/180)","v":0},{"$f":"Harmonischen!$C$62/100*SIN(C467*$M$191*PI()/180)","v":0},{"$f":"Harmonischen!$C$63/100*SIN($C467*$N$191*PI()/180)","v":0},{"$f":"Harmonischen!$C$64/100*SIN($C467*$O$191*PI()/180)","v":0},{"$f":"Harmonischen!$C$65/100*SIN($C467*$P$191*PI()/180)","v":0},{"$f":"Harmonischen!$C$66/100*SIN($C467*$Q$191*PI()/180)","v":0},{"$f":"Harmonischen!$C$67/100*SIN($C467*$R$191*PI()/180)","v":0},{"$f":"Harmonischen!$C$68/100*SIN($C467*$S$191*PI()/180)","v":0},{"$f":"Harmonischen!$C$69/100*SIN($C467*$T$191*PI()/180)","v":0},{"$f":"Harmonischen!$C$70/100*SIN($C467*$U$191*PI()/180)","v":0},{"$f":"Harmonischen!$C$71/100*SIN($C467*$V$191*PI()/180)","v":0},{"$f":"Harmonischen!$C$72/100*SIN($C467*$W$191*PI()/180)","v":0},{"$f":"Harmonischen!$C$73/100*SIN($C467*$X$191*PI()/180)","v":0},{"$f":"Harmonischen!$C$74/100*SIN($C467*$Y$191*PI()/180)","v":0},{"$f":"Harmonischen!$C$75/100*SIN($C467*$Z$191*PI()/180)","v":0},{"$f":"Harmonischen!$C$76/100*SIN($C467*$AA$191*PI()/180)","v":0},{"$f":"Harmonischen!$C$77/100*SIN($C467*$AB$191*PI()/180)","v":0},null,-0.80300953283393195]
[null,null,276,{"$f":"Harmonischen!$C$53/100*SIN(C468*PI()/180)","v":-0.9945218953682734},{"$f":"Harmonischen!$C$54/100*SIN(C468*$E$191*PI()/180)","v":0},{"$f":"Harmonischen!$C$55/100*SIN(C468*$F$191*PI()/180)","v":0.19021130325903088},{"$f":"Harmonischen!$C$56/100*SIN(C468*$G$191*PI()/180)","v":0},{"$f":"Harmonischen!$C$57/100*SIN(C468*$H$191*PI()/180)","v":0},{"$f":"Harmonischen!$C$58/100*SIN(C468*$I$191*PI()/180)","v":0},{"$f":"Harmonischen!$C$59/100*SIN(C468*$J$191*PI()/180)","v":0},{"$f":"Harmonischen!$C$60/100*SIN(C468*$K$191*PI()/180)","v":0},{"$f":"Harmonischen!$C$61/100*SIN(C468*$L$191*PI()/180)","v":0},{"$f":"Harmonischen!$C$62/100*SIN(C468*$M$191*PI()/180)","v":0},{"$f":"Harmonischen!$C$63/100*SIN($C468*$N$191*PI()/180)","v":0},{"$f":"Harmonischen!$C$64/100*SIN($C468*$O$191*PI()/180)","v":0},{"$f":"Harmonischen!$C$65/100*SIN($C468*$P$191*PI()/180)","v":0},{"$f":"Harmonischen!$C$66/100*SIN($C468*$Q$191*PI()/180)","v":0},{"$f":"Harmonischen!$C$67/100*SIN($C468*$R$191*PI()/180)","v":0},{"$f":"Harmonischen!$C$68/100*SIN($C468*$S$191*PI()/180)","v":0},{"$f":"Harmonischen!$C$69/100*SIN($C468*$T$191*PI()/180)","v":0},{"$f":"Harmonischen!$C$70/100*SIN($C468*$U$191*PI()/180)","v":0},{"$f":"Harmonischen!$C$71/100*SIN($C468*$V$191*PI()/180)","v":0},{"$f":"Harmonischen!$C$72/100*SIN($C468*$W$191*PI()/180)","v":0},{"$f":"Harmonischen!$C$73/100*SIN($C468*$X$191*PI()/180)","v":0},{"$f":"Harmonischen!$C$74/100*SIN($C468*$Y$191*PI()/180)","v":0},{"$f":"Harmonischen!$C$75/100*SIN($C468*$Z$191*PI()/180)","v":0},{"$f":"Harmonischen!$C$76/100*SIN($C468*$AA$191*PI()/180)","v":0},{"$f":"Harmonischen!$C$77/100*SIN($C468*$AB$191*PI()/180)","v":0},null,-0.80431059210924249]
[null,null,277,{"$f":"Harmonischen!$C$53/100*SIN(C469*PI()/180)","v":-0.99254615164132198},{"$f":"Harmonischen!$C$54/100*SIN(C469*$E$191*PI()/180)","v":0},{"$f":"Harmonischen!$C$55/100*SIN(C469*$F$191*PI()/180)","v":0.18671608529944039},{"$f":"Harmonischen!$C$56/100*SIN(C469*$G$191*PI()/180)","v":0},{"$f":"Harmonischen!$C$57/100*SIN(C469*$H$191*PI()/180)","v":0},{"$f":"Harmonischen!$C$58/100*SIN(C469*$I$191*PI()/180)","v":0},{"$f":"Harmonischen!$C$59/100*SIN(C469*$J$191*PI()/180)","v":0},{"$f":"Harmonischen!$C$60/100*SIN(C469*$K$191*PI()/180)","v":0},{"$f":"Harmonischen!$C$61/100*SIN(C469*$L$191*PI()/180)","v":0},{"$f":"Harmonischen!$C$62/100*SIN(C469*$M$191*PI()/180)","v":0},{"$f":"Harmonischen!$C$63/100*SIN($C469*$N$191*PI()/180)","v":0},{"$f":"Harmonischen!$C$64/100*SIN($C469*$O$191*PI()/180)","v":0},{"$f":"Harmonischen!$C$65/100*SIN($C469*$P$191*PI()/180)","v":0},{"$f":"Harmonischen!$C$66/100*SIN($C469*$Q$191*PI()/180)","v":0},{"$f":"Harmonischen!$C$67/100*SIN($C469*$R$191*PI()/180)","v":0},{"$f":"Harmonischen!$C$68/100*SIN($C469*$S$191*PI()/180)","v":0},{"$f":"Harmonischen!$C$69/100*SIN($C469*$T$191*PI()/180)","v":0},{"$f":"Harmonischen!$C$70/100*SIN($C469*$U$191*PI()/180)","v":0},{"$f":"Harmonischen!$C$71/100*SIN($C469*$V$191*PI()/180)","v":0},{"$f":"Harmonischen!$C$72/100*SIN($C469*$W$191*PI()/180)","v":0},{"$f":"Harmonischen!$C$73/100*SIN($C469*$X$191*PI()/180)","v":0},{"$f":"Harmonischen!$C$74/100*SIN($C469*$Y$191*PI()/180)","v":0},{"$f":"Harmonischen!$C$75/100*SIN($C469*$Z$191*PI()/180)","v":0},{"$f":"Harmonischen!$C$76/100*SIN($C469*$AA$191*PI()/180)","v":0},{"$f":"Harmonischen!$C$77/100*SIN($C469*$AB$191*PI()/180)","v":0},null,-0.80583006634188159]
[null,null,278,{"$f":"Harmonischen!$C$53/100*SIN(C470*PI()/180)","v":-0.99026806874157036},{"$f":"Harmonischen!$C$54/100*SIN(C470*$E$191*PI()/180)","v":0},{"$f":"Harmonischen!$C$55/100*SIN(C470*$F$191*PI()/180)","v":0.18270909152852019},{"$f":"Harmonischen!$C$56/100*SIN(C470*$G$191*PI()/180)","v":0},{"$f":"Harmonischen!$C$57/100*SIN(C470*$H$191*PI()/180)","v":0},{"$f":"Harmonischen!$C$58/100*SIN(C470*$I$191*PI()/180)","v":0},{"$f":"Harmonischen!$C$59/100*SIN(C470*$J$191*PI()/180)","v":0},{"$f":"Harmonischen!$C$60/100*SIN(C470*$K$191*PI()/180)","v":0},{"$f":"Harmonischen!$C$61/100*SIN(C470*$L$191*PI()/180)","v":0},{"$f":"Harmonischen!$C$62/100*SIN(C470*$M$191*PI()/180)","v":0},{"$f":"Harmonischen!$C$63/100*SIN($C470*$N$191*PI()/180)","v":0},{"$f":"Harmonischen!$C$64/100*SIN($C470*$O$191*PI()/180)","v":0},{"$f":"Harmonischen!$C$65/100*SIN($C470*$P$191*PI()/180)","v":0},{"$f":"Harmonischen!$C$66/100*SIN($C470*$Q$191*PI()/180)","v":0},{"$f":"Harmonischen!$C$67/100*SIN($C470*$R$191*PI()/180)","v":0},{"$f":"Harmonischen!$C$68/100*SIN($C470*$S$191*PI()/180)","v":0},{"$f":"Harmonischen!$C$69/100*SIN($C470*$T$191*PI()/180)","v":0},{"$f":"Harmonischen!$C$70/100*SIN($C470*$U$191*PI()/180)","v":0},{"$f":"Harmonischen!$C$71/100*SIN($C470*$V$191*PI()/180)","v":0},{"$f":"Harmonischen!$C$72/100*SIN($C470*$W$191*PI()/180)","v":0},{"$f":"Harmonischen!$C$73/100*SIN($C470*$X$191*PI()/180)","v":0},{"$f":"Harmonischen!$C$74/100*SIN($C470*$Y$191*PI()/180)","v":0},{"$f":"Harmonischen!$C$75/100*SIN($C470*$Z$191*PI()/180)","v":0},{"$f":"Harmonischen!$C$76/100*SIN($C470*$AA$191*PI()/180)","v":0},{"$f":"Harmonischen!$C$77/100*SIN($C470*$AB$191*PI()/180)","v":0},null,-0.80755897721305014]
[null,null,279,{"$f":"Harmonischen!$C$53/100*SIN(C471*PI()/180)","v":-0.98768834059513777},{"$f":"Harmonischen!$C$54/100*SIN(C471*$E$191*PI()/180)","v":0},{"$f":"Harmonischen!$C$55/100*SIN(C471*$F$191*PI()/180)","v":0.17820130483767355},{"$f":"Harmonischen!$C$56/100*SIN(C471*$G$191*PI()/180)","v":0},{"$f":"Harmonischen!$C$57/100*SIN(C471*$H$191*PI()/180)","v":0},{"$f":"Harmonischen!$C$58/100*SIN(C471*$I$191*PI()/180)","v":0},{"$f":"Harmonischen!$C$59/100*SIN(C471*$J$191*PI()/180)","v":0},{"$f":"Harmonischen!$C$60/100*SIN(C471*$K$191*PI()/180)","v":0},{"$f":"Harmonischen!$C$61/100*SIN(C471*$L$191*PI()/180)","v":0},{"$f":"Harmonischen!$C$62/100*SIN(C471*$M$191*PI()/180)","v":0},{"$f":"Harmonischen!$C$63/100*SIN($C471*$N$191*PI()/180)","v":0},{"$f":"Harmonischen!$C$64/100*SIN($C471*$O$191*PI()/180)","v":0},{"$f":"Harmonischen!$C$65/100*SIN($C471*$P$191*PI()/180)","v":0},{"$f":"Harmonischen!$C$66/100*SIN($C471*$Q$191*PI()/180)","v":0},{"$f":"Harmonischen!$C$67/100*SIN($C471*$R$191*PI()/180)","v":0},{"$f":"Harmonischen!$C$68/100*SIN($C471*$S$191*PI()/180)","v":0},{"$f":"Harmonischen!$C$69/100*SIN($C471*$T$191*PI()/180)","v":0},{"$f":"Harmonischen!$C$70/100*SIN($C471*$U$191*PI()/180)","v":0},{"$f":"Harmonischen!$C$71/100*SIN($C471*$V$191*PI()/180)","v":0},{"$f":"Harmonischen!$C$72/100*SIN($C471*$W$191*PI()/180)","v":0},{"$f":"Harmonischen!$C$73/100*SIN($C471*$X$191*PI()/180)","v":0},{"$f":"Harmonischen!$C$74/100*SIN($C471*$Y$191*PI()/180)","v":0},{"$f":"Harmonischen!$C$75/100*SIN($C471*$Z$191*PI()/180)","v":0},{"$f":"Harmonischen!$C$76/100*SIN($C471*$AA$191*PI()/180)","v":0},{"$f":"Harmonischen!$C$77/100*SIN($C471*$AB$191*PI()/180)","v":0},null,-0.80948703575746417]
[null,null,280,{"$f":"Harmonischen!$C$53/100*SIN(C472*PI()/180)","v":-0.98480775301220813},{"$f":"Harmonischen!$C$54/100*SIN(C472*$E$191*PI()/180)","v":0},{"$f":"Harmonischen!$C$55/100*SIN(C472*$F$191*PI()/180)","v":0.17320508075688767},{"$f":"Harmonischen!$C$56/100*SIN(C472*$G$191*PI()/180)","v":0},{"$f":"Harmonischen!$C$57/100*SIN(C472*$H$191*PI()/180)","v":0},{"$f":"Harmonischen!$C$58/100*SIN(C472*$I$191*PI()/180)","v":0},{"$f":"Harmonischen!$C$59/100*SIN(C472*$J$191*PI()/180)","v":0},{"$f":"Harmonischen!$C$60/100*SIN(C472*$K$191*PI()/180)","v":0},{"$f":"Harmonischen!$C$61/100*SIN(C472*$L$191*PI()/180)","v":0},{"$f":"Harmonischen!$C$62/100*SIN(C472*$M$191*PI()/180)","v":0},{"$f":"Harmonischen!$C$63/100*SIN($C472*$N$191*PI()/180)","v":0},{"$f":"Harmonischen!$C$64/100*SIN($C472*$O$191*PI()/180)","v":0},{"$f":"Harmonischen!$C$65/100*SIN($C472*$P$191*PI()/180)","v":0},{"$f":"Harmonischen!$C$66/100*SIN($C472*$Q$191*PI()/180)","v":0},{"$f":"Harmonischen!$C$67/100*SIN($C472*$R$191*PI()/180)","v":0},{"$f":"Harmonischen!$C$68/100*SIN($C472*$S$191*PI()/180)","v":0},{"$f":"Harmonischen!$C$69/100*SIN($C472*$T$191*PI()/180)","v":0},{"$f":"Harmonischen!$C$70/100*SIN($C472*$U$191*PI()/180)","v":0},{"$f":"Harmonischen!$C$71/100*SIN($C472*$V$191*PI()/180)","v":0},{"$f":"Harmonischen!$C$72/100*SIN($C472*$W$191*PI()/180)","v":0},{"$f":"Harmonischen!$C$73/100*SIN($C472*$X$191*PI()/180)","v":0},{"$f":"Harmonischen!$C$74/100*SIN($C472*$Y$191*PI()/180)","v":0},{"$f":"Harmonischen!$C$75/100*SIN($C472*$Z$191*PI()/180)","v":0},{"$f":"Harmonischen!$C$76/100*SIN($C472*$AA$191*PI()/180)","v":0},{"$f":"Harmonischen!$C$77/100*SIN($C472*$AB$191*PI()/180)","v":0},null,-0.81160267225532046]
[null,null,281,{"$f":"Harmonischen!$C$53/100*SIN(C473*PI()/180)","v":-0.98162718344766409},{"$f":"Harmonischen!$C$54/100*SIN(C473*$E$191*PI()/180)","v":0},{"$f":"Harmonischen!$C$55/100*SIN(C473*$F$191*PI()/180)","v":0.16773411358908472},{"$f":"Harmonischen!$C$56/100*SIN(C473*$G$191*PI()/180)","v":0},{"$f":"Harmonischen!$C$57/100*SIN(C473*$H$191*PI()/180)","v":0},{"$f":"Harmonischen!$C$58/100*SIN(C473*$I$191*PI()/180)","v":0},{"$f":"Harmonischen!$C$59/100*SIN(C473*$J$191*PI()/180)","v":0},{"$f":"Harmonischen!$C$60/100*SIN(C473*$K$191*PI()/180)","v":0},{"$f":"Harmonischen!$C$61/100*SIN(C473*$L$191*PI()/180)","v":0},{"$f":"Harmonischen!$C$62/100*SIN(C473*$M$191*PI()/180)","v":0},{"$f":"Harmonischen!$C$63/100*SIN($C473*$N$191*PI()/180)","v":0},{"$f":"Harmonischen!$C$64/100*SIN($C473*$O$191*PI()/180)","v":0},{"$f":"Harmonischen!$C$65/100*SIN($C473*$P$191*PI()/180)","v":0},{"$f":"Harmonischen!$C$66/100*SIN($C473*$Q$191*PI()/180)","v":0},{"$f":"Harmonischen!$C$67/100*SIN($C473*$R$191*PI()/180)","v":0},{"$f":"Harmonischen!$C$68/100*SIN($C473*$S$191*PI()/180)","v":0},{"$f":"Harmonischen!$C$69/100*SIN($C473*$T$191*PI()/180)","v":0},{"$f":"Harmonischen!$C$70/100*SIN($C473*$U$191*PI()/180)","v":0},{"$f":"Harmonischen!$C$71/100*SIN($C473*$V$191*PI()/180)","v":0},{"$f":"Harmonischen!$C$72/100*SIN($C473*$W$191*PI()/180)","v":0},{"$f":"Harmonischen!$C$73/100*SIN($C473*$X$191*PI()/180)","v":0},{"$f":"Harmonischen!$C$74/100*SIN($C473*$Y$191*PI()/180)","v":0},{"$f":"Harmonischen!$C$75/100*SIN($C473*$Z$191*PI()/180)","v":0},{"$f":"Harmonischen!$C$76/100*SIN($C473*$AA$191*PI()/180)","v":0},{"$f":"Harmonischen!$C$77/100*SIN($C473*$AB$191*PI()/180)","v":0},null,-0.81389306985857934]
[null,null,282,{"$f":"Harmonischen!$C$53/100*SIN(C474*PI()/180)","v":-0.9781476007338058},{"$f":"Harmonischen!$C$54/100*SIN(C474*$E$191*PI()/180)","v":0},{"$f":"Harmonischen!$C$55/100*SIN(C474*$F$191*PI()/180)","v":0.16180339887498957},{"$f":"Harmonischen!$C$56/100*SIN(C474*$G$191*PI()/180)","v":0},{"$f":"Harmonischen!$C$57/100*SIN(C474*$H$191*PI()/180)","v":0},{"$f":"Harmonischen!$C$58/100*SIN(C474*$I$191*PI()/180)","v":0},{"$f":"Harmonischen!$C$59/100*SIN(C474*$J$191*PI()/180)","v":0},{"$f":"Harmonischen!$C$60/100*SIN(C474*$K$191*PI()/180)","v":0},{"$f":"Harmonischen!$C$61/100*SIN(C474*$L$191*PI()/180)","v":0},{"$f":"Harmonischen!$C$62/100*SIN(C474*$M$191*PI()/180)","v":0},{"$f":"Harmonischen!$C$63/100*SIN($C474*$N$191*PI()/180)","v":0},{"$f":"Harmonischen!$C$64/100*SIN($C474*$O$191*PI()/180)","v":0},{"$f":"Harmonischen!$C$65/100*SIN($C474*$P$191*PI()/180)","v":0},{"$f":"Harmonischen!$C$66/100*SIN($C474*$Q$191*PI()/180)","v":0},{"$f":"Harmonischen!$C$67/100*SIN($C474*$R$191*PI()/180)","v":0},{"$f":"Harmonischen!$C$68/100*SIN($C474*$S$191*PI()/180)","v":0},{"$f":"Harmonischen!$C$69/100*SIN($C474*$T$191*PI()/180)","v":0},{"$f":"Harmonischen!$C$70/100*SIN($C474*$U$191*PI()/180)","v":0},{"$f":"Harmonischen!$C$71/100*SIN($C474*$V$191*PI()/180)","v":0},{"$f":"Harmonischen!$C$72/100*SIN($C474*$W$191*PI()/180)","v":0},{"$f":"Harmonischen!$C$73/100*SIN($C474*$X$191*PI()/180)","v":0},{"$f":"Harmonischen!$C$74/100*SIN($C474*$Y$191*PI()/180)","v":0},{"$f":"Harmonischen!$C$75/100*SIN($C474*$Z$191*PI()/180)","v":0},{"$f":"Harmonischen!$C$76/100*SIN($C474*$AA$191*PI()/180)","v":0},{"$f":"Harmonischen!$C$77/100*SIN($C474*$AB$191*PI()/180)","v":0},null,-0.81634420185881629]
[null,null,283,{"$f":"Harmonischen!$C$53/100*SIN(C475*PI()/180)","v":-0.97437006478523525},{"$f":"Harmonischen!$C$54/100*SIN(C475*$E$191*PI()/180)","v":0},{"$f":"Harmonischen!$C$55/100*SIN(C475*$F$191*PI()/180)","v":0.15542919229139421},{"$f":"Harmonischen!$C$56/100*SIN(C475*$G$191*PI()/180)","v":0},{"$f":"Harmonischen!$C$57/100*SIN(C475*$H$191*PI()/180)","v":0},{"$f":"Harmonischen!$C$58/100*SIN(C475*$I$191*PI()/180)","v":0},{"$f":"Harmonischen!$C$59/100*SIN(C475*$J$191*PI()/180)","v":0},{"$f":"Harmonischen!$C$60/100*SIN(C475*$K$191*PI()/180)","v":0},{"$f":"Harmonischen!$C$61/100*SIN(C475*$L$191*PI()/180)","v":0},{"$f":"Harmonischen!$C$62/100*SIN(C475*$M$191*PI()/180)","v":0},{"$f":"Harmonischen!$C$63/100*SIN($C475*$N$191*PI()/180)","v":0},{"$f":"Harmonischen!$C$64/100*SIN($C475*$O$191*PI()/180)","v":0},{"$f":"Harmonischen!$C$65/100*SIN($C475*$P$191*PI()/180)","v":0},{"$f":"Harmonischen!$C$66/100*SIN($C475*$Q$191*PI()/180)","v":0},{"$f":"Harmonischen!$C$67/100*SIN($C475*$R$191*PI()/180)","v":0},{"$f":"Harmonischen!$C$68/100*SIN($C475*$S$191*PI()/180)","v":0},{"$f":"Harmonischen!$C$69/100*SIN($C475*$T$191*PI()/180)","v":0},{"$f":"Harmonischen!$C$70/100*SIN($C475*$U$191*PI()/180)","v":0},{"$f":"Harmonischen!$C$71/100*SIN($C475*$V$191*PI()/180)","v":0},{"$f":"Harmonischen!$C$72/100*SIN($C475*$W$191*PI()/180)","v":0},{"$f":"Harmonischen!$C$73/100*SIN($C475*$X$191*PI()/180)","v":0},{"$f":"Harmonischen!$C$74/100*SIN($C475*$Y$191*PI()/180)","v":0},{"$f":"Harmonischen!$C$75/100*SIN($C475*$Z$191*PI()/180)","v":0},{"$f":"Harmonischen!$C$76/100*SIN($C475*$AA$191*PI()/180)","v":0},{"$f":"Harmonischen!$C$77/100*SIN($C475*$AB$191*PI()/180)","v":0},null,-0.81894087249384107]
[null,null,284,{"$f":"Harmonischen!$C$53/100*SIN(C476*PI()/180)","v":-0.97029572627599658},{"$f":"Harmonischen!$C$54/100*SIN(C476*$E$191*PI()/180)","v":0},{"$f":"Harmonischen!$C$55/100*SIN(C476*$F$191*PI()/180)","v":0.14862896509547885},{"$f":"Harmonischen!$C$56/100*SIN(C476*$G$191*PI()/180)","v":0},{"$f":"Harmonischen!$C$57/100*SIN(C476*$H$191*PI()/180)","v":0},{"$f":"Harmonischen!$C$58/100*SIN(C476*$I$191*PI()/180)","v":0},{"$f":"Harmonischen!$C$59/100*SIN(C476*$J$191*PI()/180)","v":0},{"$f":"Harmonischen!$C$60/100*SIN(C476*$K$191*PI()/180)","v":0},{"$f":"Harmonischen!$C$61/100*SIN(C476*$L$191*PI()/180)","v":0},{"$f":"Harmonischen!$C$62/100*SIN(C476*$M$191*PI()/180)","v":0},{"$f":"Harmonischen!$C$63/100*SIN($C476*$N$191*PI()/180)","v":0},{"$f":"Harmonischen!$C$64/100*SIN($C476*$O$191*PI()/180)","v":0},{"$f":"Harmonischen!$C$65/100*SIN($C476*$P$191*PI()/180)","v":0},{"$f":"Harmonischen!$C$66/100*SIN($C476*$Q$191*PI()/180)","v":0},{"$f":"Harmonischen!$C$67/100*SIN($C476*$R$191*PI()/180)","v":0},{"$f":"Harmonischen!$C$68/100*SIN($C476*$S$191*PI()/180)","v":0},{"$f":"Harmonischen!$C$69/100*SIN($C476*$T$191*PI()/180)","v":0},{"$f":"Harmonischen!$C$70/100*SIN($C476*$U$191*PI()/180)","v":0},{"$f":"Harmonischen!$C$71/100*SIN($C476*$V$191*PI()/180)","v":0},{"$f":"Harmonischen!$C$72/100*SIN($C476*$W$191*PI()/180)","v":0},{"$f":"Harmonischen!$C$73/100*SIN($C476*$X$191*PI()/180)","v":0},{"$f":"Harmonischen!$C$74/100*SIN($C476*$Y$191*PI()/180)","v":0},{"$f":"Harmonischen!$C$75/100*SIN($C476*$Z$191*PI()/180)","v":0},{"$f":"Harmonischen!$C$76/100*SIN($C476*$AA$191*PI()/180)","v":0},{"$f":"Harmonischen!$C$77/100*SIN($C476*$AB$191*PI()/180)","v":0},null,-0.82166676118051774]
[null,null,285,{"$f":"Harmonischen!$C$53/100*SIN(C477*PI()/180)","v":-0.9659258262890682},{"$f":"Harmonischen!$C$54/100*SIN(C477*$E$191*PI()/180)","v":0},{"$f":"Harmonischen!$C$55/100*SIN(C477*$F$191*PI()/180)","v":0.14142135623730948},{"$f":"Harmonischen!$C$56/100*SIN(C477*$G$191*PI()/180)","v":0},{"$f":"Harmonischen!$C$57/100*SIN(C477*$H$191*PI()/180)","v":0},{"$f":"Harmonischen!$C$58/100*SIN(C477*$I$191*PI()/180)","v":0},{"$f":"Harmonischen!$C$59/100*SIN(C477*$J$191*PI()/180)","v":0},{"$f":"Harmonischen!$C$60/100*SIN(C477*$K$191*PI()/180)","v":0},{"$f":"Harmonischen!$C$61/100*SIN(C477*$L$191*PI()/180)","v":0},{"$f":"Harmonischen!$C$62/100*SIN(C477*$M$191*PI()/180)","v":0},{"$f":"Harmonischen!$C$63/100*SIN($C477*$N$191*PI()/180)","v":0},{"$f":"Harmonischen!$C$64/100*SIN($C477*$O$191*PI()/180)","v":0},{"$f":"Harmonischen!$C$65/100*SIN($C477*$P$191*PI()/180)","v":0},{"$f":"Harmonischen!$C$66/100*SIN($C477*$Q$191*PI()/180)","v":0},{"$f":"Harmonischen!$C$67/100*SIN($C477*$R$191*PI()/180)","v":0},{"$f":"Harmonischen!$C$68/100*SIN($C477*$S$191*PI()/180)","v":0},{"$f":"Harmonischen!$C$69/100*SIN($C477*$T$191*PI()/180)","v":0},{"$f":"Harmonischen!$C$70/100*SIN($C477*$U$191*PI()/180)","v":0},{"$f":"Harmonischen!$C$71/100*SIN($C477*$V$191*PI()/180)","v":0},{"$f":"Harmonischen!$C$72/100*SIN($C477*$W$191*PI()/180)","v":0},{"$f":"Harmonischen!$C$73/100*SIN($C477*$X$191*PI()/180)","v":0},{"$f":"Harmonischen!$C$74/100*SIN($C477*$Y$191*PI()/180)","v":0},{"$f":"Harmonischen!$C$75/100*SIN($C477*$Z$191*PI()/180)","v":0},{"$f":"Harmonischen!$C$76/100*SIN($C477*$AA$191*PI()/180)","v":0},{"$f":"Harmonischen!$C$77/100*SIN($C477*$AB$191*PI()/180)","v":0},null,-0.82450447005175875]
[null,null,286,{"$f":"Harmonischen!$C$53/100*SIN(C478*PI()/180)","v":-0.96126169593831878},{"$f":"Harmonischen!$C$54/100*SIN(C478*$E$191*PI()/180)","v":0},{"$f":"Harmonischen!$C$55/100*SIN(C478*$F$191*PI()/180)","v":0.13382612127177157},{"$f":"Harmonischen!$C$56/100*SIN(C478*$G$191*PI()/180)","v":0},{"$f":"Harmonischen!$C$57/100*SIN(C478*$H$191*PI()/180)","v":0},{"$f":"Harmonischen!$C$58/100*SIN(C478*$I$191*PI()/180)","v":0},{"$f":"Harmonischen!$C$59/100*SIN(C478*$J$191*PI()/180)","v":0},{"$f":"Harmonischen!$C$60/100*SIN(C478*$K$191*PI()/180)","v":0},{"$f":"Harmonischen!$C$61/100*SIN(C478*$L$191*PI()/180)","v":0},{"$f":"Harmonischen!$C$62/100*SIN(C478*$M$191*PI()/180)","v":0},{"$f":"Harmonischen!$C$63/100*SIN($C478*$N$191*PI()/180)","v":0},{"$f":"Harmonischen!$C$64/100*SIN($C478*$O$191*PI()/180)","v":0},{"$f":"Harmonischen!$C$65/100*SIN($C478*$P$191*PI()/180)","v":0},{"$f":"Harmonischen!$C$66/100*SIN($C478*$Q$191*PI()/180)","v":0},{"$f":"Harmonischen!$C$67/100*SIN($C478*$R$191*PI()/180)","v":0},{"$f":"Harmonischen!$C$68/100*SIN($C478*$S$191*PI()/180)","v":0},{"$f":"Harmonischen!$C$69/100*SIN($C478*$T$191*PI()/180)","v":0},{"$f":"Harmonischen!$C$70/100*SIN($C478*$U$191*PI()/180)","v":0},{"$f":"Harmonischen!$C$71/100*SIN($C478*$V$191*PI()/180)","v":0},{"$f":"Harmonischen!$C$72/100*SIN($C478*$W$191*PI()/180)","v":0},{"$f":"Harmonischen!$C$73/100*SIN($C478*$X$191*PI()/180)","v":0},{"$f":"Harmonischen!$C$74/100*SIN($C478*$Y$191*PI()/180)","v":0},{"$f":"Harmonischen!$C$75/100*SIN($C478*$Z$191*PI()/180)","v":0},{"$f":"Harmonischen!$C$76/100*SIN($C478*$AA$191*PI()/180)","v":0},{"$f":"Harmonischen!$C$77/100*SIN($C478*$AB$191*PI()/180)","v":0},null,-0.82743557466654716]
[null,null,287,{"$f":"Harmonischen!$C$53/100*SIN(C479*PI()/180)","v":-0.95630475596303544},{"$f":"Harmonischen!$C$54/100*SIN(C479*$E$191*PI()/180)","v":0},{"$f":"Harmonischen!$C$55/100*SIN(C479*$F$191*PI()/180)","v":0.12586407820996764},{"$f":"Harmonischen!$C$56/100*SIN(C479*$G$191*PI()/180)","v":0},{"$f":"Harmonischen!$C$57/100*SIN(C479*$H$191*PI()/180)","v":0},{"$f":"Harmonischen!$C$58/100*SIN(C479*$I$191*PI()/180)","v":0},{"$f":"Harmonischen!$C$59/100*SIN(C479*$J$191*PI()/180)","v":0},{"$f":"Harmonischen!$C$60/100*SIN(C479*$K$191*PI()/180)","v":0},{"$f":"Harmonischen!$C$61/100*SIN(C479*$L$191*PI()/180)","v":0},{"$f":"Harmonischen!$C$62/100*SIN(C479*$M$191*PI()/180)","v":0},{"$f":"Harmonischen!$C$63/100*SIN($C479*$N$191*PI()/180)","v":0},{"$f":"Harmonischen!$C$64/100*SIN($C479*$O$191*PI()/180)","v":0},{"$f":"Harmonischen!$C$65/100*SIN($C479*$P$191*PI()/180)","v":0},{"$f":"Harmonischen!$C$66/100*SIN($C479*$Q$191*PI()/180)","v":0},{"$f":"Harmonischen!$C$67/100*SIN($C479*$R$191*PI()/180)","v":0},{"$f":"Harmonischen!$C$68/100*SIN($C479*$S$191*PI()/180)","v":0},{"$f":"Harmonischen!$C$69/100*SIN($C479*$T$191*PI()/180)","v":0},{"$f":"Harmonischen!$C$70/100*SIN($C479*$U$191*PI()/180)","v":0},{"$f":"Harmonischen!$C$71/100*SIN($C479*$V$191*PI()/180)","v":0},{"$f":"Harmonischen!$C$72/100*SIN($C479*$W$191*PI()/180)","v":0},{"$f":"Harmonischen!$C$73/100*SIN($C479*$X$191*PI()/180)","v":0},{"$f":"Harmonischen!$C$74/100*SIN($C479*$Y$191*PI()/180)","v":0},{"$f":"Harmonischen!$C$75/100*SIN($C479*$Z$191*PI()/180)","v":0},{"$f":"Harmonischen!$C$76/100*SIN($C479*$AA$191*PI()/180)","v":0},{"$f":"Harmonischen!$C$77/100*SIN($C479*$AB$191*PI()/180)","v":0},null,-0.83044067775306774]
[null,null,288,{"$f":"Harmonischen!$C$53/100*SIN(C480*PI()/180)","v":-0.95105651629515364},{"$f":"Harmonischen!$C$54/100*SIN(C480*$E$191*PI()/180)","v":0},{"$f":"Harmonischen!$C$55/100*SIN(C480*$F$191*PI()/180)","v":0.11755705045849472},{"$f":"Harmonischen!$C$56/100*SIN(C480*$G$191*PI()/180)","v":0},{"$f":"Harmonischen!$C$57/100*SIN(C480*$H$191*PI()/180)","v":0},{"$f":"Harmonischen!$C$58/100*SIN(C480*$I$191*PI()/180)","v":0},{"$f":"Harmonischen!$C$59/100*SIN(C480*$J$191*PI()/180)","v":0},{"$f":"Harmonischen!$C$60/100*SIN(C480*$K$191*PI()/180)","v":0},{"$f":"Harmonischen!$C$61/100*SIN(C480*$L$191*PI()/180)","v":0},{"$f":"Harmonischen!$C$62/100*SIN(C480*$M$191*PI()/180)","v":0},{"$f":"Harmonischen!$C$63/100*SIN($C480*$N$191*PI()/180)","v":0},{"$f":"Harmonischen!$C$64/100*SIN($C480*$O$191*PI()/180)","v":0},{"$f":"Harmonischen!$C$65/100*SIN($C480*$P$191*PI()/180)","v":0},{"$f":"Harmonischen!$C$66/100*SIN($C480*$Q$191*PI()/180)","v":0},{"$f":"Harmonischen!$C$67/100*SIN($C480*$R$191*PI()/180)","v":0},{"$f":"Harmonischen!$C$68/100*SIN($C480*$S$191*PI()/180)","v":0},{"$f":"Harmonischen!$C$69/100*SIN($C480*$T$191*PI()/180)","v":0},{"$f":"Harmonischen!$C$70/100*SIN($C480*$U$191*PI()/180)","v":0},{"$f":"Harmonischen!$C$71/100*SIN($C480*$V$191*PI()/180)","v":0},{"$f":"Harmonischen!$C$72/100*SIN($C480*$W$191*PI()/180)","v":0},{"$f":"Harmonischen!$C$73/100*SIN($C480*$X$191*PI()/180)","v":0},{"$f":"Harmonischen!$C$74/100*SIN($C480*$Y$191*PI()/180)","v":0},{"$f":"Harmonischen!$C$75/100*SIN($C480*$Z$191*PI()/180)","v":0},{"$f":"Harmonischen!$C$76/100*SIN($C480*$AA$191*PI()/180)","v":0},{"$f":"Harmonischen!$C$77/100*SIN($C480*$AB$191*PI()/180)","v":0},null,-0.8334994658366589]
[null,null,289,{"$f":"Harmonischen!$C$53/100*SIN(C481*PI()/180)","v":-0.94551857559931696},{"$f":"Harmonischen!$C$54/100*SIN(C481*$E$191*PI()/180)","v":0},{"$f":"Harmonischen!$C$55/100*SIN(C481*$F$191*PI()/180)","v":0.10892780700300547},{"$f":"Harmonischen!$C$56/100*SIN(C481*$G$191*PI()/180)","v":0},{"$f":"Harmonischen!$C$57/100*SIN(C481*$H$191*PI()/180)","v":0},{"$f":"Harmonischen!$C$58/100*SIN(C481*$I$191*PI()/180)","v":0},{"$f":"Harmonischen!$C$59/100*SIN(C481*$J$191*PI()/180)","v":0},{"$f":"Harmonischen!$C$60/100*SIN(C481*$K$191*PI()/180)","v":0},{"$f":"Harmonischen!$C$61/100*SIN(C481*$L$191*PI()/180)","v":0},{"$f":"Harmonischen!$C$62/100*SIN(C481*$M$191*PI()/180)","v":0},{"$f":"Harmonischen!$C$63/100*SIN($C481*$N$191*PI()/180)","v":0},{"$f":"Harmonischen!$C$64/100*SIN($C481*$O$191*PI()/180)","v":0},{"$f":"Harmonischen!$C$65/100*SIN($C481*$P$191*PI()/180)","v":0},{"$f":"Harmonischen!$C$66/100*SIN($C481*$Q$191*PI()/180)","v":0},{"$f":"Harmonischen!$C$67/100*SIN($C481*$R$191*PI()/180)","v":0},{"$f":"Harmonischen!$C$68/100*SIN($C481*$S$191*PI()/180)","v":0},{"$f":"Harmonischen!$C$69/100*SIN($C481*$T$191*PI()/180)","v":0},{"$f":"Harmonischen!$C$70/100*SIN($C481*$U$191*PI()/180)","v":0},{"$f":"Harmonischen!$C$71/100*SIN($C481*$V$191*PI()/180)","v":0},{"$f":"Harmonischen!$C$72/100*SIN($C481*$W$191*PI()/180)","v":0},{"$f":"Harmonischen!$C$73/100*SIN($C481*$X$191*PI()/180)","v":0},{"$f":"Harmonischen!$C$74/100*SIN($C481*$Y$191*PI()/180)","v":0},{"$f":"Harmonischen!$C$75/100*SIN($C481*$Z$191*PI()/180)","v":0},{"$f":"Harmonischen!$C$76/100*SIN($C481*$AA$191*PI()/180)","v":0},{"$f":"Harmonischen!$C$77/100*SIN($C481*$AB$191*PI()/180)","v":0},null,-0.83659076859631143]
[null,null,290,{"$f":"Harmonischen!$C$53/100*SIN(C482*PI()/180)","v":-0.93969262078590854},{"$f":"Harmonischen!$C$54/100*SIN(C482*$E$191*PI()/180)","v":0},{"$f":"Harmonischen!$C$55/100*SIN(C482*$F$191*PI()/180)","v":0.1},{"$f":"Harmonischen!$C$56/100*SIN(C482*$G$191*PI()/180)","v":0},{"$f":"Harmonischen!$C$57/100*SIN(C482*$H$191*PI()/180)","v":0},{"$f":"Harmonischen!$C$58/100*SIN(C482*$I$191*PI()/180)","v":0},{"$f":"Harmonischen!$C$59/100*SIN(C482*$J$191*PI()/180)","v":0},{"$f":"Harmonischen!$C$60/100*SIN(C482*$K$191*PI()/180)","v":0},{"$f":"Harmonischen!$C$61/100*SIN(C482*$L$191*PI()/180)","v":0},{"$f":"Harmonischen!$C$62/100*SIN(C482*$M$191*PI()/180)","v":0},{"$f":"Harmonischen!$C$63/100*SIN($C482*$N$191*PI()/180)","v":0},{"$f":"Harmonischen!$C$64/100*SIN($C482*$O$191*PI()/180)","v":0},{"$f":"Harmonischen!$C$65/100*SIN($C482*$P$191*PI()/180)","v":0},{"$f":"Harmonischen!$C$66/100*SIN($C482*$Q$191*PI()/180)","v":0},{"$f":"Harmonischen!$C$67/100*SIN($C482*$R$191*PI()/180)","v":0},{"$f":"Harmonischen!$C$68/100*SIN($C482*$S$191*PI()/180)","v":0},{"$f":"Harmonischen!$C$69/100*SIN($C482*$T$191*PI()/180)","v":0},{"$f":"Harmonischen!$C$70/100*SIN($C482*$U$191*PI()/180)","v":0},{"$f":"Harmonischen!$C$71/100*SIN($C482*$V$191*PI()/180)","v":0},{"$f":"Harmonischen!$C$72/100*SIN($C482*$W$191*PI()/180)","v":0},{"$f":"Harmonischen!$C$73/100*SIN($C482*$X$191*PI()/180)","v":0},{"$f":"Harmonischen!$C$74/100*SIN($C482*$Y$191*PI()/180)","v":0},{"$f":"Harmonischen!$C$75/100*SIN($C482*$Z$191*PI()/180)","v":0},{"$f":"Harmonischen!$C$76/100*SIN($C482*$AA$191*PI()/180)","v":0},{"$f":"Harmonischen!$C$77/100*SIN($C482*$AB$191*PI()/180)","v":0},null,-0.83969262078590856]
[null,null,291,{"$f":"Harmonischen!$C$53/100*SIN(C483*PI()/180)","v":-0.93358042649720208},{"$f":"Harmonischen!$C$54/100*SIN(C483*$E$191*PI()/180)","v":0},{"$f":"Harmonischen!$C$55/100*SIN(C483*$F$191*PI()/180)","v":9.0798099947909314E-2},{"$f":"Harmonischen!$C$56/100*SIN(C483*$G$191*PI()/180)","v":0},{"$f":"Harmonischen!$C$57/100*SIN(C483*$H$191*PI()/180)","v":0},{"$f":"Harmonischen!$C$58/100*SIN(C483*$I$191*PI()/180)","v":0},{"$f":"Harmonischen!$C$59/100*SIN(C483*$J$191*PI()/180)","v":0},{"$f":"Harmonischen!$C$60/100*SIN(C483*$K$191*PI()/180)","v":0},{"$f":"Harmonischen!$C$61/100*SIN(C483*$L$191*PI()/180)","v":0},{"$f":"Harmonischen!$C$62/100*SIN(C483*$M$191*PI()/180)","v":0},{"$f":"Harmonischen!$C$63/100*SIN($C483*$N$191*PI()/180)","v":0},{"$f":"Harmonischen!$C$64/100*SIN($C483*$O$191*PI()/180)","v":0},{"$f":"Harmonischen!$C$65/100*SIN($C483*$P$191*PI()/180)","v":0},{"$f":"Harmonischen!$C$66/100*SIN($C483*$Q$191*PI()/180)","v":0},{"$f":"Harmonischen!$C$67/100*SIN($C483*$R$191*PI()/180)","v":0},{"$f":"Harmonischen!$C$68/100*SIN($C483*$S$191*PI()/180)","v":0},{"$f":"Harmonischen!$C$69/100*SIN($C483*$T$191*PI()/180)","v":0},{"$f":"Harmonischen!$C$70/100*SIN($C483*$U$191*PI()/180)","v":0},{"$f":"Harmonischen!$C$71/100*SIN($C483*$V$191*PI()/180)","v":0},{"$f":"Harmonischen!$C$72/100*SIN($C483*$W$191*PI()/180)","v":0},{"$f":"Harmonischen!$C$73/100*SIN($C483*$X$191*PI()/180)","v":0},{"$f":"Harmonischen!$C$74/100*SIN($C483*$Y$191*PI()/180)","v":0},{"$f":"Harmonischen!$C$75/100*SIN($C483*$Z$191*PI()/180)","v":0},{"$f":"Harmonischen!$C$76/100*SIN($C483*$AA$191*PI()/180)","v":0},{"$f":"Harmonischen!$C$77/100*SIN($C483*$AB$191*PI()/180)","v":0},null,-0.84278232654929275]
[null,null,292,{"$f":"Harmonischen!$C$53/100*SIN(C484*PI()/180)","v":-0.92718385456678742},{"$f":"Harmonischen!$C$54/100*SIN(C484*$E$191*PI()/180)","v":0},{"$f":"Harmonischen!$C$55/100*SIN(C484*$F$191*PI()/180)","v":8.1347328615159933E-2},{"$f":"Harmonischen!$C$56/100*SIN(C484*$G$191*PI()/180)","v":0},{"$f":"Harmonischen!$C$57/100*SIN(C484*$H$191*PI()/180)","v":0},{"$f":"Harmonischen!$C$58/100*SIN(C484*$I$191*PI()/180)","v":0},{"$f":"Harmonischen!$C$59/100*SIN(C484*$J$191*PI()/180)","v":0},{"$f":"Harmonischen!$C$60/100*SIN(C484*$K$191*PI()/180)","v":0},{"$f":"Harmonischen!$C$61/100*SIN(C484*$L$191*PI()/180)","v":0},{"$f":"Harmonischen!$C$62/100*SIN(C484*$M$191*PI()/180)","v":0},{"$f":"Harmonischen!$C$63/100*SIN($C484*$N$191*PI()/180)","v":0},{"$f":"Harmonischen!$C$64/100*SIN($C484*$O$191*PI()/180)","v":0},{"$f":"Harmonischen!$C$65/100*SIN($C484*$P$191*PI()/180)","v":0},{"$f":"Harmonischen!$C$66/100*SIN($C484*$Q$191*PI()/180)","v":0},{"$f":"Harmonischen!$C$67/100*SIN($C484*$R$191*PI()/180)","v":0},{"$f":"Harmonischen!$C$68/100*SIN($C484*$S$191*PI()/180)","v":0},{"$f":"Harmonischen!$C$69/100*SIN($C484*$T$191*PI()/180)","v":0},{"$f":"Harmonischen!$C$70/100*SIN($C484*$U$191*PI()/180)","v":0},{"$f":"Harmonischen!$C$71/100*SIN($C484*$V$191*PI()/180)","v":0},{"$f":"Harmonischen!$C$72/100*SIN($C484*$W$191*PI()/180)","v":0},{"$f":"Harmonischen!$C$73/100*SIN($C484*$X$191*PI()/180)","v":0},{"$f":"Harmonischen!$C$74/100*SIN($C484*$Y$191*PI()/180)","v":0},{"$f":"Harmonischen!$C$75/100*SIN($C484*$Z$191*PI()/180)","v":0},{"$f":"Harmonischen!$C$76/100*SIN($C484*$AA$191*PI()/180)","v":0},{"$f":"Harmonischen!$C$77/100*SIN($C484*$AB$191*PI()/180)","v":0},null,-0.8458365259516275]
[null,null,293,{"$f":"Harmonischen!$C$53/100*SIN(C485*PI()/180)","v":-0.92050485345244049},{"$f":"Harmonischen!$C$54/100*SIN(C485*$E$191*PI()/180)","v":0},{"$f":"Harmonischen!$C$55/100*SIN(C485*$F$191*PI()/180)","v":7.1673589909060226E-2},{"$f":"Harmonischen!$C$56/100*SIN(C485*$G$191*PI()/180)","v":0},{"$f":"Harmonischen!$C$57/100*SIN(C485*$H$191*PI()/180)","v":0},{"$f":"Harmonischen!$C$58/100*SIN(C485*$I$191*PI()/180)","v":0},{"$f":"Harmonischen!$C$59/100*SIN(C485*$J$191*PI()/180)","v":0},{"$f":"Harmonischen!$C$60/100*SIN(C485*$K$191*PI()/180)","v":0},{"$f":"Harmonischen!$C$61/100*SIN(C485*$L$191*PI()/180)","v":0},{"$f":"Harmonischen!$C$62/100*SIN(C485*$M$191*PI()/180)","v":0},{"$f":"Harmonischen!$C$63/100*SIN($C485*$N$191*PI()/180)","v":0},{"$f":"Harmonischen!$C$64/100*SIN($C485*$O$191*PI()/180)","v":0},{"$f":"Harmonischen!$C$65/100*SIN($C485*$P$191*PI()/180)","v":0},{"$f":"Harmonischen!$C$66/100*SIN($C485*$Q$191*PI()/180)","v":0},{"$f":"Harmonischen!$C$67/100*SIN($C485*$R$191*PI()/180)","v":0},{"$f":"Harmonischen!$C$68/100*SIN($C485*$S$191*PI()/180)","v":0},{"$f":"Harmonischen!$C$69/100*SIN($C485*$T$191*PI()/180)","v":0},{"$f":"Harmonischen!$C$70/100*SIN($C485*$U$191*PI()/180)","v":0},{"$f":"Harmonischen!$C$71/100*SIN($C485*$V$191*PI()/180)","v":0},{"$f":"Harmonischen!$C$72/100*SIN($C485*$W$191*PI()/180)","v":0},{"$f":"Harmonischen!$C$73/100*SIN($C485*$X$191*PI()/180)","v":0},{"$f":"Harmonischen!$C$74/100*SIN($C485*$Y$191*PI()/180)","v":0},{"$f":"Harmonischen!$C$75/100*SIN($C485*$Z$191*PI()/180)","v":0},{"$f":"Harmonischen!$C$76/100*SIN($C485*$AA$191*PI()/180)","v":0},{"$f":"Harmonischen!$C$77/100*SIN($C485*$AB$191*PI()/180)","v":0},null,-0.84883126354338023]
[null,null,294,{"$f":"Harmonischen!$C$53/100*SIN(C486*PI()/180)","v":-0.91354545764260076},{"$f":"Harmonischen!$C$54/100*SIN(C486*$E$191*PI()/180)","v":0},{"$f":"Harmonischen!$C$55/100*SIN(C486*$F$191*PI()/180)","v":6.1803398874989604E-2},{"$f":"Harmonischen!$C$56/100*SIN(C486*$G$191*PI()/180)","v":0},{"$f":"Harmonischen!$C$57/100*SIN(C486*$H$191*PI()/180)","v":0},{"$f":"Harmonischen!$C$58/100*SIN(C486*$I$191*PI()/180)","v":0},{"$f":"Harmonischen!$C$59/100*SIN(C486*$J$191*PI()/180)","v":0},{"$f":"Harmonischen!$C$60/100*SIN(C486*$K$191*PI()/180)","v":0},{"$f":"Harmonischen!$C$61/100*SIN(C486*$L$191*PI()/180)","v":0},{"$f":"Harmonischen!$C$62/100*SIN(C486*$M$191*PI()/180)","v":0},{"$f":"Harmonischen!$C$63/100*SIN($C486*$N$191*PI()/180)","v":0},{"$f":"Harmonischen!$C$64/100*SIN($C486*$O$191*PI()/180)","v":0},{"$f":"Harmonischen!$C$65/100*SIN($C486*$P$191*PI()/180)","v":0},{"$f":"Harmonischen!$C$66/100*SIN($C486*$Q$191*PI()/180)","v":0},{"$f":"Harmonischen!$C$67/100*SIN($C486*$R$191*PI()/180)","v":0},{"$f":"Harmonischen!$C$68/100*SIN($C486*$S$191*PI()/180)","v":0},{"$f":"Harmonischen!$C$69/100*SIN($C486*$T$191*PI()/180)","v":0},{"$f":"Harmonischen!$C$70/100*SIN($C486*$U$191*PI()/180)","v":0},{"$f":"Harmonischen!$C$71/100*SIN($C486*$V$191*PI()/180)","v":0},{"$f":"Harmonischen!$C$72/100*SIN($C486*$W$191*PI()/180)","v":0},{"$f":"Harmonischen!$C$73/100*SIN($C486*$X$191*PI()/180)","v":0},{"$f":"Harmonischen!$C$74/100*SIN($C486*$Y$191*PI()/180)","v":0},{"$f":"Harmonischen!$C$75/100*SIN($C486*$Z$191*PI()/180)","v":0},{"$f":"Harmonischen!$C$76/100*SIN($C486*$AA$191*PI()/180)","v":0},{"$f":"Harmonischen!$C$77/100*SIN($C486*$AB$191*PI()/180)","v":0},null,-0.85174205876761111]
[null,null,295,{"$f":"Harmonischen!$C$53/100*SIN(C487*PI()/180)","v":-0.90630778703664994},{"$f":"Harmonischen!$C$54/100*SIN(C487*$E$191*PI()/180)","v":0},{"$f":"Harmonischen!$C$55/100*SIN(C487*$F$191*PI()/180)","v":5.1763809020504217E-2},{"$f":"Harmonischen!$C$56/100*SIN(C487*$G$191*PI()/180)","v":0},{"$f":"Harmonischen!$C$57/100*SIN(C487*$H$191*PI()/180)","v":0},{"$f":"Harmonischen!$C$58/100*SIN(C487*$I$191*PI()/180)","v":0},{"$f":"Harmonischen!$C$59/100*SIN(C487*$J$191*PI()/180)","v":0},{"$f":"Harmonischen!$C$60/100*SIN(C487*$K$191*PI()/180)","v":0},{"$f":"Harmonischen!$C$61/100*SIN(C487*$L$191*PI()/180)","v":0},{"$f":"Harmonischen!$C$62/100*SIN(C487*$M$191*PI()/180)","v":0},{"$f":"Harmonischen!$C$63/100*SIN($C487*$N$191*PI()/180)","v":0},{"$f":"Harmonischen!$C$64/100*SIN($C487*$O$191*PI()/180)","v":0},{"$f":"Harmonischen!$C$65/100*SIN($C487*$P$191*PI()/180)","v":0},{"$f":"Harmonischen!$C$66/100*SIN($C487*$Q$191*PI()/180)","v":0},{"$f":"Harmonischen!$C$67/100*SIN($C487*$R$191*PI()/180)","v":0},{"$f":"Harmonischen!$C$68/100*SIN($C487*$S$191*PI()/180)","v":0},{"$f":"Harmonischen!$C$69/100*SIN($C487*$T$191*PI()/180)","v":0},{"$f":"Harmonischen!$C$70/100*SIN($C487*$U$191*PI()/180)","v":0},{"$f":"Harmonischen!$C$71/100*SIN($C487*$V$191*PI()/180)","v":0},{"$f":"Harmonischen!$C$72/100*SIN($C487*$W$191*PI()/180)","v":0},{"$f":"Harmonischen!$C$73/100*SIN($C487*$X$191*PI()/180)","v":0},{"$f":"Harmonischen!$C$74/100*SIN($C487*$Y$191*PI()/180)","v":0},{"$f":"Harmonischen!$C$75/100*SIN($C487*$Z$191*PI()/180)","v":0},{"$f":"Harmonischen!$C$76/100*SIN($C487*$AA$191*PI()/180)","v":0},{"$f":"Harmonischen!$C$77/100*SIN($C487*$AB$191*PI()/180)","v":0},null,-0.85454397801614568]
[null,null,296,{"$f":"Harmonischen!$C$53/100*SIN(C488*PI()/180)","v":-0.89879404629916704},{"$f":"Harmonischen!$C$54/100*SIN(C488*$E$191*PI()/180)","v":0},{"$f":"Harmonischen!$C$55/100*SIN(C488*$F$191*PI()/180)","v":4.158233816355187E-2},{"$f":"Harmonischen!$C$56/100*SIN(C488*$G$191*PI()/180)","v":0},{"$f":"Harmonischen!$C$57/100*SIN(C488*$H$191*PI()/180)","v":0},{"$f":"Harmonischen!$C$58/100*SIN(C488*$I$191*PI()/180)","v":0},{"$f":"Harmonischen!$C$59/100*SIN(C488*$J$191*PI()/180)","v":0},{"$f":"Harmonischen!$C$60/100*SIN(C488*$K$191*PI()/180)","v":0},{"$f":"Harmonischen!$C$61/100*SIN(C488*$L$191*PI()/180)","v":0},{"$f":"Harmonischen!$C$62/100*SIN(C488*$M$191*PI()/180)","v":0},{"$f":"Harmonischen!$C$63/100*SIN($C488*$N$191*PI()/180)","v":0},{"$f":"Harmonischen!$C$64/100*SIN($C488*$O$191*PI()/180)","v":0},{"$f":"Harmonischen!$C$65/100*SIN($C488*$P$191*PI()/180)","v":0},{"$f":"Harmonischen!$C$66/100*SIN($C488*$Q$191*PI()/180)","v":0},{"$f":"Harmonischen!$C$67/100*SIN($C488*$R$191*PI()/180)","v":0},{"$f":"Harmonischen!$C$68/100*SIN($C488*$S$191*PI()/180)","v":0},{"$f":"Harmonischen!$C$69/100*SIN($C488*$T$191*PI()/180)","v":0},{"$f":"Harmonischen!$C$70/100*SIN($C488*$U$191*PI()/180)","v":0},{"$f":"Harmonischen!$C$71/100*SIN($C488*$V$191*PI()/180)","v":0},{"$f":"Harmonischen!$C$72/100*SIN($C488*$W$191*PI()/180)","v":0},{"$f":"Harmonischen!$C$73/100*SIN($C488*$X$191*PI()/180)","v":0},{"$f":"Harmonischen!$C$74/100*SIN($C488*$Y$191*PI()/180)","v":0},{"$f":"Harmonischen!$C$75/100*SIN($C488*$Z$191*PI()/180)","v":0},{"$f":"Harmonischen!$C$76/100*SIN($C488*$AA$191*PI()/180)","v":0},{"$f":"Harmonischen!$C$77/100*SIN($C488*$AB$191*PI()/180)","v":0},null,-0.8572117081356152]
[null,null,297,{"$f":"Harmonischen!$C$53/100*SIN(C489*PI()/180)","v":-0.8910065241883679},{"$f":"Harmonischen!$C$54/100*SIN(C489*$E$191*PI()/180)","v":0},{"$f":"Harmonischen!$C$55/100*SIN(C489*$F$191*PI()/180)","v":3.1286893008046122E-2},{"$f":"Harmonischen!$C$56/100*SIN(C489*$G$191*PI()/180)","v":0},{"$f":"Harmonischen!$C$57/100*SIN(C489*$H$191*PI()/180)","v":0},{"$f":"Harmonischen!$C$58/100*SIN(C489*$I$191*PI()/180)","v":0},{"$f":"Harmonischen!$C$59/100*SIN(C489*$J$191*PI()/180)","v":0},{"$f":"Harmonischen!$C$60/100*SIN(C489*$K$191*PI()/180)","v":0},{"$f":"Harmonischen!$C$61/100*SIN(C489*$L$191*PI()/180)","v":0},{"$f":"Harmonischen!$C$62/100*SIN(C489*$M$191*PI()/180)","v":0},{"$f":"Harmonischen!$C$63/100*SIN($C489*$N$191*PI()/180)","v":0},{"$f":"Harmonischen!$C$64/100*SIN($C489*$O$191*PI()/180)","v":0},{"$f":"Harmonischen!$C$65/100*SIN($C489*$P$191*PI()/180)","v":0},{"$f":"Harmonischen!$C$66/100*SIN($C489*$Q$191*PI()/180)","v":0},{"$f":"Harmonischen!$C$67/100*SIN($C489*$R$191*PI()/180)","v":0},{"$f":"Harmonischen!$C$68/100*SIN($C489*$S$191*PI()/180)","v":0},{"$f":"Harmonischen!$C$69/100*SIN($C489*$T$191*PI()/180)","v":0},{"$f":"Harmonischen!$C$70/100*SIN($C489*$U$191*PI()/180)","v":0},{"$f":"Harmonischen!$C$71/100*SIN($C489*$V$191*PI()/180)","v":0},{"$f":"Harmonischen!$C$72/100*SIN($C489*$W$191*PI()/180)","v":0},{"$f":"Harmonischen!$C$73/100*SIN($C489*$X$191*PI()/180)","v":0},{"$f":"Harmonischen!$C$74/100*SIN($C489*$Y$191*PI()/180)","v":0},{"$f":"Harmonischen!$C$75/100*SIN($C489*$Z$191*PI()/180)","v":0},{"$f":"Harmonischen!$C$76/100*SIN($C489*$AA$191*PI()/180)","v":0},{"$f":"Harmonischen!$C$77/100*SIN($C489*$AB$191*PI()/180)","v":0},null,-0.8597196311803218]
[null,null,298,{"$f":"Harmonischen!$C$53/100*SIN(C490*PI()/180)","v":-0.8829475928589271},{"$f":"Harmonischen!$C$54/100*SIN(C490*$E$191*PI()/180)","v":0},{"$f":"Harmonischen!$C$55/100*SIN(C490*$F$191*PI()/180)","v":2.0905692653530934E-2},{"$f":"Harmonischen!$C$56/100*SIN(C490*$G$191*PI()/180)","v":0},{"$f":"Harmonischen!$C$57/100*SIN(C490*$H$191*PI()/180)","v":0},{"$f":"Harmonischen!$C$58/100*SIN(C490*$I$191*PI()/180)","v":0},{"$f":"Harmonischen!$C$59/100*SIN(C490*$J$191*PI()/180)","v":0},{"$f":"Harmonischen!$C$60/100*SIN(C490*$K$191*PI()/180)","v":0},{"$f":"Harmonischen!$C$61/100*SIN(C490*$L$191*PI()/180)","v":0},{"$f":"Harmonischen!$C$62/100*SIN(C490*$M$191*PI()/180)","v":0},{"$f":"Harmonischen!$C$63/100*SIN($C490*$N$191*PI()/180)","v":0},{"$f":"Harmonischen!$C$64/100*SIN($C490*$O$191*PI()/180)","v":0},{"$f":"Harmonischen!$C$65/100*SIN($C490*$P$191*PI()/180)","v":0},{"$f":"Harmonischen!$C$66/100*SIN($C490*$Q$191*PI()/180)","v":0},{"$f":"Harmonischen!$C$67/100*SIN($C490*$R$191*PI()/180)","v":0},{"$f":"Harmonischen!$C$68/100*SIN($C490*$S$191*PI()/180)","v":0},{"$f":"Harmonischen!$C$69/100*SIN($C490*$T$191*PI()/180)","v":0},{"$f":"Harmonischen!$C$70/100*SIN($C490*$U$191*PI()/180)","v":0},{"$f":"Harmonischen!$C$71/100*SIN($C490*$V$191*PI()/180)","v":0},{"$f":"Harmonischen!$C$72/100*SIN($C490*$W$191*PI()/180)","v":0},{"$f":"Harmonischen!$C$73/100*SIN($C490*$X$191*PI()/180)","v":0},{"$f":"Harmonischen!$C$74/100*SIN($C490*$Y$191*PI()/180)","v":0},{"$f":"Harmonischen!$C$75/100*SIN($C490*$Z$191*PI()/180)","v":0},{"$f":"Harmonischen!$C$76/100*SIN($C490*$AA$191*PI()/180)","v":0},{"$f":"Harmonischen!$C$77/100*SIN($C490*$AB$191*PI()/180)","v":0},null,-0.86204190020539617]
[null,null,299,{"$f":"Harmonischen!$C$53/100*SIN(C491*PI()/180)","v":-0.87461970713939607},{"$f":"Harmonischen!$C$54/100*SIN(C491*$E$191*PI()/180)","v":0},{"$f":"Harmonischen!$C$55/100*SIN(C491*$F$191*PI()/180)","v":1.0467191248588949E-2},{"$f":"Harmonischen!$C$56/100*SIN(C491*$G$191*PI()/180)","v":0},{"$f":"Harmonischen!$C$57/100*SIN(C491*$H$191*PI()/180)","v":0},{"$f":"Harmonischen!$C$58/100*SIN(C491*$I$191*PI()/180)","v":0},{"$f":"Harmonischen!$C$59/100*SIN(C491*$J$191*PI()/180)","v":0},{"$f":"Harmonischen!$C$60/100*SIN(C491*$K$191*PI()/180)","v":0},{"$f":"Harmonischen!$C$61/100*SIN(C491*$L$191*PI()/180)","v":0},{"$f":"Harmonischen!$C$62/100*SIN(C491*$M$191*PI()/180)","v":0},{"$f":"Harmonischen!$C$63/100*SIN($C491*$N$191*PI()/180)","v":0},{"$f":"Harmonischen!$C$64/100*SIN($C491*$O$191*PI()/180)","v":0},{"$f":"Harmonischen!$C$65/100*SIN($C491*$P$191*PI()/180)","v":0},{"$f":"Harmonischen!$C$66/100*SIN($C491*$Q$191*PI()/180)","v":0},{"$f":"Harmonischen!$C$67/100*SIN($C491*$R$191*PI()/180)","v":0},{"$f":"Harmonischen!$C$68/100*SIN($C491*$S$191*PI()/180)","v":0},{"$f":"Harmonischen!$C$69/100*SIN($C491*$T$191*PI()/180)","v":0},{"$f":"Harmonischen!$C$70/100*SIN($C491*$U$191*PI()/180)","v":0},{"$f":"Harmonischen!$C$71/100*SIN($C491*$V$191*PI()/180)","v":0},{"$f":"Harmonischen!$C$72/100*SIN($C491*$W$191*PI()/180)","v":0},{"$f":"Harmonischen!$C$73/100*SIN($C491*$X$191*PI()/180)","v":0},{"$f":"Harmonischen!$C$74/100*SIN($C491*$Y$191*PI()/180)","v":0},{"$f":"Harmonischen!$C$75/100*SIN($C491*$Z$191*PI()/180)","v":0},{"$f":"Harmonischen!$C$76/100*SIN($C491*$AA$191*PI()/180)","v":0},{"$f":"Harmonischen!$C$77/100*SIN($C491*$AB$191*PI()/180)","v":0},null,-0.8641525158908071]
[null,null,300,{"$f":"Harmonischen!$C$53/100*SIN(C492*PI()/180)","v":-0.8660254037844386},{"$f":"Harmonischen!$C$54/100*SIN(C492*$E$191*PI()/180)","v":0},{"$f":"Harmonischen!$C$55/100*SIN(C492*$F$191*PI()/180)","v":1.22514845490862E-16},{"$f":"Harmonischen!$C$56/100*SIN(C492*$G$191*PI()/180)","v":0},{"$f":"Harmonischen!$C$57/100*SIN(C492*$H$191*PI()/180)","v":0},{"$f":"Harmonischen!$C$58/100*SIN(C492*$I$191*PI()/180)","v":0},{"$f":"Harmonischen!$C$59/100*SIN(C492*$J$191*PI()/180)","v":0},{"$f":"Harmonischen!$C$60/100*SIN(C492*$K$191*PI()/180)","v":0},{"$f":"Harmonischen!$C$61/100*SIN(C492*$L$191*PI()/180)","v":0},{"$f":"Harmonischen!$C$62/100*SIN(C492*$M$191*PI()/180)","v":0},{"$f":"Harmonischen!$C$63/100*SIN($C492*$N$191*PI()/180)","v":0},{"$f":"Harmonischen!$C$64/100*SIN($C492*$O$191*PI()/180)","v":0},{"$f":"Harmonischen!$C$65/100*SIN($C492*$P$191*PI()/180)","v":0},{"$f":"Harmonischen!$C$66/100*SIN($C492*$Q$191*PI()/180)","v":0},{"$f":"Harmonischen!$C$67/100*SIN($C492*$R$191*PI()/180)","v":0},{"$f":"Harmonischen!$C$68/100*SIN($C492*$S$191*PI()/180)","v":0},{"$f":"Harmonischen!$C$69/100*SIN($C492*$T$191*PI()/180)","v":0},{"$f":"Harmonischen!$C$70/100*SIN($C492*$U$191*PI()/180)","v":0},{"$f":"Harmonischen!$C$71/100*SIN($C492*$V$191*PI()/180)","v":0},{"$f":"Harmonischen!$C$72/100*SIN($C492*$W$191*PI()/180)","v":0},{"$f":"Harmonischen!$C$73/100*SIN($C492*$X$191*PI()/180)","v":0},{"$f":"Harmonischen!$C$74/100*SIN($C492*$Y$191*PI()/180)","v":0},{"$f":"Harmonischen!$C$75/100*SIN($C492*$Z$191*PI()/180)","v":0},{"$f":"Harmonischen!$C$76/100*SIN($C492*$AA$191*PI()/180)","v":0},{"$f":"Harmonischen!$C$77/100*SIN($C492*$AB$191*PI()/180)","v":0},null,-0.86602540378443849]
[null,null,301,{"$f":"Harmonischen!$C$53/100*SIN(C493*PI()/180)","v":-0.85716730070211233},{"$f":"Harmonischen!$C$54/100*SIN(C493*$E$191*PI()/180)","v":0},{"$f":"Harmonischen!$C$55/100*SIN(C493*$F$191*PI()/180)","v":-1.0467191248588704E-2},{"$f":"Harmonischen!$C$56/100*SIN(C493*$G$191*PI()/180)","v":0},{"$f":"Harmonischen!$C$57/100*SIN(C493*$H$191*PI()/180)","v":0},{"$f":"Harmonischen!$C$58/100*SIN(C493*$I$191*PI()/180)","v":0},{"$f":"Harmonischen!$C$59/100*SIN(C493*$J$191*PI()/180)","v":0},{"$f":"Harmonischen!$C$60/100*SIN(C493*$K$191*PI()/180)","v":0},{"$f":"Harmonischen!$C$61/100*SIN(C493*$L$191*PI()/180)","v":0},{"$f":"Harmonischen!$C$62/100*SIN(C493*$M$191*PI()/180)","v":0},{"$f":"Harmonischen!$C$63/100*SIN($C493*$N$191*PI()/180)","v":0},{"$f":"Harmonischen!$C$64/100*SIN($C493*$O$191*PI()/180)","v":0},{"$f":"Harmonischen!$C$65/100*SIN($C493*$P$191*PI()/180)","v":0},{"$f":"Harmonischen!$C$66/100*SIN($C493*$Q$191*PI()/180)","v":0},{"$f":"Harmonischen!$C$67/100*SIN($C493*$R$191*PI()/180)","v":0},{"$f":"Harmonischen!$C$68/100*SIN($C493*$S$191*PI()/180)","v":0},{"$f":"Harmonischen!$C$69/100*SIN($C493*$T$191*PI()/180)","v":0},{"$f":"Harmonischen!$C$70/100*SIN($C493*$U$191*PI()/180)","v":0},{"$f":"Harmonischen!$C$71/100*SIN($C493*$V$191*PI()/180)","v":0},{"$f":"Harmonischen!$C$72/100*SIN($C493*$W$191*PI()/180)","v":0},{"$f":"Harmonischen!$C$73/100*SIN($C493*$X$191*PI()/180)","v":0},{"$f":"Harmonischen!$C$74/100*SIN($C493*$Y$191*PI()/180)","v":0},{"$f":"Harmonischen!$C$75/100*SIN($C493*$Z$191*PI()/180)","v":0},{"$f":"Harmonischen!$C$76/100*SIN($C493*$AA$191*PI()/180)","v":0},{"$f":"Harmonischen!$C$77/100*SIN($C493*$AB$191*PI()/180)","v":0},null,-0.86763449195070108]
[null,null,302,{"$f":"Harmonischen!$C$53/100*SIN(C494*PI()/180)","v":-0.84804809615642618},{"$f":"Harmonischen!$C$54/100*SIN(C494*$E$191*PI()/180)","v":0},{"$f":"Harmonischen!$C$55/100*SIN(C494*$F$191*PI()/180)","v":-2.0905692653530691E-2},{"$f":"Harmonischen!$C$56/100*SIN(C494*$G$191*PI()/180)","v":0},{"$f":"Harmonischen!$C$57/100*SIN(C494*$H$191*PI()/180)","v":0},{"$f":"Harmonischen!$C$58/100*SIN(C494*$I$191*PI()/180)","v":0},{"$f":"Harmonischen!$C$59/100*SIN(C494*$J$191*PI()/180)","v":0},{"$f":"Harmonischen!$C$60/100*SIN(C494*$K$191*PI()/180)","v":0},{"$f":"Harmonischen!$C$61/100*SIN(C494*$L$191*PI()/180)","v":0},{"$f":"Harmonischen!$C$62/100*SIN(C494*$M$191*PI()/180)","v":0},{"$f":"Harmonischen!$C$63/100*SIN($C494*$N$191*PI()/180)","v":0},{"$f":"Harmonischen!$C$64/100*SIN($C494*$O$191*PI()/180)","v":0},{"$f":"Harmonischen!$C$65/100*SIN($C494*$P$191*PI()/180)","v":0},{"$f":"Harmonischen!$C$66/100*SIN($C494*$Q$191*PI()/180)","v":0},{"$f":"Harmonischen!$C$67/100*SIN($C494*$R$191*PI()/180)","v":0},{"$f":"Harmonischen!$C$68/100*SIN($C494*$S$191*PI()/180)","v":0},{"$f":"Harmonischen!$C$69/100*SIN($C494*$T$191*PI()/180)","v":0},{"$f":"Harmonischen!$C$70/100*SIN($C494*$U$191*PI()/180)","v":0},{"$f":"Harmonischen!$C$71/100*SIN($C494*$V$191*PI()/180)","v":0},{"$f":"Harmonischen!$C$72/100*SIN($C494*$W$191*PI()/180)","v":0},{"$f":"Harmonischen!$C$73/100*SIN($C494*$X$191*PI()/180)","v":0},{"$f":"Harmonischen!$C$74/100*SIN($C494*$Y$191*PI()/180)","v":0},{"$f":"Harmonischen!$C$75/100*SIN($C494*$Z$191*PI()/180)","v":0},{"$f":"Harmonischen!$C$76/100*SIN($C494*$AA$191*PI()/180)","v":0},{"$f":"Harmonischen!$C$77/100*SIN($C494*$AB$191*PI()/180)","v":0},null,-0.86895378880995688]
[null,null,303,{"$f":"Harmonischen!$C$53/100*SIN(C495*PI()/180)","v":-0.83867056794542427},{"$f":"Harmonischen!$C$54/100*SIN(C495*$E$191*PI()/180)","v":0},{"$f":"Harmonischen!$C$55/100*SIN(C495*$F$191*PI()/180)","v":-3.1286893008046233E-2},{"$f":"Harmonischen!$C$56/100*SIN(C495*$G$191*PI()/180)","v":0},{"$f":"Harmonischen!$C$57/100*SIN(C495*$H$191*PI()/180)","v":0},{"$f":"Harmonischen!$C$58/100*SIN(C495*$I$191*PI()/180)","v":0},{"$f":"Harmonischen!$C$59/100*SIN(C495*$J$191*PI()/180)","v":0},{"$f":"Harmonischen!$C$60/100*SIN(C495*$K$191*PI()/180)","v":0},{"$f":"Harmonischen!$C$61/100*SIN(C495*$L$191*PI()/180)","v":0},{"$f":"Harmonischen!$C$62/100*SIN(C495*$M$191*PI()/180)","v":0},{"$f":"Harmonischen!$C$63/100*SIN($C495*$N$191*PI()/180)","v":0},{"$f":"Harmonischen!$C$64/100*SIN($C495*$O$191*PI()/180)","v":0},{"$f":"Harmonischen!$C$65/100*SIN($C495*$P$191*PI()/180)","v":0},{"$f":"Harmonischen!$C$66/100*SIN($C495*$Q$191*PI()/180)","v":0},{"$f":"Harmonischen!$C$67/100*SIN($C495*$R$191*PI()/180)","v":0},{"$f":"Harmonischen!$C$68/100*SIN($C495*$S$191*PI()/180)","v":0},{"$f":"Harmonischen!$C$69/100*SIN($C495*$T$191*PI()/180)","v":0},{"$f":"Harmonischen!$C$70/100*SIN($C495*$U$191*PI()/180)","v":0},{"$f":"Harmonischen!$C$71/100*SIN($C495*$V$191*PI()/180)","v":0},{"$f":"Harmonischen!$C$72/100*SIN($C495*$W$191*PI()/180)","v":0},{"$f":"Harmonischen!$C$73/100*SIN($C495*$X$191*PI()/180)","v":0},{"$f":"Harmonischen!$C$74/100*SIN($C495*$Y$191*PI()/180)","v":0},{"$f":"Harmonischen!$C$75/100*SIN($C495*$Z$191*PI()/180)","v":0},{"$f":"Harmonischen!$C$76/100*SIN($C495*$AA$191*PI()/180)","v":0},{"$f":"Harmonischen!$C$77/100*SIN($C495*$AB$191*PI()/180)","v":0},null,-0.86995746095347048]
[null,null,304,{"$f":"Harmonischen!$C$53/100*SIN(C496*PI()/180)","v":-0.82903757255504207},{"$f":"Harmonischen!$C$54/100*SIN(C496*$E$191*PI()/180)","v":0},{"$f":"Harmonischen!$C$55/100*SIN(C496*$F$191*PI()/180)","v":-4.1582338163551634E-2},{"$f":"Harmonischen!$C$56/100*SIN(C496*$G$191*PI()/180)","v":0},{"$f":"Harmonischen!$C$57/100*SIN(C496*$H$191*PI()/180)","v":0},{"$f":"Harmonischen!$C$58/100*SIN(C496*$I$191*PI()/180)","v":0},{"$f":"Harmonischen!$C$59/100*SIN(C496*$J$191*PI()/180)","v":0},{"$f":"Harmonischen!$C$60/100*SIN(C496*$K$191*PI()/180)","v":0},{"$f":"Harmonischen!$C$61/100*SIN(C496*$L$191*PI()/180)","v":0},{"$f":"Harmonischen!$C$62/100*SIN(C496*$M$191*PI()/180)","v":0},{"$f":"Harmonischen!$C$63/100*SIN($C496*$N$191*PI()/180)","v":0},{"$f":"Harmonischen!$C$64/100*SIN($C496*$O$191*PI()/180)","v":0},{"$f":"Harmonischen!$C$65/100*SIN($C496*$P$191*PI()/180)","v":0},{"$f":"Harmonischen!$C$66/100*SIN($C496*$Q$191*PI()/180)","v":0},{"$f":"Harmonischen!$C$67/100*SIN($C496*$R$191*PI()/180)","v":0},{"$f":"Harmonischen!$C$68/100*SIN($C496*$S$191*PI()/180)","v":0},{"$f":"Harmonischen!$C$69/100*SIN($C496*$T$191*PI()/180)","v":0},{"$f":"Harmonischen!$C$70/100*SIN($C496*$U$191*PI()/180)","v":0},{"$f":"Harmonischen!$C$71/100*SIN($C496*$V$191*PI()/180)","v":0},{"$f":"Harmonischen!$C$72/100*SIN($C496*$W$191*PI()/180)","v":0},{"$f":"Harmonischen!$C$73/100*SIN($C496*$X$191*PI()/180)","v":0},{"$f":"Harmonischen!$C$74/100*SIN($C496*$Y$191*PI()/180)","v":0},{"$f":"Harmonischen!$C$75/100*SIN($C496*$Z$191*PI()/180)","v":0},{"$f":"Harmonischen!$C$76/100*SIN($C496*$AA$191*PI()/180)","v":0},{"$f":"Harmonischen!$C$77/100*SIN($C496*$AB$191*PI()/180)","v":0},null,-0.87061991071859368]
[null,null,305,{"$f":"Harmonischen!$C$53/100*SIN(C497*PI()/180)","v":-0.8191520442889918},{"$f":"Harmonischen!$C$54/100*SIN(C497*$E$191*PI()/180)","v":0},{"$f":"Harmonischen!$C$55/100*SIN(C497*$F$191*PI()/180)","v":-5.1763809020503974E-2},{"$f":"Harmonischen!$C$56/100*SIN(C497*$G$191*PI()/180)","v":0},{"$f":"Harmonischen!$C$57/100*SIN(C497*$H$191*PI()/180)","v":0},{"$f":"Harmonischen!$C$58/100*SIN(C497*$I$191*PI()/180)","v":0},{"$f":"Harmonischen!$C$59/100*SIN(C497*$J$191*PI()/180)","v":0},{"$f":"Harmonischen!$C$60/100*SIN(C497*$K$191*PI()/180)","v":0},{"$f":"Harmonischen!$C$61/100*SIN(C497*$L$191*PI()/180)","v":0},{"$f":"Harmonischen!$C$62/100*SIN(C497*$M$191*PI()/180)","v":0},{"$f":"Harmonischen!$C$63/100*SIN($C497*$N$191*PI()/180)","v":0},{"$f":"Harmonischen!$C$64/100*SIN($C497*$O$191*PI()/180)","v":0},{"$f":"Harmonischen!$C$65/100*SIN($C497*$P$191*PI()/180)","v":0},{"$f":"Harmonischen!$C$66/100*SIN($C497*$Q$191*PI()/180)","v":0},{"$f":"Harmonischen!$C$67/100*SIN($C497*$R$191*PI()/180)","v":0},{"$f":"Harmonischen!$C$68/100*SIN($C497*$S$191*PI()/180)","v":0},{"$f":"Harmonischen!$C$69/100*SIN($C497*$T$191*PI()/180)","v":0},{"$f":"Harmonischen!$C$70/100*SIN($C497*$U$191*PI()/180)","v":0},{"$f":"Harmonischen!$C$71/100*SIN($C497*$V$191*PI()/180)","v":0},{"$f":"Harmonischen!$C$72/100*SIN($C497*$W$191*PI()/180)","v":0},{"$f":"Harmonischen!$C$73/100*SIN($C497*$X$191*PI()/180)","v":0},{"$f":"Harmonischen!$C$74/100*SIN($C497*$Y$191*PI()/180)","v":0},{"$f":"Harmonischen!$C$75/100*SIN($C497*$Z$191*PI()/180)","v":0},{"$f":"Harmonischen!$C$76/100*SIN($C497*$AA$191*PI()/180)","v":0},{"$f":"Harmonischen!$C$77/100*SIN($C497*$AB$191*PI()/180)","v":0},null,-0.87091585330949572]
[null,null,306,{"$f":"Harmonischen!$C$53/100*SIN(C498*PI()/180)","v":-0.80901699437494756},{"$f":"Harmonischen!$C$54/100*SIN(C498*$E$191*PI()/180)","v":0},{"$f":"Harmonischen!$C$55/100*SIN(C498*$F$191*PI()/180)","v":-6.1803398874989028E-2},{"$f":"Harmonischen!$C$56/100*SIN(C498*$G$191*PI()/180)","v":0},{"$f":"Harmonischen!$C$57/100*SIN(C498*$H$191*PI()/180)","v":0},{"$f":"Harmonischen!$C$58/100*SIN(C498*$I$191*PI()/180)","v":0},{"$f":"Harmonischen!$C$59/100*SIN(C498*$J$191*PI()/180)","v":0},{"$f":"Harmonischen!$C$60/100*SIN(C498*$K$191*PI()/180)","v":0},{"$f":"Harmonischen!$C$61/100*SIN(C498*$L$191*PI()/180)","v":0},{"$f":"Harmonischen!$C$62/100*SIN(C498*$M$191*PI()/180)","v":0},{"$f":"Harmonischen!$C$63/100*SIN($C498*$N$191*PI()/180)","v":0},{"$f":"Harmonischen!$C$64/100*SIN($C498*$O$191*PI()/180)","v":0},{"$f":"Harmonischen!$C$65/100*SIN($C498*$P$191*PI()/180)","v":0},{"$f":"Harmonischen!$C$66/100*SIN($C498*$Q$191*PI()/180)","v":0},{"$f":"Harmonischen!$C$67/100*SIN($C498*$R$191*PI()/180)","v":0},{"$f":"Harmonischen!$C$68/100*SIN($C498*$S$191*PI()/180)","v":0},{"$f":"Harmonischen!$C$69/100*SIN($C498*$T$191*PI()/180)","v":0},{"$f":"Harmonischen!$C$70/100*SIN($C498*$U$191*PI()/180)","v":0},{"$f":"Harmonischen!$C$71/100*SIN($C498*$V$191*PI()/180)","v":0},{"$f":"Harmonischen!$C$72/100*SIN($C498*$W$191*PI()/180)","v":0},{"$f":"Harmonischen!$C$73/100*SIN($C498*$X$191*PI()/180)","v":0},{"$f":"Harmonischen!$C$74/100*SIN($C498*$Y$191*PI()/180)","v":0},{"$f":"Harmonischen!$C$75/100*SIN($C498*$Z$191*PI()/180)","v":0},{"$f":"Harmonischen!$C$76/100*SIN($C498*$AA$191*PI()/180)","v":0},{"$f":"Harmonischen!$C$77/100*SIN($C498*$AB$191*PI()/180)","v":0},null,-0.87082039324993654]
[null,null,307,{"$f":"Harmonischen!$C$53/100*SIN(C499*PI()/180)","v":-0.79863551004729305},{"$f":"Harmonischen!$C$54/100*SIN(C499*$E$191*PI()/180)","v":0},{"$f":"Harmonischen!$C$55/100*SIN(C499*$F$191*PI()/180)","v":-7.1673589909060323E-2},{"$f":"Harmonischen!$C$56/100*SIN(C499*$G$191*PI()/180)","v":0},{"$f":"Harmonischen!$C$57/100*SIN(C499*$H$191*PI()/180)","v":0},{"$f":"Harmonischen!$C$58/100*SIN(C499*$I$191*PI()/180)","v":0},{"$f":"Harmonischen!$C$59/100*SIN(C499*$J$191*PI()/180)","v":0},{"$f":"Harmonischen!$C$60/100*SIN(C499*$K$191*PI()/180)","v":0},{"$f":"Harmonischen!$C$61/100*SIN(C499*$L$191*PI()/180)","v":0},{"$f":"Harmonischen!$C$62/100*SIN(C499*$M$191*PI()/180)","v":0},{"$f":"Harmonischen!$C$63/100*SIN($C499*$N$191*PI()/180)","v":0},{"$f":"Harmonischen!$C$64/100*SIN($C499*$O$191*PI()/180)","v":0},{"$f":"Harmonischen!$C$65/100*SIN($C499*$P$191*PI()/180)","v":0},{"$f":"Harmonischen!$C$66/100*SIN($C499*$Q$191*PI()/180)","v":0},{"$f":"Harmonischen!$C$67/100*SIN($C499*$R$191*PI()/180)","v":0},{"$f":"Harmonischen!$C$68/100*SIN($C499*$S$191*PI()/180)","v":0},{"$f":"Harmonischen!$C$69/100*SIN($C499*$T$191*PI()/180)","v":0},{"$f":"Harmonischen!$C$70/100*SIN($C499*$U$191*PI()/180)","v":0},{"$f":"Harmonischen!$C$71/100*SIN($C499*$V$191*PI()/180)","v":0},{"$f":"Harmonischen!$C$72/100*SIN($C499*$W$191*PI()/180)","v":0},{"$f":"Harmonischen!$C$73/100*SIN($C499*$X$191*PI()/180)","v":0},{"$f":"Harmonischen!$C$74/100*SIN($C499*$Y$191*PI()/180)","v":0},{"$f":"Harmonischen!$C$75/100*SIN($C499*$Z$191*PI()/180)","v":0},{"$f":"Harmonischen!$C$76/100*SIN($C499*$AA$191*PI()/180)","v":0},{"$f":"Harmonischen!$C$77/100*SIN($C499*$AB$191*PI()/180)","v":0},null,-0.87030909995635342]
[null,null,308,{"$f":"Harmonischen!$C$53/100*SIN(C500*PI()/180)","v":-0.78801075360672179},{"$f":"Harmonischen!$C$54/100*SIN(C500*$E$191*PI()/180)","v":0},{"$f":"Harmonischen!$C$55/100*SIN(C500*$F$191*PI()/180)","v":-8.1347328615160364E-2},{"$f":"Harmonischen!$C$56/100*SIN(C500*$G$191*PI()/180)","v":0},{"$f":"Harmonischen!$C$57/100*SIN(C500*$H$191*PI()/180)","v":0},{"$f":"Harmonischen!$C$58/100*SIN(C500*$I$191*PI()/180)","v":0},{"$f":"Harmonischen!$C$59/100*SIN(C500*$J$191*PI()/180)","v":0},{"$f":"Harmonischen!$C$60/100*SIN(C500*$K$191*PI()/180)","v":0},{"$f":"Harmonischen!$C$61/100*SIN(C500*$L$191*PI()/180)","v":0},{"$f":"Harmonischen!$C$62/100*SIN(C500*$M$191*PI()/180)","v":0},{"$f":"Harmonischen!$C$63/100*SIN($C500*$N$191*PI()/180)","v":0},{"$f":"Harmonischen!$C$64/100*SIN($C500*$O$191*PI()/180)","v":0},{"$f":"Harmonischen!$C$65/100*SIN($C500*$P$191*PI()/180)","v":0},{"$f":"Harmonischen!$C$66/100*SIN($C500*$Q$191*PI()/180)","v":0},{"$f":"Harmonischen!$C$67/100*SIN($C500*$R$191*PI()/180)","v":0},{"$f":"Harmonischen!$C$68/100*SIN($C500*$S$191*PI()/180)","v":0},{"$f":"Harmonischen!$C$69/100*SIN($C500*$T$191*PI()/180)","v":0},{"$f":"Harmonischen!$C$70/100*SIN($C500*$U$191*PI()/180)","v":0},{"$f":"Harmonischen!$C$71/100*SIN($C500*$V$191*PI()/180)","v":0},{"$f":"Harmonischen!$C$72/100*SIN($C500*$W$191*PI()/180)","v":0},{"$f":"Harmonischen!$C$73/100*SIN($C500*$X$191*PI()/180)","v":0},{"$f":"Harmonischen!$C$74/100*SIN($C500*$Y$191*PI()/180)","v":0},{"$f":"Harmonischen!$C$75/100*SIN($C500*$Z$191*PI()/180)","v":0},{"$f":"Harmonischen!$C$76/100*SIN($C500*$AA$191*PI()/180)","v":0},{"$f":"Harmonischen!$C$77/100*SIN($C500*$AB$191*PI()/180)","v":0},null,-0.86935808222188216]
[null,null,309,{"$f":"Harmonischen!$C$53/100*SIN(C501*PI()/180)","v":-0.77714596145697079},{"$f":"Harmonischen!$C$54/100*SIN(C501*$E$191*PI()/180)","v":0},{"$f":"Harmonischen!$C$55/100*SIN(C501*$F$191*PI()/180)","v":-9.0798099947909092E-2},{"$f":"Harmonischen!$C$56/100*SIN(C501*$G$191*PI()/180)","v":0},{"$f":"Harmonischen!$C$57/100*SIN(C501*$H$191*PI()/180)","v":0},{"$f":"Harmonischen!$C$58/100*SIN(C501*$I$191*PI()/180)","v":0},{"$f":"Harmonischen!$C$59/100*SIN(C501*$J$191*PI()/180)","v":0},{"$f":"Harmonischen!$C$60/100*SIN(C501*$K$191*PI()/180)","v":0},{"$f":"Harmonischen!$C$61/100*SIN(C501*$L$191*PI()/180)","v":0},{"$f":"Harmonischen!$C$62/100*SIN(C501*$M$191*PI()/180)","v":0},{"$f":"Harmonischen!$C$63/100*SIN($C501*$N$191*PI()/180)","v":0},{"$f":"Harmonischen!$C$64/100*SIN($C501*$O$191*PI()/180)","v":0},{"$f":"Harmonischen!$C$65/100*SIN($C501*$P$191*PI()/180)","v":0},{"$f":"Harmonischen!$C$66/100*SIN($C501*$Q$191*PI()/180)","v":0},{"$f":"Harmonischen!$C$67/100*SIN($C501*$R$191*PI()/180)","v":0},{"$f":"Harmonischen!$C$68/100*SIN($C501*$S$191*PI()/180)","v":0},{"$f":"Harmonischen!$C$69/100*SIN($C501*$T$191*PI()/180)","v":0},{"$f":"Harmonischen!$C$70/100*SIN($C501*$U$191*PI()/180)","v":0},{"$f":"Harmonischen!$C$71/100*SIN($C501*$V$191*PI()/180)","v":0},{"$f":"Harmonischen!$C$72/100*SIN($C501*$W$191*PI()/180)","v":0},{"$f":"Harmonischen!$C$73/100*SIN($C501*$X$191*PI()/180)","v":0},{"$f":"Harmonischen!$C$74/100*SIN($C501*$Y$191*PI()/180)","v":0},{"$f":"Harmonischen!$C$75/100*SIN($C501*$Z$191*PI()/180)","v":0},{"$f":"Harmonischen!$C$76/100*SIN($C501*$AA$191*PI()/180)","v":0},{"$f":"Harmonischen!$C$77/100*SIN($C501*$AB$191*PI()/180)","v":0},null,-0.8679440614048799]
[null,null,310,{"$f":"Harmonischen!$C$53/100*SIN(C502*PI()/180)","v":-0.76604444311897812},{"$f":"Harmonischen!$C$54/100*SIN(C502*$E$191*PI()/180)","v":0},{"$f":"Harmonischen!$C$55/100*SIN(C502*$F$191*PI()/180)","v":-9.9999999999999797E-2},{"$f":"Harmonischen!$C$56/100*SIN(C502*$G$191*PI()/180)","v":0},{"$f":"Harmonischen!$C$57/100*SIN(C502*$H$191*PI()/180)","v":0},{"$f":"Harmonischen!$C$58/100*SIN(C502*$I$191*PI()/180)","v":0},{"$f":"Harmonischen!$C$59/100*SIN(C502*$J$191*PI()/180)","v":0},{"$f":"Harmonischen!$C$60/100*SIN(C502*$K$191*PI()/180)","v":0},{"$f":"Harmonischen!$C$61/100*SIN(C502*$L$191*PI()/180)","v":0},{"$f":"Harmonischen!$C$62/100*SIN(C502*$M$191*PI()/180)","v":0},{"$f":"Harmonischen!$C$63/100*SIN($C502*$N$191*PI()/180)","v":0},{"$f":"Harmonischen!$C$64/100*SIN($C502*$O$191*PI()/180)","v":0},{"$f":"Harmonischen!$C$65/100*SIN($C502*$P$191*PI()/180)","v":0},{"$f":"Harmonischen!$C$66/100*SIN($C502*$Q$191*PI()/180)","v":0},{"$f":"Harmonischen!$C$67/100*SIN($C502*$R$191*PI()/180)","v":0},{"$f":"Harmonischen!$C$68/100*SIN($C502*$S$191*PI()/180)","v":0},{"$f":"Harmonischen!$C$69/100*SIN($C502*$T$191*PI()/180)","v":0},{"$f":"Harmonischen!$C$70/100*SIN($C502*$U$191*PI()/180)","v":0},{"$f":"Harmonischen!$C$71/100*SIN($C502*$V$191*PI()/180)","v":0},{"$f":"Harmonischen!$C$72/100*SIN($C502*$W$191*PI()/180)","v":0},{"$f":"Harmonischen!$C$73/100*SIN($C502*$X$191*PI()/180)","v":0},{"$f":"Harmonischen!$C$74/100*SIN($C502*$Y$191*PI()/180)","v":0},{"$f":"Harmonischen!$C$75/100*SIN($C502*$Z$191*PI()/180)","v":0},{"$f":"Harmonischen!$C$76/100*SIN($C502*$AA$191*PI()/180)","v":0},{"$f":"Harmonischen!$C$77/100*SIN($C502*$AB$191*PI()/180)","v":0},null,-0.86604444311897788]
[null,null,311,{"$f":"Harmonischen!$C$53/100*SIN(C503*PI()/180)","v":-0.75470958022277224},{"$f":"Harmonischen!$C$54/100*SIN(C503*$E$191*PI()/180)","v":0},{"$f":"Harmonischen!$C$55/100*SIN(C503*$F$191*PI()/180)","v":-0.10892780700300526},{"$f":"Harmonischen!$C$56/100*SIN(C503*$G$191*PI()/180)","v":0},{"$f":"Harmonischen!$C$57/100*SIN(C503*$H$191*PI()/180)","v":0},{"$f":"Harmonischen!$C$58/100*SIN(C503*$I$191*PI()/180)","v":0},{"$f":"Harmonischen!$C$59/100*SIN(C503*$J$191*PI()/180)","v":0},{"$f":"Harmonischen!$C$60/100*SIN(C503*$K$191*PI()/180)","v":0},{"$f":"Harmonischen!$C$61/100*SIN(C503*$L$191*PI()/180)","v":0},{"$f":"Harmonischen!$C$62/100*SIN(C503*$M$191*PI()/180)","v":0},{"$f":"Harmonischen!$C$63/100*SIN($C503*$N$191*PI()/180)","v":0},{"$f":"Harmonischen!$C$64/100*SIN($C503*$O$191*PI()/180)","v":0},{"$f":"Harmonischen!$C$65/100*SIN($C503*$P$191*PI()/180)","v":0},{"$f":"Harmonischen!$C$66/100*SIN($C503*$Q$191*PI()/180)","v":0},{"$f":"Harmonischen!$C$67/100*SIN($C503*$R$191*PI()/180)","v":0},{"$f":"Harmonischen!$C$68/100*SIN($C503*$S$191*PI()/180)","v":0},{"$f":"Harmonischen!$C$69/100*SIN($C503*$T$191*PI()/180)","v":0},{"$f":"Harmonischen!$C$70/100*SIN($C503*$U$191*PI()/180)","v":0},{"$f":"Harmonischen!$C$71/100*SIN($C503*$V$191*PI()/180)","v":0},{"$f":"Harmonischen!$C$72/100*SIN($C503*$W$191*PI()/180)","v":0},{"$f":"Harmonischen!$C$73/100*SIN($C503*$X$191*PI()/180)","v":0},{"$f":"Harmonischen!$C$74/100*SIN($C503*$Y$191*PI()/180)","v":0},{"$f":"Harmonischen!$C$75/100*SIN($C503*$Z$191*PI()/180)","v":0},{"$f":"Harmonischen!$C$76/100*SIN($C503*$AA$191*PI()/180)","v":0},{"$f":"Harmonischen!$C$77/100*SIN($C503*$AB$191*PI()/180)","v":0},null,-0.86363738722577754]
[null,null,312,{"$f":"Harmonischen!$C$53/100*SIN(C504*PI()/180)","v":-0.74314482547739458},{"$f":"Harmonischen!$C$54/100*SIN(C504*$E$191*PI()/180)","v":0},{"$f":"Harmonischen!$C$55/100*SIN(C504*$F$191*PI()/180)","v":-0.11755705045849452},{"$f":"Harmonischen!$C$56/100*SIN(C504*$G$191*PI()/180)","v":0},{"$f":"Harmonischen!$C$57/100*SIN(C504*$H$191*PI()/180)","v":0},{"$f":"Harmonischen!$C$58/100*SIN(C504*$I$191*PI()/180)","v":0},{"$f":"Harmonischen!$C$59/100*SIN(C504*$J$191*PI()/180)","v":0},{"$f":"Harmonischen!$C$60/100*SIN(C504*$K$191*PI()/180)","v":0},{"$f":"Harmonischen!$C$61/100*SIN(C504*$L$191*PI()/180)","v":0},{"$f":"Harmonischen!$C$62/100*SIN(C504*$M$191*PI()/180)","v":0},{"$f":"Harmonischen!$C$63/100*SIN($C504*$N$191*PI()/180)","v":0},{"$f":"Harmonischen!$C$64/100*SIN($C504*$O$191*PI()/180)","v":0},{"$f":"Harmonischen!$C$65/100*SIN($C504*$P$191*PI()/180)","v":0},{"$f":"Harmonischen!$C$66/100*SIN($C504*$Q$191*PI()/180)","v":0},{"$f":"Harmonischen!$C$67/100*SIN($C504*$R$191*PI()/180)","v":0},{"$f":"Harmonischen!$C$68/100*SIN($C504*$S$191*PI()/180)","v":0},{"$f":"Harmonischen!$C$69/100*SIN($C504*$T$191*PI()/180)","v":0},{"$f":"Harmonischen!$C$70/100*SIN($C504*$U$191*PI()/180)","v":0},{"$f":"Harmonischen!$C$71/100*SIN($C504*$V$191*PI()/180)","v":0},{"$f":"Harmonischen!$C$72/100*SIN($C504*$W$191*PI()/180)","v":0},{"$f":"Harmonischen!$C$73/100*SIN($C504*$X$191*PI()/180)","v":0},{"$f":"Harmonischen!$C$74/100*SIN($C504*$Y$191*PI()/180)","v":0},{"$f":"Harmonischen!$C$75/100*SIN($C504*$Z$191*PI()/180)","v":0},{"$f":"Harmonischen!$C$76/100*SIN($C504*$AA$191*PI()/180)","v":0},{"$f":"Harmonischen!$C$77/100*SIN($C504*$AB$191*PI()/180)","v":0},null,-0.86070187593588909]
[null,null,313,{"$f":"Harmonischen!$C$53/100*SIN(C505*PI()/180)","v":-0.73135370161917101},{"$f":"Harmonischen!$C$54/100*SIN(C505*$E$191*PI()/180)","v":0},{"$f":"Harmonischen!$C$55/100*SIN(C505*$F$191*PI()/180)","v":-0.12586407820996745},{"$f":"Harmonischen!$C$56/100*SIN(C505*$G$191*PI()/180)","v":0},{"$f":"Harmonischen!$C$57/100*SIN(C505*$H$191*PI()/180)","v":0},{"$f":"Harmonischen!$C$58/100*SIN(C505*$I$191*PI()/180)","v":0},{"$f":"Harmonischen!$C$59/100*SIN(C505*$J$191*PI()/180)","v":0},{"$f":"Harmonischen!$C$60/100*SIN(C505*$K$191*PI()/180)","v":0},{"$f":"Harmonischen!$C$61/100*SIN(C505*$L$191*PI()/180)","v":0},{"$f":"Harmonischen!$C$62/100*SIN(C505*$M$191*PI()/180)","v":0},{"$f":"Harmonischen!$C$63/100*SIN($C505*$N$191*PI()/180)","v":0},{"$f":"Harmonischen!$C$64/100*SIN($C505*$O$191*PI()/180)","v":0},{"$f":"Harmonischen!$C$65/100*SIN($C505*$P$191*PI()/180)","v":0},{"$f":"Harmonischen!$C$66/100*SIN($C505*$Q$191*PI()/180)","v":0},{"$f":"Harmonischen!$C$67/100*SIN($C505*$R$191*PI()/180)","v":0},{"$f":"Harmonischen!$C$68/100*SIN($C505*$S$191*PI()/180)","v":0},{"$f":"Harmonischen!$C$69/100*SIN($C505*$T$191*PI()/180)","v":0},{"$f":"Harmonischen!$C$70/100*SIN($C505*$U$191*PI()/180)","v":0},{"$f":"Harmonischen!$C$71/100*SIN($C505*$V$191*PI()/180)","v":0},{"$f":"Harmonischen!$C$72/100*SIN($C505*$W$191*PI()/180)","v":0},{"$f":"Harmonischen!$C$73/100*SIN($C505*$X$191*PI()/180)","v":0},{"$f":"Harmonischen!$C$74/100*SIN($C505*$Y$191*PI()/180)","v":0},{"$f":"Harmonischen!$C$75/100*SIN($C505*$Z$191*PI()/180)","v":0},{"$f":"Harmonischen!$C$76/100*SIN($C505*$AA$191*PI()/180)","v":0},{"$f":"Harmonischen!$C$77/100*SIN($C505*$AB$191*PI()/180)","v":0},null,-0.85721777982913849]
[null,null,314,{"$f":"Harmonischen!$C$53/100*SIN(C506*PI()/180)","v":-0.71933980033865175},{"$f":"Harmonischen!$C$54/100*SIN(C506*$E$191*PI()/180)","v":0},{"$f":"Harmonischen!$C$55/100*SIN(C506*$F$191*PI()/180)","v":-0.13382612127177163},{"$f":"Harmonischen!$C$56/100*SIN(C506*$G$191*PI()/180)","v":0},{"$f":"Harmonischen!$C$57/100*SIN(C506*$H$191*PI()/180)","v":0},{"$f":"Harmonischen!$C$58/100*SIN(C506*$I$191*PI()/180)","v":0},{"$f":"Harmonischen!$C$59/100*SIN(C506*$J$191*PI()/180)","v":0},{"$f":"Harmonischen!$C$60/100*SIN(C506*$K$191*PI()/180)","v":0},{"$f":"Harmonischen!$C$61/100*SIN(C506*$L$191*PI()/180)","v":0},{"$f":"Harmonischen!$C$62/100*SIN(C506*$M$191*PI()/180)","v":0},{"$f":"Harmonischen!$C$63/100*SIN($C506*$N$191*PI()/180)","v":0},{"$f":"Harmonischen!$C$64/100*SIN($C506*$O$191*PI()/180)","v":0},{"$f":"Harmonischen!$C$65/100*SIN($C506*$P$191*PI()/180)","v":0},{"$f":"Harmonischen!$C$66/100*SIN($C506*$Q$191*PI()/180)","v":0},{"$f":"Harmonischen!$C$67/100*SIN($C506*$R$191*PI()/180)","v":0},{"$f":"Harmonischen!$C$68/100*SIN($C506*$S$191*PI()/180)","v":0},{"$f":"Harmonischen!$C$69/100*SIN($C506*$T$191*PI()/180)","v":0},{"$f":"Harmonischen!$C$70/100*SIN($C506*$U$191*PI()/180)","v":0},{"$f":"Harmonischen!$C$71/100*SIN($C506*$V$191*PI()/180)","v":0},{"$f":"Harmonischen!$C$72/100*SIN($C506*$W$191*PI()/180)","v":0},{"$f":"Harmonischen!$C$73/100*SIN($C506*$X$191*PI()/180)","v":0},{"$f":"Harmonischen!$C$74/100*SIN($C506*$Y$191*PI()/180)","v":0},{"$f":"Harmonischen!$C$75/100*SIN($C506*$Z$191*PI()/180)","v":0},{"$f":"Harmonischen!$C$76/100*SIN($C506*$AA$191*PI()/180)","v":0},{"$f":"Harmonischen!$C$77/100*SIN($C506*$AB$191*PI()/180)","v":0},null,-0.85316592161042337]
[null,null,315,{"$f":"Harmonischen!$C$53/100*SIN(C507*PI()/180)","v":-0.70710678118654768},{"$f":"Harmonischen!$C$54/100*SIN(C507*$E$191*PI()/180)","v":0},{"$f":"Harmonischen!$C$55/100*SIN(C507*$F$191*PI()/180)","v":-0.14142135623730903},{"$f":"Harmonischen!$C$56/100*SIN(C507*$G$191*PI()/180)","v":0},{"$f":"Harmonischen!$C$57/100*SIN(C507*$H$191*PI()/180)","v":0},{"$f":"Harmonischen!$C$58/100*SIN(C507*$I$191*PI()/180)","v":0},{"$f":"Harmonischen!$C$59/100*SIN(C507*$J$191*PI()/180)","v":0},{"$f":"Harmonischen!$C$60/100*SIN(C507*$K$191*PI()/180)","v":0},{"$f":"Harmonischen!$C$61/100*SIN(C507*$L$191*PI()/180)","v":0},{"$f":"Harmonischen!$C$62/100*SIN(C507*$M$191*PI()/180)","v":0},{"$f":"Harmonischen!$C$63/100*SIN($C507*$N$191*PI()/180)","v":0},{"$f":"Harmonischen!$C$64/100*SIN($C507*$O$191*PI()/180)","v":0},{"$f":"Harmonischen!$C$65/100*SIN($C507*$P$191*PI()/180)","v":0},{"$f":"Harmonischen!$C$66/100*SIN($C507*$Q$191*PI()/180)","v":0},{"$f":"Harmonischen!$C$67/100*SIN($C507*$R$191*PI()/180)","v":0},{"$f":"Harmonischen!$C$68/100*SIN($C507*$S$191*PI()/180)","v":0},{"$f":"Harmonischen!$C$69/100*SIN($C507*$T$191*PI()/180)","v":0},{"$f":"Harmonischen!$C$70/100*SIN($C507*$U$191*PI()/180)","v":0},{"$f":"Harmonischen!$C$71/100*SIN($C507*$V$191*PI()/180)","v":0},{"$f":"Harmonischen!$C$72/100*SIN($C507*$W$191*PI()/180)","v":0},{"$f":"Harmonischen!$C$73/100*SIN($C507*$X$191*PI()/180)","v":0},{"$f":"Harmonischen!$C$74/100*SIN($C507*$Y$191*PI()/180)","v":0},{"$f":"Harmonischen!$C$75/100*SIN($C507*$Z$191*PI()/180)","v":0},{"$f":"Harmonischen!$C$76/100*SIN($C507*$AA$191*PI()/180)","v":0},{"$f":"Harmonischen!$C$77/100*SIN($C507*$AB$191*PI()/180)","v":0},null,-0.84852813742385669]
[null,null,316,{"$f":"Harmonischen!$C$53/100*SIN(C508*PI()/180)","v":-0.69465837045899759},{"$f":"Harmonischen!$C$54/100*SIN(C508*$E$191*PI()/180)","v":0},{"$f":"Harmonischen!$C$55/100*SIN(C508*$F$191*PI()/180)","v":-0.14862896509547893},{"$f":"Harmonischen!$C$56/100*SIN(C508*$G$191*PI()/180)","v":0},{"$f":"Harmonischen!$C$57/100*SIN(C508*$H$191*PI()/180)","v":0},{"$f":"Harmonischen!$C$58/100*SIN(C508*$I$191*PI()/180)","v":0},{"$f":"Harmonischen!$C$59/100*SIN(C508*$J$191*PI()/180)","v":0},{"$f":"Harmonischen!$C$60/100*SIN(C508*$K$191*PI()/180)","v":0},{"$f":"Harmonischen!$C$61/100*SIN(C508*$L$191*PI()/180)","v":0},{"$f":"Harmonischen!$C$62/100*SIN(C508*$M$191*PI()/180)","v":0},{"$f":"Harmonischen!$C$63/100*SIN($C508*$N$191*PI()/180)","v":0},{"$f":"Harmonischen!$C$64/100*SIN($C508*$O$191*PI()/180)","v":0},{"$f":"Harmonischen!$C$65/100*SIN($C508*$P$191*PI()/180)","v":0},{"$f":"Harmonischen!$C$66/100*SIN($C508*$Q$191*PI()/180)","v":0},{"$f":"Harmonischen!$C$67/100*SIN($C508*$R$191*PI()/180)","v":0},{"$f":"Harmonischen!$C$68/100*SIN($C508*$S$191*PI()/180)","v":0},{"$f":"Harmonischen!$C$69/100*SIN($C508*$T$191*PI()/180)","v":0},{"$f":"Harmonischen!$C$70/100*SIN($C508*$U$191*PI()/180)","v":0},{"$f":"Harmonischen!$C$71/100*SIN($C508*$V$191*PI()/180)","v":0},{"$f":"Harmonischen!$C$72/100*SIN($C508*$W$191*PI()/180)","v":0},{"$f":"Harmonischen!$C$73/100*SIN($C508*$X$191*PI()/180)","v":0},{"$f":"Harmonischen!$C$74/100*SIN($C508*$Y$191*PI()/180)","v":0},{"$f":"Harmonischen!$C$75/100*SIN($C508*$Z$191*PI()/180)","v":0},{"$f":"Harmonischen!$C$76/100*SIN($C508*$AA$191*PI()/180)","v":0},{"$f":"Harmonischen!$C$77/100*SIN($C508*$AB$191*PI()/180)","v":0},null,-0.84328733555447655]
[null,null,317,{"$f":"Harmonischen!$C$53/100*SIN(C509*PI()/180)","v":-0.68199836006249825},{"$f":"Harmonischen!$C$54/100*SIN(C509*$E$191*PI()/180)","v":0},{"$f":"Harmonischen!$C$55/100*SIN(C509*$F$191*PI()/180)","v":-0.15542919229139429},{"$f":"Harmonischen!$C$56/100*SIN(C509*$G$191*PI()/180)","v":0},{"$f":"Harmonischen!$C$57/100*SIN(C509*$H$191*PI()/180)","v":0},{"$f":"Harmonischen!$C$58/100*SIN(C509*$I$191*PI()/180)","v":0},{"$f":"Harmonischen!$C$59/100*SIN(C509*$J$191*PI()/180)","v":0},{"$f":"Harmonischen!$C$60/100*SIN(C509*$K$191*PI()/180)","v":0},{"$f":"Harmonischen!$C$61/100*SIN(C509*$L$191*PI()/180)","v":0},{"$f":"Harmonischen!$C$62/100*SIN(C509*$M$191*PI()/180)","v":0},{"$f":"Harmonischen!$C$63/100*SIN($C509*$N$191*PI()/180)","v":0},{"$f":"Harmonischen!$C$64/100*SIN($C509*$O$191*PI()/180)","v":0},{"$f":"Harmonischen!$C$65/100*SIN($C509*$P$191*PI()/180)","v":0},{"$f":"Harmonischen!$C$66/100*SIN($C509*$Q$191*PI()/180)","v":0},{"$f":"Harmonischen!$C$67/100*SIN($C509*$R$191*PI()/180)","v":0},{"$f":"Harmonischen!$C$68/100*SIN($C509*$S$191*PI()/180)","v":0},{"$f":"Harmonischen!$C$69/100*SIN($C509*$T$191*PI()/180)","v":0},{"$f":"Harmonischen!$C$70/100*SIN($C509*$U$191*PI()/180)","v":0},{"$f":"Harmonischen!$C$71/100*SIN($C509*$V$191*PI()/180)","v":0},{"$f":"Harmonischen!$C$72/100*SIN($C509*$W$191*PI()/180)","v":0},{"$f":"Harmonischen!$C$73/100*SIN($C509*$X$191*PI()/180)","v":0},{"$f":"Harmonischen!$C$74/100*SIN($C509*$Y$191*PI()/180)","v":0},{"$f":"Harmonischen!$C$75/100*SIN($C509*$Z$191*PI()/180)","v":0},{"$f":"Harmonischen!$C$76/100*SIN($C509*$AA$191*PI()/180)","v":0},{"$f":"Harmonischen!$C$77/100*SIN($C509*$AB$191*PI()/180)","v":0},null,-0.83742755235389255]
[null,null,318,{"$f":"Harmonischen!$C$53/100*SIN(C510*PI()/180)","v":-0.66913060635885813},{"$f":"Harmonischen!$C$54/100*SIN(C510*$E$191*PI()/180)","v":0},{"$f":"Harmonischen!$C$55/100*SIN(C510*$F$191*PI()/180)","v":-0.16180339887498962},{"$f":"Harmonischen!$C$56/100*SIN(C510*$G$191*PI()/180)","v":0},{"$f":"Harmonischen!$C$57/100*SIN(C510*$H$191*PI()/180)","v":0},{"$f":"Harmonischen!$C$58/100*SIN(C510*$I$191*PI()/180)","v":0},{"$f":"Harmonischen!$C$59/100*SIN(C510*$J$191*PI()/180)","v":0},{"$f":"Harmonischen!$C$60/100*SIN(C510*$K$191*PI()/180)","v":0},{"$f":"Harmonischen!$C$61/100*SIN(C510*$L$191*PI()/180)","v":0},{"$f":"Harmonischen!$C$62/100*SIN(C510*$M$191*PI()/180)","v":0},{"$f":"Harmonischen!$C$63/100*SIN($C510*$N$191*PI()/180)","v":0},{"$f":"Harmonischen!$C$64/100*SIN($C510*$O$191*PI()/180)","v":0},{"$f":"Harmonischen!$C$65/100*SIN($C510*$P$191*PI()/180)","v":0},{"$f":"Harmonischen!$C$66/100*SIN($C510*$Q$191*PI()/180)","v":0},{"$f":"Harmonischen!$C$67/100*SIN($C510*$R$191*PI()/180)","v":0},{"$f":"Harmonischen!$C$68/100*SIN($C510*$S$191*PI()/180)","v":0},{"$f":"Harmonischen!$C$69/100*SIN($C510*$T$191*PI()/180)","v":0},{"$f":"Harmonischen!$C$70/100*SIN($C510*$U$191*PI()/180)","v":0},{"$f":"Harmonischen!$C$71/100*SIN($C510*$V$191*PI()/180)","v":0},{"$f":"Harmonischen!$C$72/100*SIN($C510*$W$191*PI()/180)","v":0},{"$f":"Harmonischen!$C$73/100*SIN($C510*$X$191*PI()/180)","v":0},{"$f":"Harmonischen!$C$74/100*SIN($C510*$Y$191*PI()/180)","v":0},{"$f":"Harmonischen!$C$75/100*SIN($C510*$Z$191*PI()/180)","v":0},{"$f":"Harmonischen!$C$76/100*SIN($C510*$AA$191*PI()/180)","v":0},{"$f":"Harmonischen!$C$77/100*SIN($C510*$AB$191*PI()/180)","v":0},null,-0.83093400523384775]
[null,null,319,{"$f":"Harmonischen!$C$53/100*SIN(C511*PI()/180)","v":-0.65605902899050739},{"$f":"Harmonischen!$C$54/100*SIN(C511*$E$191*PI()/180)","v":0},{"$f":"Harmonischen!$C$55/100*SIN(C511*$F$191*PI()/180)","v":-0.16773411358908497},{"$f":"Harmonischen!$C$56/100*SIN(C511*$G$191*PI()/180)","v":0},{"$f":"Harmonischen!$C$57/100*SIN(C511*$H$191*PI()/180)","v":0},{"$f":"Harmonischen!$C$58/100*SIN(C511*$I$191*PI()/180)","v":0},{"$f":"Harmonischen!$C$59/100*SIN(C511*$J$191*PI()/180)","v":0},{"$f":"Harmonischen!$C$60/100*SIN(C511*$K$191*PI()/180)","v":0},{"$f":"Harmonischen!$C$61/100*SIN(C511*$L$191*PI()/180)","v":0},{"$f":"Harmonischen!$C$62/100*SIN(C511*$M$191*PI()/180)","v":0},{"$f":"Harmonischen!$C$63/100*SIN($C511*$N$191*PI()/180)","v":0},{"$f":"Harmonischen!$C$64/100*SIN($C511*$O$191*PI()/180)","v":0},{"$f":"Harmonischen!$C$65/100*SIN($C511*$P$191*PI()/180)","v":0},{"$f":"Harmonischen!$C$66/100*SIN($C511*$Q$191*PI()/180)","v":0},{"$f":"Harmonischen!$C$67/100*SIN($C511*$R$191*PI()/180)","v":0},{"$f":"Harmonischen!$C$68/100*SIN($C511*$S$191*PI()/180)","v":0},{"$f":"Harmonischen!$C$69/100*SIN($C511*$T$191*PI()/180)","v":0},{"$f":"Harmonischen!$C$70/100*SIN($C511*$U$191*PI()/180)","v":0},{"$f":"Harmonischen!$C$71/100*SIN($C511*$V$191*PI()/180)","v":0},{"$f":"Harmonischen!$C$72/100*SIN($C511*$W$191*PI()/180)","v":0},{"$f":"Harmonischen!$C$73/100*SIN($C511*$X$191*PI()/180)","v":0},{"$f":"Harmonischen!$C$74/100*SIN($C511*$Y$191*PI()/180)","v":0},{"$f":"Harmonischen!$C$75/100*SIN($C511*$Z$191*PI()/180)","v":0},{"$f":"Harmonischen!$C$76/100*SIN($C511*$AA$191*PI()/180)","v":0},{"$f":"Harmonischen!$C$77/100*SIN($C511*$AB$191*PI()/180)","v":0},null,-0.82379314257959235]
[null,null,320,{"$f":"Harmonischen!$C$53/100*SIN(C512*PI()/180)","v":-0.64278760968653958},{"$f":"Harmonischen!$C$54/100*SIN(C512*$E$191*PI()/180)","v":0},{"$f":"Harmonischen!$C$55/100*SIN(C512*$F$191*PI()/180)","v":-0.17320508075688756},{"$f":"Harmonischen!$C$56/100*SIN(C512*$G$191*PI()/180)","v":0},{"$f":"Harmonischen!$C$57/100*SIN(C512*$H$191*PI()/180)","v":0},{"$f":"Harmonischen!$C$58/100*SIN(C512*$I$191*PI()/180)","v":0},{"$f":"Harmonischen!$C$59/100*SIN(C512*$J$191*PI()/180)","v":0},{"$f":"Harmonischen!$C$60/100*SIN(C512*$K$191*PI()/180)","v":0},{"$f":"Harmonischen!$C$61/100*SIN(C512*$L$191*PI()/180)","v":0},{"$f":"Harmonischen!$C$62/100*SIN(C512*$M$191*PI()/180)","v":0},{"$f":"Harmonischen!$C$63/100*SIN($C512*$N$191*PI()/180)","v":0},{"$f":"Harmonischen!$C$64/100*SIN($C512*$O$191*PI()/180)","v":0},{"$f":"Harmonischen!$C$65/100*SIN($C512*$P$191*PI()/180)","v":0},{"$f":"Harmonischen!$C$66/100*SIN($C512*$Q$191*PI()/180)","v":0},{"$f":"Harmonischen!$C$67/100*SIN($C512*$R$191*PI()/180)","v":0},{"$f":"Harmonischen!$C$68/100*SIN($C512*$S$191*PI()/180)","v":0},{"$f":"Harmonischen!$C$69/100*SIN($C512*$T$191*PI()/180)","v":0},{"$f":"Harmonischen!$C$70/100*SIN($C512*$U$191*PI()/180)","v":0},{"$f":"Harmonischen!$C$71/100*SIN($C512*$V$191*PI()/180)","v":0},{"$f":"Harmonischen!$C$72/100*SIN($C512*$W$191*PI()/180)","v":0},{"$f":"Harmonischen!$C$73/100*SIN($C512*$X$191*PI()/180)","v":0},{"$f":"Harmonischen!$C$74/100*SIN($C512*$Y$191*PI()/180)","v":0},{"$f":"Harmonischen!$C$75/100*SIN($C512*$Z$191*PI()/180)","v":0},{"$f":"Harmonischen!$C$76/100*SIN($C512*$AA$191*PI()/180)","v":0},{"$f":"Harmonischen!$C$77/100*SIN($C512*$AB$191*PI()/180)","v":0},null,{"$f":"SUM(D512:AB512)","v":-0.81599269044342715}]
[null,null,321,{"$f":"Harmonischen!$C$53/100*SIN(C513*PI()/180)","v":-0.62932039104983784},{"$f":"Harmonischen!$C$54/100*SIN(C513*$E$191*PI()/180)","v":0},{"$f":"Harmonischen!$C$55/100*SIN(C513*$F$191*PI()/180)","v":-0.17820130483767344},{"$f":"Harmonischen!$C$56/100*SIN(C513*$G$191*PI()/180)","v":0},{"$f":"Harmonischen!$C$57/100*SIN(C513*$H$191*PI()/180)","v":0},{"$f":"Harmonischen!$C$58/100*SIN(C513*$I$191*PI()/180)","v":0},{"$f":"Harmonischen!$C$59/100*SIN(C513*$J$191*PI()/180)","v":0},{"$f":"Harmonischen!$C$60/100*SIN(C513*$K$191*PI()/180)","v":0},{"$f":"Harmonischen!$C$61/100*SIN(C513*$L$191*PI()/180)","v":0},{"$f":"Harmonischen!$C$62/100*SIN(C513*$M$191*PI()/180)","v":0},{"$f":"Harmonischen!$C$63/100*SIN($C513*$N$191*PI()/180)","v":0},{"$f":"Harmonischen!$C$64/100*SIN($C513*$O$191*PI()/180)","v":0},{"$f":"Harmonischen!$C$65/100*SIN($C513*$P$191*PI()/180)","v":0},{"$f":"Harmonischen!$C$66/100*SIN($C513*$Q$191*PI()/180)","v":0},{"$f":"Harmonischen!$C$67/100*SIN($C513*$R$191*PI()/180)","v":0},{"$f":"Harmonischen!$C$68/100*SIN($C513*$S$191*PI()/180)","v":0},{"$f":"Harmonischen!$C$69/100*SIN($C513*$T$191*PI()/180)","v":0},{"$f":"Harmonischen!$C$70/100*SIN($C513*$U$191*PI()/180)","v":0},{"$f":"Harmonischen!$C$71/100*SIN($C513*$V$191*PI()/180)","v":0},{"$f":"Harmonischen!$C$72/100*SIN($C513*$W$191*PI()/180)","v":0},{"$f":"Harmonischen!$C$73/100*SIN($C513*$X$191*PI()/180)","v":0},{"$f":"Harmonischen!$C$74/100*SIN($C513*$Y$191*PI()/180)","v":0},{"$f":"Harmonischen!$C$75/100*SIN($C513*$Z$191*PI()/180)","v":0},{"$f":"Harmonischen!$C$76/100*SIN($C513*$AA$191*PI()/180)","v":0},{"$f":"Harmonischen!$C$77/100*SIN($C513*$AB$191*PI()/180)","v":0},null,-0.80752169588751133]
[null,null,322,{"$f":"Harmonischen!$C$53/100*SIN(C514*PI()/180)","v":-0.61566147532565885},{"$f":"Harmonischen!$C$54/100*SIN(C514*$E$191*PI()/180)","v":0},{"$f":"Harmonischen!$C$55/100*SIN(C514*$F$191*PI()/180)","v":-0.18270909152852011},{"$f":"Harmonischen!$C$56/100*SIN(C514*$G$191*PI()/180)","v":0},{"$f":"Harmonischen!$C$57/100*SIN(C514*$H$191*PI()/180)","v":0},{"$f":"Harmonischen!$C$58/100*SIN(C514*$I$191*PI()/180)","v":0},{"$f":"Harmonischen!$C$59/100*SIN(C514*$J$191*PI()/180)","v":0},{"$f":"Harmonischen!$C$60/100*SIN(C514*$K$191*PI()/180)","v":0},{"$f":"Harmonischen!$C$61/100*SIN(C514*$L$191*PI()/180)","v":0},{"$f":"Harmonischen!$C$62/100*SIN(C514*$M$191*PI()/180)","v":0},{"$f":"Harmonischen!$C$63/100*SIN($C514*$N$191*PI()/180)","v":0},{"$f":"Harmonischen!$C$64/100*SIN($C514*$O$191*PI()/180)","v":0},{"$f":"Harmonischen!$C$65/100*SIN($C514*$P$191*PI()/180)","v":0},{"$f":"Harmonischen!$C$66/100*SIN($C514*$Q$191*PI()/180)","v":0},{"$f":"Harmonischen!$C$67/100*SIN($C514*$R$191*PI()/180)","v":0},{"$f":"Harmonischen!$C$68/100*SIN($C514*$S$191*PI()/180)","v":0},{"$f":"Harmonischen!$C$69/100*SIN($C514*$T$191*PI()/180)","v":0},{"$f":"Harmonischen!$C$70/100*SIN($C514*$U$191*PI()/180)","v":0},{"$f":"Harmonischen!$C$71/100*SIN($C514*$V$191*PI()/180)","v":0},{"$f":"Harmonischen!$C$72/100*SIN($C514*$W$191*PI()/180)","v":0},{"$f":"Harmonischen!$C$73/100*SIN($C514*$X$191*PI()/180)","v":0},{"$f":"Harmonischen!$C$74/100*SIN($C514*$Y$191*PI()/180)","v":0},{"$f":"Harmonischen!$C$75/100*SIN($C514*$Z$191*PI()/180)","v":0},{"$f":"Harmonischen!$C$76/100*SIN($C514*$AA$191*PI()/180)","v":0},{"$f":"Harmonischen!$C$77/100*SIN($C514*$AB$191*PI()/180)","v":0},null,-0.79837056685417895]
[null,null,323,{"$f":"Harmonischen!$C$53/100*SIN(C515*PI()/180)","v":-0.60181502315204827},{"$f":"Harmonischen!$C$54/100*SIN(C515*$E$191*PI()/180)","v":0},{"$f":"Harmonischen!$C$55/100*SIN(C515*$F$191*PI()/180)","v":-0.18671608529944028},{"$f":"Harmonischen!$C$56/100*SIN(C515*$G$191*PI()/180)","v":0},{"$f":"Harmonischen!$C$57/100*SIN(C515*$H$191*PI()/180)","v":0},{"$f":"Harmonischen!$C$58/100*SIN(C515*$I$191*PI()/180)","v":0},{"$f":"Harmonischen!$C$59/100*SIN(C515*$J$191*PI()/180)","v":0},{"$f":"Harmonischen!$C$60/100*SIN(C515*$K$191*PI()/180)","v":0},{"$f":"Harmonischen!$C$61/100*SIN(C515*$L$191*PI()/180)","v":0},{"$f":"Harmonischen!$C$62/100*SIN(C515*$M$191*PI()/180)","v":0},{"$f":"Harmonischen!$C$63/100*SIN($C515*$N$191*PI()/180)","v":0},{"$f":"Harmonischen!$C$64/100*SIN($C515*$O$191*PI()/180)","v":0},{"$f":"Harmonischen!$C$65/100*SIN($C515*$P$191*PI()/180)","v":0},{"$f":"Harmonischen!$C$66/100*SIN($C515*$Q$191*PI()/180)","v":0},{"$f":"Harmonischen!$C$67/100*SIN($C515*$R$191*PI()/180)","v":0},{"$f":"Harmonischen!$C$68/100*SIN($C515*$S$191*PI()/180)","v":0},{"$f":"Harmonischen!$C$69/100*SIN($C515*$T$191*PI()/180)","v":0},{"$f":"Harmonischen!$C$70/100*SIN($C515*$U$191*PI()/180)","v":0},{"$f":"Harmonischen!$C$71/100*SIN($C515*$V$191*PI()/180)","v":0},{"$f":"Harmonischen!$C$72/100*SIN($C515*$W$191*PI()/180)","v":0},{"$f":"Harmonischen!$C$73/100*SIN($C515*$X$191*PI()/180)","v":0},{"$f":"Harmonischen!$C$74/100*SIN($C515*$Y$191*PI()/180)","v":0},{"$f":"Harmonischen!$C$75/100*SIN($C515*$Z$191*PI()/180)","v":0},{"$f":"Harmonischen!$C$76/100*SIN($C515*$AA$191*PI()/180)","v":0},{"$f":"Harmonischen!$C$77/100*SIN($C515*$AB$191*PI()/180)","v":0},null,-0.78853110845148855]
[null,null,324,{"$f":"Harmonischen!$C$53/100*SIN(C516*PI()/180)","v":-0.58778525229247336},{"$f":"Harmonischen!$C$54/100*SIN(C516*$E$191*PI()/180)","v":0},{"$f":"Harmonischen!$C$55/100*SIN(C516*$F$191*PI()/180)","v":-0.19021130325903068},{"$f":"Harmonischen!$C$56/100*SIN(C516*$G$191*PI()/180)","v":0},{"$f":"Harmonischen!$C$57/100*SIN(C516*$H$191*PI()/180)","v":0},{"$f":"Harmonischen!$C$58/100*SIN(C516*$I$191*PI()/180)","v":0},{"$f":"Harmonischen!$C$59/100*SIN(C516*$J$191*PI()/180)","v":0},{"$f":"Harmonischen!$C$60/100*SIN(C516*$K$191*PI()/180)","v":0},{"$f":"Harmonischen!$C$61/100*SIN(C516*$L$191*PI()/180)","v":0},{"$f":"Harmonischen!$C$62/100*SIN(C516*$M$191*PI()/180)","v":0},{"$f":"Harmonischen!$C$63/100*SIN($C516*$N$191*PI()/180)","v":0},{"$f":"Harmonischen!$C$64/100*SIN($C516*$O$191*PI()/180)","v":0},{"$f":"Harmonischen!$C$65/100*SIN($C516*$P$191*PI()/180)","v":0},{"$f":"Harmonischen!$C$66/100*SIN($C516*$Q$191*PI()/180)","v":0},{"$f":"Harmonischen!$C$67/100*SIN($C516*$R$191*PI()/180)","v":0},{"$f":"Harmonischen!$C$68/100*SIN($C516*$S$191*PI()/180)","v":0},{"$f":"Harmonischen!$C$69/100*SIN($C516*$T$191*PI()/180)","v":0},{"$f":"Harmonischen!$C$70/100*SIN($C516*$U$191*PI()/180)","v":0},{"$f":"Harmonischen!$C$71/100*SIN($C516*$V$191*PI()/180)","v":0},{"$f":"Harmonischen!$C$72/100*SIN($C516*$W$191*PI()/180)","v":0},{"$f":"Harmonischen!$C$73/100*SIN($C516*$X$191*PI()/180)","v":0},{"$f":"Harmonischen!$C$74/100*SIN($C516*$Y$191*PI()/180)","v":0},{"$f":"Harmonischen!$C$75/100*SIN($C516*$Z$191*PI()/180)","v":0},{"$f":"Harmonischen!$C$76/100*SIN($C516*$AA$191*PI()/180)","v":0},{"$f":"Harmonischen!$C$77/100*SIN($C516*$AB$191*PI()/180)","v":0},null,-0.77799655555150404]
[null,null,325,{"$f":"Harmonischen!$C$53/100*SIN(C517*PI()/180)","v":-0.57357643635104649},{"$f":"Harmonischen!$C$54/100*SIN(C517*$E$191*PI()/180)","v":0},{"$f":"Harmonischen!$C$55/100*SIN(C517*$F$191*PI()/180)","v":-0.19318516525781365},{"$f":"Harmonischen!$C$56/100*SIN(C517*$G$191*PI()/180)","v":0},{"$f":"Harmonischen!$C$57/100*SIN(C517*$H$191*PI()/180)","v":0},{"$f":"Harmonischen!$C$58/100*SIN(C517*$I$191*PI()/180)","v":0},{"$f":"Harmonischen!$C$59/100*SIN(C517*$J$191*PI()/180)","v":0},{"$f":"Harmonischen!$C$60/100*SIN(C517*$K$191*PI()/180)","v":0},{"$f":"Harmonischen!$C$61/100*SIN(C517*$L$191*PI()/180)","v":0},{"$f":"Harmonischen!$C$62/100*SIN(C517*$M$191*PI()/180)","v":0},{"$f":"Harmonischen!$C$63/100*SIN($C517*$N$191*PI()/180)","v":0},{"$f":"Harmonischen!$C$64/100*SIN($C517*$O$191*PI()/180)","v":0},{"$f":"Harmonischen!$C$65/100*SIN($C517*$P$191*PI()/180)","v":0},{"$f":"Harmonischen!$C$66/100*SIN($C517*$Q$191*PI()/180)","v":0},{"$f":"Harmonischen!$C$67/100*SIN($C517*$R$191*PI()/180)","v":0},{"$f":"Harmonischen!$C$68/100*SIN($C517*$S$191*PI()/180)","v":0},{"$f":"Harmonischen!$C$69/100*SIN($C517*$T$191*PI()/180)","v":0},{"$f":"Harmonischen!$C$70/100*SIN($C517*$U$191*PI()/180)","v":0},{"$f":"Harmonischen!$C$71/100*SIN($C517*$V$191*PI()/180)","v":0},{"$f":"Harmonischen!$C$72/100*SIN($C517*$W$191*PI()/180)","v":0},{"$f":"Harmonischen!$C$73/100*SIN($C517*$X$191*PI()/180)","v":0},{"$f":"Harmonischen!$C$74/100*SIN($C517*$Y$191*PI()/180)","v":0},{"$f":"Harmonischen!$C$75/100*SIN($C517*$Z$191*PI()/180)","v":0},{"$f":"Harmonischen!$C$76/100*SIN($C517*$AA$191*PI()/180)","v":0},{"$f":"Harmonischen!$C$77/100*SIN($C517*$AB$191*PI()/180)","v":0},null,-0.76676160160886009]
[null,null,326,{"$f":"Harmonischen!$C$53/100*SIN(C518*PI()/180)","v":-0.55919290347074735},{"$f":"Harmonischen!$C$54/100*SIN(C518*$E$191*PI()/180)","v":0},{"$f":"Harmonischen!$C$55/100*SIN(C518*$F$191*PI()/180)","v":-0.19562952014676113},{"$f":"Harmonischen!$C$56/100*SIN(C518*$G$191*PI()/180)","v":0},{"$f":"Harmonischen!$C$57/100*SIN(C518*$H$191*PI()/180)","v":0},{"$f":"Harmonischen!$C$58/100*SIN(C518*$I$191*PI()/180)","v":0},{"$f":"Harmonischen!$C$59/100*SIN(C518*$J$191*PI()/180)","v":0},{"$f":"Harmonischen!$C$60/100*SIN(C518*$K$191*PI()/180)","v":0},{"$f":"Harmonischen!$C$61/100*SIN(C518*$L$191*PI()/180)","v":0},{"$f":"Harmonischen!$C$62/100*SIN(C518*$M$191*PI()/180)","v":0},{"$f":"Harmonischen!$C$63/100*SIN($C518*$N$191*PI()/180)","v":0},{"$f":"Harmonischen!$C$64/100*SIN($C518*$O$191*PI()/180)","v":0},{"$f":"Harmonischen!$C$65/100*SIN($C518*$P$191*PI()/180)","v":0},{"$f":"Harmonischen!$C$66/100*SIN($C518*$Q$191*PI()/180)","v":0},{"$f":"Harmonischen!$C$67/100*SIN($C518*$R$191*PI()/180)","v":0},{"$f":"Harmonischen!$C$68/100*SIN($C518*$S$191*PI()/180)","v":0},{"$f":"Harmonischen!$C$69/100*SIN($C518*$T$191*PI()/180)","v":0},{"$f":"Harmonischen!$C$70/100*SIN($C518*$U$191*PI()/180)","v":0},{"$f":"Harmonischen!$C$71/100*SIN($C518*$V$191*PI()/180)","v":0},{"$f":"Harmonischen!$C$72/100*SIN($C518*$W$191*PI()/180)","v":0},{"$f":"Harmonischen!$C$73/100*SIN($C518*$X$191*PI()/180)","v":0},{"$f":"Harmonischen!$C$74/100*SIN($C518*$Y$191*PI()/180)","v":0},{"$f":"Harmonischen!$C$75/100*SIN($C518*$Z$191*PI()/180)","v":0},{"$f":"Harmonischen!$C$76/100*SIN($C518*$AA$191*PI()/180)","v":0},{"$f":"Harmonischen!$C$77/100*SIN($C518*$AB$191*PI()/180)","v":0},null,-0.75482242361750851]
[null,null,327,{"$f":"Harmonischen!$C$53/100*SIN(C519*PI()/180)","v":-0.54463903501502697},{"$f":"Harmonischen!$C$54/100*SIN(C519*$E$191*PI()/180)","v":0},{"$f":"Harmonischen!$C$55/100*SIN(C519*$F$191*PI()/180)","v":-0.19753766811902757},{"$f":"Harmonischen!$C$56/100*SIN(C519*$G$191*PI()/180)","v":0},{"$f":"Harmonischen!$C$57/100*SIN(C519*$H$191*PI()/180)","v":0},{"$f":"Harmonischen!$C$58/100*SIN(C519*$I$191*PI()/180)","v":0},{"$f":"Harmonischen!$C$59/100*SIN(C519*$J$191*PI()/180)","v":0},{"$f":"Harmonischen!$C$60/100*SIN(C519*$K$191*PI()/180)","v":0},{"$f":"Harmonischen!$C$61/100*SIN(C519*$L$191*PI()/180)","v":0},{"$f":"Harmonischen!$C$62/100*SIN(C519*$M$191*PI()/180)","v":0},{"$f":"Harmonischen!$C$63/100*SIN($C519*$N$191*PI()/180)","v":0},{"$f":"Harmonischen!$C$64/100*SIN($C519*$O$191*PI()/180)","v":0},{"$f":"Harmonischen!$C$65/100*SIN($C519*$P$191*PI()/180)","v":0},{"$f":"Harmonischen!$C$66/100*SIN($C519*$Q$191*PI()/180)","v":0},{"$f":"Harmonischen!$C$67/100*SIN($C519*$R$191*PI()/180)","v":0},{"$f":"Harmonischen!$C$68/100*SIN($C519*$S$191*PI()/180)","v":0},{"$f":"Harmonischen!$C$69/100*SIN($C519*$T$191*PI()/180)","v":0},{"$f":"Harmonischen!$C$70/100*SIN($C519*$U$191*PI()/180)","v":0},{"$f":"Harmonischen!$C$71/100*SIN($C519*$V$191*PI()/180)","v":0},{"$f":"Harmonischen!$C$72/100*SIN($C519*$W$191*PI()/180)","v":0},{"$f":"Harmonischen!$C$73/100*SIN($C519*$X$191*PI()/180)","v":0},{"$f":"Harmonischen!$C$74/100*SIN($C519*$Y$191*PI()/180)","v":0},{"$f":"Harmonischen!$C$75/100*SIN($C519*$Z$191*PI()/180)","v":0},{"$f":"Harmonischen!$C$76/100*SIN($C519*$AA$191*PI()/180)","v":0},{"$f":"Harmonischen!$C$77/100*SIN($C519*$AB$191*PI()/180)","v":0},null,-0.74217670313405448]
[null,null,328,{"$f":"Harmonischen!$C$53/100*SIN(C520*PI()/180)","v":-0.52991926423320579},{"$f":"Harmonischen!$C$54/100*SIN(C520*$E$191*PI()/180)","v":0},{"$f":"Harmonischen!$C$55/100*SIN(C520*$F$191*PI()/180)","v":-0.19890437907365469},{"$f":"Harmonischen!$C$56/100*SIN(C520*$G$191*PI()/180)","v":0},{"$f":"Harmonischen!$C$57/100*SIN(C520*$H$191*PI()/180)","v":0},{"$f":"Harmonischen!$C$58/100*SIN(C520*$I$191*PI()/180)","v":0},{"$f":"Harmonischen!$C$59/100*SIN(C520*$J$191*PI()/180)","v":0},{"$f":"Harmonischen!$C$60/100*SIN(C520*$K$191*PI()/180)","v":0},{"$f":"Harmonischen!$C$61/100*SIN(C520*$L$191*PI()/180)","v":0},{"$f":"Harmonischen!$C$62/100*SIN(C520*$M$191*PI()/180)","v":0},{"$f":"Harmonischen!$C$63/100*SIN($C520*$N$191*PI()/180)","v":0},{"$f":"Harmonischen!$C$64/100*SIN($C520*$O$191*PI()/180)","v":0},{"$f":"Harmonischen!$C$65/100*SIN($C520*$P$191*PI()/180)","v":0},{"$f":"Harmonischen!$C$66/100*SIN($C520*$Q$191*PI()/180)","v":0},{"$f":"Harmonischen!$C$67/100*SIN($C520*$R$191*PI()/180)","v":0},{"$f":"Harmonischen!$C$68/100*SIN($C520*$S$191*PI()/180)","v":0},{"$f":"Harmonischen!$C$69/100*SIN($C520*$T$191*PI()/180)","v":0},{"$f":"Harmonischen!$C$70/100*SIN($C520*$U$191*PI()/180)","v":0},{"$f":"Harmonischen!$C$71/100*SIN($C520*$V$191*PI()/180)","v":0},{"$f":"Harmonischen!$C$72/100*SIN($C520*$W$191*PI()/180)","v":0},{"$f":"Harmonischen!$C$73/100*SIN($C520*$X$191*PI()/180)","v":0},{"$f":"Harmonischen!$C$74/100*SIN($C520*$Y$191*PI()/180)","v":0},{"$f":"Harmonischen!$C$75/100*SIN($C520*$Z$191*PI()/180)","v":0},{"$f":"Harmonischen!$C$76/100*SIN($C520*$AA$191*PI()/180)","v":0},{"$f":"Harmonischen!$C$77/100*SIN($C520*$AB$191*PI()/180)","v":0},null,-0.72882364330686045]
[null,null,329,{"$f":"Harmonischen!$C$53/100*SIN(C521*PI()/180)","v":-0.51503807491005449},{"$f":"Harmonischen!$C$54/100*SIN(C521*$E$191*PI()/180)","v":0},{"$f":"Harmonischen!$C$55/100*SIN(C521*$F$191*PI()/180)","v":-0.1997259069509148},{"$f":"Harmonischen!$C$56/100*SIN(C521*$G$191*PI()/180)","v":0},{"$f":"Harmonischen!$C$57/100*SIN(C521*$H$191*PI()/180)","v":0},{"$f":"Harmonischen!$C$58/100*SIN(C521*$I$191*PI()/180)","v":0},{"$f":"Harmonischen!$C$59/100*SIN(C521*$J$191*PI()/180)","v":0},{"$f":"Harmonischen!$C$60/100*SIN(C521*$K$191*PI()/180)","v":0},{"$f":"Harmonischen!$C$61/100*SIN(C521*$L$191*PI()/180)","v":0},{"$f":"Harmonischen!$C$62/100*SIN(C521*$M$191*PI()/180)","v":0},{"$f":"Harmonischen!$C$63/100*SIN($C521*$N$191*PI()/180)","v":0},{"$f":"Harmonischen!$C$64/100*SIN($C521*$O$191*PI()/180)","v":0},{"$f":"Harmonischen!$C$65/100*SIN($C521*$P$191*PI()/180)","v":0},{"$f":"Harmonischen!$C$66/100*SIN($C521*$Q$191*PI()/180)","v":0},{"$f":"Harmonischen!$C$67/100*SIN($C521*$R$191*PI()/180)","v":0},{"$f":"Harmonischen!$C$68/100*SIN($C521*$S$191*PI()/180)","v":0},{"$f":"Harmonischen!$C$69/100*SIN($C521*$T$191*PI()/180)","v":0},{"$f":"Harmonischen!$C$70/100*SIN($C521*$U$191*PI()/180)","v":0},{"$f":"Harmonischen!$C$71/100*SIN($C521*$V$191*PI()/180)","v":0},{"$f":"Harmonischen!$C$72/100*SIN($C521*$W$191*PI()/180)","v":0},{"$f":"Harmonischen!$C$73/100*SIN($C521*$X$191*PI()/180)","v":0},{"$f":"Harmonischen!$C$74/100*SIN($C521*$Y$191*PI()/180)","v":0},{"$f":"Harmonischen!$C$75/100*SIN($C521*$Z$191*PI()/180)","v":0},{"$f":"Harmonischen!$C$76/100*SIN($C521*$AA$191*PI()/180)","v":0},{"$f":"Harmonischen!$C$77/100*SIN($C521*$AB$191*PI()/180)","v":0},null,-0.71476398186096923]
[null,null,330,{"$f":"Harmonischen!$C$53/100*SIN(C522*PI()/180)","v":-0.50000000000000044},{"$f":"Harmonischen!$C$54/100*SIN(C522*$E$191*PI()/180)","v":0},{"$f":"Harmonischen!$C$55/100*SIN(C522*$F$191*PI()/180)","v":-0.2},{"$f":"Harmonischen!$C$56/100*SIN(C522*$G$191*PI()/180)","v":0},{"$f":"Harmonischen!$C$57/100*SIN(C522*$H$191*PI()/180)","v":0},{"$f":"Harmonischen!$C$58/100*SIN(C522*$I$191*PI()/180)","v":0},{"$f":"Harmonischen!$C$59/100*SIN(C522*$J$191*PI()/180)","v":0},{"$f":"Harmonischen!$C$60/100*SIN(C522*$K$191*PI()/180)","v":0},{"$f":"Harmonischen!$C$61/100*SIN(C522*$L$191*PI()/180)","v":0},{"$f":"Harmonischen!$C$62/100*SIN(C522*$M$191*PI()/180)","v":0},{"$f":"Harmonischen!$C$63/100*SIN($C522*$N$191*PI()/180)","v":0},{"$f":"Harmonischen!$C$64/100*SIN($C522*$O$191*PI()/180)","v":0},{"$f":"Harmonischen!$C$65/100*SIN($C522*$P$191*PI()/180)","v":0},{"$f":"Harmonischen!$C$66/100*SIN($C522*$Q$191*PI()/180)","v":0},{"$f":"Harmonischen!$C$67/100*SIN($C522*$R$191*PI()/180)","v":0},{"$f":"Harmonischen!$C$68/100*SIN($C522*$S$191*PI()/180)","v":0},{"$f":"Harmonischen!$C$69/100*SIN($C522*$T$191*PI()/180)","v":0},{"$f":"Harmonischen!$C$70/100*SIN($C522*$U$191*PI()/180)","v":0},{"$f":"Harmonischen!$C$71/100*SIN($C522*$V$191*PI()/180)","v":0},{"$f":"Harmonischen!$C$72/100*SIN($C522*$W$191*PI()/180)","v":0},{"$f":"Harmonischen!$C$73/100*SIN($C522*$X$191*PI()/180)","v":0},{"$f":"Harmonischen!$C$74/100*SIN($C522*$Y$191*PI()/180)","v":0},{"$f":"Harmonischen!$C$75/100*SIN($C522*$Z$191*PI()/180)","v":0},{"$f":"Harmonischen!$C$76/100*SIN($C522*$AA$191*PI()/180)","v":0},{"$f":"Harmonischen!$C$77/100*SIN($C522*$AB$191*PI()/180)","v":0},null,-0.7000000000000004]
[null,null,331,{"$f":"Harmonischen!$C$53/100*SIN(C523*PI()/180)","v":-0.48480962024633689},{"$f":"Harmonischen!$C$54/100*SIN(C523*$E$191*PI()/180)","v":0},{"$f":"Harmonischen!$C$55/100*SIN(C523*$F$191*PI()/180)","v":-0.19972590695091477},{"$f":"Harmonischen!$C$56/100*SIN(C523*$G$191*PI()/180)","v":0},{"$f":"Harmonischen!$C$57/100*SIN(C523*$H$191*PI()/180)","v":0},{"$f":"Harmonischen!$C$58/100*SIN(C523*$I$191*PI()/180)","v":0},{"$f":"Harmonischen!$C$59/100*SIN(C523*$J$191*PI()/180)","v":0},{"$f":"Harmonischen!$C$60/100*SIN(C523*$K$191*PI()/180)","v":0},{"$f":"Harmonischen!$C$61/100*SIN(C523*$L$191*PI()/180)","v":0},{"$f":"Harmonischen!$C$62/100*SIN(C523*$M$191*PI()/180)","v":0},{"$f":"Harmonischen!$C$63/100*SIN($C523*$N$191*PI()/180)","v":0},{"$f":"Harmonischen!$C$64/100*SIN($C523*$O$191*PI()/180)","v":0},{"$f":"Harmonischen!$C$65/100*SIN($C523*$P$191*PI()/180)","v":0},{"$f":"Harmonischen!$C$66/100*SIN($C523*$Q$191*PI()/180)","v":0},{"$f":"Harmonischen!$C$67/100*SIN($C523*$R$191*PI()/180)","v":0},{"$f":"Harmonischen!$C$68/100*SIN($C523*$S$191*PI()/180)","v":0},{"$f":"Harmonischen!$C$69/100*SIN($C523*$T$191*PI()/180)","v":0},{"$f":"Harmonischen!$C$70/100*SIN($C523*$U$191*PI()/180)","v":0},{"$f":"Harmonischen!$C$71/100*SIN($C523*$V$191*PI()/180)","v":0},{"$f":"Harmonischen!$C$72/100*SIN($C523*$W$191*PI()/180)","v":0},{"$f":"Harmonischen!$C$73/100*SIN($C523*$X$191*PI()/180)","v":0},{"$f":"Harmonischen!$C$74/100*SIN($C523*$Y$191*PI()/180)","v":0},{"$f":"Harmonischen!$C$75/100*SIN($C523*$Z$191*PI()/180)","v":0},{"$f":"Harmonischen!$C$76/100*SIN($C523*$AA$191*PI()/180)","v":0},{"$f":"Harmonischen!$C$77/100*SIN($C523*$AB$191*PI()/180)","v":0},null,-0.68453552719725164]
[null,null,332,{"$f":"Harmonischen!$C$53/100*SIN(C524*PI()/180)","v":-0.46947156278589081},{"$f":"Harmonischen!$C$54/100*SIN(C524*$E$191*PI()/180)","v":0},{"$f":"Harmonischen!$C$55/100*SIN(C524*$F$191*PI()/180)","v":-0.19890437907365471},{"$f":"Harmonischen!$C$56/100*SIN(C524*$G$191*PI()/180)","v":0},{"$f":"Harmonischen!$C$57/100*SIN(C524*$H$191*PI()/180)","v":0},{"$f":"Harmonischen!$C$58/100*SIN(C524*$I$191*PI()/180)","v":0},{"$f":"Harmonischen!$C$59/100*SIN(C524*$J$191*PI()/180)","v":0},{"$f":"Harmonischen!$C$60/100*SIN(C524*$K$191*PI()/180)","v":0},{"$f":"Harmonischen!$C$61/100*SIN(C524*$L$191*PI()/180)","v":0},{"$f":"Harmonischen!$C$62/100*SIN(C524*$M$191*PI()/180)","v":0},{"$f":"Harmonischen!$C$63/100*SIN($C524*$N$191*PI()/180)","v":0},{"$f":"Harmonischen!$C$64/100*SIN($C524*$O$191*PI()/180)","v":0},{"$f":"Harmonischen!$C$65/100*SIN($C524*$P$191*PI()/180)","v":0},{"$f":"Harmonischen!$C$66/100*SIN($C524*$Q$191*PI()/180)","v":0},{"$f":"Harmonischen!$C$67/100*SIN($C524*$R$191*PI()/180)","v":0},{"$f":"Harmonischen!$C$68/100*SIN($C524*$S$191*PI()/180)","v":0},{"$f":"Harmonischen!$C$69/100*SIN($C524*$T$191*PI()/180)","v":0},{"$f":"Harmonischen!$C$70/100*SIN($C524*$U$191*PI()/180)","v":0},{"$f":"Harmonischen!$C$71/100*SIN($C524*$V$191*PI()/180)","v":0},{"$f":"Harmonischen!$C$72/100*SIN($C524*$W$191*PI()/180)","v":0},{"$f":"Harmonischen!$C$73/100*SIN($C524*$X$191*PI()/180)","v":0},{"$f":"Harmonischen!$C$74/100*SIN($C524*$Y$191*PI()/180)","v":0},{"$f":"Harmonischen!$C$75/100*SIN($C524*$Z$191*PI()/180)","v":0},{"$f":"Harmonischen!$C$76/100*SIN($C524*$AA$191*PI()/180)","v":0},{"$f":"Harmonischen!$C$77/100*SIN($C524*$AB$191*PI()/180)","v":0},null,-0.66837594185954552]
[null,null,333,{"$f":"Harmonischen!$C$53/100*SIN(C525*PI()/180)","v":-0.45399049973954697},{"$f":"Harmonischen!$C$54/100*SIN(C525*$E$191*PI()/180)","v":0},{"$f":"Harmonischen!$C$55/100*SIN(C525*$F$191*PI()/180)","v":-0.19753766811902762},{"$f":"Harmonischen!$C$56/100*SIN(C525*$G$191*PI()/180)","v":0},{"$f":"Harmonischen!$C$57/100*SIN(C525*$H$191*PI()/180)","v":0},{"$f":"Harmonischen!$C$58/100*SIN(C525*$I$191*PI()/180)","v":0},{"$f":"Harmonischen!$C$59/100*SIN(C525*$J$191*PI()/180)","v":0},{"$f":"Harmonischen!$C$60/100*SIN(C525*$K$191*PI()/180)","v":0},{"$f":"Harmonischen!$C$61/100*SIN(C525*$L$191*PI()/180)","v":0},{"$f":"Harmonischen!$C$62/100*SIN(C525*$M$191*PI()/180)","v":0},{"$f":"Harmonischen!$C$63/100*SIN($C525*$N$191*PI()/180)","v":0},{"$f":"Harmonischen!$C$64/100*SIN($C525*$O$191*PI()/180)","v":0},{"$f":"Harmonischen!$C$65/100*SIN($C525*$P$191*PI()/180)","v":0},{"$f":"Harmonischen!$C$66/100*SIN($C525*$Q$191*PI()/180)","v":0},{"$f":"Harmonischen!$C$67/100*SIN($C525*$R$191*PI()/180)","v":0},{"$f":"Harmonischen!$C$68/100*SIN($C525*$S$191*PI()/180)","v":0},{"$f":"Harmonischen!$C$69/100*SIN($C525*$T$191*PI()/180)","v":0},{"$f":"Harmonischen!$C$70/100*SIN($C525*$U$191*PI()/180)","v":0},{"$f":"Harmonischen!$C$71/100*SIN($C525*$V$191*PI()/180)","v":0},{"$f":"Harmonischen!$C$72/100*SIN($C525*$W$191*PI()/180)","v":0},{"$f":"Harmonischen!$C$73/100*SIN($C525*$X$191*PI()/180)","v":0},{"$f":"Harmonischen!$C$74/100*SIN($C525*$Y$191*PI()/180)","v":0},{"$f":"Harmonischen!$C$75/100*SIN($C525*$Z$191*PI()/180)","v":0},{"$f":"Harmonischen!$C$76/100*SIN($C525*$AA$191*PI()/180)","v":0},{"$f":"Harmonischen!$C$77/100*SIN($C525*$AB$191*PI()/180)","v":0},null,-0.65152816785857459]
[null,null,334,{"$f":"Harmonischen!$C$53/100*SIN(C526*PI()/180)","v":-0.43837114678907702},{"$f":"Harmonischen!$C$54/100*SIN(C526*$E$191*PI()/180)","v":0},{"$f":"Harmonischen!$C$55/100*SIN(C526*$F$191*PI()/180)","v":-0.19562952014676119},{"$f":"Harmonischen!$C$56/100*SIN(C526*$G$191*PI()/180)","v":0},{"$f":"Harmonischen!$C$57/100*SIN(C526*$H$191*PI()/180)","v":0},{"$f":"Harmonischen!$C$58/100*SIN(C526*$I$191*PI()/180)","v":0},{"$f":"Harmonischen!$C$59/100*SIN(C526*$J$191*PI()/180)","v":0},{"$f":"Harmonischen!$C$60/100*SIN(C526*$K$191*PI()/180)","v":0},{"$f":"Harmonischen!$C$61/100*SIN(C526*$L$191*PI()/180)","v":0},{"$f":"Harmonischen!$C$62/100*SIN(C526*$M$191*PI()/180)","v":0},{"$f":"Harmonischen!$C$63/100*SIN($C526*$N$191*PI()/180)","v":0},{"$f":"Harmonischen!$C$64/100*SIN($C526*$O$191*PI()/180)","v":0},{"$f":"Harmonischen!$C$65/100*SIN($C526*$P$191*PI()/180)","v":0},{"$f":"Harmonischen!$C$66/100*SIN($C526*$Q$191*PI()/180)","v":0},{"$f":"Harmonischen!$C$67/100*SIN($C526*$R$191*PI()/180)","v":0},{"$f":"Harmonischen!$C$68/100*SIN($C526*$S$191*PI()/180)","v":0},{"$f":"Harmonischen!$C$69/100*SIN($C526*$T$191*PI()/180)","v":0},{"$f":"Harmonischen!$C$70/100*SIN($C526*$U$191*PI()/180)","v":0},{"$f":"Harmonischen!$C$71/100*SIN($C526*$V$191*PI()/180)","v":0},{"$f":"Harmonischen!$C$72/100*SIN($C526*$W$191*PI()/180)","v":0},{"$f":"Harmonischen!$C$73/100*SIN($C526*$X$191*PI()/180)","v":0},{"$f":"Harmonischen!$C$74/100*SIN($C526*$Y$191*PI()/180)","v":0},{"$f":"Harmonischen!$C$75/100*SIN($C526*$Z$191*PI()/180)","v":0},{"$f":"Harmonischen!$C$76/100*SIN($C526*$AA$191*PI()/180)","v":0},{"$f":"Harmonischen!$C$77/100*SIN($C526*$AB$191*PI()/180)","v":0},null,-0.63400066693583823]
[null,null,335,{"$f":"Harmonischen!$C$53/100*SIN(C527*PI()/180)","v":-0.4226182617407},{"$f":"Harmonischen!$C$54/100*SIN(C527*$E$191*PI()/180)","v":0},{"$f":"Harmonischen!$C$55/100*SIN(C527*$F$191*PI()/180)","v":-0.19318516525781371},{"$f":"Harmonischen!$C$56/100*SIN(C527*$G$191*PI()/180)","v":0},{"$f":"Harmonischen!$C$57/100*SIN(C527*$H$191*PI()/180)","v":0},{"$f":"Harmonischen!$C$58/100*SIN(C527*$I$191*PI()/180)","v":0},{"$f":"Harmonischen!$C$59/100*SIN(C527*$J$191*PI()/180)","v":0},{"$f":"Harmonischen!$C$60/100*SIN(C527*$K$191*PI()/180)","v":0},{"$f":"Harmonischen!$C$61/100*SIN(C527*$L$191*PI()/180)","v":0},{"$f":"Harmonischen!$C$62/100*SIN(C527*$M$191*PI()/180)","v":0},{"$f":"Harmonischen!$C$63/100*SIN($C527*$N$191*PI()/180)","v":0},{"$f":"Harmonischen!$C$64/100*SIN($C527*$O$191*PI()/180)","v":0},{"$f":"Harmonischen!$C$65/100*SIN($C527*$P$191*PI()/180)","v":0},{"$f":"Harmonischen!$C$66/100*SIN($C527*$Q$191*PI()/180)","v":0},{"$f":"Harmonischen!$C$67/100*SIN($C527*$R$191*PI()/180)","v":0},{"$f":"Harmonischen!$C$68/100*SIN($C527*$S$191*PI()/180)","v":0},{"$f":"Harmonischen!$C$69/100*SIN($C527*$T$191*PI()/180)","v":0},{"$f":"Harmonischen!$C$70/100*SIN($C527*$U$191*PI()/180)","v":0},{"$f":"Harmonischen!$C$71/100*SIN($C527*$V$191*PI()/180)","v":0},{"$f":"Harmonischen!$C$72/100*SIN($C527*$W$191*PI()/180)","v":0},{"$f":"Harmonischen!$C$73/100*SIN($C527*$X$191*PI()/180)","v":0},{"$f":"Harmonischen!$C$74/100*SIN($C527*$Y$191*PI()/180)","v":0},{"$f":"Harmonischen!$C$75/100*SIN($C527*$Z$191*PI()/180)","v":0},{"$f":"Harmonischen!$C$76/100*SIN($C527*$AA$191*PI()/180)","v":0},{"$f":"Harmonischen!$C$77/100*SIN($C527*$AB$191*PI()/180)","v":0},null,-0.61580342699851376]
[null,null,336,{"$f":"Harmonischen!$C$53/100*SIN(C528*PI()/180)","v":-0.40673664307580015},{"$f":"Harmonischen!$C$54/100*SIN(C528*$E$191*PI()/180)","v":0},{"$f":"Harmonischen!$C$55/100*SIN(C528*$F$191*PI()/180)","v":-0.19021130325903077},{"$f":"Harmonischen!$C$56/100*SIN(C528*$G$191*PI()/180)","v":0},{"$f":"Harmonischen!$C$57/100*SIN(C528*$H$191*PI()/180)","v":0},{"$f":"Harmonischen!$C$58/100*SIN(C528*$I$191*PI()/180)","v":0},{"$f":"Harmonischen!$C$59/100*SIN(C528*$J$191*PI()/180)","v":0},{"$f":"Harmonischen!$C$60/100*SIN(C528*$K$191*PI()/180)","v":0},{"$f":"Harmonischen!$C$61/100*SIN(C528*$L$191*PI()/180)","v":0},{"$f":"Harmonischen!$C$62/100*SIN(C528*$M$191*PI()/180)","v":0},{"$f":"Harmonischen!$C$63/100*SIN($C528*$N$191*PI()/180)","v":0},{"$f":"Harmonischen!$C$64/100*SIN($C528*$O$191*PI()/180)","v":0},{"$f":"Harmonischen!$C$65/100*SIN($C528*$P$191*PI()/180)","v":0},{"$f":"Harmonischen!$C$66/100*SIN($C528*$Q$191*PI()/180)","v":0},{"$f":"Harmonischen!$C$67/100*SIN($C528*$R$191*PI()/180)","v":0},{"$f":"Harmonischen!$C$68/100*SIN($C528*$S$191*PI()/180)","v":0},{"$f":"Harmonischen!$C$69/100*SIN($C528*$T$191*PI()/180)","v":0},{"$f":"Harmonischen!$C$70/100*SIN($C528*$U$191*PI()/180)","v":0},{"$f":"Harmonischen!$C$71/100*SIN($C528*$V$191*PI()/180)","v":0},{"$f":"Harmonischen!$C$72/100*SIN($C528*$W$191*PI()/180)","v":0},{"$f":"Harmonischen!$C$73/100*SIN($C528*$X$191*PI()/180)","v":0},{"$f":"Harmonischen!$C$74/100*SIN($C528*$Y$191*PI()/180)","v":0},{"$f":"Harmonischen!$C$75/100*SIN($C528*$Z$191*PI()/180)","v":0},{"$f":"Harmonischen!$C$76/100*SIN($C528*$AA$191*PI()/180)","v":0},{"$f":"Harmonischen!$C$77/100*SIN($C528*$AB$191*PI()/180)","v":0},null,-0.59694794633483095]
[null,null,337,{"$f":"Harmonischen!$C$53/100*SIN(C529*PI()/180)","v":-0.39073112848927471},{"$f":"Harmonischen!$C$54/100*SIN(C529*$E$191*PI()/180)","v":0},{"$f":"Harmonischen!$C$55/100*SIN(C529*$F$191*PI()/180)","v":-0.18671608529944039},{"$f":"Harmonischen!$C$56/100*SIN(C529*$G$191*PI()/180)","v":0},{"$f":"Harmonischen!$C$57/100*SIN(C529*$H$191*PI()/180)","v":0},{"$f":"Harmonischen!$C$58/100*SIN(C529*$I$191*PI()/180)","v":0},{"$f":"Harmonischen!$C$59/100*SIN(C529*$J$191*PI()/180)","v":0},{"$f":"Harmonischen!$C$60/100*SIN(C529*$K$191*PI()/180)","v":0},{"$f":"Harmonischen!$C$61/100*SIN(C529*$L$191*PI()/180)","v":0},{"$f":"Harmonischen!$C$62/100*SIN(C529*$M$191*PI()/180)","v":0},{"$f":"Harmonischen!$C$63/100*SIN($C529*$N$191*PI()/180)","v":0},{"$f":"Harmonischen!$C$64/100*SIN($C529*$O$191*PI()/180)","v":0},{"$f":"Harmonischen!$C$65/100*SIN($C529*$P$191*PI()/180)","v":0},{"$f":"Harmonischen!$C$66/100*SIN($C529*$Q$191*PI()/180)","v":0},{"$f":"Harmonischen!$C$67/100*SIN($C529*$R$191*PI()/180)","v":0},{"$f":"Harmonischen!$C$68/100*SIN($C529*$S$191*PI()/180)","v":0},{"$f":"Harmonischen!$C$69/100*SIN($C529*$T$191*PI()/180)","v":0},{"$f":"Harmonischen!$C$70/100*SIN($C529*$U$191*PI()/180)","v":0},{"$f":"Harmonischen!$C$71/100*SIN($C529*$V$191*PI()/180)","v":0},{"$f":"Harmonischen!$C$72/100*SIN($C529*$W$191*PI()/180)","v":0},{"$f":"Harmonischen!$C$73/100*SIN($C529*$X$191*PI()/180)","v":0},{"$f":"Harmonischen!$C$74/100*SIN($C529*$Y$191*PI()/180)","v":0},{"$f":"Harmonischen!$C$75/100*SIN($C529*$Z$191*PI()/180)","v":0},{"$f":"Harmonischen!$C$76/100*SIN($C529*$AA$191*PI()/180)","v":0},{"$f":"Harmonischen!$C$77/100*SIN($C529*$AB$191*PI()/180)","v":0},null,-0.57744721378871511]
[null,null,338,{"$f":"Harmonischen!$C$53/100*SIN(C530*PI()/180)","v":-0.37460659341591235},{"$f":"Harmonischen!$C$54/100*SIN(C530*$E$191*PI()/180)","v":0},{"$f":"Harmonischen!$C$55/100*SIN(C530*$F$191*PI()/180)","v":-0.18270909152852022},{"$f":"Harmonischen!$C$56/100*SIN(C530*$G$191*PI()/180)","v":0},{"$f":"Harmonischen!$C$57/100*SIN(C530*$H$191*PI()/180)","v":0},{"$f":"Harmonischen!$C$58/100*SIN(C530*$I$191*PI()/180)","v":0},{"$f":"Harmonischen!$C$59/100*SIN(C530*$J$191*PI()/180)","v":0},{"$f":"Harmonischen!$C$60/100*SIN(C530*$K$191*PI()/180)","v":0},{"$f":"Harmonischen!$C$61/100*SIN(C530*$L$191*PI()/180)","v":0},{"$f":"Harmonischen!$C$62/100*SIN(C530*$M$191*PI()/180)","v":0},{"$f":"Harmonischen!$C$63/100*SIN($C530*$N$191*PI()/180)","v":0},{"$f":"Harmonischen!$C$64/100*SIN($C530*$O$191*PI()/180)","v":0},{"$f":"Harmonischen!$C$65/100*SIN($C530*$P$191*PI()/180)","v":0},{"$f":"Harmonischen!$C$66/100*SIN($C530*$Q$191*PI()/180)","v":0},{"$f":"Harmonischen!$C$67/100*SIN($C530*$R$191*PI()/180)","v":0},{"$f":"Harmonischen!$C$68/100*SIN($C530*$S$191*PI()/180)","v":0},{"$f":"Harmonischen!$C$69/100*SIN($C530*$T$191*PI()/180)","v":0},{"$f":"Harmonischen!$C$70/100*SIN($C530*$U$191*PI()/180)","v":0},{"$f":"Harmonischen!$C$71/100*SIN($C530*$V$191*PI()/180)","v":0},{"$f":"Harmonischen!$C$72/100*SIN($C530*$W$191*PI()/180)","v":0},{"$f":"Harmonischen!$C$73/100*SIN($C530*$X$191*PI()/180)","v":0},{"$f":"Harmonischen!$C$74/100*SIN($C530*$Y$191*PI()/180)","v":0},{"$f":"Harmonischen!$C$75/100*SIN($C530*$Z$191*PI()/180)","v":0},{"$f":"Harmonischen!$C$76/100*SIN($C530*$AA$191*PI()/180)","v":0},{"$f":"Harmonischen!$C$77/100*SIN($C530*$AB$191*PI()/180)","v":0},null,-0.55731568494443251]
[null,null,339,{"$f":"Harmonischen!$C$53/100*SIN(C531*PI()/180)","v":-0.35836794954530077},{"$f":"Harmonischen!$C$54/100*SIN(C531*$E$191*PI()/180)","v":0},{"$f":"Harmonischen!$C$55/100*SIN(C531*$F$191*PI()/180)","v":-0.17820130483767357},{"$f":"Harmonischen!$C$56/100*SIN(C531*$G$191*PI()/180)","v":0},{"$f":"Harmonischen!$C$57/100*SIN(C531*$H$191*PI()/180)","v":0},{"$f":"Harmonischen!$C$58/100*SIN(C531*$I$191*PI()/180)","v":0},{"$f":"Harmonischen!$C$59/100*SIN(C531*$J$191*PI()/180)","v":0},{"$f":"Harmonischen!$C$60/100*SIN(C531*$K$191*PI()/180)","v":0},{"$f":"Harmonischen!$C$61/100*SIN(C531*$L$191*PI()/180)","v":0},{"$f":"Harmonischen!$C$62/100*SIN(C531*$M$191*PI()/180)","v":0},{"$f":"Harmonischen!$C$63/100*SIN($C531*$N$191*PI()/180)","v":0},{"$f":"Harmonischen!$C$64/100*SIN($C531*$O$191*PI()/180)","v":0},{"$f":"Harmonischen!$C$65/100*SIN($C531*$P$191*PI()/180)","v":0},{"$f":"Harmonischen!$C$66/100*SIN($C531*$Q$191*PI()/180)","v":0},{"$f":"Harmonischen!$C$67/100*SIN($C531*$R$191*PI()/180)","v":0},{"$f":"Harmonischen!$C$68/100*SIN($C531*$S$191*PI()/180)","v":0},{"$f":"Harmonischen!$C$69/100*SIN($C531*$T$191*PI()/180)","v":0},{"$f":"Harmonischen!$C$70/100*SIN($C531*$U$191*PI()/180)","v":0},{"$f":"Harmonischen!$C$71/100*SIN($C531*$V$191*PI()/180)","v":0},{"$f":"Harmonischen!$C$72/100*SIN($C531*$W$191*PI()/180)","v":0},{"$f":"Harmonischen!$C$73/100*SIN($C531*$X$191*PI()/180)","v":0},{"$f":"Harmonischen!$C$74/100*SIN($C531*$Y$191*PI()/180)","v":0},{"$f":"Harmonischen!$C$75/100*SIN($C531*$Z$191*PI()/180)","v":0},{"$f":"Harmonischen!$C$76/100*SIN($C531*$AA$191*PI()/180)","v":0},{"$f":"Harmonischen!$C$77/100*SIN($C531*$AB$191*PI()/180)","v":0},null,-0.53656925438297431]
[null,null,340,{"$f":"Harmonischen!$C$53/100*SIN(C532*PI()/180)","v":-0.3420201433256686},{"$f":"Harmonischen!$C$54/100*SIN(C532*$E$191*PI()/180)","v":0},{"$f":"Harmonischen!$C$55/100*SIN(C532*$F$191*PI()/180)","v":-0.17320508075688767},{"$f":"Harmonischen!$C$56/100*SIN(C532*$G$191*PI()/180)","v":0},{"$f":"Harmonischen!$C$57/100*SIN(C532*$H$191*PI()/180)","v":0},{"$f":"Harmonischen!$C$58/100*SIN(C532*$I$191*PI()/180)","v":0},{"$f":"Harmonischen!$C$59/100*SIN(C532*$J$191*PI()/180)","v":0},{"$f":"Harmonischen!$C$60/100*SIN(C532*$K$191*PI()/180)","v":0},{"$f":"Harmonischen!$C$61/100*SIN(C532*$L$191*PI()/180)","v":0},{"$f":"Harmonischen!$C$62/100*SIN(C532*$M$191*PI()/180)","v":0},{"$f":"Harmonischen!$C$63/100*SIN($C532*$N$191*PI()/180)","v":0},{"$f":"Harmonischen!$C$64/100*SIN($C532*$O$191*PI()/180)","v":0},{"$f":"Harmonischen!$C$65/100*SIN($C532*$P$191*PI()/180)","v":0},{"$f":"Harmonischen!$C$66/100*SIN($C532*$Q$191*PI()/180)","v":0},{"$f":"Harmonischen!$C$67/100*SIN($C532*$R$191*PI()/180)","v":0},{"$f":"Harmonischen!$C$68/100*SIN($C532*$S$191*PI()/180)","v":0},{"$f":"Harmonischen!$C$69/100*SIN($C532*$T$191*PI()/180)","v":0},{"$f":"Harmonischen!$C$70/100*SIN($C532*$U$191*PI()/180)","v":0},{"$f":"Harmonischen!$C$71/100*SIN($C532*$V$191*PI()/180)","v":0},{"$f":"Harmonischen!$C$72/100*SIN($C532*$W$191*PI()/180)","v":0},{"$f":"Harmonischen!$C$73/100*SIN($C532*$X$191*PI()/180)","v":0},{"$f":"Harmonischen!$C$74/100*SIN($C532*$Y$191*PI()/180)","v":0},{"$f":"Harmonischen!$C$75/100*SIN($C532*$Z$191*PI()/180)","v":0},{"$f":"Harmonischen!$C$76/100*SIN($C532*$AA$191*PI()/180)","v":0},{"$f":"Harmonischen!$C$77/100*SIN($C532*$AB$191*PI()/180)","v":0},null,-0.51522522408255633]
[null,null,341,{"$f":"Harmonischen!$C$53/100*SIN(C533*PI()/180)","v":-0.32556815445715753},{"$f":"Harmonischen!$C$54/100*SIN(C533*$E$191*PI()/180)","v":0},{"$f":"Harmonischen!$C$55/100*SIN(C533*$F$191*PI()/180)","v":-0.16773411358908474},{"$f":"Harmonischen!$C$56/100*SIN(C533*$G$191*PI()/180)","v":0},{"$f":"Harmonischen!$C$57/100*SIN(C533*$H$191*PI()/180)","v":0},{"$f":"Harmonischen!$C$58/100*SIN(C533*$I$191*PI()/180)","v":0},{"$f":"Harmonischen!$C$59/100*SIN(C533*$J$191*PI()/180)","v":0},{"$f":"Harmonischen!$C$60/100*SIN(C533*$K$191*PI()/180)","v":0},{"$f":"Harmonischen!$C$61/100*SIN(C533*$L$191*PI()/180)","v":0},{"$f":"Harmonischen!$C$62/100*SIN(C533*$M$191*PI()/180)","v":0},{"$f":"Harmonischen!$C$63/100*SIN($C533*$N$191*PI()/180)","v":0},{"$f":"Harmonischen!$C$64/100*SIN($C533*$O$191*PI()/180)","v":0},{"$f":"Harmonischen!$C$65/100*SIN($C533*$P$191*PI()/180)","v":0},{"$f":"Harmonischen!$C$66/100*SIN($C533*$Q$191*PI()/180)","v":0},{"$f":"Harmonischen!$C$67/100*SIN($C533*$R$191*PI()/180)","v":0},{"$f":"Harmonischen!$C$68/100*SIN($C533*$S$191*PI()/180)","v":0},{"$f":"Harmonischen!$C$69/100*SIN($C533*$T$191*PI()/180)","v":0},{"$f":"Harmonischen!$C$70/100*SIN($C533*$U$191*PI()/180)","v":0},{"$f":"Harmonischen!$C$71/100*SIN($C533*$V$191*PI()/180)","v":0},{"$f":"Harmonischen!$C$72/100*SIN($C533*$W$191*PI()/180)","v":0},{"$f":"Harmonischen!$C$73/100*SIN($C533*$X$191*PI()/180)","v":0},{"$f":"Harmonischen!$C$74/100*SIN($C533*$Y$191*PI()/180)","v":0},{"$f":"Harmonischen!$C$75/100*SIN($C533*$Z$191*PI()/180)","v":0},{"$f":"Harmonischen!$C$76/100*SIN($C533*$AA$191*PI()/180)","v":0},{"$f":"Harmonischen!$C$77/100*SIN($C533*$AB$191*PI()/180)","v":0},null,-0.49330226804624228]
[null,null,342,{"$f":"Harmonischen!$C$53/100*SIN(C534*PI()/180)","v":-0.30901699437494762},{"$f":"Harmonischen!$C$54/100*SIN(C534*$E$191*PI()/180)","v":0},{"$f":"Harmonischen!$C$55/100*SIN(C534*$F$191*PI()/180)","v":-0.16180339887498937},{"$f":"Harmonischen!$C$56/100*SIN(C534*$G$191*PI()/180)","v":0},{"$f":"Harmonischen!$C$57/100*SIN(C534*$H$191*PI()/180)","v":0},{"$f":"Harmonischen!$C$58/100*SIN(C534*$I$191*PI()/180)","v":0},{"$f":"Harmonischen!$C$59/100*SIN(C534*$J$191*PI()/180)","v":0},{"$f":"Harmonischen!$C$60/100*SIN(C534*$K$191*PI()/180)","v":0},{"$f":"Harmonischen!$C$61/100*SIN(C534*$L$191*PI()/180)","v":0},{"$f":"Harmonischen!$C$62/100*SIN(C534*$M$191*PI()/180)","v":0},{"$f":"Harmonischen!$C$63/100*SIN($C534*$N$191*PI()/180)","v":0},{"$f":"Harmonischen!$C$64/100*SIN($C534*$O$191*PI()/180)","v":0},{"$f":"Harmonischen!$C$65/100*SIN($C534*$P$191*PI()/180)","v":0},{"$f":"Harmonischen!$C$66/100*SIN($C534*$Q$191*PI()/180)","v":0},{"$f":"Harmonischen!$C$67/100*SIN($C534*$R$191*PI()/180)","v":0},{"$f":"Harmonischen!$C$68/100*SIN($C534*$S$191*PI()/180)","v":0},{"$f":"Harmonischen!$C$69/100*SIN($C534*$T$191*PI()/180)","v":0},{"$f":"Harmonischen!$C$70/100*SIN($C534*$U$191*PI()/180)","v":0},{"$f":"Harmonischen!$C$71/100*SIN($C534*$V$191*PI()/180)","v":0},{"$f":"Harmonischen!$C$72/100*SIN($C534*$W$191*PI()/180)","v":0},{"$f":"Harmonischen!$C$73/100*SIN($C534*$X$191*PI()/180)","v":0},{"$f":"Harmonischen!$C$74/100*SIN($C534*$Y$191*PI()/180)","v":0},{"$f":"Harmonischen!$C$75/100*SIN($C534*$Z$191*PI()/180)","v":0},{"$f":"Harmonischen!$C$76/100*SIN($C534*$AA$191*PI()/180)","v":0},{"$f":"Harmonischen!$C$77/100*SIN($C534*$AB$191*PI()/180)","v":0},null,-0.47082039324993696]
[null,null,343,{"$f":"Harmonischen!$C$53/100*SIN(C535*PI()/180)","v":-0.29237170472273627},{"$f":"Harmonischen!$C$54/100*SIN(C535*$E$191*PI()/180)","v":0},{"$f":"Harmonischen!$C$55/100*SIN(C535*$F$191*PI()/180)","v":-0.15542919229139446},{"$f":"Harmonischen!$C$56/100*SIN(C535*$G$191*PI()/180)","v":0},{"$f":"Harmonischen!$C$57/100*SIN(C535*$H$191*PI()/180)","v":0},{"$f":"Harmonischen!$C$58/100*SIN(C535*$I$191*PI()/180)","v":0},{"$f":"Harmonischen!$C$59/100*SIN(C535*$J$191*PI()/180)","v":0},{"$f":"Harmonischen!$C$60/100*SIN(C535*$K$191*PI()/180)","v":0},{"$f":"Harmonischen!$C$61/100*SIN(C535*$L$191*PI()/180)","v":0},{"$f":"Harmonischen!$C$62/100*SIN(C535*$M$191*PI()/180)","v":0},{"$f":"Harmonischen!$C$63/100*SIN($C535*$N$191*PI()/180)","v":0},{"$f":"Harmonischen!$C$64/100*SIN($C535*$O$191*PI()/180)","v":0},{"$f":"Harmonischen!$C$65/100*SIN($C535*$P$191*PI()/180)","v":0},{"$f":"Harmonischen!$C$66/100*SIN($C535*$Q$191*PI()/180)","v":0},{"$f":"Harmonischen!$C$67/100*SIN($C535*$R$191*PI()/180)","v":0},{"$f":"Harmonischen!$C$68/100*SIN($C535*$S$191*PI()/180)","v":0},{"$f":"Harmonischen!$C$69/100*SIN($C535*$T$191*PI()/180)","v":0},{"$f":"Harmonischen!$C$70/100*SIN($C535*$U$191*PI()/180)","v":0},{"$f":"Harmonischen!$C$71/100*SIN($C535*$V$191*PI()/180)","v":0},{"$f":"Harmonischen!$C$72/100*SIN($C535*$W$191*PI()/180)","v":0},{"$f":"Harmonischen!$C$73/100*SIN($C535*$X$191*PI()/180)","v":0},{"$f":"Harmonischen!$C$74/100*SIN($C535*$Y$191*PI()/180)","v":0},{"$f":"Harmonischen!$C$75/100*SIN($C535*$Z$191*PI()/180)","v":0},{"$f":"Harmonischen!$C$76/100*SIN($C535*$AA$191*PI()/180)","v":0},{"$f":"Harmonischen!$C$77/100*SIN($C535*$AB$191*PI()/180)","v":0},null,-0.44780089701413073]
[null,null,344,{"$f":"Harmonischen!$C$53/100*SIN(C536*PI()/180)","v":-0.27563735581699977},{"$f":"Harmonischen!$C$54/100*SIN(C536*$E$191*PI()/180)","v":0},{"$f":"Harmonischen!$C$55/100*SIN(C536*$F$191*PI()/180)","v":-0.1486289650954791},{"$f":"Harmonischen!$C$56/100*SIN(C536*$G$191*PI()/180)","v":0},{"$f":"Harmonischen!$C$57/100*SIN(C536*$H$191*PI()/180)","v":0},{"$f":"Harmonischen!$C$58/100*SIN(C536*$I$191*PI()/180)","v":0},{"$f":"Harmonischen!$C$59/100*SIN(C536*$J$191*PI()/180)","v":0},{"$f":"Harmonischen!$C$60/100*SIN(C536*$K$191*PI()/180)","v":0},{"$f":"Harmonischen!$C$61/100*SIN(C536*$L$191*PI()/180)","v":0},{"$f":"Harmonischen!$C$62/100*SIN(C536*$M$191*PI()/180)","v":0},{"$f":"Harmonischen!$C$63/100*SIN($C536*$N$191*PI()/180)","v":0},{"$f":"Harmonischen!$C$64/100*SIN($C536*$O$191*PI()/180)","v":0},{"$f":"Harmonischen!$C$65/100*SIN($C536*$P$191*PI()/180)","v":0},{"$f":"Harmonischen!$C$66/100*SIN($C536*$Q$191*PI()/180)","v":0},{"$f":"Harmonischen!$C$67/100*SIN($C536*$R$191*PI()/180)","v":0},{"$f":"Harmonischen!$C$68/100*SIN($C536*$S$191*PI()/180)","v":0},{"$f":"Harmonischen!$C$69/100*SIN($C536*$T$191*PI()/180)","v":0},{"$f":"Harmonischen!$C$70/100*SIN($C536*$U$191*PI()/180)","v":0},{"$f":"Harmonischen!$C$71/100*SIN($C536*$V$191*PI()/180)","v":0},{"$f":"Harmonischen!$C$72/100*SIN($C536*$W$191*PI()/180)","v":0},{"$f":"Harmonischen!$C$73/100*SIN($C536*$X$191*PI()/180)","v":0},{"$f":"Harmonischen!$C$74/100*SIN($C536*$Y$191*PI()/180)","v":0},{"$f":"Harmonischen!$C$75/100*SIN($C536*$Z$191*PI()/180)","v":0},{"$f":"Harmonischen!$C$76/100*SIN($C536*$AA$191*PI()/180)","v":0},{"$f":"Harmonischen!$C$77/100*SIN($C536*$AB$191*PI()/180)","v":0},null,-0.42426632091247884]
[null,null,345,{"$f":"Harmonischen!$C$53/100*SIN(C537*PI()/180)","v":-0.25881904510252068},{"$f":"Harmonischen!$C$54/100*SIN(C537*$E$191*PI()/180)","v":0},{"$f":"Harmonischen!$C$55/100*SIN(C537*$F$191*PI()/180)","v":-0.14142135623730975},{"$f":"Harmonischen!$C$56/100*SIN(C537*$G$191*PI()/180)","v":0},{"$f":"Harmonischen!$C$57/100*SIN(C537*$H$191*PI()/180)","v":0},{"$f":"Harmonischen!$C$58/100*SIN(C537*$I$191*PI()/180)","v":0},{"$f":"Harmonischen!$C$59/100*SIN(C537*$J$191*PI()/180)","v":0},{"$f":"Harmonischen!$C$60/100*SIN(C537*$K$191*PI()/180)","v":0},{"$f":"Harmonischen!$C$61/100*SIN(C537*$L$191*PI()/180)","v":0},{"$f":"Harmonischen!$C$62/100*SIN(C537*$M$191*PI()/180)","v":0},{"$f":"Harmonischen!$C$63/100*SIN($C537*$N$191*PI()/180)","v":0},{"$f":"Harmonischen!$C$64/100*SIN($C537*$O$191*PI()/180)","v":0},{"$f":"Harmonischen!$C$65/100*SIN($C537*$P$191*PI()/180)","v":0},{"$f":"Harmonischen!$C$66/100*SIN($C537*$Q$191*PI()/180)","v":0},{"$f":"Harmonischen!$C$67/100*SIN($C537*$R$191*PI()/180)","v":0},{"$f":"Harmonischen!$C$68/100*SIN($C537*$S$191*PI()/180)","v":0},{"$f":"Harmonischen!$C$69/100*SIN($C537*$T$191*PI()/180)","v":0},{"$f":"Harmonischen!$C$70/100*SIN($C537*$U$191*PI()/180)","v":0},{"$f":"Harmonischen!$C$71/100*SIN($C537*$V$191*PI()/180)","v":0},{"$f":"Harmonischen!$C$72/100*SIN($C537*$W$191*PI()/180)","v":0},{"$f":"Harmonischen!$C$73/100*SIN($C537*$X$191*PI()/180)","v":0},{"$f":"Harmonischen!$C$74/100*SIN($C537*$Y$191*PI()/180)","v":0},{"$f":"Harmonischen!$C$75/100*SIN($C537*$Z$191*PI()/180)","v":0},{"$f":"Harmonischen!$C$76/100*SIN($C537*$AA$191*PI()/180)","v":0},{"$f":"Harmonischen!$C$77/100*SIN($C537*$AB$191*PI()/180)","v":0},null,-0.40024040133983041]
[null,null,346,{"$f":"Harmonischen!$C$53/100*SIN(C538*PI()/180)","v":-0.24192189559966787},{"$f":"Harmonischen!$C$54/100*SIN(C538*$E$191*PI()/180)","v":0},{"$f":"Harmonischen!$C$55/100*SIN(C538*$F$191*PI()/180)","v":-0.13382612127177182},{"$f":"Harmonischen!$C$56/100*SIN(C538*$G$191*PI()/180)","v":0},{"$f":"Harmonischen!$C$57/100*SIN(C538*$H$191*PI()/180)","v":0},{"$f":"Harmonischen!$C$58/100*SIN(C538*$I$191*PI()/180)","v":0},{"$f":"Harmonischen!$C$59/100*SIN(C538*$J$191*PI()/180)","v":0},{"$f":"Harmonischen!$C$60/100*SIN(C538*$K$191*PI()/180)","v":0},{"$f":"Harmonischen!$C$61/100*SIN(C538*$L$191*PI()/180)","v":0},{"$f":"Harmonischen!$C$62/100*SIN(C538*$M$191*PI()/180)","v":0},{"$f":"Harmonischen!$C$63/100*SIN($C538*$N$191*PI()/180)","v":0},{"$f":"Harmonischen!$C$64/100*SIN($C538*$O$191*PI()/180)","v":0},{"$f":"Harmonischen!$C$65/100*SIN($C538*$P$191*PI()/180)","v":0},{"$f":"Harmonischen!$C$66/100*SIN($C538*$Q$191*PI()/180)","v":0},{"$f":"Harmonischen!$C$67/100*SIN($C538*$R$191*PI()/180)","v":0},{"$f":"Harmonischen!$C$68/100*SIN($C538*$S$191*PI()/180)","v":0},{"$f":"Harmonischen!$C$69/100*SIN($C538*$T$191*PI()/180)","v":0},{"$f":"Harmonischen!$C$70/100*SIN($C538*$U$191*PI()/180)","v":0},{"$f":"Harmonischen!$C$71/100*SIN($C538*$V$191*PI()/180)","v":0},{"$f":"Harmonischen!$C$72/100*SIN($C538*$W$191*PI()/180)","v":0},{"$f":"Harmonischen!$C$73/100*SIN($C538*$X$191*PI()/180)","v":0},{"$f":"Harmonischen!$C$74/100*SIN($C538*$Y$191*PI()/180)","v":0},{"$f":"Harmonischen!$C$75/100*SIN($C538*$Z$191*PI()/180)","v":0},{"$f":"Harmonischen!$C$76/100*SIN($C538*$AA$191*PI()/180)","v":0},{"$f":"Harmonischen!$C$77/100*SIN($C538*$AB$191*PI()/180)","v":0},null,-0.37574801687143966]
[null,null,347,{"$f":"Harmonischen!$C$53/100*SIN(C539*PI()/180)","v":-0.22495105434386534},{"$f":"Harmonischen!$C$54/100*SIN(C539*$E$191*PI()/180)","v":0},{"$f":"Harmonischen!$C$55/100*SIN(C539*$F$191*PI()/180)","v":-0.12586407820996767},{"$f":"Harmonischen!$C$56/100*SIN(C539*$G$191*PI()/180)","v":0},{"$f":"Harmonischen!$C$57/100*SIN(C539*$H$191*PI()/180)","v":0},{"$f":"Harmonischen!$C$58/100*SIN(C539*$I$191*PI()/180)","v":0},{"$f":"Harmonischen!$C$59/100*SIN(C539*$J$191*PI()/180)","v":0},{"$f":"Harmonischen!$C$60/100*SIN(C539*$K$191*PI()/180)","v":0},{"$f":"Harmonischen!$C$61/100*SIN(C539*$L$191*PI()/180)","v":0},{"$f":"Harmonischen!$C$62/100*SIN(C539*$M$191*PI()/180)","v":0},{"$f":"Harmonischen!$C$63/100*SIN($C539*$N$191*PI()/180)","v":0},{"$f":"Harmonischen!$C$64/100*SIN($C539*$O$191*PI()/180)","v":0},{"$f":"Harmonischen!$C$65/100*SIN($C539*$P$191*PI()/180)","v":0},{"$f":"Harmonischen!$C$66/100*SIN($C539*$Q$191*PI()/180)","v":0},{"$f":"Harmonischen!$C$67/100*SIN($C539*$R$191*PI()/180)","v":0},{"$f":"Harmonischen!$C$68/100*SIN($C539*$S$191*PI()/180)","v":0},{"$f":"Harmonischen!$C$69/100*SIN($C539*$T$191*PI()/180)","v":0},{"$f":"Harmonischen!$C$70/100*SIN($C539*$U$191*PI()/180)","v":0},{"$f":"Harmonischen!$C$71/100*SIN($C539*$V$191*PI()/180)","v":0},{"$f":"Harmonischen!$C$72/100*SIN($C539*$W$191*PI()/180)","v":0},{"$f":"Harmonischen!$C$73/100*SIN($C539*$X$191*PI()/180)","v":0},{"$f":"Harmonischen!$C$74/100*SIN($C539*$Y$191*PI()/180)","v":0},{"$f":"Harmonischen!$C$75/100*SIN($C539*$Z$191*PI()/180)","v":0},{"$f":"Harmonischen!$C$76/100*SIN($C539*$AA$191*PI()/180)","v":0},{"$f":"Harmonischen!$C$77/100*SIN($C539*$AB$191*PI()/180)","v":0},null,-0.35081513255383301]
[null,null,348,{"$f":"Harmonischen!$C$53/100*SIN(C540*PI()/180)","v":-0.20791169081775987},{"$f":"Harmonischen!$C$54/100*SIN(C540*$E$191*PI()/180)","v":0},{"$f":"Harmonischen!$C$55/100*SIN(C540*$F$191*PI()/180)","v":-0.11755705045849474},{"$f":"Harmonischen!$C$56/100*SIN(C540*$G$191*PI()/180)","v":0},{"$f":"Harmonischen!$C$57/100*SIN(C540*$H$191*PI()/180)","v":0},{"$f":"Harmonischen!$C$58/100*SIN(C540*$I$191*PI()/180)","v":0},{"$f":"Harmonischen!$C$59/100*SIN(C540*$J$191*PI()/180)","v":0},{"$f":"Harmonischen!$C$60/100*SIN(C540*$K$191*PI()/180)","v":0},{"$f":"Harmonischen!$C$61/100*SIN(C540*$L$191*PI()/180)","v":0},{"$f":"Harmonischen!$C$62/100*SIN(C540*$M$191*PI()/180)","v":0},{"$f":"Harmonischen!$C$63/100*SIN($C540*$N$191*PI()/180)","v":0},{"$f":"Harmonischen!$C$64/100*SIN($C540*$O$191*PI()/180)","v":0},{"$f":"Harmonischen!$C$65/100*SIN($C540*$P$191*PI()/180)","v":0},{"$f":"Harmonischen!$C$66/100*SIN($C540*$Q$191*PI()/180)","v":0},{"$f":"Harmonischen!$C$67/100*SIN($C540*$R$191*PI()/180)","v":0},{"$f":"Harmonischen!$C$68/100*SIN($C540*$S$191*PI()/180)","v":0},{"$f":"Harmonischen!$C$69/100*SIN($C540*$T$191*PI()/180)","v":0},{"$f":"Harmonischen!$C$70/100*SIN($C540*$U$191*PI()/180)","v":0},{"$f":"Harmonischen!$C$71/100*SIN($C540*$V$191*PI()/180)","v":0},{"$f":"Harmonischen!$C$72/100*SIN($C540*$W$191*PI()/180)","v":0},{"$f":"Harmonischen!$C$73/100*SIN($C540*$X$191*PI()/180)","v":0},{"$f":"Harmonischen!$C$74/100*SIN($C540*$Y$191*PI()/180)","v":0},{"$f":"Harmonischen!$C$75/100*SIN($C540*$Z$191*PI()/180)","v":0},{"$f":"Harmonischen!$C$76/100*SIN($C540*$AA$191*PI()/180)","v":0},{"$f":"Harmonischen!$C$77/100*SIN($C540*$AB$191*PI()/180)","v":0},null,-0.32546874127625458]
[null,null,349,{"$f":"Harmonischen!$C$53/100*SIN(C541*PI()/180)","v":-0.19080899537654467},{"$f":"Harmonischen!$C$54/100*SIN(C541*$E$191*PI()/180)","v":0},{"$f":"Harmonischen!$C$55/100*SIN(C541*$F$191*PI()/180)","v":-0.10892780700300549},{"$f":"Harmonischen!$C$56/100*SIN(C541*$G$191*PI()/180)","v":0},{"$f":"Harmonischen!$C$57/100*SIN(C541*$H$191*PI()/180)","v":0},{"$f":"Harmonischen!$C$58/100*SIN(C541*$I$191*PI()/180)","v":0},{"$f":"Harmonischen!$C$59/100*SIN(C541*$J$191*PI()/180)","v":0},{"$f":"Harmonischen!$C$60/100*SIN(C541*$K$191*PI()/180)","v":0},{"$f":"Harmonischen!$C$61/100*SIN(C541*$L$191*PI()/180)","v":0},{"$f":"Harmonischen!$C$62/100*SIN(C541*$M$191*PI()/180)","v":0},{"$f":"Harmonischen!$C$63/100*SIN($C541*$N$191*PI()/180)","v":0},{"$f":"Harmonischen!$C$64/100*SIN($C541*$O$191*PI()/180)","v":0},{"$f":"Harmonischen!$C$65/100*SIN($C541*$P$191*PI()/180)","v":0},{"$f":"Harmonischen!$C$66/100*SIN($C541*$Q$191*PI()/180)","v":0},{"$f":"Harmonischen!$C$67/100*SIN($C541*$R$191*PI()/180)","v":0},{"$f":"Harmonischen!$C$68/100*SIN($C541*$S$191*PI()/180)","v":0},{"$f":"Harmonischen!$C$69/100*SIN($C541*$T$191*PI()/180)","v":0},{"$f":"Harmonischen!$C$70/100*SIN($C541*$U$191*PI()/180)","v":0},{"$f":"Harmonischen!$C$71/100*SIN($C541*$V$191*PI()/180)","v":0},{"$f":"Harmonischen!$C$72/100*SIN($C541*$W$191*PI()/180)","v":0},{"$f":"Harmonischen!$C$73/100*SIN($C541*$X$191*PI()/180)","v":0},{"$f":"Harmonischen!$C$74/100*SIN($C541*$Y$191*PI()/180)","v":0},{"$f":"Harmonischen!$C$75/100*SIN($C541*$Z$191*PI()/180)","v":0},{"$f":"Harmonischen!$C$76/100*SIN($C541*$AA$191*PI()/180)","v":0},{"$f":"Harmonischen!$C$77/100*SIN($C541*$AB$191*PI()/180)","v":0},null,-0.29973680237955014]
[null,null,350,{"$f":"Harmonischen!$C$53/100*SIN(C542*PI()/180)","v":-0.17364817766693127},{"$f":"Harmonischen!$C$54/100*SIN(C542*$E$191*PI()/180)","v":0},{"$f":"Harmonischen!$C$55/100*SIN(C542*$F$191*PI()/180)","v":-0.10000000000000003},{"$f":"Harmonischen!$C$56/100*SIN(C542*$G$191*PI()/180)","v":0},{"$f":"Harmonischen!$C$57/100*SIN(C542*$H$191*PI()/180)","v":0},{"$f":"Harmonischen!$C$58/100*SIN(C542*$I$191*PI()/180)","v":0},{"$f":"Harmonischen!$C$59/100*SIN(C542*$J$191*PI()/180)","v":0},{"$f":"Harmonischen!$C$60/100*SIN(C542*$K$191*PI()/180)","v":0},{"$f":"Harmonischen!$C$61/100*SIN(C542*$L$191*PI()/180)","v":0},{"$f":"Harmonischen!$C$62/100*SIN(C542*$M$191*PI()/180)","v":0},{"$f":"Harmonischen!$C$63/100*SIN($C542*$N$191*PI()/180)","v":0},{"$f":"Harmonischen!$C$64/100*SIN($C542*$O$191*PI()/180)","v":0},{"$f":"Harmonischen!$C$65/100*SIN($C542*$P$191*PI()/180)","v":0},{"$f":"Harmonischen!$C$66/100*SIN($C542*$Q$191*PI()/180)","v":0},{"$f":"Harmonischen!$C$67/100*SIN($C542*$R$191*PI()/180)","v":0},{"$f":"Harmonischen!$C$68/100*SIN($C542*$S$191*PI()/180)","v":0},{"$f":"Harmonischen!$C$69/100*SIN($C542*$T$191*PI()/180)","v":0},{"$f":"Harmonischen!$C$70/100*SIN($C542*$U$191*PI()/180)","v":0},{"$f":"Harmonischen!$C$71/100*SIN($C542*$V$191*PI()/180)","v":0},{"$f":"Harmonischen!$C$72/100*SIN($C542*$W$191*PI()/180)","v":0},{"$f":"Harmonischen!$C$73/100*SIN($C542*$X$191*PI()/180)","v":0},{"$f":"Harmonischen!$C$74/100*SIN($C542*$Y$191*PI()/180)","v":0},{"$f":"Harmonischen!$C$75/100*SIN($C542*$Z$191*PI()/180)","v":0},{"$f":"Harmonischen!$C$76/100*SIN($C542*$AA$191*PI()/180)","v":0},{"$f":"Harmonischen!$C$77/100*SIN($C542*$AB$191*PI()/180)","v":0},null,-0.27364817766693128]
[null,null,351,{"$f":"Harmonischen!$C$53/100*SIN(C543*PI()/180)","v":-0.15643446504023112},{"$f":"Harmonischen!$C$54/100*SIN(C543*$E$191*PI()/180)","v":0},{"$f":"Harmonischen!$C$55/100*SIN(C543*$F$191*PI()/180)","v":-9.0798099947909328E-2},{"$f":"Harmonischen!$C$56/100*SIN(C543*$G$191*PI()/180)","v":0},{"$f":"Harmonischen!$C$57/100*SIN(C543*$H$191*PI()/180)","v":0},{"$f":"Harmonischen!$C$58/100*SIN(C543*$I$191*PI()/180)","v":0},{"$f":"Harmonischen!$C$59/100*SIN(C543*$J$191*PI()/180)","v":0},{"$f":"Harmonischen!$C$60/100*SIN(C543*$K$191*PI()/180)","v":0},{"$f":"Harmonischen!$C$61/100*SIN(C543*$L$191*PI()/180)","v":0},{"$f":"Harmonischen!$C$62/100*SIN(C543*$M$191*PI()/180)","v":0},{"$f":"Harmonischen!$C$63/100*SIN($C543*$N$191*PI()/180)","v":0},{"$f":"Harmonischen!$C$64/100*SIN($C543*$O$191*PI()/180)","v":0},{"$f":"Harmonischen!$C$65/100*SIN($C543*$P$191*PI()/180)","v":0},{"$f":"Harmonischen!$C$66/100*SIN($C543*$Q$191*PI()/180)","v":0},{"$f":"Harmonischen!$C$67/100*SIN($C543*$R$191*PI()/180)","v":0},{"$f":"Harmonischen!$C$68/100*SIN($C543*$S$191*PI()/180)","v":0},{"$f":"Harmonischen!$C$69/100*SIN($C543*$T$191*PI()/180)","v":0},{"$f":"Harmonischen!$C$70/100*SIN($C543*$U$191*PI()/180)","v":0},{"$f":"Harmonischen!$C$71/100*SIN($C543*$V$191*PI()/180)","v":0},{"$f":"Harmonischen!$C$72/100*SIN($C543*$W$191*PI()/180)","v":0},{"$f":"Harmonischen!$C$73/100*SIN($C543*$X$191*PI()/180)","v":0},{"$f":"Harmonischen!$C$74/100*SIN($C543*$Y$191*PI()/180)","v":0},{"$f":"Harmonischen!$C$75/100*SIN($C543*$Z$191*PI()/180)","v":0},{"$f":"Harmonischen!$C$76/100*SIN($C543*$AA$191*PI()/180)","v":0},{"$f":"Harmonischen!$C$77/100*SIN($C543*$AB$191*PI()/180)","v":0},null,-0.24723256498814045]
[null,null,352,{"$f":"Harmonischen!$C$53/100*SIN(C544*PI()/180)","v":-0.13917310096006588},{"$f":"Harmonischen!$C$54/100*SIN(C544*$E$191*PI()/180)","v":0},{"$f":"Harmonischen!$C$55/100*SIN(C544*$F$191*PI()/180)","v":-8.1347328615159961E-2},{"$f":"Harmonischen!$C$56/100*SIN(C544*$G$191*PI()/180)","v":0},{"$f":"Harmonischen!$C$57/100*SIN(C544*$H$191*PI()/180)","v":0},{"$f":"Harmonischen!$C$58/100*SIN(C544*$I$191*PI()/180)","v":0},{"$f":"Harmonischen!$C$59/100*SIN(C544*$J$191*PI()/180)","v":0},{"$f":"Harmonischen!$C$60/100*SIN(C544*$K$191*PI()/180)","v":0},{"$f":"Harmonischen!$C$61/100*SIN(C544*$L$191*PI()/180)","v":0},{"$f":"Harmonischen!$C$62/100*SIN(C544*$M$191*PI()/180)","v":0},{"$f":"Harmonischen!$C$63/100*SIN($C544*$N$191*PI()/180)","v":0},{"$f":"Harmonischen!$C$64/100*SIN($C544*$O$191*PI()/180)","v":0},{"$f":"Harmonischen!$C$65/100*SIN($C544*$P$191*PI()/180)","v":0},{"$f":"Harmonischen!$C$66/100*SIN($C544*$Q$191*PI()/180)","v":0},{"$f":"Harmonischen!$C$67/100*SIN($C544*$R$191*PI()/180)","v":0},{"$f":"Harmonischen!$C$68/100*SIN($C544*$S$191*PI()/180)","v":0},{"$f":"Harmonischen!$C$69/100*SIN($C544*$T$191*PI()/180)","v":0},{"$f":"Harmonischen!$C$70/100*SIN($C544*$U$191*PI()/180)","v":0},{"$f":"Harmonischen!$C$71/100*SIN($C544*$V$191*PI()/180)","v":0},{"$f":"Harmonischen!$C$72/100*SIN($C544*$W$191*PI()/180)","v":0},{"$f":"Harmonischen!$C$73/100*SIN($C544*$X$191*PI()/180)","v":0},{"$f":"Harmonischen!$C$74/100*SIN($C544*$Y$191*PI()/180)","v":0},{"$f":"Harmonischen!$C$75/100*SIN($C544*$Z$191*PI()/180)","v":0},{"$f":"Harmonischen!$C$76/100*SIN($C544*$AA$191*PI()/180)","v":0},{"$f":"Harmonischen!$C$77/100*SIN($C544*$AB$191*PI()/180)","v":0},null,-0.22052042957522583]
[null,null,353,{"$f":"Harmonischen!$C$53/100*SIN(C545*PI()/180)","v":-0.12186934340514811},{"$f":"Harmonischen!$C$54/100*SIN(C545*$E$191*PI()/180)","v":0},{"$f":"Harmonischen!$C$55/100*SIN(C545*$F$191*PI()/180)","v":-7.1673589909059907E-2},{"$f":"Harmonischen!$C$56/100*SIN(C545*$G$191*PI()/180)","v":0},{"$f":"Harmonischen!$C$57/100*SIN(C545*$H$191*PI()/180)","v":0},{"$f":"Harmonischen!$C$58/100*SIN(C545*$I$191*PI()/180)","v":0},{"$f":"Harmonischen!$C$59/100*SIN(C545*$J$191*PI()/180)","v":0},{"$f":"Harmonischen!$C$60/100*SIN(C545*$K$191*PI()/180)","v":0},{"$f":"Harmonischen!$C$61/100*SIN(C545*$L$191*PI()/180)","v":0},{"$f":"Harmonischen!$C$62/100*SIN(C545*$M$191*PI()/180)","v":0},{"$f":"Harmonischen!$C$63/100*SIN($C545*$N$191*PI()/180)","v":0},{"$f":"Harmonischen!$C$64/100*SIN($C545*$O$191*PI()/180)","v":0},{"$f":"Harmonischen!$C$65/100*SIN($C545*$P$191*PI()/180)","v":0},{"$f":"Harmonischen!$C$66/100*SIN($C545*$Q$191*PI()/180)","v":0},{"$f":"Harmonischen!$C$67/100*SIN($C545*$R$191*PI()/180)","v":0},{"$f":"Harmonischen!$C$68/100*SIN($C545*$S$191*PI()/180)","v":0},{"$f":"Harmonischen!$C$69/100*SIN($C545*$T$191*PI()/180)","v":0},{"$f":"Harmonischen!$C$70/100*SIN($C545*$U$191*PI()/180)","v":0},{"$f":"Harmonischen!$C$71/100*SIN($C545*$V$191*PI()/180)","v":0},{"$f":"Harmonischen!$C$72/100*SIN($C545*$W$191*PI()/180)","v":0},{"$f":"Harmonischen!$C$73/100*SIN($C545*$X$191*PI()/180)","v":0},{"$f":"Harmonischen!$C$74/100*SIN($C545*$Y$191*PI()/180)","v":0},{"$f":"Harmonischen!$C$75/100*SIN($C545*$Z$191*PI()/180)","v":0},{"$f":"Harmonischen!$C$76/100*SIN($C545*$AA$191*PI()/180)","v":0},{"$f":"Harmonischen!$C$77/100*SIN($C545*$AB$191*PI()/180)","v":0},null,-0.19354293331420802]
[null,null,354,{"$f":"Harmonischen!$C$53/100*SIN(C546*PI()/180)","v":-0.10452846326765342},{"$f":"Harmonischen!$C$54/100*SIN(C546*$E$191*PI()/180)","v":0},{"$f":"Harmonischen!$C$55/100*SIN(C546*$F$191*PI()/180)","v":-6.1803398874989958E-2},{"$f":"Harmonischen!$C$56/100*SIN(C546*$G$191*PI()/180)","v":0},{"$f":"Harmonischen!$C$57/100*SIN(C546*$H$191*PI()/180)","v":0},{"$f":"Harmonischen!$C$58/100*SIN(C546*$I$191*PI()/180)","v":0},{"$f":"Harmonischen!$C$59/100*SIN(C546*$J$191*PI()/180)","v":0},{"$f":"Harmonischen!$C$60/100*SIN(C546*$K$191*PI()/180)","v":0},{"$f":"Harmonischen!$C$61/100*SIN(C546*$L$191*PI()/180)","v":0},{"$f":"Harmonischen!$C$62/100*SIN(C546*$M$191*PI()/180)","v":0},{"$f":"Harmonischen!$C$63/100*SIN($C546*$N$191*PI()/180)","v":0},{"$f":"Harmonischen!$C$64/100*SIN($C546*$O$191*PI()/180)","v":0},{"$f":"Harmonischen!$C$65/100*SIN($C546*$P$191*PI()/180)","v":0},{"$f":"Harmonischen!$C$66/100*SIN($C546*$Q$191*PI()/180)","v":0},{"$f":"Harmonischen!$C$67/100*SIN($C546*$R$191*PI()/180)","v":0},{"$f":"Harmonischen!$C$68/100*SIN($C546*$S$191*PI()/180)","v":0},{"$f":"Harmonischen!$C$69/100*SIN($C546*$T$191*PI()/180)","v":0},{"$f":"Harmonischen!$C$70/100*SIN($C546*$U$191*PI()/180)","v":0},{"$f":"Harmonischen!$C$71/100*SIN($C546*$V$191*PI()/180)","v":0},{"$f":"Harmonischen!$C$72/100*SIN($C546*$W$191*PI()/180)","v":0},{"$f":"Harmonischen!$C$73/100*SIN($C546*$X$191*PI()/180)","v":0},{"$f":"Harmonischen!$C$74/100*SIN($C546*$Y$191*PI()/180)","v":0},{"$f":"Harmonischen!$C$75/100*SIN($C546*$Z$191*PI()/180)","v":0},{"$f":"Harmonischen!$C$76/100*SIN($C546*$AA$191*PI()/180)","v":0},{"$f":"Harmonischen!$C$77/100*SIN($C546*$AB$191*PI()/180)","v":0},null,-0.16633186214264337]
[null,null,355,{"$f":"Harmonischen!$C$53/100*SIN(C547*PI()/180)","v":-8.7155742747658319E-2},{"$f":"Harmonischen!$C$54/100*SIN(C547*$E$191*PI()/180)","v":0},{"$f":"Harmonischen!$C$55/100*SIN(C547*$F$191*PI()/180)","v":-5.1763809020504585E-2},{"$f":"Harmonischen!$C$56/100*SIN(C547*$G$191*PI()/180)","v":0},{"$f":"Harmonischen!$C$57/100*SIN(C547*$H$191*PI()/180)","v":0},{"$f":"Harmonischen!$C$58/100*SIN(C547*$I$191*PI()/180)","v":0},{"$f":"Harmonischen!$C$59/100*SIN(C547*$J$191*PI()/180)","v":0},{"$f":"Harmonischen!$C$60/100*SIN(C547*$K$191*PI()/180)","v":0},{"$f":"Harmonischen!$C$61/100*SIN(C547*$L$191*PI()/180)","v":0},{"$f":"Harmonischen!$C$62/100*SIN(C547*$M$191*PI()/180)","v":0},{"$f":"Harmonischen!$C$63/100*SIN($C547*$N$191*PI()/180)","v":0},{"$f":"Harmonischen!$C$64/100*SIN($C547*$O$191*PI()/180)","v":0},{"$f":"Harmonischen!$C$65/100*SIN($C547*$P$191*PI()/180)","v":0},{"$f":"Harmonischen!$C$66/100*SIN($C547*$Q$191*PI()/180)","v":0},{"$f":"Harmonischen!$C$67/100*SIN($C547*$R$191*PI()/180)","v":0},{"$f":"Harmonischen!$C$68/100*SIN($C547*$S$191*PI()/180)","v":0},{"$f":"Harmonischen!$C$69/100*SIN($C547*$T$191*PI()/180)","v":0},{"$f":"Harmonischen!$C$70/100*SIN($C547*$U$191*PI()/180)","v":0},{"$f":"Harmonischen!$C$71/100*SIN($C547*$V$191*PI()/180)","v":0},{"$f":"Harmonischen!$C$72/100*SIN($C547*$W$191*PI()/180)","v":0},{"$f":"Harmonischen!$C$73/100*SIN($C547*$X$191*PI()/180)","v":0},{"$f":"Harmonischen!$C$74/100*SIN($C547*$Y$191*PI()/180)","v":0},{"$f":"Harmonischen!$C$75/100*SIN($C547*$Z$191*PI()/180)","v":0},{"$f":"Harmonischen!$C$76/100*SIN($C547*$AA$191*PI()/180)","v":0},{"$f":"Harmonischen!$C$77/100*SIN($C547*$AB$191*PI()/180)","v":0},null,-0.1389195517681629]
[null,null,356,{"$f":"Harmonischen!$C$53/100*SIN(C548*PI()/180)","v":-6.9756473744124761E-2},{"$f":"Harmonischen!$C$54/100*SIN(C548*$E$191*PI()/180)","v":0},{"$f":"Harmonischen!$C$55/100*SIN(C548*$F$191*PI()/180)","v":-4.1582338163552245E-2},{"$f":"Harmonischen!$C$56/100*SIN(C548*$G$191*PI()/180)","v":0},{"$f":"Harmonischen!$C$57/100*SIN(C548*$H$191*PI()/180)","v":0},{"$f":"Harmonischen!$C$58/100*SIN(C548*$I$191*PI()/180)","v":0},{"$f":"Harmonischen!$C$59/100*SIN(C548*$J$191*PI()/180)","v":0},{"$f":"Harmonischen!$C$60/100*SIN(C548*$K$191*PI()/180)","v":0},{"$f":"Harmonischen!$C$61/100*SIN(C548*$L$191*PI()/180)","v":0},{"$f":"Harmonischen!$C$62/100*SIN(C548*$M$191*PI()/180)","v":0},{"$f":"Harmonischen!$C$63/100*SIN($C548*$N$191*PI()/180)","v":0},{"$f":"Harmonischen!$C$64/100*SIN($C548*$O$191*PI()/180)","v":0},{"$f":"Harmonischen!$C$65/100*SIN($C548*$P$191*PI()/180)","v":0},{"$f":"Harmonischen!$C$66/100*SIN($C548*$Q$191*PI()/180)","v":0},{"$f":"Harmonischen!$C$67/100*SIN($C548*$R$191*PI()/180)","v":0},{"$f":"Harmonischen!$C$68/100*SIN($C548*$S$191*PI()/180)","v":0},{"$f":"Harmonischen!$C$69/100*SIN($C548*$T$191*PI()/180)","v":0},{"$f":"Harmonischen!$C$70/100*SIN($C548*$U$191*PI()/180)","v":0},{"$f":"Harmonischen!$C$71/100*SIN($C548*$V$191*PI()/180)","v":0},{"$f":"Harmonischen!$C$72/100*SIN($C548*$W$191*PI()/180)","v":0},{"$f":"Harmonischen!$C$73/100*SIN($C548*$X$191*PI()/180)","v":0},{"$f":"Harmonischen!$C$74/100*SIN($C548*$Y$191*PI()/180)","v":0},{"$f":"Harmonischen!$C$75/100*SIN($C548*$Z$191*PI()/180)","v":0},{"$f":"Harmonischen!$C$76/100*SIN($C548*$AA$191*PI()/180)","v":0},{"$f":"Harmonischen!$C$77/100*SIN($C548*$AB$191*PI()/180)","v":0},null,-0.111338811907677]
[null,null,357,{"$f":"Harmonischen!$C$53/100*SIN(C549*PI()/180)","v":-5.2335956242944369E-2},{"$f":"Harmonischen!$C$54/100*SIN(C549*$E$191*PI()/180)","v":0},{"$f":"Harmonischen!$C$55/100*SIN(C549*$F$191*PI()/180)","v":-3.1286893008046497E-2},{"$f":"Harmonischen!$C$56/100*SIN(C549*$G$191*PI()/180)","v":0},{"$f":"Harmonischen!$C$57/100*SIN(C549*$H$191*PI()/180)","v":0},{"$f":"Harmonischen!$C$58/100*SIN(C549*$I$191*PI()/180)","v":0},{"$f":"Harmonischen!$C$59/100*SIN(C549*$J$191*PI()/180)","v":0},{"$f":"Harmonischen!$C$60/100*SIN(C549*$K$191*PI()/180)","v":0},{"$f":"Harmonischen!$C$61/100*SIN(C549*$L$191*PI()/180)","v":0},{"$f":"Harmonischen!$C$62/100*SIN(C549*$M$191*PI()/180)","v":0},{"$f":"Harmonischen!$C$63/100*SIN($C549*$N$191*PI()/180)","v":0},{"$f":"Harmonischen!$C$64/100*SIN($C549*$O$191*PI()/180)","v":0},{"$f":"Harmonischen!$C$65/100*SIN($C549*$P$191*PI()/180)","v":0},{"$f":"Harmonischen!$C$66/100*SIN($C549*$Q$191*PI()/180)","v":0},{"$f":"Harmonischen!$C$67/100*SIN($C549*$R$191*PI()/180)","v":0},{"$f":"Harmonischen!$C$68/100*SIN($C549*$S$191*PI()/180)","v":0},{"$f":"Harmonischen!$C$69/100*SIN($C549*$T$191*PI()/180)","v":0},{"$f":"Harmonischen!$C$70/100*SIN($C549*$U$191*PI()/180)","v":0},{"$f":"Harmonischen!$C$71/100*SIN($C549*$V$191*PI()/180)","v":0},{"$f":"Harmonischen!$C$72/100*SIN($C549*$W$191*PI()/180)","v":0},{"$f":"Harmonischen!$C$73/100*SIN($C549*$X$191*PI()/180)","v":0},{"$f":"Harmonischen!$C$74/100*SIN($C549*$Y$191*PI()/180)","v":0},{"$f":"Harmonischen!$C$75/100*SIN($C549*$Z$191*PI()/180)","v":0},{"$f":"Harmonischen!$C$76/100*SIN($C549*$AA$191*PI()/180)","v":0},{"$f":"Harmonischen!$C$77/100*SIN($C549*$AB$191*PI()/180)","v":0},null,-8.3622849250990866E-2]
[null,null,358,{"$f":"Harmonischen!$C$53/100*SIN(C550*PI()/180)","v":-3.4899496702500823E-2},{"$f":"Harmonischen!$C$54/100*SIN(C550*$E$191*PI()/180)","v":0},{"$f":"Harmonischen!$C$55/100*SIN(C550*$F$191*PI()/180)","v":-2.0905692653530959E-2},{"$f":"Harmonischen!$C$56/100*SIN(C550*$G$191*PI()/180)","v":0},{"$f":"Harmonischen!$C$57/100*SIN(C550*$H$191*PI()/180)","v":0},{"$f":"Harmonischen!$C$58/100*SIN(C550*$I$191*PI()/180)","v":0},{"$f":"Harmonischen!$C$59/100*SIN(C550*$J$191*PI()/180)","v":0},{"$f":"Harmonischen!$C$60/100*SIN(C550*$K$191*PI()/180)","v":0},{"$f":"Harmonischen!$C$61/100*SIN(C550*$L$191*PI()/180)","v":0},{"$f":"Harmonischen!$C$62/100*SIN(C550*$M$191*PI()/180)","v":0},{"$f":"Harmonischen!$C$63/100*SIN($C550*$N$191*PI()/180)","v":0},{"$f":"Harmonischen!$C$64/100*SIN($C550*$O$191*PI()/180)","v":0},{"$f":"Harmonischen!$C$65/100*SIN($C550*$P$191*PI()/180)","v":0},{"$f":"Harmonischen!$C$66/100*SIN($C550*$Q$191*PI()/180)","v":0},{"$f":"Harmonischen!$C$67/100*SIN($C550*$R$191*PI()/180)","v":0},{"$f":"Harmonischen!$C$68/100*SIN($C550*$S$191*PI()/180)","v":0},{"$f":"Harmonischen!$C$69/100*SIN($C550*$T$191*PI()/180)","v":0},{"$f":"Harmonischen!$C$70/100*SIN($C550*$U$191*PI()/180)","v":0},{"$f":"Harmonischen!$C$71/100*SIN($C550*$V$191*PI()/180)","v":0},{"$f":"Harmonischen!$C$72/100*SIN($C550*$W$191*PI()/180)","v":0},{"$f":"Harmonischen!$C$73/100*SIN($C550*$X$191*PI()/180)","v":0},{"$f":"Harmonischen!$C$74/100*SIN($C550*$Y$191*PI()/180)","v":0},{"$f":"Harmonischen!$C$75/100*SIN($C550*$Z$191*PI()/180)","v":0},{"$f":"Harmonischen!$C$76/100*SIN($C550*$AA$191*PI()/180)","v":0},{"$f":"Harmonischen!$C$77/100*SIN($C550*$AB$191*PI()/180)","v":0},null,-5.5805189356031779E-2]
[null,null,359,{"$f":"Harmonischen!$C$53/100*SIN(C551*PI()/180)","v":-1.7452406437284448E-2},{"$f":"Harmonischen!$C$54/100*SIN(C551*$E$191*PI()/180)","v":0},{"$f":"Harmonischen!$C$55/100*SIN(C551*$F$191*PI()/180)","v":-1.0467191248588973E-2},{"$f":"Harmonischen!$C$56/100*SIN(C551*$G$191*PI()/180)","v":0},{"$f":"Harmonischen!$C$57/100*SIN(C551*$H$191*PI()/180)","v":0},{"$f":"Harmonischen!$C$58/100*SIN(C551*$I$191*PI()/180)","v":0},{"$f":"Harmonischen!$C$59/100*SIN(C551*$J$191*PI()/180)","v":0},{"$f":"Harmonischen!$C$60/100*SIN(C551*$K$191*PI()/180)","v":0},{"$f":"Harmonischen!$C$61/100*SIN(C551*$L$191*PI()/180)","v":0},{"$f":"Harmonischen!$C$62/100*SIN(C551*$M$191*PI()/180)","v":0},{"$f":"Harmonischen!$C$63/100*SIN($C551*$N$191*PI()/180)","v":0},{"$f":"Harmonischen!$C$64/100*SIN($C551*$O$191*PI()/180)","v":0},{"$f":"Harmonischen!$C$65/100*SIN($C551*$P$191*PI()/180)","v":0},{"$f":"Harmonischen!$C$66/100*SIN($C551*$Q$191*PI()/180)","v":0},{"$f":"Harmonischen!$C$67/100*SIN($C551*$R$191*PI()/180)","v":0},{"$f":"Harmonischen!$C$68/100*SIN($C551*$S$191*PI()/180)","v":0},{"$f":"Harmonischen!$C$69/100*SIN($C551*$T$191*PI()/180)","v":0},{"$f":"Harmonischen!$C$70/100*SIN($C551*$U$191*PI()/180)","v":0},{"$f":"Harmonischen!$C$71/100*SIN($C551*$V$191*PI()/180)","v":0},{"$f":"Harmonischen!$C$72/100*SIN($C551*$W$191*PI()/180)","v":0},{"$f":"Harmonischen!$C$73/100*SIN($C551*$X$191*PI()/180)","v":0},{"$f":"Harmonischen!$C$74/100*SIN($C551*$Y$191*PI()/180)","v":0},{"$f":"Harmonischen!$C$75/100*SIN($C551*$Z$191*PI()/180)","v":0},{"$f":"Harmonischen!$C$76/100*SIN($C551*$AA$191*PI()/180)","v":0},{"$f":"Harmonischen!$C$77/100*SIN($C551*$AB$191*PI()/180)","v":0},null,-2.7919597685873421E-2]
[null,null,360,{"$f":"Harmonischen!$C$53/100*SIN(C552*PI()/180)","v":-2.45029690981724E-16},{"$f":"Harmonischen!$C$54/100*SIN(C552*$E$191*PI()/180)","v":0},{"$f":"Harmonischen!$C$55/100*SIN(C552*$F$191*PI()/180)","v":-1.470178145890344E-16},{"$f":"Harmonischen!$C$56/100*SIN(C552*$G$191*PI()/180)","v":0},{"$f":"Harmonischen!$C$57/100*SIN(C552*$H$191*PI()/180)","v":0},{"$f":"Harmonischen!$C$58/100*SIN(C552*$I$191*PI()/180)","v":0},{"$f":"Harmonischen!$C$59/100*SIN(C552*$J$191*PI()/180)","v":0},{"$f":"Harmonischen!$C$60/100*SIN(C552*$K$191*PI()/180)","v":0},{"$f":"Harmonischen!$C$61/100*SIN(C552*$L$191*PI()/180)","v":0},{"$f":"Harmonischen!$C$62/100*SIN(C552*$M$191*PI()/180)","v":0},{"$f":"Harmonischen!$C$63/100*SIN($C552*$N$191*PI()/180)","v":0},{"$f":"Harmonischen!$C$64/100*SIN($C552*$O$191*PI()/180)","v":0},{"$f":"Harmonischen!$C$65/100*SIN($C552*$P$191*PI()/180)","v":0},{"$f":"Harmonischen!$C$66/100*SIN($C552*$Q$191*PI()/180)","v":0},{"$f":"Harmonischen!$C$67/100*SIN($C552*$R$191*PI()/180)","v":0},{"$f":"Harmonischen!$C$68/100*SIN($C552*$S$191*PI()/180)","v":0},{"$f":"Harmonischen!$C$69/100*SIN($C552*$T$191*PI()/180)","v":0},{"$f":"Harmonischen!$C$70/100*SIN($C552*$U$191*PI()/180)","v":0},{"$f":"Harmonischen!$C$71/100*SIN($C552*$V$191*PI()/180)","v":0},{"$f":"Harmonischen!$C$72/100*SIN($C552*$W$191*PI()/180)","v":0},{"$f":"Harmonischen!$C$73/100*SIN($C552*$X$191*PI()/180)","v":0},{"$f":"Harmonischen!$C$74/100*SIN($C552*$Y$191*PI()/180)","v":0},{"$f":"Harmonischen!$C$75/100*SIN($C552*$Z$191*PI()/180)","v":0},{"$f":"Harmonischen!$C$76/100*SIN($C552*$AA$191*PI()/180)","v":0},{"$f":"Harmonischen!$C$77/100*SIN($C552*$AB$191*PI()/180)","v":0},null,-3.920475055707584E-16]

{"sheet":"Sheet1 (2)","index":4,"n_rows":69,"n_cols":15,"rows_kept":69,"cut":false,"hidden":true,"merged":[]}
["voorbeeld IEC60909 deel 4 pagina 37"]
[]
[]
[]
[]
[]
[]
[]
[]
[]
[]
[]
[null,"netgegevens"]
[null,"Un",20,"kV"]
[null,"Iq",10,"kA"]
[null,"c",1.1000000000000001]
[null,"Rq",0.1,"Xq"]
[null,"Xq",0.995,"Zq"]
[]
[]
[]
[]
[]
[]
[]
[]
[null,"de impedantie van het net"]
[null,"Zq",{"$f":"C16*C14/3^0.5/C15","v":1.2701705922171767}]
[]
[null,"Trafo gegevens"]
[null,"St",630,"kVA"]
[null,"Uhv",20,"kV"]
[null,"Ulv",0.41,"kV"]
[null,"uk",4,"%",null,null,null,null,"Z= c_ * U_grid / Ik/ √  3",null,1.2701705922171769,"Ω",null,{"$f":"(C32/C33)^2","v":2379.5359904818561},{"$f":"K34/N34","v":5.3378919137926856E-4}]
[null,"Pt",6.5,"kW",null,null,null,null,"met de verhouding R/X die is gegeven","r/x",0.1,null,null,{"$f":"(C33/C34)^2","v":1.0506249999999998E-2},{"$f":"K35/N35","v":9.5181439619274268}]
[null,"R0/Rt",1,null,null,null,null,null,"R= √ ( z^2/(1+(R/X)^2)","r",0.12638669771671376,"Ω",null,{"$f":"(C34/C35)^2","v":0.37869822485207105},{"$f":"K36/N36","v":0.33373987365819724}]
[null,"X0/Xt",0.95,null,null,null,null,null,"en X is dan","x",1.2638669771671376,"Ω",null,{"$f":"(C35/C36)^2","v":42.25},{"$f":"K37/N37","v":2.9914011293896748E-2}]
[]
[]
[]
[]
[null,"tr^2"]
[]
[]
[null,"getransformeerd naar LV zijde"]
[null,"ZqLV",{"$f":"C28/N34","v":5.3378919137926845E-4},"Ω"]
[null,"Xq",{"$f":"C46*C18","v":5.3112024542237215E-4},"Ω"]
[null,"Rq",{"$f":"C17*C47","v":5.3112024542237216E-5},"Ω"]
[]
[]
[null,"Berekening impedantie transformator"]
[]
[]
[]
[]
[]
[]
[]
[]
[]
[]
[]
[]
[]
[]
[]
[null,"Zt",{"$f":"C34/100*C33^2/C31","v":1.0673015873015871E-5},null,{"$f":"(2.68^2+10.054^2)^0.5","v":10.405062037297039}]
[]
[null,"Rt"]

{"sheet":"netberekening maximaal","index":5,"n_rows":151,"n_cols":18,"rows_kept":151,"cut":false,"hidden":true,"merged":[]}
[]
[null,"Zie examples of short circuit calc in cahier Technique Schneider Electric no 158 page 28"]
[null,"In het geel zijn de ingegeven waarden","Drie fasen sluiting",null,null,null,null,null,null,"eenfase sluiting.",null,null,null,null,null,"Eenfase met aardscherm"]
[]
[null,"voor middenspanning c",null,1.1000000000000001]
[]
[null,"Deze waarde geldt voor het hele systeem","Sbase",300,"MVA"]
[]
[null,"Temperatuur waarbij Rcable is gemeten","Tcable",90,"[°C]"]
[null,"Temp van geleider aan het einde van de kortsluiting ","T max",250,"[°C]"]
[null,"Minimum of maximum afhankelijk","(XLPE)",{"$f":"OperatingTemperature(E6,D10)","v":20},"[°C]"]
[]
[null,"Gegevens van het net","U_grid",20,"kV"]
[null,null,"S_Grid",132,"MVA"]
[null,null,"R/X",0.125]
[]
[null,"Hieruit volgt","Ik",{"$f":"S_Grid/3^0.5/U_grid","v":3.8105117766515297},"kA"]
[null,"de spanning op dit punt","U BASE",{"$f":"U_grid","v":20},"kV",null,null,null,null,null,null,null,null,null,"U BASE",0.4,"kV"]
[null,"ZBase =UBase^2/S_gridBase","Z BASE",{"$f":"D18^2/S_gridBase","v":1.3333333333333333},"Ω",null,null,null,null,null,null,null,null,null,"Z BASE",{"$f":"P18^2/S_gridBase","v":5.3333333333333347E-4},"Ω"]
[null,"Voor Z volgt"]
[null,"Z= c_ * U_grid / Ik/ √  3",null,{"$f":"IF(U_grid<=1,c_LS,c_MS)*U_grid/D17/3^0.5","v":3.3333333333333339},"Ω"]
[null,"met de verhouding R/X die is gegeven","R/X",{"$f":"D15","v":0.125}]
[null,"R= √ ( z^2/(1+(R/X)^2)","r",{"$f":"D24*D22","v":0.41344911529736161},"Ω",null,{"$f":"D23/D19","v":0.31008683647302121},"pu",null,null,null,null,null,null,{"$f":"G23","v":0.31008683647302121},null,{"$f":"O23*P19","v":1.653796461189447E-4}]
[null,"en X is dan","x",{"$f":"D21/(1+D22^2)^0.5","v":3.3075929223788929},"Ω",null,{"$f":"D24/D19","v":2.4806946917841697},"pu",null,null,null,null,null,null,{"$f":"G24","v":2.4806946917841697},null,{"$f":"O24*P19","v":1.3230371689515576E-3}]
[]
[]
[null,"Kabelgegevens"]
[null,"length","L_cable",0,"m",null,null,null,{"$f":"C28","v":"L_cable"},0,"m"]
[null,"diameter","A_cable",185,"mm2",null,null,null,"A_cable",185,"mm2"]
[null,"kind","soort","al",{"$f":"IF(D30=\"Al\",4,2)","v":4},null,null,null,"soort","al",{"$f":"IF(J30=\"Al\",4,2)","v":4}]
[null,"phases","fasen",3,null,null,null,null,"fasen",3]
[null,"parallel","parallel",2,null,null,null,null,"parallel",2]
[null,"(see Elek Energieverteilung seite 297)"]
[null,"Rcable bij bedrijfstemperatuur ","R",{"$f":"VLOOKUP(D29,weerstand,E30+1)","v":0.20799999999999999},"Ω/km",null,null,null,{"$f":"C34","v":"R"},{"$f":"D34","v":0.20799999999999999},"Ω/km"]
[null,"reactantie","X",{"$f":"VLOOKUP(D29,weerstand,E30)","v":6.8000000000000005E-2},"Ω/km",null,null,null,{"$f":"C35","v":"X"},{"$f":"D35","v":6.8000000000000005E-2},"Ω/km"]
[]
[null,null,"Ro/Rl",3.7,null,null,null,null,{"$f":"C37","v":"Ro/Rl"},3.7]
[null,null,"Xo/X",1.81,null,null,null,null,{"$f":"C38","v":"Xo/X"},1.81]
[]
[]
[null,"de spanning op dit punt!","U BASE",{"$f":"D18","v":20},null,null,null,null,{"$f":"C41","v":"U BASE"},{"$f":"D41","v":20}]
[null,null,"Z BASE",{"$f":"D41^2/S_gridBase","v":1.3333333333333333},null,null,null,null,{"$f":"C42","v":"Z BASE"},{"$f":"J41^2/S_gridBase","v":1.3333333333333333}]
[null,"correctie factor low voltage","c",{"$f":"c_MS","v":1.1000000000000001},null,null,null,null,{"$f":"C43","v":"c"},{"$f":"D43","v":1.1000000000000001}]
[]
[null,"en de weerstand"," Rcable",{"$f":"D34*D28/1000/D32","v":0},"Ω",null,{"$f":"X_cable2/D42","v":3.1199999999999999E-4},"pu",{"$f":"C45","v":" Rcable"},{"$f":"J34*J28/1000/J32*J37","v":0},"Ω",null,{"$f":"J45/J42","v":0},"pu"]
[null,"wordt de reactantie ","Xcable",{"$f":"D35*D28/1000/D32","v":0},"Ω",null,{"$f":"R_cable2/D42","v":1.02E-4},"pu",{"$f":"C46","v":"Xcable"},{"$f":"J35*J28/1000/J32*J38","v":0},"Ω",null,{"$f":"J46/J42","v":0},"pu"]
[]
[null,"Ter controle staan hier de impdanties terug gerekend vanuit de pu waarden"]
[null,"R * Zbase",null,{"$f":"G49*D42","v":0.41386511529736159},"Ω",null,{"$f":"G45+G23","v":0.31039883647302119},"pu"]
[null,"X * Zbase",null,{"$f":"G50*D42","v":3.3077289223788928},"Ω",null,{"$f":"G46+G24","v":2.4807966917841697},"pu"]
[]
[null,"Z totaal",null,{"$f":"G52*D42","v":3.3335199050856037},"Ω",null,{"$f":"(G50^2+G49^2)^0.5","v":2.5001399288142028},"pu"]
[null,"Voor de kortsluitstroom op het eind van de kabel geldt",null,{"$f":"Kortsluitstroom(D43,D41,D52)","v":3.810298508430713},"kA"]
[null,null,"Ip",{"$f":"SQRT(2)*D53*(1.022+0.96899*EXP(-3.0301*D49/D50))","v":9.0810055213382945}]
[]
[]
[null,"Transformator"]
[null,null,"U BASE",{"$f":"U_grid","v":20},null,null,null,null,{"$f":"C58","v":"U BASE"},20]
[null,null,"Z BASE",{"$f":"D58^2/S_gridBase","v":1.3333333333333333},null,null,null,null,"Z BASE",1.3333333333333333]
[null,"Nominaal vermogen","S_T1",10,"MVA",null,null,null,"S_T1",10,"MVA"]
[null,"kortsluitspanning","Uk_T1",8,"%",null,null,null,"Uk_T1",8,"%"]
[null,"Primaire spanning","Up_T1",{"$f":"U_grid","v":20},{"$f":"E13","v":"kV"},null,null,null,"Up_T1",20,{"$f":"K13","v":0}]
[null,"Secundaire spanning","Us_T1",10.75,"kV",null,null,null,"Us_T1",10.75,"kV",null,null,null,{"$f":"(4.83^2+1.25^2)^0.5","v":4.9891281803537577}]
[null,"verhouding zero sequence/ positive seq","R0/Rt",1,null,null,null,null,"R0/Rt",1]
[null,"verhouding zero sequence/ positive seq","X0/Xt",0.95,null,null,null,null,"X0/Xt",0.95]
[]
[]
[null,"Verlies","Pk",100,"kW",null,null,null,{"$f":"C68","v":"Pk"},{"$f":"D68","v":100},"kW"]
[null,null,null,null,null,null,null,null,{"$f":"C69","v":0},{"$f":"D69","v":0}]
[null,"I_nominal transformer [A] primary",null,{"$f":"S_T1/Up_T1/(3^0.5)*1000","v":288.6751345948129},"A",null,null,null,null,{"$f":"S_T1/Up_T1/(3^0.5)*1000","v":288.6751345948129},"A"]
[null,"I_nominal transformer [A] secundary",null,{"$f":"S_T1*1000/Us_T1/(3^0.5)","v":537.07001785081468},"A",null,null,null,null,{"$f":"S_T1*1000/Us_T1/(3^0.5)","v":537.07001785081468},"A"]
[null,"Kortsluitstroom trafo zonder kabel",null,{"$f":"S_T1/3^0.5/Uk_T1/Us_T1*100","v":6.7133752231351842},"A",null,null,null,null,{"$f":"S_T1/3^0.5/Uk_T1/Us_T1*100","v":6.7133752231351842},"kA"]
[null,null,"U BASE",{"$f":"Us_T1","v":10.75},null,null,null,null,{"$f":"C73","v":"U BASE"},{"$f":"Us_T1","v":10.75}]
[null,null,"Z BASE",{"$f":"D73^2/S_gridBase","v":0.38520833333333332},null,null,null,null,{"$f":"C74","v":"Z BASE"},{"$f":"J73^2/S_gridBase","v":0.38520833333333332}]
[]
[]
[]
[null,"De Z van de transformator","Zt",{"$f":"Uk_T1/100*Us_T1^2/S_T1*1000","v":924.50000000000011},"Ω"]
[null,"De Rt van de transformator","Rt",{"$f":"D68*Us_T1^2/(S_T1^2)*1000","v":115562.5},"Ω",null,null,null,"Ro",{"$f":"D79*J64","v":115562.5},"Ω"]
[null,"en hieruit volgt de Xt","Xt",{"$f":"(D78^2-D79^2)^0.5","v":{"$error":"#NUM!"}},"Ω",null,null,null,"Xo",{"$f":"D80*J65","v":{"$error":"#NUM!"}},"Ω"]
[null,null,null,null,null,null,null,null,null,null,null,null,null,null,{"$f":"D91/D90","v":{"$error":"#NUM!"}}]
[null,null,"ur",{"$f":"D68/S_T1/1000*100","v":1},"%",null,null,null,{"$f":"C82","v":"ur"},{"$f":"J68/S_T1/1000*100","v":1},"%"]
[null,null,"ux",{"$f":"(Uk_T1^2-D82^2)^0.5","v":7.9372539331937721},"%",null,null,null,{"$f":"C83","v":"ux"},{"$f":"(Uk_T1^2-J82^2)^0.5","v":7.9372539331937721},"%"]
[null,null,"xt",{"$f":"D80*S_T1/Us_T1^2/1000","v":{"$error":"#NUM!"}},null,null,null,null,{"$f":"C84","v":"xt"},{"$f":"J83/100","v":7.9372539331937719E-2}]
[null,"correctie factor low voltage","c",1.1000000000000001,null,null,null,null,{"$f":"C85","v":"c"},{"$f":"D85","v":1.1000000000000001}]
[null,null,"Kt",{"$f":"0.95*1.05/(1+(0.6*D84))","v":{"$error":"#NUM!"}},null,null,null,null,{"$f":"C86","v":"Kt"},1]
[null,"0.95*D85/(1+0.6*D84)"]
[null,null,"Z_T1",{"$f":"D78*D86","v":{"$error":"#NUM!"}},"Ω"]
[null,null,null,null,null,null,null,null,null,null,null,null,null,null,"Z",null,{"$f":"D95","v":{"$error":"#NUM!"}},"Ω"]
[null,null,"Rt*Kt",{"$f":"D79*D86","v":{"$error":"#NUM!"}},"Ω",null,{"$f":"D90/D74","v":{"$error":"#NUM!"}},"pu","R0*Kt",{"$f":"J79*J86","v":115562.5},"Ω",null,{"$f":"J90/J74","v":300000},"pu",null,null,{"$f":"D96","v":{"$error":"#NUM!"}},"jΩ"]
[null,null,"Xt*Kt",{"$f":"D80*D86","v":{"$error":"#NUM!"}},"Ω",null,{"$f":"D91/D74","v":{"$error":"#NUM!"}},"pu","X0*Kt",{"$f":"J80*J86","v":{"$error":"#NUM!"}},"Ω",null,{"$f":"J91/J74","v":{"$error":"#NUM!"}},"pu","Zo",null,{"$f":"J90","v":115562.5},"Ω"]
[null,null,null,null,null,null,null,null,null,null,null,null,null,null,null,null,{"$f":"J91","v":{"$error":"#NUM!"}},"jΩ"]
[null,"De totale impedantie is dan",null,null,null,null,null,null,null,null,null,null,null,null,"2Z+Zo",null,{"$f":"Q89*2+Q91","v":{"$error":"#NUM!"}},"Ω"]
[null,null,"X/R",{"$f":"(D96/D95)^-1","v":{"$error":"#NUM!"}},null,null,null,null,null,null,null,null,null,null,null,null,{"$f":"Q90*2+Q92","v":{"$error":"#NUM!"}},"jΩ"]
[null,null,"R",{"$f":"G95*D$74","v":{"$error":"#NUM!"}},null,null,{"$f":"G90+G49","v":{"$error":"#NUM!"}},"pu",null,null,null,null,null,null,null,null,{"$f":"(Q93^2+Q94^2)^0.5","v":{"$error":"#NUM!"}},"Ω"]
[null,null,"X",{"$f":"G96*D$74","v":{"$error":"#NUM!"}},null,null,{"$f":"G91+G50","v":{"$error":"#NUM!"}},"pu"]
[null,"en voor Z geldt dan","Z",{"$f":"SQRT(D95^2+D96^2)","v":{"$error":"#NUM!"}},"Ω",null,{"$f":"(G96^2+G95^2)^0.5","v":{"$error":"#NUM!"}}]
[null,"en voor de kortsluitstroom c * Us_T1 / √ 3 / Z","Ik",{"$f":"Kortsluitstroom(D85,D73,D97)","v":{"$error":"#VALUE!"}},"kA",null,null,null,null,null,null,null,null,null,"Ik",{"$f":"3^0.5*J85*J73/Q95","v":{"$error":"#NUM!"}},"kA"]
[null,null,"Ip",{"$f":"SQRT(2)*D98*(1.022+0.96899*EXP(-3.0301*D95/D96))","v":{"$error":"#VALUE!"}},"kA",null,null,null,null,null,null,null,null,null,"Ip",{"$f":"SQRT(2)*P98*(1.022+0.96899*EXP(-3.0301*Q93/Q94))","v":{"$error":"#NUM!"}},"kA"]
[]
[null,"Kabelgegevens"]
[null,"length","L_cable",4,"m",null,null,null,{"$f":"C102","v":"L_cable"},4,"m",null,null,null,"L_cable",{"$f":"J102","v":4},"m"]
[null,"diameter","A_cable",185,"mm2",null,null,null,"A_cable",185,"mm2",null,null,null,{"$f":"I103","v":"A_cable"},{"$f":"J103","v":185},"mm2"]
[null,"kind","soort","al",{"$f":"IF(D104=\"Al\",4,2)","v":4},null,null,null,"soort","al",{"$f":"IF(J104=\"Al\",4,2)","v":4},null,null,null,"A_scherm",50,"mm2"]
[null,"phases","fasen",3,null,null,null,null,"fasen",3]
[null,"parallel","parallel",2,null,null,null,null,"parallel",2]
[null,"(see Elek Energieverteilung seite 297)"]
[null,"Rcable bij bedrijfstemperatuur ","R",{"$f":"VLOOKUP(D103,weerstand,E104+1)","v":0.20799999999999999},"Ω/km",null,null,null,{"$f":"C108","v":"R"},{"$f":"D108","v":0.20799999999999999},"Ω/km",null,null,null,"Rfase",{"$f":"1/57/P103*1000","v":9.4831673779042197E-2},"Ω/km"]
[null,"reactantie","X",{"$f":"VLOOKUP(D103,weerstand,E104)","v":6.8000000000000005E-2},"Ω/km",null,null,null,{"$f":"C109","v":"X"},{"$f":"D109","v":6.8000000000000005E-2},"Ω/km",null,null,null,"Xfase",{"$f":"D109","v":6.8000000000000005E-2},"Ω/km"]
[null,null,null,null,null,null,null,null,null,null,null,null,null,null,"Rscherm",{"$f":"1/57/P104*1000","v":0.35087719298245612},"Ω/km"]
[null,null,"Ro/Rl",4.2300000000000004,null,null,null,null,{"$f":"C111","v":"Ro/Rl"},{"$f":"D111","v":4.2300000000000004},null,null,null,null,"Xscherm",{"$f":"3*P109","v":0.20400000000000001},"Ω/km"]
[null,null,"Xo/X",1.21,null,null,null,null,{"$f":"C112","v":"Xo/X"},{"$f":"D112","v":1.21}]
[]
[]
[null,"de spanning op dit punt!","U BASE",{"$f":"Us_T1","v":10.75},null,null,null,null,{"$f":"C115","v":"U BASE"},{"$f":"D115","v":10.75}]
[null,null,"Z BASE",{"$f":"D115^2/S_gridBase","v":0.38520833333333332},null,null,null,null,{"$f":"C116","v":"Z BASE"},{"$f":"J115^2/S_gridBase","v":0.38520833333333332}]
[null,"correctie factor low voltage","c",1.05,null,null,null,null,{"$f":"C117","v":"c"},{"$f":"D117","v":1.05}]
[]
[null,"en de weerstand"," Rcable",{"$f":"_R20_2*D102/1000/D106","v":4.1599999999999997E-4},"Ω",null,{"$f":"X_cable2/D116","v":1.0799351000540833E-3},"pu",{"$f":"C119","v":" Rcable"},{"$f":"X_cable2*J111","v":1.75968E-3},"Ω",null,{"$f":"J119/J116","v":4.5681254732287723E-3},"pu","Rfase",{"$f":"P108*P$102/1000","v":3.7932669511616881E-4},"Ω"]
[null,"wordt de reactantie ","Xcable",{"$f":"D109*D102/1000/D106","v":1.36E-4},"Ω",null,{"$f":"R_cable2/D116","v":3.5305570578691184E-4},"pu",{"$f":"C120","v":"Xcable"},{"$f":"R_cable2*J112","v":1.6455999999999998E-4},"Ω",null,{"$f":"J120/J116","v":4.271974040021633E-4},"pu","Xfase",{"$f":"P109*P$102/1000","v":2.72E-4},"Ω"]
[null,null,null,null,null,null,null,null,null,null,null,null,null,null,"Rscherm",{"$f":"P110*P$102/1000","v":1.4035087719298245E-3},"Ω"]
[null,"Ter controle staan hier de impdanties terug gerekend vanuit de pu waarden"]
[null,"R * Zbase",null,{"$f":"G123*D116","v":{"$error":"#NUM!"}},"Ω",null,{"$f":"G119+G95","v":{"$error":"#NUM!"}},"pu","Z1=Z2=Zk",{"$f":"D123","v":{"$error":"#NUM!"}},"Ω",null,null,null,"Ro",{"$f":"P119+3*P121","v":4.5898530109056423E-3},"Ω"]
[null,"X * Zbase",null,{"$f":"G124*D116","v":{"$error":"#NUM!"}},"Ω",null,{"$f":"G120+G96","v":{"$error":"#NUM!"}},"pu",null,{"$f":"D124","v":{"$error":"#NUM!"}},"Ω",null,null,null,"Xo",{"$f":"P111*P$102/1000","v":8.160000000000001E-4},"Ω"]
[]
[null,"spanning",null,0.4,"kV",null,null,null,"Z0",{"$f":"M126*J116","v":115562.50175967999},"Ω",null,{"$f":"M119+M90+M45","v":300000.00456812547},"pu","Zo",{"$f":"(P123^2+P124^2)^0.5","v":4.6618243919864235E-3},"Ω"]
[null,"Z totaal",null,{"$f":"G127*D116","v":{"$error":"#NUM!"}},"Ω",null,{"$f":"(G124^2+G123^2)^0.5","v":{"$error":"#NUM!"}},"pu",null,{"$f":"M127*J116","v":{"$error":"#NUM!"}},"Ω",null,{"$f":"M120+M91+M46","v":{"$error":"#NUM!"}},"pu"]
[null,"Voor de kortsluitstroom op het eind van de kabel geldt",null,{"$f":"Kortsluitstroom(D117,D126,D127)","v":{"$error":"#VALUE!"}},"kA",null,null,null,"Z1+Z2+Z0",{"$f":"J123*2+J126","v":{"$error":"#NUM!"}},"Ω",null,null,null,"Zk",{"$f":"J123","v":{"$error":"#NUM!"}},"Ω"]
[null,null,"Ip",{"$f":"SQRT(2)*D128*(1.02+0.98*EXP(-3*D123/D124))","v":{"$error":"#VALUE!"}},"kA",null,null,null,null,{"$f":"J124*2+J127","v":{"$error":"#NUM!"}},"Ω",null,null,null,null,{"$f":"J124","v":{"$error":"#NUM!"}},"Ω"]
[null,null,null,null,null,null,null,null,"Zo",{"$f":"(J128^2+J129^2)^0.5","v":{"$error":"#NUM!"}},"Ω",null,null,null,"2Zk+Zo",{"$f":"2*P128+P123","v":{"$error":"#NUM!"}},"Ω"]
[null,null,null,null,null,null,null,null,"Iko\"",{"$f":"J117*D126*3^0.5/J130","v":{"$error":"#NUM!"}},"kA",null,null,null,null,{"$f":"2*P129+P124","v":{"$error":"#NUM!"}},"Ω"]
[null,null,null,null,null,null,null,null,"Ip",{"$f":"SQRT(2)*J131*(1.02+0.98*EXP(-3*D123/D124))","v":{"$error":"#NUM!"}},"kA",null,null,null,null,{"$f":"(P130^2+P131^2)^0.5","v":{"$error":"#NUM!"}},"Ω"]
[]
[null,null,null,null,null,null,null,null,"eenfasen sluitig",null,null,"Ik=3*U/(2*Z1+Zo)",null,null,"Ik\"o",{"$f":"3^0.5*J117*J115/P132","v":{"$error":"#NUM!"}},"kA"]
[]
[]
[]
[]
[]
[]
[]
[null,"Voor een eenfase naar aarde sluiting"]
[null,"Ik"]
[]
[]
[]
[null,"Voor een driefasen sluiting"]
[null,"twee fasen aarde sluiting","Ik=3*U/(Z1+2*Zo)"]
[]
[]
[null,"twee fasen sluiting","Ik=U/(2*Z1)"]

{"sheet":"Tabellen (2)","index":6,"n_rows":44,"n_cols":17,"rows_kept":44,"cut":false,"hidden":true,"merged":[]}
[]
[null,null,"Table from Quercus book materiaalgegevens"]
[null,null,"pag 66/177 and 69/177"]
[null,null,null,null,null,null,null,null,"10 kV kabel"]
[null,null,null,"koper",null,"Al",null,null,null,"koper",null,"Al"]
[null,null,"mm2","X","R","X","R",null,"mm2","X","R","X","R"]
[null,null,25,0.153,0.92700000000000005,null,null,null,16,0.14000000000000001,1.1499999999999999,null,null,null,"C-factor","maximum","minimum"]
[null,null,35,9.2999999999999999E-2,0.59,null,1.113,null,25,0.13,0.92700000000000005,null,null,null,">100V to 1000V",1.05,0.95]
[null,null,50,0.13800000000000001,0.49299999999999999,null,0.82199999999999995,null,35,9.2999999999999999E-2,0.59,null,1.113,null,">1000 to 35kV",1.1000000000000001,1]
[null,null,70,0.129,0.34200000000000003,0.14099999999999999,0.56799999999999995,null,50,0.13800000000000001,0.49299999999999999,null,0.82199999999999995,null,">35kV",1.1000000000000001,1]
[null,null,95,0.123,0.247,0.13400000000000001,0.41099999999999998,null,70,0.129,0.34200000000000003,0.14099999999999999,0.56799999999999995]
[null,null,120,0.11899999999999999,0.19600000000000001,0.13,0.32500000000000001,null,95,0.104,0.247,0.13400000000000001,0.41099999999999998]
[null,null,150,0.114,0.159,0.127,0.26500000000000001,null,120,0.11899999999999999,0.19600000000000001,0.13,0.32500000000000001]
[null,null,185,0.111,0.128,6.8000000000000005E-2,0.20799999999999999,null,150,0.114,0.159,0.127,0.26500000000000001]
[null,null,240,0.106,9.9000000000000005E-2,0.11799999999999999,0.16200000000000001,null,185,0.111,0.128,0.122,0.21199999999999999]
[null,null,300,0.10299999999999999,0.08,0.114,0.13,null,240,0.106,9.9000000000000005E-2,0.11799999999999999,0.16200000000000001]
[null,null,400,9.9000000000000005E-2,6.5000000000000002E-2,0.111,0.10299999999999999,null,300,0.10299999999999999,0.08,0.114,0.13]
[null,null,500,9.5000000000000001E-2,5.2999999999999999E-2,0.107,8.2000000000000003E-2,null,400,9.9000000000000005E-2,6.5000000000000002E-2,0.111,0.10299999999999999]
[null,null,630,9.7000000000000003E-3,3.61E-2,0.10299999999999999,6.5000000000000002E-2,null,500,9.5000000000000001E-2,5.2999999999999999E-2,0.107,8.2000000000000003E-2]
[null,null,800,null,null,0.10100000000000001,5.2999999999999999E-2,null,630,9.7000000000000003E-3,3.61E-2,0.10299999999999999,6.5000000000000002E-2]
[null,null,null,null,null,null,null,null,800,null,null,0.10100000000000001,5.2999999999999999E-2]
[]
[]
[]
[null,null,"Nom [MVA]","%Rpos","%jXpos","%Rzero","%jXzero","X/R"]
[null,null,0.1,2.1,3.4043999999999999,2.1,3.4043999999999999,{"$f":"E26/D26","v":1.621142857142857},"Transformer Cooling Characteristic","Capacity Factor (may be changed)"]
[null,null,0.16,1.4688000000000001,3.7206000000000001,1.4688000000000001,3.7206000000000001,2.5330882352941178,"Dry Type",null,1]
[null,null,0.25,1.3,3.7829000000000002,1.3,3.7829000000000002,2.9099230769230768,"Oil/Air Cooled (OA)",null,1.1499999999999999]
[null,null,0.315,1.2381,3.8035999999999999,1.2381,3.8035999999999999,3.0721266456667475,"Oil/Air/Forced Air (OAFA)",null,1.25]
[null,null,0.4,1.1499999999999999,3.8311000000000002,1.1499999999999999,3.8311000000000002,3.3313913043478265,"Oil/Forced Air (FA)",null,1.33]
[null,null,0.5,1.1000000000000001,3.8458000000000001,1.1000000000000001,3.8458000000000001,3.4961818181818178]
[null,null,0.63,1.0317000000000001,3.8645999999999998,1.0317000000000001,3.8645999999999998,3.7458563535911598,"full load size = nominal kVA * transformer capacity"]
[null,null,0.8,1.2749999999999999,4.3155999999999999,1.2749999999999999,4.3155999999999999,3.3847843137254903]
[null,null,1,1.21,4.8513999999999999,1.21,4.8513999999999999,4.0094214876033059]
[null,null,1.25,1.2,5.3674999999999997,1.2,5.3674999999999997,4.4729166666666664]
[null,null,1.6,1.1313,5.8924000000000003,1.1313,5.8924000000000003,5.2085211703350129]
[null,null,2,1.1000000000000001,6.4062000000000001,1.1000000000000001,6.4062000000000001,5.8238181818181811]
[null,null,2.5,1.1200000000000001,6.9097999999999997,1.1200000000000001,6.9097999999999997,6.1694642857142847]
[null,null,3.15,1.0476000000000001,6.9211999999999998,1.0476000000000001,6.9211999999999998,6.606720122184039]
[null,null,4,1,7.08,1,7.08,7.08]
[null,null,5,1,7.08,1,7.08,7.08]
[null,null,7.5,0.85399999999999998,7.08,0.85399999999999998,7.08,8.2903981264636997]
[null,null,8,0.85399999999999998,8.2899999999999991,0.85399999999999998,8.2899999999999991,9.7072599531615911]
[null,null,10,0.85399999999999998,8.2899999999999991,0.85399999999999998,8.2899999999999991,9.7072599531615911]

{"sheet":"Netberekening","index":7,"n_rows":76,"n_cols":17,"rows_kept":76,"cut":false,"hidden":true,"merged":[]}
[]
[null,"Doorrekenen van een net op basis van pu waarden"]
[null,"Het basisvermogen bedraagt"]
[null,null,null,null,"Sbase",100,"MVA",null,null,null,"De waarden in pu"]
[null,null,null,null,"spanningsfactor",1.1000000000000001]
[null,null,null,"Gegevens van het net"]
[null,null,null,null,"Unet",25,"kV","Lijnspanning)"]
[null,null,null,null,"Sgrid",800,"MVA","(kortsluitvermogen)"]
[null,null,null,null,"R/X",0.1]
[null,null,null,"Hieruit volgt"]
[null,null,null,null,null,"a","kV","Fasespanning","Unet/√3"]
[null,null,null,null,"X/R",{"$f":"1/F9","v":10}]
[null,null,null,null,"Z",{"$f":"F7^2/F8*F5","v":0.85937500000000011},"ohm","(uit kortsluitvermogen)","3*Ufase2/Sgrid* c",null,null,"Znetpu",{"$f":"F13/F18","v":0.125},"pu",null,"Znet/Zbase"]
[null,null,null,null,"Rnet",{"$f":"(F13^2/(1+(F12)^2))^0.5","v":8.5511008533670954E-2},"ohm","(uit kortsluitvermogen)",null,null,null,"Rnetpu",{"$f":"F14/F18","v":1.2437964877624864E-2},"pu","bepaald op basis van Sgrid","Rnet/Zbase"]
[null,null,null,null,"Xnet",{"$f":"F14*F12","v":0.85511008533670951},"ohm","(uit kortsluitvermogen)",null,null,null,"Xnetpu",{"$f":"F15/F18","v":0.12437964877624864},"pu","bepaald op basis van Sgrid","Xnet/Zbase"]
[]
[null,null,null,null,"Ubase",{"$f":"F11","v":"a"},"kV",null,"Unet/√3",null,null,"Unetpu",{"$f":"1","v":1},"pu"]
[null,null,{"$f":"F5*F17^2/F4","v":{"$error":"#VALUE!"}},null,"Zbase",{"$f":"F7^2/F4*F5","v":6.8750000000000009},"Ohm",null,"3*Ufase2/Sbase"]
[null,null,null,null,"Ibase",{"$f":"F4/F7/3^0.5","v":2.3094010767585034},"kA","Lijnstroom","Sbase/(3*Ufase)"]
[null,null,null,null,"Iknet",{"$f":"F5*F7/3^0.5/F13","v":18.475208614068023},"kA",null,"Ikpu*Ibase",null,null,"Ikpu",{"$f":"M17/M13","v":8},"pu",null,"Unetpu/Znetpu"]
[null,null,null,null,null,{"$f":"F19*M20","v":18.475208614068027}]
[]
[null,null,null,"Kabel","diameter",25,"mm2"]
[null,null,null,null,"lengte",0,"m"]
[null,null,null,null,"soort","Koper",{"$f":"IF(F25=\"Aluminium\",4,2)","v":2}]
[]
[null,null,null,null,"Rkabel",{"$f":"VLOOKUP(F23,weerstand,G25+1)","v":0.92700000000000005},"ohm/km"]
[null,null,null,null,"Xkabel",{"$f":"VLOOKUP(F23,weerstand,G25)","v":0.153},"ohm/km"]
[]
[null,null,null,null,"Rkabel",{"$f":"F27*F24/1000","v":0},"ohm",null,null,null,null,"Rkabelpu",{"$f":"F30/F18","v":0},"pu","Rtotaalpu",{"$f":"M14+M30","v":1.2437964877624864E-2},"pu"]
[null,null,null,null,"Xkabel",{"$f":"F28*F24/1000","v":0},"ohm",null,null,null,null,"Xkabelpu",{"$f":"F31/F18","v":0},"pu","Xtotaalpu",{"$f":"M15+M31","v":0.12437964877624864},"pu"]
[null,null,null,null,null,null,null,null,null,null,null,"Zpu",{"$f":"(M30^2+M31^2)^0.5","v":0},"pu","Ztotaal",{"$f":"(P30^2+P31^2)^0.5","v":0.125},"pu"]
[]
[null,null,null,null,"Ik",{"$f":"P34*F19","v":18.475208614068027},"kA",null,null,null,null,null,null,null,"Ikpu",{"$f":"M17/P32","v":8},"pu"]
[null,null,null,null,"Ik*1,1",{"$f":"F34*1.1","v":20.32272947547483},"kA"]
[]
[]
[]
[null,null,null,null,"Nominaal vermogen",20,"MVA"]
[null,null,null,null,"primaire spanning",{"$f":"F7","v":25},"kV"]
[null,null,null,null,"secundaire spanning",10,"kV"]
[null,null,null,null,"kortsluitspanning",10,"%"]
[null,null,null,null,"X/R",5]
[null,null,null,null,"Inom primair",{"$f":"F39/F40/3^0.5*1000","v":461.88021535170066},"A",null,"S / (Up*√3)"]
[null,null,null,null,"Inom sec",{"$f":"F39/F41/3^0.5*1000","v":1154.7005383792516},"A",null,"S / (Us*√3)"]
[null,null,null,null,"UbaseS",{"$f":"F41/3^0.5","v":5.7735026918962582},"kV",null,"Us / √3"]
[]
[null,null,null,null,"IbaseS",{"$f":"F4/3/F46","v":5.7735026918962573}]
[null,null,null,null,"ZbaseS",{"$f":"3*F46^2/F4","v":1.0000000000000002},"ohm",null,"3 * UbaseS / Sbase"]
[]
[null,null,null,{"$f":"F46/F51","v":11.547005383792511},"Ztrafo",{"$f":"3*F46^2/F39/100*F42","v":0.50000000000000022},"ohm","!!kortsluitimpedantie","3 * UbaseS2 * uk / (S * 100)",null,null,"Ztrafopu",{"$f":"F51/F49","v":0.50000000000000011},"pu"]
[null,null,null,null,"Rtrafo",{"$f":"(F51^2/(1+(F43)^2))^0.5","v":9.8058067569092064E-2},"ohm",null,null,null,null,"Rtrafopu",{"$f":"F52/F49","v":9.8058067569092036E-2},"pu","Rtotaalpu",{"$f":"M52+P30","v":0.11049603244671691},"pu"]
[null,null,null,null,"Xtrafo",{"$f":"F52*F43","v":0.49029033784546033},"ohm",null,null,null,null,"Xtrafopu",{"$f":"F53/F49","v":0.49029033784546022},"pu","Xtotaalpu",{"$f":"M53+P31","v":0.61466998662170891},"pu"]
[null,null,null,null,null,null,null,null,null,null,null,null,null,null,"Ztotaal",{"$f":"(P52^2+P53^2)^0.5","v":0.62452267023703611},"pu"]
[]
[null,null,null,null,"Ik",{"$f":"P56*F48","v":9.2446647128196933},"kA",null,null,null,null,null,null,null,"Ikpu",{"$f":"1/P54","v":1.6012228981542853},"pu"]
[null,null,null,null,"Ik*1,1",{"$f":"F56*1.1","v":10.169131184101664},"kA"]
[]
[]
[]
[null,null,null,null,"Nominaal vermogen",75,"kW"]
[null,null,null,null,"rendement",0.93,"%"]
[null,null,null,null,"power factor",0.85,"%"]
[null,null,null,null,"LRA/FLA",{"$f":"1/0.1538","v":6.5019505851755532}]
[null,null,null,null,"X/R",10]
[null,null,null,null,"Ul",{"$f":"F41","v":10},"kV"]
[null,null,null,null,"Ubase",{"$f":"F66/3^0.5","v":5.7735026918962582},"kV"]
[]
[]
[null,null,null,null,"ZbaseMotor",{"$f":"3*F67^2/F4","v":1.0000000000000002},"ohm"]
[null,null,null,null,"Inom",{"$f":"F61/3/F67/F62/F63","v":5.4777065388010024},"A"]
[null,null,null,null,"Isc",{"$f":"F71*F64","v":35.615777235377131},"A"]
[]
[null,null,null,null,"Z",{"$f":"F67/F72*1000","v":162.10520000000002},null,{"$f":"F67/F74","v":3.5615777235377136E-2},null,null,null,"ZpuMotor",{"$f":"F74/F70","v":162.1052}]
[null,null,null,null,"Rtrafo",{"$f":"(F74^2/(1+(F65)^2))^0.5","v":16.130070272642836},"ohm",null,null,null,null,"Rpumotor",{"$f":"F75/F70","v":16.130070272642833}]
[null,null,null,null,"Xtrafo",{"$f":"F75*F65","v":161.30070272642837},"ohm",null,null,null,null,"XpuMotor",{"$f":"F76/F70","v":161.30070272642834}]

{"sheet":"generator","index":8,"n_rows":18,"n_cols":5,"rows_kept":18,"cut":false,"hidden":true,"merged":[]}
[null,null,null,null,"formules"]
["een generator met een spanning van ","Un",10,"kV"]
["en een vermogen van ","Pn",20000,"kVA"]
["heeft een nominale stroom van","In",{"$f":"Pn/Un/3^0.5","v":1154.7005383792516},"A","Pn/Un/√3"]
["bij een sub react in pu van","xd_dubb",2.5,"pu"]
["een spanningsfactor c van","c",1.1000000000000001]
["is de bronspanning","Uq",{"$f":"Un*c_/3^0.5","v":6.3508529610858835},"kV","Un*c_/√3"]
["en Xd\" in ohm","Xd",{"$f":"xd_dubb*Un^2/Pn*1000","v":12.5},"ohm","xd_dubb*Un2/Pn*1000"]
["Bij cos phi van","cos phi",0.85]
["is het El. vermogen","Pe",{"$f":"Pn*cos_phi","v":17000},"kW","Pn*cos_phi"]
[]
[]
["Bij een rendement van","rend",95.2,"%"]
["is het verlies","Pverlies",{"$f":"Pe-rend*Pe/100","v":816},"kW","Pe-rend*Pe/100"]
["de weerstand R is dan","Ra",{"$f":"Pverlies/3/In^2*1000","v":0.20399999999999996},"ohm","Pverlies/3/In2*1000"]
["De totale Z is dan","Z",{"$f":"(Ra^2+Xd^2)^0.5","v":12.501664529173706},"ohm","√(Ra2+Xd2)"]
[]
["Voor Ik\" volgt dan. (incl spann.fact c)","Ik",{"$f":"Uq/Z","v":0.50800059034263989},"kA","Uq/Z"]

{"sheet":"Tabellen","index":9,"n_rows":44,"n_cols":13,"rows_kept":44,"cut":false,"hidden":true,"merged":[]}
[]
[null,null,"Table from Quercus book materiaalgegevens"]
[null,null,"pag 66/177 and 69/177"]
[null,null,null,null,null,null,null,null,"10 kV kabel"]
[null,null,null,"koper",null,"Al",null,null,null,"koper",null,"Al"]
[null,null,"mm2","X","R","X","R",null,"mm2","X","R","X","R"]
[null,null,25,0.153,0.92700000000000005,null,null,null,25,0.153,0.92700000000000005]
[35,null,35,0.1676,0.66820000000000002,null,1.113,null,35,9.2999999999999999E-2,0.59,null,1.113]
["Koper",null,50,0.13800000000000001,0.49299999999999999,null,0.82199999999999995,null,50,0.13800000000000001,0.49299999999999999,null,0.82199999999999995]
["Koper",null,70,0.129,0.34200000000000003,0.14099999999999999,0.56799999999999995,null,70,0.129,0.34200000000000003,0.14099999999999999,0.56799999999999995]
["Aluminium",null,95,0.123,0.247,0.13400000000000001,0.41099999999999998,null,95,0.104,0.247,0.13400000000000001,0.41099999999999998]
[null,null,120,0.11899999999999999,0.19600000000000001,0.13,0.32500000000000001,null,120,0.11899999999999999,0.19600000000000001,0.13,0.32500000000000001]
[null,null,150,0.114,0.159,0.127,0.26500000000000001,null,150,0.114,0.159,0.127,0.26500000000000001]
[null,null,185,0.111,0.128,0.122,0.21199999999999999,null,185,0.111,0.128,0.122,0.21199999999999999]
[null,null,240,0.106,9.9000000000000005E-2,0.11799999999999999,0.16200000000000001,null,240,0.106,9.9000000000000005E-2,0.11799999999999999,0.16200000000000001]
[{"$f":"VLOOKUP(A8,weerstand,1)","v":35},null,300,0.10299999999999999,0.08,0.114,0.13,null,300,0.10299999999999999,0.08,0.114,0.13]
[null,null,400,9.9000000000000005E-2,6.5000000000000002E-2,0.111,0.10299999999999999,null,400,9.9000000000000005E-2,6.5000000000000002E-2,0.111,0.10299999999999999]
[null,null,500,9.5000000000000001E-2,5.2999999999999999E-2,0.107,8.2000000000000003E-2,null,500,9.5000000000000001E-2,5.2999999999999999E-2,0.107,8.2000000000000003E-2]
[null,null,630,9.7000000000000003E-3,3.61E-2,0.10299999999999999,6.5000000000000002E-2,null,630,9.7000000000000003E-3,3.61E-2,0.10299999999999999,6.5000000000000002E-2]
[null,null,800,null,null,0.10100000000000001,5.2999999999999999E-2,null,800,null,null,0.10100000000000001,5.2999999999999999E-2]
[]
[]
[]
[]
[null,null,"Nom [MVA]","%Rpos","%jXpos","%Rzero","%jXzero","X/R","Transformer Cooling Characteristic","Capacity Factor (may be changed)"]
[null,null,0.1,2.1,3.4043999999999999,2.1,3.4043999999999999,{"$f":"E26/D26","v":1.621142857142857},"Dry Type",null,1]
[null,null,0.16,1.4688000000000001,3.7206000000000001,1.4688000000000001,3.7206000000000001,{"$f":"E27/D27","v":2.5330882352941178},"Oil/Air Cooled (OA)",null,1.1499999999999999]
[null,null,0.25,1.3,3.7829000000000002,1.3,3.7829000000000002,2.9099230769230768,"Oil/Air/Forced Air (OAFA)",null,1.25]
[null,null,0.315,1.2381,3.8035999999999999,1.2381,3.8035999999999999,3.0721266456667475,"Oil/Forced Air (FA)",null,1.33]
[null,null,0.4,1.1499999999999999,3.8311000000000002,1.1499999999999999,3.8311000000000002,3.3313913043478265]
[null,null,0.5,1.1000000000000001,3.8458000000000001,1.1000000000000001,3.8458000000000001,3.4961818181818178,"full load size = nominal kVA * transformer capacity"]
[null,null,0.63,1.0317000000000001,3.8645999999999998,1.0317000000000001,3.8645999999999998,3.7458563535911598]
[null,null,0.8,1.2749999999999999,4.3155999999999999,1.2749999999999999,4.3155999999999999,3.3847843137254903]
[null,null,1,1.21,4.8513999999999999,1.21,4.8513999999999999,4.0094214876033059]
[null,null,1.25,1.2,5.3674999999999997,1.2,5.3674999999999997,4.4729166666666664]
[null,null,1.6,1.1313,5.8924000000000003,1.1313,5.8924000000000003,5.2085211703350129]
[null,null,2,1.1000000000000001,6.4062000000000001,1.1000000000000001,6.4062000000000001,5.8238181818181811]
[null,null,2.5,1.1200000000000001,6.9097999999999997,1.1200000000000001,6.9097999999999997,6.1694642857142847]
[null,null,3.15,1.0476000000000001,6.9211999999999998,1.0476000000000001,6.9211999999999998,6.606720122184039]
[null,null,4,1,7.08,1,7.08,7.08]
[null,null,5,1,7.08,1,7.08,7.08]
[null,null,7.5,0.85399999999999998,7.08,0.85399999999999998,7.08,8.2903981264636997]
[null,null,8,0.85399999999999998,8.2899999999999991,0.85399999999999998,8.2899999999999991,9.7072599531615911]
[null,null,10,0.85399999999999998,8.2899999999999991,0.85399999999999998,8.2899999999999991,9.7072599531615911]

{"sheet":"regressie","index":10,"n_rows":37,"n_cols":8,"rows_kept":37,"cut":false,"hidden":true,"merged":[[0,6,0,9]]}
[null,null,null,null,null,"Regressie","Regressie Op deze pagina kunt u van opgegeven x en y waarden een vergelijking maken volgens de regressie methode."]
[null,null,null,null,null,null,"stap 1: geef in het witte vlak naar beneden toe de x en y waarden in"]
[null,null,null,null,null,null,"stap 2: klik op de knop \"DO IT\""]
[null,null,null,null,null,null,"stap 3: kijk in de gele tabel waar de standaard dev het kleinst is"]
[null,null,null,null,null,null,"stap 4: neem van die kolom de formule en de bijbehorende A, B en C waarden over in die formule"]
[]
[]
[null,null,null,null,null,null,null,"De formule met ingevulde A, B en C parameters"]
[null,null,null,null,null,null,"lineair",{"$f":"D20 & \"+\" & D21 & \"* X\"","v":"2.14035087719298+2.99649122807018* X"}]
[null,null,null,null,null,null,"inverse",{"$f":"E20 & \"+ \" & E21 & \"/ X\"","v":"42.0451629682432+ -53.2333583205122/ X"}]
[null,null,null,null,null,null,"polynoom",{"$f":"F20 & \"+ \" & F21 & \" * X + \" & F22 & \" * X ^ 2\"","v":"1.88235294117641+ 3.07020492407491 * X + -0.00368568480023642 * X ^ 2"}]
[null,null,null,null,null,null,"macht",{"$f":"G20 & \" * X ^ \" & G21","v":"4.44724203313278 * X ^ 0.864892725143334"}]
[null,null,null,null,null,null,"e",{"$f":" H20 & \" * e ^ (\" & H21 & \" * X)\"","v":"8.19158179979474 * e ^ (0.117973694755328 * X)"}]
[]
[null,null,null,null,null,null,"Video"]
[]
[]
["X","Y",null,"lin","inv","pol","macht","e"]
[1,{"$f":"2+A19*3","v":5},"formule","Y=A+B*X","Y=A+B/X","Y=A+B*X+C*X^2","Y=A*X^B","Y = A*e^(B*X)"]
[2,{"$f":"2+A20*3","v":8},"A",2.1403508771929807,42.04516296824319,1.8823529411764122,4.4472420331327793,8.1915817997947364]
[3,11,"B",2.9964912280701754,-53.233358320512153,3.0702049240749054,0.86489272514333448,0.11797369475532787]
[4,14,"C",0,0,-3.6856848002364204E-3]
[5,17]
[6,20]
[7,24]
[8,26]
[9,29,"min X",1,1,1,1,1]
[10,32,"maxX",19,19,19,19,19]
[11,36,"minY",5,5,5,5,5]
[12,38,"maxY",59,59,59,59,59]
[13,41,"aantal punten",19,19,19,19,19]
[14,44,"Det coeff",0.999651849719698,0.51542687822002697,0.9996878442153625,0.99660966481327007,0.90056241428244144]
[15,47,"Corr coeff",0.99982590970613383,0.7179323632627429,0.99984390992562555,0.99830339316926597,0.94897967011018813]
[16,50,"St estimate order",0.32380605491108816,12.080398240707238,0.3160470594247633,4.1914332864192327E-2,0.22699512234952085]
[17,53]
[18,56]
[19,59]

{"sheet":"NummersKolom","index":11,"n_rows":27,"n_cols":6,"rows_kept":27,"cut":false,"hidden":true,"merged":[]}
["no",null,null,null,null,"Nummerskolom"]
[20]
[]
[40]
[50]
[60]
[70]
[80]
[90]
[100,null,null,null,null,"Als je op deze knop klikt dan krijg je in de eerste kolom een rij getallen met als waarde het regelnummer maal 10"]
[110,null,null,null,null,"als je vervolgens de data sorteert op welke manier dan ook dan kun je altijd weer eenvoudig terug naar de beginstand door op de eerste kolom te sorteren."]
[120]
[130,null,null,null,null,"de vorige waarde wordt als comment toegevoegd zodat je altijd weer terug kunt."]
[140]
[150]
[160]
[170]
[180]
[190]
[200]
[210]
[220]
[230]
[240]
[250]
[260]
[270]

{"sheet":"WORD","index":12,"n_rows":80,"n_cols":7,"rows_kept":80,"cut":false,"hidden":true,"merged":[]}
[null,true]
[]
[null,false,null,null,null,null,0.5]
["This sheet is used to fill \"Word\" documents with the proper project information."]
["After modification you might still need to press the \"Doc info Update\" button in your document."]
[]
["On the left side there is a list of documents which may be needed in your project"]
["Behind these documents there is a checkbox. Checked means: this document is needed"]
["Each document contains bookmarks. You may click the button \"to find the bookmarks\""]
["Behind each bookmark you can insert a text."]
[]
["At last you can click the button \"fill the templates…\" to insert the text in all the checked documents."]
[]
[]
[]
[]
[]
[]
[]
[]
[]
["revisie 2 juni 98"]
[]
["This range contains a list of templates whose variable names have to be ",null,null,"Variable","Variable","Variable"]
["changed with the contents given on the right.",null,null,"description","name","contents"]
["O:\\Werkgroepen\\Lc-Rt\\WG-Hoogspanning\\Tools\\help_files\\demo book mark.doc",true,null,"var","2eOndertekenaarVinkje","f1"]
[null,false,null,"var","Aanhef","f2"]
[null,false,null,"var","AanmaakDatum","f3"]
[null,false,null,"var","Aantal","f4"]
[null,false,null,"var","AfdelingID","f5"]
[null,false,null,"var","AkkoordOpdracht","f6"]
[null,false,null,"var","AkkoordProject","f7"]
[null,false,null,"var","Auteurs","f8"]
[null,false,null,"var","Bedrijf","f9"]
[null,false,null,"var","BedrijfID","f10"]
[null,false,null,"var","BijlageCC","f11"]
[null,false,null,"var","Contactpersoon","f12"]
[null,false,null,"var","ContactpersoonVolUit","f13"]
[null,false,null,"var","Datum","f14"]
[null,false,null,"var","DatumOpgesteld","f15"]
[null,false,null,"var","DatumRefOpgehaald","f16"]
[null,false,null,"var","DocID","f17"]
[null,false,null,"var","DocRegDocType","f18"]
[null,false,null,"var","DocRegStatus","f19"]
[null,false,null,"var","Document","f20"]
[null,false,null,"var","Doorkiesnummer","f21"]
["C:\\franse\\proj-ass\\drawing.doc",false,null,"var","DummyAantalPagGeplaatst","f22"]
["C:\\program files\\microsoft office\\template\\proj-test\\vic.doc",false,null,"var","Eerste","f23"]
["C:\\franse\\proj-ass\\activity.doc",false,null,"var","Email","f24"]
["d:\\op cd rom\\franse\\proj-ass\\issue1\\cable.doc",false,null,"var","GebrDRContactID","f25"]
["C:\\franse\\proj-ass\\punch.doc",false,null,"var","LicCode","f26"]
[null,null,null,"var","MergeLayout","f27"]
[null,null,null,"var","MergeStatus","f28"]
[null,false,null,"var","NaamKlant","f29"]
[null,false,null,"var","Nummer","f30"]
[null,null,null,"var","Onderwerp","f31"]
[null,null,null,"var","PlaatsKixCode","f32"]
[null,null,null,"var","Project","f33"]
[null,null,null,"var","Referentie","f34"]
[null,null,null,"var","ReferentieGegenereerd","f35"]
[null,null,null,"var","ReferentieKlant","f36"]
[null,null,null,"var","Sjabloon","f37"]
[null,null,null,"var","Status","f38"]
[null,null,null,"var","Taal","f39"]
[null,null,null,"var","Titel","f40"]
[null,null,null,"var","UserName","f41"]
[null,null,null,"var","Versie","f42"]
[null,null,null,"var","Versienummer","f43"]
[null,null,null,"var","VervalDatum","f44"]
[null,null,null,"var","Vestiging","f45"]
[null,null,null,"var","VestigingID","f46"]
[null,null,null,"var","VestigingOmschr","f47"]
[null,null,null,"var","VoorAkkoordNaam_Status","f48"]
[null,null,null,"var","Wijzig","f49"]
[null,null,null,"book","bmTitel1","f50"]
[null,null,null,"book","bmAuteur1","f51"]
[null,null,null,"book","bmBegin","f52"]
[null,null,null,"book","bmKopjeInhoud","f53"]
[]
[null,false]

{"sheet":"Word_Help","index":13,"n_rows":9,"n_cols":7,"rows_kept":9,"cut":false,"hidden":true,"merged":[]}
[]
[null,null,null,null,null,"WORD help"]
[null,null,null,null,null,"When you have a project you need documents. Mostly they are available as templates with bookmarks which need to be filled with project information which is identical for all the templates.",0.5]
[null,null,null,null,null,"In the most left column, type the complete path of your templates."]
[null,null,null,null,null,"When these templates are new, the program has to know which bookmarks are used. So, select all the templates (with the checkmark behind the complete path) and click the \"Button to find all the bookmark names\"."]
[null,null,null,null,null,"What happens is that each template is opened and searched for new bookmarks"]
[null,null,null,null,null,"These bookmarks will be sorted in a list \"Variable Name\"."]
[null,null,null,null,null,"In the column \"Variable contents\" a text is given which is put in all your documents unless you change it."]
[null,null,null,null,null,"So, just change the content for each bookmark and click the \"Button to fill the templates\". Now each checked template will be opened and the variable text will replace the contents of the bookmark in your document."]

{"sheet":"merge_source_dest","index":14,"n_rows":21,"n_cols":7,"rows_kept":21,"cut":false,"hidden":true,"merged":[]}
[null,null,null,null,null,"Merge_source_dest"]
[]
[]
[]
[]
[]
[]
[]
[null,null,null,"Video"]
[null,null,null,null,null,"With this you can merge one file into another","Hiermee kun je 1 sheet samenvoegen met een ander sheet"]
[]
[null,null,null,null,null,"Each row has a unique number, a tagname","Elke regel heeft een uniek nummer, de tagnaam"]
[null,null,null,null,null,"There are columns with equal names","er zijn kolommen met gelijke namen"]
[null,null,null,null,null,"Select the column with tagnames in the source","selecteer in het brondocument de cellen met de tagnamen"]
[null,null,null,null,null,"then click in the destination file","klik dan in het doel document"]
[]
[null,null,null,null,null,"All values from source will be merged with the target file where the tagname is identical in the referred column.","Alle waarden van de bron worden nu overgenomen in het doel waar de tagnaam hetzelfde is in de betreffende kolom."]
[]
[null,null,null,null,null,"If values are changed, the old value will be visible as comment","Als waarden worden gewijzigd, is de oude waarde zichtbaar als comment."]
[]
[null,null,null,null,null,"You can restore the comment to the cell by selecting cells and using the second button.","Je kunt de comment terugzetten naar de cel door cellen te selecteren en de tweede knop te gebruiken"]

{"sheet":"Doubles","index":15,"n_rows":14,"n_cols":7,"rows_kept":14,"cut":false,"hidden":true,"merged":[]}
[null,null,null,null,null,"Doubles"]
[]
[]
[]
[]
[]
[]
[]
[]
[]
[null,null,null,"Video",null,"With this button you can find all the doubles in a selected range","Hiermee kun je in een selectie de dubbel zichtbaar maken"]
[null,null,null,null,null,"First create the menu button","Maak eerst een knop in het menu"]
[null,null,null,null,null,"then select your range","selecteer dan het gebid waarvan je de dubbele wilt zien"]
[null,null,null,null,null,"and finally click on de button in the menubar.","en klik dan op de knop in het menu."]

{"sheet":"Create_index","index":16,"n_rows":0,"n_cols":0,"rows_kept":0,"cut":false,"hidden":true,"merged":[]}

{"sheet":"BestandenLijst","index":17,"n_rows":25,"n_cols":8,"rows_kept":25,"cut":false,"hidden":false,"merged":[]}
[null,null,null,null,null,"Bestandenlijst"]
[null,null,null,null,null,"versie 12-10-2020","Video",129]
[]
[]
[]
[]
[]
[null,null,"*","Extension / Extensie",null,"If you insert a * in the yellow area, it will look for all files. If you insert jpg it will only look for files with the extension jpg.","Als je een * in het gele vlak plaatst, worden alle bestanden gevonden. Als je bijvoorbeeld jpg in dat vlak ingeeft, worden alleen de bestanden met de extensie .jpg gevonden."]
[]
[null,null,null,null,null,"The first row in the created list ALWAYS contains the titles.","De eerste regel in een bestandenlijst bevat ALTIJD de titels."]
[]
[]
[null,null,null,null,null,"With the first button on the left you can create a file list","Met de eerste knop links maak je een bestandenlijst van een te kiezen directory"]
[]
[null,null,null,null,null,"With the second one you can filter your list on text","Met de tweede filter je de lijst op een in te geven tekst"]
[]
[null,null,null,null,null,"With the third you can remove the filter","Met de derde haal je de filter weg"]
[]
[null,null,null,null,null,"With the fourth button you can sort a clicked columns ascending. Even if you have empty columns or rows in your table. The standard buttons don not sort coeerctly.","Met de vierde sorteer je een kolom (waarin je een cel aangeklikt hebt) oplopend. Zelfs als je lege kolommen of regels in je tabel hebt. De standaard excel knoppen doen dit niet correct."]
[]
[null,null,null,null,null,"The fifth will sort your spreadsheet descending","Met de vijfde sorteer je een kolom (waarin je een cel hebt aangeklikt) aflopend"]
[]
[null,null,null,null,null,"The sixth button will sort a clicked column on color","Met de zesde knop sorteer je een kolom (waarin je een cell hebt aangeklikt) op kleur."]
[]
[null,null,null,null,null,"With the last button you can refresh yout file list","Met de laatste knop kun je je bestandenlijst verversen"]

{"sheet":"filter_sort","index":18,"n_rows":23,"n_cols":7,"rows_kept":23,"cut":false,"hidden":true,"merged":[]}
[null,null,null,null,null,"Filter_sort"]
[]
[]
[]
[]
[]
[]
[]
[]
[null,null,null,null,null,"The first row ALWAYS contains the titles.","De eerste regel bevat ALTIJD de titels."]
[]
[]
[null,null,null,"Video",null,"With the first button on the left you can filter your spreadsheet on a text.","Met de eerste knop links filter je je spreadsheet op een in te geven tekt."]
[]
[null,null,null,null,null,"With the second one you can find all the unique values in a selected column.","Met de tweede haal je uit een selectie in 1 kolom in je spreadsheet alleen de unieke waarden"]
[]
[null,null,null,null,null,"With the third you can remove the filter","Met de derde haal je de filter weg"]
[]
[null,null,null,"Video",null,"With the fourth button you can sort your spreadsheet ascending. Even if you have empty columns or rows in your table. The standard buttons don not sort coeerctly.","Met de vierde sorteer je een kolom (waarin je een cel aangeklikt hebt) oplopend. Zelfs als je lege kolommen of regels in je tabel hebt. De standaard excel knoppen doen dit niet correct."]
[]
[null,null,null,null,null,"The fifth will sort your spreadsheet descending","Met de vijfde sorteer je een kolom (waarin je een cel hebt aangeklikt) aflopend"]
[]
[null,null,null,"Video",null,"The last button will sort a column (in which you select a cell) on color","Met de laatste sorteer je een kolom (waarin je een cell hebt aangeklikt) op kleur."]

{"sheet":"IECtransf","index":19,"n_rows":86,"n_cols":15,"rows_kept":86,"cut":false,"hidden":true,"merged":[]}
[null,"IEC",null,null,null,"EDSA"]
[]
["In EDSA, the grid has been defined according to IEC"]
[]
[null,"Q1"]
[null,null,"Un",400,"kV",null,"Then there is a transformer T4",null,null,null,"Result"]
[null,null,"Ik\"Qmax",300,"kA",null,null,"Uhv",400,"kV","Ik\" on mv side",{"$f":"D86","v":9.504187202480658},"kA"]
[null,null,"Rq/Xq",1,null,null,null,"Umv",120,"kV","Ik\" on lv side",{"$f":"K86","v":10.736590719858262},"kA"]
[null,null,"Xo/Xq",1,null,null,null,"Ulv",30,"kV"]
[null,null,"Ro/Xo",1,null,null,null,"Shv",350,"MVA"]
[null,null,"c",1.1000000000000001,null,null,null,"Smv",350,"MVA"]
[null,null,null,null,null,"Ik\"L-L",null,"Slv",50,"MVA"]
[null,null,null,null,null,"Ik\"L-G",null,"ukhvmv",21,"%"]
[null,"The impedance of the supply",null,null,null,null,null,"ukhvlv",10,"%"]
[null,"Zq=c*Unom/V3/Ik\"",null,null,null,null,null,"ukmvlv",7,"%"]
[null,null,null,null,null,null,null,"urhvmv",0.26,"%"]
[null,null,"Zq",{"$f":"Un*c_/3^0.5/Ik_Qmax/1000","v":8.4678039481145132E-4},"Ω",null,null,"urhvlv",0.16,"%"]
[null,"with given Rq/Xq ratio",null,null,null,null,null,"urmvlv",0.16,"%"]
[null,null,"Xq",{"$f":"(Zq^2/(1+Rq_Xq))^0.5","v":5.9876415934699925E-4},"Ω"]
[null,null,"Rq",{"$f":"Xq*Rq_Xq","v":5.9876415934699925E-4},"Ω"]
[]
[]
[null,"First I want to know the impedances seen from the mv side"]
[]
[]
[]
[]
[]
[]
[]
[]
[]
[]
[]
[]
[]
[]
[]
[]
[null,null,"Rab",{"$f":"(urhvmv/100)*Umv^2/Smv","v":0.10697142857142856},null,"Xab",{"$f":"uxhvmv/100*Umv^2/Smv","v":8.6393377705394396},null,"Rablv",{"$f":"(urhvmv/100)*Ulv^2/Smv","v":6.6857142857142853E-3},null,"Xablv",{"$f":"uxhvmv/100*Ulv^2/Smv","v":0.53995861065871498}]
[null,null,null,null,null,null,"uxhvmv",{"$f":"(ukhvmv^2-urhvmv^2)^0.5","v":20.998390414505582}]
[null,null,"Rac",{"$f":"(urhvlv/100)*Umv^2/Slv","v":0.46080000000000004},null,"Xac",{"$f":"uxhvlv/100*Umv^2/Slv","v":28.796313364040202},null,"Raclv",{"$f":"(urhvlv/100)*Ulv^2/Slv","v":2.8800000000000003E-2},null,"Xaclv",{"$f":"uxhvlv/100*Ulv^2/Slv","v":1.7997695852525126}]
[null,null,null,null,null,null,"uxhvlv",{"$f":"(ukhvlv^2-urhvlv^2)^0.5","v":9.9987199180695132}]
[null,null,"Rbc",{"$f":"(urmvlv/100)*Umv^2/Slv","v":0.46080000000000004},null,"Xbc",{"$f":"uxmvlv/100*Umv^2/Slv","v":20.154733026264577},null,"Rbclv",{"$f":"(urmvlv/100)*Ulv^2/Slv","v":2.8800000000000003E-2},null,"Xbclv",{"$f":"uxmvlv/100*Ulv^2/Slv","v":1.259670814141536}]
[null,null,null,null,null,null,"uxmvlv",{"$f":"(ukmvlv^2-urmvlv^2)^0.5","v":6.9981711896752001}]
[]
[null,"With impedance correction factors according to IEC 60909/0 equation 13",null,null,null,null,null,null,"ulv^2/Umv^2",{"$f":"Ulv^2/Umv^2","v":6.25E-2}]
[]
[]
[null,null,null,null,null,null,"Ktab",{"$f":"0.95*c_/(1+0.6*uxhvmv/100)","v":0.92807190307854159}]
[null,null,null,null,null,null,"Ktac",{"$f":"0.95*c_/(1+0.6*uxhvlv/100)","v":0.98585619986815565}]
[null,null,null,null,null,null,"Ktbc",{"$f":"0.95*c_/(1+0.6*uxmvlv/100)","v":1.002889639702079}]
[]
[null,"This results in corrected impedances",null,null,null,null,null,null,"This results in corrected impedances"]
[null,null,"Rabk",{"$f":"Rab*Ktab","v":9.9277177289315982E-2},null,"Xabk",{"$f":"Xab*Ktab","v":8.0179266460428629},null,null,"Rabklv",{"$f":"Rablv*Ktab","v":6.2048235805822489E-3},null,"Xabklv",{"$f":"Xablv*Ktab","v":0.50112041537767893}]
[null,null,"Rack",{"$f":"Rac*Ktac","v":0.45428253689924619},null,"Xack",{"$f":"Xac*Ktac","v":28.389024063285259},null,null,"Racklv",{"$f":"Raclv*Ktac","v":2.8392658556202887E-2},null,"Xacklv",{"$f":"Xaclv*Ktac","v":1.7743140039553287}]
[null,null,"Rbck",{"$f":"Rbc*Ktbc","v":0.46213154597471806},null,"Xbck",{"$f":"Xbc*Ktbc","v":20.212972943002075},null,null,"Rbcklv",{"$f":"Rbclv*Ktbc","v":2.8883221623419879E-2},null,"Xbcklv",{"$f":"Xbclv*Ktbc","v":1.2633108089376297}]
[]
[null,"This results in ",null,null,null,null,null,null,"This results in "]
[]
[null,null,"Ra",{"$f":"0.5*(Rabk+Rack-Rbck)","v":4.571408410692207E-2},null,"Xa",{"$f":"0.5*(Xabk+Xack-Xbck)","v":8.0969888831630232},null,null,"Ralv",{"$f":"0.5*(Rabklv+Racklv-Rbcklv)","v":2.8571302566826294E-3},null,"Xalv",{"$f":"0.5*(Xabklv+Xacklv-Xbcklv)","v":0.50606180519768895}]
[null,null,"Rb",{"$f":"0.5*(Rbck+Rabk-Rack)","v":5.3563093182393912E-2},null,"Xb",{"$f":"0.5*(Xbck+Xabk-Xack)","v":-7.9062237120160361E-2},null,null,"Rblv",{"$f":"0.5*(Rbcklv+Rabklv-Racklv)","v":3.3476933238996195E-3},null,"Xblv",{"$f":"0.5*(Xbcklv+Xabklv-Xacklv)","v":-4.9413898200100226E-3}]
[null,null,"Rc",{"$f":"0.5*(Rack+Rbck-Rabk)","v":0.40856845279232412},null,"Xc",{"$f":"0.5*(Xack+Xbck-Xabk)","v":20.292035180122234},null,null,"Rclv",{"$f":"0.5*(Racklv+Rbcklv-Rabklv)","v":2.5535528299520258E-2},null,"Xclv",{"$f":"0.5*(Xacklv+Xbcklv-Xabklv)","v":1.2682521987576396}]
[]
[]
[]
[]
[null,"The impedance of the supply transposed to mv side",null,null,null,null,null,null,"The impedance of the supply transposed to lv side"]
[null,"Zq=c*Unom/V3/Ik\"*Umv^2/Uhv^2"]
[null,null,"Umv^2/Uhv^2",{"$f":"Umv^2/Uhv^2","v":0.09},null,null,null,null,"Ulv^2/Uhv^2",{"$f":"Ulv^2/Uhv^2","v":5.6249999999999998E-3}]
[]
[]
[]
[null,null,"Zqmv",{"$f":"Zq*Umv_2_Uhv_2","v":7.621023553303061E-5},"Ω",null,null,null,null,"Zqlv",{"$f":"Zq*Ulv_2_Uhv_2","v":4.7631397208144131E-6},"Ω"]
[null,"with given Rq/Xq ratio",null,null,null,null,null,null,"with given Rq/Xq ratio"]
[]
[null,null,"Rqmv",{"$f":"Rq*Umv_2_Uhv_2","v":5.3888774341229934E-5},"Ω","Xqmv",{"$f":"Xq*Umv_2_Uhv_2","v":5.3888774341229934E-5},"Ω",null,"Rqlv",{"$f":"Rq*Ulv_2_Uhv_2","v":3.3680483963268709E-6},"Ω","Xqlv",{"$f":"Xq*Ulv_2_Uhv_2","v":3.3680483963268709E-6},"Ω"]
[]
[]
[null,"The total impedance seen from mv side towards the grid",null,null,null,null,null,null,"The total impedance seen from lv side towards the grid"]
[]
[null,null,"R",{"$f":"Rqmv+Ra+Rb","v":9.9331066063657214E-2},null,"X",{"$f":"Xqmv+Xa+Xb","v":8.0179805348172035},null,null,"R",{"$f":"Rqlv+Ralv+Rclv","v":2.8396026604599216E-2},null,"X",{"$f":"Xqlv+Xalv+Xclv","v":1.7743173720037249}]
[]
[null,"and this will give a short circuit current",null,null,null,null,null,null,"and this will give a short circuit current"]
[]
[null,null,null,{"$f":"c_*Umv/(3^0.5*(D82^2+G82^2)^0.5)","v":9.504187202480658},"kA",null,null,null,null,null,{"$f":"c_*Ulv/(3^0.5*(K82^2+N82^2)^0.5)","v":10.736590719858262},"kA"]

{"sheet":"criteria_sheet","index":20,"n_rows":12,"n_cols":11,"rows_kept":12,"cut":false,"hidden":true,"merged":[]}
["Uniek","Volgorde","File Name","Link","Size","DateTime","Remarks","Directory","C:\\Croon","*","COLOUR"]
["*video*"]
[null,"*video*"]
[null,null,"*video*"]
[null,null,null,"*video*"]
[null,null,null,null,"*video*"]
[null,null,null,null,null,"*video*"]
[null,null,null,null,null,null,"*video*"]
[null,null,null,null,null,null,null,"*video*"]
[null,null,null,null,null,null,null,null,"*video*"]
[null,null,null,null,null,null,null,null,null,"*video*"]
[null,null,null,null,null,null,null,null,null,null,"*video*"]

{"sheet":"unprotect","index":21,"n_rows":15,"n_cols":6,"rows_kept":15,"cut":false,"hidden":true,"merged":[]}
[null,null,null,null,null,"unprotect"]
[]
[]
[]
[]
[]
[]
[]
[]
[null,null,null,null,"To remove the password of a worksheet.","Als je een beveiligd sheet hebt, haal je hiermee de beveiliging eraf."]
[null,null,null,null,null,"Het duurt wel even, maar dan heb je ook wat."]
[null,null,null,null,null,"http://www.vbfrance.com/code.aspx?ID=3890"]
[]
[null,null,null,null,null,"to unprotect the vba code"]
[null,null,null,null,null,"http://www.mrexcel.com/archive2/53200/61780.htm"]

{"sheet":"Sheet1","index":22,"n_rows":0,"n_cols":0,"rows_kept":0,"cut":false,"hidden":true,"merged":[]}

{"sheet":"Combineer","index":23,"n_rows":20,"n_cols":6,"rows_kept":20,"cut":false,"hidden":true,"merged":[]}
[]
[]
[]
[]
[]
[]
[]
[null,"works also with ctrl q (if this is not defined elsewhere) after you made a selection."]
[]
[null,null,null,null,null,"when you select cells in one column they will be merged into the first cell of our selection."]
[null,null,null,null,null,"When you would select a..f in the cells below, the result would be a b c d e f."]
[]
[null,null,null,null,null,"a"]
[null,null,null,null,null,"b"]
[null,null,null,null,null,"c"]
[null,null,null,null,null,"d"]
[null,null,null,null,null,"e"]
[null,null,null,null,null,"f"]
[]
[null,"a b c d e f"]

{"sheet":"Transformer","index":24,"n_rows":438,"n_cols":10,"rows_kept":438,"cut":false,"hidden":true,"merged":[]}
[]
[null,null,null,null,null,{"$f":"F38","v":"I inrush [A]"},{"$f":"E38","v":"t [s]"},null,null,"COPY AND PASTE THIS IN PTW"]
[null,null,null,null,null,10.622687143632572,0.01]
[null,null,null,null,null,10.367071221154045,1.7000000000000001E-2]
["Summary",null,null,null,null,9.9480107663502846,2.8900000000000002E-2]
["select the transformer",null,null,null,null,9.2781834524957478,4.913E-2]
[null,null,null,null,null,8.2525307549877596,8.3520999999999998E-2]
["kind of","dry",{"$f":"VLOOKUP(B8,F158:G159,2,FALSE)","v":4},null,null,6.7920497636690733,0.14198569999999999]
["transformer",null,null,null,null,4.9519813254486156,0.24137568999999998]
["size of ",null,null,null,null,3.0634089137531011,0.41033867299999993]
["transformer",630,"kVA",null,null,1.683588918647321,0.69757574409999989]
[null,null,null,null,null,1.1045084781791246,1.1858787649699998]
[null,null,null,null,null,{"$f":"F201","v":0.11},{"$f":"F236","v":0.45737459272636877}]
[]
["Voltage",null,null,10,"kV",null,{"$f":"B33","v":"Threshold setting"},{"$f":"E33","v":40.010373654841068},{"$f":"F33","v":"A"}]
["Calculated nominal current",null,null,{"$f":"B11/D15/3^0.5","v":36.373066958946424},"A",null,{"$f":"B34","v":"Threshold time"},{"$f":"E34","v":0.45737459272636877},{"$f":"F34","v":"s"}]
[]
[]
[]
[]
[]
[]
[]
[]
[]
["Summary for inrush"]
[]
[null,"transformer type choosen",null,null,{"$f":"B8","v":"dry"}]
[null,"transformer power selected",null,null,{"$f":"B11","v":630},"kVA"]
[null,"Nominal voltage",null,null,{"$f":"D15","v":10},"kVA"]
[null,"Value for k",null,null,{"$f":"B181","v":10}]
[null,"value for t inrush",null,null,{"$f":"B182","v":0.26},"s"]
[null,"Threshold setting",null,null,{"$f":"F200","v":40.010373654841068},"A"]
[null,"Threshold time",null,null,{"$f":"F204","v":0.45737459272636877},"s"]
[]
[]
[null,null,null,null,"In PTW I have to insert this graph in per unit values"]
[null,"t [s]","I inrush [A]",null,"t [s]","I inrush [A]"]
[null,{"$f":"A402","v":0.01},{"$f":"B402*$D$16","v":386.37971075928687},null,{"$f":"B39","v":0.01},{"$f":"C39/$D$16","v":10.622687143632572}]
[null,1.7000000000000001E-2,377.08217569520258,null,{"$f":"B40","v":1.7000000000000001E-2},10.367071221154045]
[null,2.8900000000000002E-2,361.83966171277882,null,2.8900000000000002E-2,9.9480107663502846]
[null,4.913E-2,337.47598797501655,null,4.913E-2,9.2781834524957478]
[null,8.3520999999999998E-2,300.16985373193444,null,8.3520999999999998E-2,8.2525307549877596]
[null,0.14198569999999999,247.04768084243145,null,0.14198569999999999,6.7920497636690733]
[null,0.24137568999999998,180.11874832999476,null,0.24137568999999998,4.9519813254486156]
[null,0.41033867299999993,111.42557754257487,null,0.41033867299999993,3.0634089137531011]
[null,0.69757574409999989,61.237292469299213,null,0.69757574409999989,1.683588918647321]
[null,1.1858787649699998,40.174360833533314,null,1.1858787649699998,1.1045084781791246]
[]
["see cahier technique schneider electic no 128 pag 15"]
["cahier technique no 128"]
[]
[]
[]
[]
["In the document above on page 15 there is a graph of the inrush current of a 1MVA transformer"]
[]
[]
[]
[]
[]
[]
[]
[]
[]
[]
[]
[]
[]
[]
[]
[]
[]
[]
[]
["the peak current is 10 from fig 16 for a 1MVA transformer"]
["It's not clear if this transformer is an oil or dry transformer"]
[]
["There is an example on pag 41"]
["it is used to calculate the minimum delay time to avoid unwanted trips"]
["IT IS NOT A CURVE SHOWING THE INRUSH "]
[]
[]
["MV/LV transformer substations: theory and examples of short-circuit calculation"]
["on page 30 there is a graph of the settings of a protective device so it is sure there will be no tripping"]
[]
[null,null,null,null,null,null,"graph values"]
[null,null,null,null,null,null,"Ir/Ipinrush","tr/tinrush"]
[null,null,null,null,null,null,0.1,1.9]
[null,null,null,null,null,null,0.11,1.8]
[null,null,null,null,null,null,0.13500000000000001,1.6]
[null,null,null,null,null,null,0.16,1.4]
[null,null,null,null,null,null,0.2,1.23]
[null,null,null,null,null,null,0.21,1.2]
[null,null,null,null,null,null,0.26,1]
[null,null,null,null,null,null,0.3,0.86]
[null,null,null,null,null,null,0.32,0.8]
[null,null,null,null,null,null,0.4,0.57999999999999996]
[null,null,null,null,null,null,0.46,0.4]
[null,null,null,null,null,null,0.5,0.32]
[null,null,null,null,null,null,0.56999999999999995,0.2]
[null,null,null,null,null,null,0.6,0.15]
[null,null,null,null,null,null,"data of figure 1"]
[]
[]
[null,null,null,null,null,null,"the formula for this curve is"]
[null,null,null,null,null,null,"2,45509475154486+ -6,89720398826328 * X + 5,1843583563366 * X ^ 2"]
[]
[]
[]
[]
[null,"calculated values from formula"]
[null,"Ir/Ipinrush","tr/tinrush"]
[null,0.1,{"$f":"2.45509475154486+ -6.89720398826328 * B114 + 5.1843583563366 *B114 ^ 2","v":1.8172179362818979}]
[null,0.11,{"$f":"2.45509475154486+ -6.89720398826328 * B115 + 5.1843583563366 *B115 ^ 2","v":1.7591330489475721}]
[null,0.13500000000000001,1.6184571441735516]
[null,0.16,1.4842616873449521]
[null,0.2,1.2830282881456678]
[null,0.21,1.2353121175240154]
[null,0.26,1.0122843394847614]
[null,0.3,0.85252580713616999]
[null,0.32,0.77886777098947824]
[null,0.4,0.5257104932534038]
[null,0.46,0.3793911451445755]
[null,0.5,0.30258234649736981]
[null,0.56999999999999995,0.20808650820855146]
[null,0.6,0.18314136686806792]
[]
[]
["The documentation also shows peak values and time constants of two kinds of transformer"]
[]
[]
[]
[]
[]
[]
[]
[]
[]
[]
[]
[]
[]
[]
[]
[]
[]
[]
[]
[]
["The values of the oil transformer are the same as given in the cahier technique no 128"]
["so the graph in this cahier will probably also be the inrush of an oil transformer"]
[]
["How can I calculate the inrush graph of eg a 630kVA dry transformer from these values."]
[]
["Values for k and t"]
[null,"k for oil","t for oil","k for dry","t for dry","kind of transformer"]
[50,15,0.1,null,null,"oil",2]
[100,14,0.15,null,null,"dry",4]
[160,12,0.2]
[200,12,0.21,10.5,0.15]
[250,12,0.22,10.5,0.18]
[315,12,0.23,10,0.2]
[400,12,0.25,10,0.25]
[500,11,0.27,10,0.25]
[630,11,0.3,10,0.26]
[800,10,0.33,10,0.3]
[1000,10,0.35,10,0.3]
[1250,10,0.37,10,0.35]
[1600,9,0.4,10,0.4]
[2000,8,0.45,9.5,0.4]
[]
[]
[]
[]
[]
[]
[]
["values for k an t for choosen transformer"]
[]
["k",{"$f":"VLOOKUP(B11,k_and_t_for_transformer,C8)","v":10}]
["tinrush",{"$f":"VLOOKUP(B11,k_and_t_for_transformer,C8+1)","v":0.26}]
[]
[]
["k is given as "]
[]
[]
["and"]
["ki",null,null,null,null,null,{"$f":"B181","v":10}]
["SnTR is the rated power of the transformers;",null,null,null,null,null,{"$f":"B11","v":630},"kVA"]
["ipinrush is the inrush current of the transformers;",null,null,null,null,null,{"$f":"G189*G192","v":363.73066958946424},"A","(ki * I1nTR)"]
["I1nTR primary rated current of the transformers;",null,null,null,null,null,{"$f":"D16","v":36.373066958946424},"A"]
[]
["tr/tinrush from formula",null,null,null,null,null,{"$f":"2.45509475154486+ -6.89720398826328 * F194 + 5.1843583563366 *F194 ^ 2","v":2.45509475154486}]
["tr",null,null,null,null,null,null,null,"(factor * tinrush)"]
["tinrush time constant of the inrush current",null,null,null,null,null,{"$f":"B182","v":0.26}]
[]
[]
[]
["If you have set the treshold of this transformer to",null,null,null,null,{"$f":"G192*1.1","v":40.010373654841068},"A"]
["then the ratio ir/Ipinrush is",null,null,null,null,{"$f":"F200/G191","v":0.11}]
["from formula the tr/tinrush value is",null,null,null,null,{"$f":"2.45509475154486+ -6.89720398826328 * F201 + 5.1843583563366 *F201 ^ 2","v":1.7591330489475721}]
["when tinrush is",null,null,null,null,{"$f":"B182","v":0.26}]
["the value of tr will be ",null,null,null,null,{"$f":"F202*F203","v":0.45737459272636877},"s"]
[]
["So this will be the setting of the protctive device where no tripping will occur.from the example"]
[null,"representing the minimum delay for the MV protection to avoid unwanted trips."]
["If I change the treshold setting to another value there will be an other time"]
[]
[null,"I treshold","tr","I pu"]
[null,null,{"$f":"F204","v":0.45737459272636877}]
[null,40,0.45741728072892224]
[null,60,0.37918975461837934,"IN FACT THE VALUES IN THE ORANGE AREA"]
[null,80,0.30911299599172165,"CAN NOT BE USED"]
[null,100,0.24718700484894918,"YOU DO NOT SET THE I> AT A VALUE "]
[null,120,0.19341178119006194,"GREATER THEN ",null,{"$f":"B212","v":40},"A"]
[null,140,0.14778732501505981]
[null,160,0.11031363632394298]
[null,180,8.0990715116711368E-2]
[null,200,5.9818561393364847E-2]
[null,220,4.6797175153903595E-2]
[null,240,4.1926556398327666E-2]
[]
["What does it mean, threshold setting for the primary protection?"]
["On page 9"]
[null,"The protection of the utility company usually operates"]
[null,"with independent time tripping characteristics and the"]
[null,"tripping threshold values communicated to the consumer"]
[null,"represent the upper limit to comply with in order to avoid"]
[null,"unwanted trips."]
[]
["So if I set it at",null,null,null,null,{"$f":"F200","v":40.010373654841068},"A"]
["with a time",null,null,null,null,{"$f":"F204","v":0.45737459272636877},"s"]
[]
["it will be the protection for nominal current which is",null,null,null,null,{"$f":"G192","v":36.373066958946424},"A"]
["with a time",null,null,null,null,{"$f":"F204","v":0.45737459272636877}]
[]
[]
[]
[]
[]
[]
[]
[]
[]
[]
[]
[]
[]
[]
[]
[]
["It does not say anything on the lowest setting for I>> to avoid tripping "]
[]
["I want to know the value for the blue line"]
[]
[]
[]
[]
[]
[]
[]
[]
[]
[]
[]
[]
[]
[]
[]
[]
[]
["the graph for the inrush may also be presented with (page 24)"]
[]
["so I have to know the inrush shape"]
[]
["Page 31 of"]
["MV/LV transformer substations: theory and examples of short-circuit calculation"]
["shows a formula for the inrush current"]
[]
[]
[]
[]
[null,null,null,null,null,{"$f":"EXP(0)","v":1}]
[]
["Values entered from example above"]
[{"$f":"A189","v":"ki"},null,null,null,null,null,{"$f":"G189","v":10}]
[{"$f":"A190","v":"SnTR is the rated power of the transformers;"},null,null,null,null,null,{"$f":"G190","v":630},{"$f":"H190","v":"kVA"}]
[{"$f":"A191","v":"ipinrush is the inrush current of the transformers;"},null,null,null,null,null,{"$f":"G191","v":363.73066958946424},{"$f":"H191","v":"A"},{"$f":"I191","v":"(ki * I1nTR)"}]
[{"$f":"A192","v":"I1nTR primary rated current of the transformers;"},null,null,null,null,null,{"$f":"G192","v":36.373066958946424},{"$f":"H192","v":"A"}]
[{"$f":"A194","v":"tr/tinrush from formula"}]
[{"$f":"A195","v":"tr"},null,null,null,null,null,null,null,{"$f":"I195","v":"(factor * tinrush)"}]
[{"$f":"A196","v":"tinrush time constant of the inrush current"},null,null,null,"$G$161*$G$164/2^0,5*EXP(-1*A170/$G$167)",null,{"$f":"G196","v":0.26}]
[]
["t","Iinrush"]
[0.01,{"$f":"$G$287*$G$290*EXP(-1*A296/$G$293)/2^0.5","v":247.4920712915652}]
[{"$f":"A296*1.6","v":1.6E-2},{"$f":"$G$287*$G$290*EXP(-1*A297/$G$293)/2^0.5","v":241.84611204196844}]
[2.5600000000000001E-2,233.07925508570051]
[4.0960000000000003E-2,219.70849021624895]
[6.5536000000000011E-2,199.89226497990623]
[0.10485760000000002,171.83618724135843]
[0.16777216000000006,134.90388289557174]
[0.26843545600000013,91.59677129915886]
[0.42949672960000024,49.300271410132481]
[0.6871947673600004,18.297844888067615]
[]
["This graph ends on the right side with a value of",null,null,null,null,{"$f":"B296","v":247.4920712915652},"A"]
["I would expect this graph would end at the right side at",null,null,null,null,{"$f":"G289","v":363.73066958946424},"A"]
[null,"which is the nominal current of",null,null,null,{"$f":"G290","v":36.373066958946424},"A"]
[null,"times ki",null,null,null,{"$f":"G287","v":10}]
[]
["the difference is ",null,null,null,null,{"$f":"F308/F307","v":1.4696659480495471}]
["and 2 ^0.5 is",null,null,null,null,{"$f":"2^0.5","v":1.4142135623730951}]
["which I think to be equal"]
[]
["So I change the formula to "]
["Inrush curve"]
["t","Iinrush"]
[0.01,{"$f":"$G$287*$G$290*EXP(-1*A319/$G$293)","v":350.00664380034044}]
[{"$f":"A319*1.6","v":1.6E-2},{"$f":"$G$287*$G$290*EXP(-1*A320/$G$293)","v":342.02205165695489}]
[2.5600000000000001E-2,329.62384365001589]
[4.0960000000000003E-2,310.71472663233573]
[6.5536000000000011E-2,282.6903521480599]
[0.10485760000000002,243.01306650321169]
[0.16777216000000006,190.78290080770938]
[0.26843545600000013,129.53739624085713]
[0.42949672960000024,69.721112456883915]
[0.6871947673600004,25.87706040290443]
[]
[]
[]
[]
[]
[]
[]
[]
[]
["and the line of nominal current",null,null,"and the line of maxim current",null,null,"and the line for treshold"]
[]
[null,"I nominal",null,null,"I maximum",null,null,"Threshold line"]
["t","I",null,"t","I",null,"t","I"]
[0.01,{"$f":"G290","v":36.373066958946424},null,0.01,{"$f":"G289","v":363.73066958946424},null,{"$f":"F233","v":0.45737459272636877},1]
[0.5,{"$f":"B342","v":36.373066958946424},null,0.5,{"$f":"E342","v":363.73066958946424},null,{"$f":"G342","v":0.45737459272636877},{"$f":"F232","v":40.010373654841068}]
[]
["According to this \"threshold line\" and the inrush curve the threshold setting would trip"]
[]
["comparing this graph with the one given for this 1MVA transformer…."]
[]
[]
[]
[]
[]
[]
[]
[]
[]
[]
[]
[]
[]
[]
[]
[]
[]
["Inrush curve"]
["t","Iinrush"]
[0.01,{"$f":"$G$287*$G$290*EXP(-1*A367/$G$293)/$G$290","v":9.6226871436325716}]
[{"$f":"A367*1.7","v":1.7000000000000001E-2},{"$f":"$G$287*$G$290*EXP(-1*A368/$G$293)/$G$290","v":9.3670712211540454}]
[2.8900000000000002E-2,8.9480107663502846]
[4.913E-2,8.2781834524957478]
[8.3520999999999998E-2,7.2525307549877605]
[0.14198569999999999,5.7920497636690733]
[0.24137568999999998,3.9519813254486156]
[0.41033867299999993,2.0634089137531011]
[0.69757574409999989,0.68358891864732096]
[1.1858787649699998,0.10450847817912449]
[]
[]
[]
[]
[]
[]
[]
[]
[]
[]
[]
[]
[]
[]
[]
[]
[]
[]
[]
["The difference is that this graph does not include the nominal current of the transformer"]
["its going to 0 when time goes to a large value"]
[]
["so, if I would include this nominal current"]
[]
["t","Iinrush"]
[0.01,{"$f":"($G$287*$G$290*EXP(-1*A402/$G$293)+$G$290)/$G$290","v":10.622687143632572}]
[{"$f":"A402*1.7","v":1.7000000000000001E-2},{"$f":"($G$287*$G$290*EXP(-1*A403/$G$293)+$G$290)/$G$290","v":10.367071221154045}]
[2.8900000000000002E-2,9.9480107663502846]
[4.913E-2,9.2781834524957478]
[8.3520999999999998E-2,8.2525307549877596]
[0.14198569999999999,6.7920497636690733]
[0.24137568999999998,4.9519813254486156]
[0.41033867299999993,3.0634089137531011]
[0.69757574409999989,1.683588918647321]
[1.1858787649699998,1.1045084781791246]
[]
[]
[]
[]
[]
[]
[]
[]
[]
[]
[]
[]
[]
[]
[]
[]
[]
[]
[]
[]
["I am satisfied."]
[]
["If you choose the transformer type in row 125"]
["and the power in row 128"]
["and the voltage in row 127"]
[]
["then the resulting values will be (see on top)"]